{"text_format":"1","workbook":"xlsx","n_sheets":22,"sheets":["Instruktion","Bakgrund","1 Intro djuren","1.1 Kött","1.2 Tillväxt & förökning","1.3 Hälsa & dödlighet","2 Intro foder","2.1 Odling foder","2.2 Förluster vid lagring","2.3 Inköpt foder (exkl mineral)","2.4 Utfodrat","2.5. Kasserat foder och spill","2.6 Bete","3 Växtnäringsutnyttjande (1)","3 Växtnäringsutnyttjande (2)","3 Växtnäringsutnyttjande (3)","4 Energi och bränsle","5 Vattenanvändning","6 Resultat","Teknisk administration","tekn adm - produktlistor","diagramunderlag N"],"not_rendered":{"charts":18,"images":4,"macros":1,"external_links":0,"defined_names":129,"comments":0,"pivot_tables":0},"unopened":[],"bounds":{"document_bytes":16777216,"sheet_cells":100000,"rows_first":2000,"rows_last":500,"rows_between":2000,"halvings":0,"cell_chars":16384,"cell_head_chars":4096},"cells_cut":0,"cells_raw":0,"read":"whole","date_system":"1900"}

{"sheet":"Instruktion","index":0,"n_rows":58,"n_cols":16,"rows_kept":58,"cut":false,"hidden":false,"merged":[[30,10,30,12],[30,13,30,15],[30,4,30,6],[57,0,57,6],[1,0,1,7],[2,0,2,7],[3,0,3,7],[4,0,4,7],[5,0,5,7],[7,0,7,7],[8,0,8,7],[10,0,10,7],[11,0,11,7],[1,10,1,11],[2,10,2,11],[3,10,3,11],[9,10,9,11],[10,10,10,11],[11,10,11,11],[4,10,4,11],[5,10,5,11],[6,10,6,11],[7,10,7,11],[8,10,8,11]]}
["Instruktion - Så här använder du verktyget",null,null,null,null,null,null,null,null,null,"Det här betyder färgerna:",null,null,"Snabblänkar till bladen i verktyget:"]
["Verktyget är indelat i delar, d v s blad med samma färg och nummer:",null,null,null,null,null,null,null,null,null,"Cell med värden hämtade från annan cell",null,null,"Bakgrund"]
["Börja med Bakgrund. Uppgifterna som du fyller i där guidar dig vidare genom resten av verktyget.",null,null,null,null,null,null,null,null,null,"Beräkning",null,null,"1 Intro djuren"]
["Fyll sedan i 1 Intro djuren och 1.1 Kött. De uppgifterna behövs för att beräkna nyckeltal per djur eller kg kött i resten av verktyget",null,null,null,null,null,null,null,null,null,"Fyll i din egen siffra",null,null,"1.1 Kött"]
["Sen kan du välja att fylla i en eller flera delar av verktyget. På vissa blad är det många uppgifter som ska fyllas i för att få fram bra nyckeltal. Det går dock bra att välja ut vissa delar av verktyget och att fylla i delarna efterhand. ",null,null,null,null,null,null,null,null,null,"Fyll i egen siffra - frivilligt, t ex om du har tillgång till uppgift eller om du vill räkna med annat värde än det schablonvärde som visas i angränsande cell",null,null,"1.2 Tillväxt & förökning"]
["Resultaten presenteras i samlad form på bladet Resultat. Där får du en överblick över alla de resultat som verktyget hittills har räknat ut åt dig.",null,null,null,null,null,null,null,null,null,"Egen uppgift, men välj värde ur rullista. ",null,null,"1.3 Hälsa & dödlighet"]
[null,null,null,null,null,null,null,null,null,null,"Resultat/uträkning",null,null,"2 Intro foder"]
["Fyll i data så noga du kan! Ju säkrare du är på den ingående datan desto mer nytta kommer du att ha av nyckeltalen. ",null,null,null,null,null,null,null,null,null,"Schablonvärde",null,null,"2.1 Odling foder"]
["Använd verktyget för att jämföra dig med dig själv under flera perioder. En del av nyckeltalen som du får fram är nya i och med det här verktyget. Därför kan det vara bra att ta hjälp av en rådgivare för att tolka resultaten och jämföra dig med andra som använder verktyget. Genom att använda verktyget flera perioder i rad skapar du dessutom egna medelvärden och du kommer att kunna se både snabba och långsamma förändringar på gården. ",null,null,null,null,null,null,null,null,null,"Förklaringar till raden",null,null,"2.2 Förluster vid lagring"]
[null,null,null,null,null,null,null,null,null,null,"Plats för egna kommentarer",null,null,"2.3 Inköpt foder (exkl mineral)"]
["Tips när du använder Excel:",null,null,null,null,null,null,null,null,null,"Glöm inte att fylla i värde! (Här krävs ett värde för att andra beräkningar ska fungera",null,null,"2.4 Utfodrat"]
["För att ta bort siffror eller text som du har skrivit i kan du trycka på Delete. Det fungerar även om du har valt ur en lista (orange cell).\nSe manualen för fler tips!",null,null,null,null,null,null,null,null,null,"grå text, ev vit bakgrund: Avsnittet är inte relevant för dig baserat på svaren på ja/nej-frågor på bladet Bakgrund",null,null,"2.5. Kasserat foder och spill"]
[null,null,null,null,null,null,null,null,null,null,null,null,null,"2.6 Bete"]
[null,null,null,null,null,null,null,null,null,null,null,null,null,"3 Växtnäringsutnyttjande (1)"]
[null,null,null,null,null,null,null,null,null,null,null,null,null,"3 Växtnäringsutnyttjande (2)"]
[null,null,null,null,null,null,null,null,null,null,null,null,null,"3 Växtnäringsutnyttjande (3)"]
[null,null,null,null,null,null,null,null,null,null,null,null,null,"4 Energi och bränsle"]
[null,null,null,null,null,null,null,null,null,null,null,null,null,"5 Vattenanvändning"]
[null,null,null,null,null,null,null,null,null,null,null,null,null,"6 Resultat"]
[]
[]
[]
[]
[]
[]
[]
[]
[]
[]
[]
[null,null,null,null,"Period",null,null,null,"Egen kommentar ","Förklaring","Köttras kalv (lätt/tung)",null,null,"Mjölkras kalv"]
[null,null,"Tillväxt","Enhet","20xx","20yy","Period3",null,null,null,"låg","medel","hög","låg","medel","hög"]
[null,null,"Antal  kalvar","antal"]
[null,null,"Vikt vid födsel","kg",40,40,null,null,null,"Den vikt kalven har vid födseln","38/40","40/44","42/48",37,40,43]
[null,null,"Levande vikt vid inköp eller insättning","lev. vikt kg",500,450,null,null,null,"Ange en levande vikt vid specifikt tillfälle, skriv en egen kommentar om vilket tillfälle det var"]
[null,null,"Uppfödningstid, dagar","dagar",365,null,null,null,null,"Antalet dagar från födsel till aktuellt datum då djuret slaktas/betäcks. Om cellen är röd: Fyll i värde så släcks varningen "]
[null,null,"Nyckeltal: Tillväxt levande vikt/dag","g/dag",{"$f":"IF(E36=0,0,(E35-E34)/E36)*1000","v":1260.2739726027396},{"$f":"IF(F36=0,0,(F35-F34)/F36)*1000","v":0},{"$f":"IF(G36=0,0,(G35-G34)/G36)*1000","v":0},null,null,null,"Tjukalv  1000/ 1200 g per dag kvigkalv  950/ 1100 g per dag","Tjurkalv 1300 / 1500 g per dag Kvigkalv 1100/1200 g per dag ","Tjurkalv  1500/1700 g per dag kvigklav  1250/1400 g per dag "]
[null,null,"Antal stallplatser enligt djurskyddslag","stallplatser",null,null,null,null,null,"Max antal djur enligt djurskyddslag, se din förprövning. Fylls i om du har tillgång till uppgiften "]
[]
[]
[]
[]
[]
[]
[]
[]
[]
[]
[]
[]
[]
[]
[]
[]
[]
[]
[]
["Om projektet: Projektet Effektivare resurshantering på gård pågick 2020-2021 och genomfördes av Hushållningssällskapet på uppdrag av Jordbruksverket. Syftet med projektet var att skapa ett verktyg som genom att samla mätdata på en plats kan ge nya insikter om vilka resurser som kan användas effektivare på djurgårdar. Förutom verktyget finns en manual, en rapport, en kort borschyr, och en kortare sammanfattning av rapporten."]

{"sheet":"Bakgrund","index":1,"n_rows":46,"n_cols":69,"rows_kept":46,"cut":false,"hidden":false,"merged":[[11,4,12,4]]}
["Bakgrund",null,null,null,null,null,null,null,null,"Det här betyder färgerna:"]
["Obligatoriskt blad",null,null,null,null,null,null,null,null,"Cell med värden hämtade från annan cell"]
["Börja med detta blad. ",null,null,null,null,null,null,null,null,"Beräkning"]
["Här bestämmer du vilken period du vill räkna på samt får svar på vilka delar i verktyget som kan vara mest användbara för dig. ",null,null,null,null,null,null,null,null,"Fyll i din egen siffra"]
[null,null,null,null,null,null,null,null,null,"Egen uppgift, men välj värde ur rullista. "]
[null,null,null,null,null,null,null,null,null,"Förklaringar till raden"]
["1.1 Period",null,null,null,null,null,null,null,null,"Plats för egna kommentarer",null,null,null,null,null,null,null,{"$f":"IF(ISBLANK(B11),B10,B11)","v":"Period 1"},{"$f":"IF(ISBLANK(C11),C10,C11)","v":"Period 2"},{"$f":"IF(ISBLANK(D11),D10,D11)","v":"Period 3"},null,null,"intervall"]
["I verktyget kan du fylla i uppgifter för tre perioder. En period kan vara ett år (t ex 1 jan-31 dec, 1 juni-31 maj), en omgång, en säsong (t ex betesperioden) eller en del av produktionen. Välj själv!",null,null,null,null,null,null,null,null,null,null,null,null,null,null,null,null,{"$f":"R7","v":"Period 1"},{"$f":"S7","v":"Period 2"},{"$f":"T7","v":"Period 3"}]
["Börja med att namnge perioden du ska jobba med. Namnet kommer sedan att följa med i rubrikerna i hela verktyget",null,null,null,null,null,null,null,null,null,null,null,null,null,null,null,"start dag",{"$f":"DAY(B12)","v":0},{"$f":"DAY(C12)","v":0},{"$f":"DAY(D12)","v":0}]
["Om perioden","Period 1","Period 2","Period 3","Förklaring","Egen kommentar",null,null,null,null,null,null,null,null,null,null,"start månad",{"$f":"MONTH(B12)","v":1},{"$f":"MONTH(C12)","v":1},{"$f":"MONTH(D12)","v":1}]
["Periodens namn. År, omgång, säsong etc.",null,null,null,"Skriv vilken period som du vill att beräkningarna ska göras för, använd siffror och/eller bokstäver. Kan t ex vara ett år (t ex 2021), en omgång (t ex Omgång 1 2021) eller något annat (t ex Betesperioden). Det som du skriver här kommer att kopieras till de efterföljande bladen.",null,null,null,null,"Snabblänkar till bladen i verktyget:",null,null,null,null,null,null,"slut dag",{"$f":"DAY(B13)","v":0},{"$f":"DAY(C13)","v":0},{"$f":"DAY(D13)","v":0}]
["Startdatum",null,null,null,"Här anger datum för första respektive sista dagen i perioden. Kan t ex skrivas som \"01-01-21\", \"2021-01-01\", \"1 jan -21\", \"1 januari 2021\", visas som \"2021-01-01\". Perioden kan vara ett kalenderår, ett odlingsår, en omgång eller liknande. Uppgifterna används på vissa platser för guida hur du ska fylla i verktyget",null,null,null,null,"Instruktion",null,null,null,null,null,null,"slut månad",{"$f":"MONTH(B13)","v":1},{"$f":"MONTH(C13)","v":1},{"$f":"MONTH(D13)","v":1}]
["Slutdatum",null,null,null,null,null,null,null,null,"Bakgrund",null,null,null,null,null,null,"Helt år",{"$f":"IF(AND(B14>350,B14<370),1,0)","v":0},{"$f":"IF(AND(C14>350,C14<370),1,0)","v":0},0]
["Periodens längd (dagar)",{"$f":"R17","v":0},{"$f":"S17","v":0},{"$f":"T17","v":0},"Antal dagar i perioden. Beräknas utifrån start- och slutdatum. Om fältet är rött behöver du kontrollera så att start- och slutdatum är rätt och har rätt årtal.",null,null,null,null,"1 Intro djuren",null,null,null,null,null,null,"kalenderår",{"$f":"IF(R13=1,IF(OR(R10=1,R10=12),1,0),0)","v":0},{"$f":"IF(S13=1,IF(OR(S10=1,S10=12),1,0),0)","v":0},0]
[null,null,null,null,null,null,null,null,null,"1.1 Kött",null,null,null,null,null,null,"växtodlingsår",{"$f":"IF(R13=1,IF(AND(R10>$W15,R10<$X15),1,0),0)","v":0},{"$f":"IF(S13=1,IF(AND(S10>$W15,S10<$X15),1,0),0)","v":0},0,null,null,4.9000000000000004,9.9]
[null,null,null,null,null,null,null,null,null,"1.2 Tillväxt & förökning"]
[null,null,null,null,null,null,null,null,null,"1.3 Hälsa & dödlighet",null,null,null,null,null,null,null,{"$f":"_xlfn.DAYS(B13,B12)+IF(B12>1,1,0)","v":0},{"$f":"_xlfn.DAYS(C13,C12)+IF(C12>1,1,0)","v":0},{"$f":"_xlfn.DAYS(D13,D12)+IF(D12>1,1,0)","v":0}]
["1.2 Guidning till verktyget",null,null,null,null,null,null,null,null,"2 Intro foder"]
["Inledande frågor",null,null,null,null,null,null,null,null,"2.1 Odling foder"]
["Svara på följande ja/nej-frågor. Svaren kommer att guida dig genom verktyget och används för att visa vilka delar som är användbara för just dig. ",null,null,null,null,null,null,null,null,"2.2 Förluster vid lagring"]
["Dina svar avgör om det står Obligatoriskt, Frivilligt eller Inte relevant i cell A2 på varje blad. Svaren används även för att \"släcka\" (d v s grå text och vit bakgrund) vissa tabeller och rader som inte är relevanta för dig. "]
["Om du är osäker på vad du ska svara är det bäst att välja \"ja\". Då visas alla avsnitt senare i verktyget som hör till frågan, och du kan själv välja om du vill fylla i avsnittet.",null,null,null,null,null,null,null,null,"2.3 Inköpt foder (exkl mineral)"]
["Klicka i cellen så visas en grå ruta med pil till höger om cellen. Klicka på pilen och välj alternativ ur listan! Ändra svar genom att göra ett nytt val. Ta bort ett svar genom att radera det. ",null,null,null,null,null,null,null,null,"2.4 Utfodrat"]
["Generella frågor","Svar (ja/nej)","Förklaring till frågan och svaret",null,null,null,null,null,null,"2.5. Kasserat foder och spill",null,null,null,null,null,null,null,null,null,null,null,null,null,null,null,null,null,null,null,null,null,null,null,null,null,null,null,null,null,"Ja","Nej","Har uppföljningssystem","Har mark","Skördar grödor","Köper foder","Säljre grödor","växtnäringbalans period1","växtnäringbalans period2","växtnäringbalans period3","vatten","energi","Nöt: hondjur","Nöt: inköp kalvar","Bete?","Smågrisa","Slaktgrisa","Klimat","vinterlamm","Intresserad av foderåtgång","Intresserad av foderförluster","Intresserad växtnäring"]
[{"$f":"'Teknisk administration'!B523","v":"Vill du ta fram nyckeltal om foderåtgång?"},null,{"$f":"IF(ISTEXT(B25),IF(B25='Teknisk administration'!C$537,'Teknisk administration'!C523,'Teknisk administration'!D523),IF(ISTEXT(A25),'Teknisk administration'!E523,'Teknisk administration'!$B$520))","v":"Ja = del 2 i verktyget (om foder) kommer att visas. Nej = del 2 i verktyget är inte relevant för dig"},null,null,null,null,null,null,"2.6 Bete",null,null,null,null,null,null,null,null,null,null,null,null,null,null,null,null,null,null,null,null,null,null,null,null,null,null,null,null,null,{"$f":"IF(B25=AN$24,1,0)","v":0},{"$f":"IF(B25=AO$24,1,0)","v":0},null,{"$f":"(1-$AO25)*'Teknisk administration'!J523","v":0},{"$f":"(1-$AO25)*'Teknisk administration'!K523","v":0},{"$f":"$AN25*'Teknisk administration'!L523","v":0},{"$f":"(1-$AO25)*'Teknisk administration'!M523","v":0},{"$f":"$AN25*'Teknisk administration'!N523","v":0},{"$f":"$AN25*'Teknisk administration'!O523","v":0},{"$f":"$AN25*'Teknisk administration'!P523","v":0},{"$f":"(1-$AO25)*'Teknisk administration'!Q523","v":0},{"$f":"(1-$AO25)*'Teknisk administration'!R523","v":0},null,null,null,null,null,null,null,{"$f":"(1-$AO25)*'Teknisk administration'!Z523","v":1},{"$f":"(1-$AO25)*'Teknisk administration'!AA523","v":0},{"$f":"$AN25*'Teknisk administration'!AB523","v":0}]
[{"$f":"'Teknisk administration'!B524","v":"Vill du beräkna förlusterna i foderkedjan?"},null,{"$f":"IF(ISTEXT(B26),IF(B26='Teknisk administration'!C$537,'Teknisk administration'!C524,'Teknisk administration'!D524),IF(ISTEXT(A26),'Teknisk administration'!E524,'Teknisk administration'!$B$520))","v":"Ja = del 2 i verktyget (om foder) kommer att visas. Nej = del 2 i verktyget är inte relevant för dig"},null,null,null,null,null,null,"3 Växtnäringsutnyttjande (1)",null,null,null,null,null,null,null,null,null,null,null,null,null,null,null,null,null,null,null,null,null,null,null,null,null,null,null,null,null,0,0,null,{"$f":"(1-AO26)*'Teknisk administration'!J524","v":0},{"$f":"(1-$AO26)*'Teknisk administration'!K524","v":0},{"$f":"AN26*'Teknisk administration'!L524","v":0},{"$f":"(1-$AO26)*'Teknisk administration'!M524","v":0},{"$f":"$AN26*'Teknisk administration'!N524","v":0},{"$f":"$AN26*'Teknisk administration'!O524","v":0},{"$f":"$AN26*'Teknisk administration'!P524","v":0},{"$f":"(1-$AO26)*'Teknisk administration'!Q524","v":0},{"$f":"(1-$AO26)*'Teknisk administration'!R524","v":0},null,null,null,null,null,null,null,{"$f":"(1-AO26)*'Teknisk administration'!Z524","v":0},{"$f":"(1-$AO26)*'Teknisk administration'!AA524","v":1},{"$f":"$AN26*'Teknisk administration'!AB524","v":0}]
[{"$f":"'Teknisk administration'!B525","v":"Skördar du eget foder till djuren?"},null,{"$f":"IF(ISTEXT(B27),IF(B27='Teknisk administration'!C$537,'Teknisk administration'!C525,'Teknisk administration'!D525),IF(ISTEXT(A27),'Teknisk administration'!E525,'Teknisk administration'!$B$520))","v":"Välj \"ja\" eller \"nej\" i den orange cellen"},null,null,null,null,null,null,"3 Växtnäringsutnyttjande (2)",null,null,null,null,null,null,null,null,null,null,null,null,null,null,null,null,null,null,null,null,null,null,null,null,null,null,null,null,null,0,0,null,{"$f":"(1-AO27)*'Teknisk administration'!J525","v":1},{"$f":"(1-$AO27)*'Teknisk administration'!K525","v":1},{"$f":"AN27*'Teknisk administration'!L525","v":0},{"$f":"(1-$AO27)*'Teknisk administration'!M525","v":0},{"$f":"$AN27*'Teknisk administration'!N525","v":0},{"$f":"$AN27*'Teknisk administration'!O525","v":0},{"$f":"$AN27*'Teknisk administration'!P525","v":0},{"$f":"(1-$AO27)*'Teknisk administration'!Q525","v":0},{"$f":"(1-$AO27)*'Teknisk administration'!R525","v":0},null,null,null,null,null,null,null,{"$f":"(1-AO27)*'Teknisk administration'!Z525","v":0},{"$f":"(1-$AO27)*'Teknisk administration'!AA525","v":0},{"$f":"$AN27*'Teknisk administration'!AB525","v":0}]
[{"$f":"'Teknisk administration'!B526","v":"Säljer du grödor som du har odlat?"},null,{"$f":"IF(ISTEXT(B28),IF(B28='Teknisk administration'!C$537,'Teknisk administration'!C526,'Teknisk administration'!D526),IF(ISTEXT(A28),'Teknisk administration'!E526,'Teknisk administration'!$B$520))","v":"Välj \"ja\" eller \"nej\" i den orange cellen"},null,null,null,null,null,null,"3 Växtnäringsutnyttjande (3)",null,null,null,null,null,null,null,null,null,null,null,null,null,null,null,null,null,null,null,null,null,null,null,null,null,null,null,null,null,0,0,null,{"$f":"(1-AO28)*'Teknisk administration'!J526","v":1},{"$f":"(1-$AO28)*'Teknisk administration'!K526","v":1},{"$f":"AN28*'Teknisk administration'!L526","v":0},{"$f":"(1-$AO28)*'Teknisk administration'!M526","v":1},{"$f":"$AN28*'Teknisk administration'!N526","v":0},{"$f":"$AN28*'Teknisk administration'!O526","v":0},{"$f":"$AN28*'Teknisk administration'!P526","v":0},{"$f":"(1-$AO28)*'Teknisk administration'!Q526","v":0},{"$f":"(1-$AO28)*'Teknisk administration'!R526","v":0},null,null,null,null,null,null,null,{"$f":"(1-AO28)*'Teknisk administration'!Z526","v":0},{"$f":"(1-$AO28)*'Teknisk administration'!AA526","v":0},{"$f":"$AN28*'Teknisk administration'!AB526","v":0}]
[{"$f":"'Teknisk administration'!B527","v":"Köper du annat foder än mineraler till djuren?"},null,{"$f":"IF(ISTEXT(B29),IF(B29='Teknisk administration'!C$537,'Teknisk administration'!C527,'Teknisk administration'!D527),IF(ISTEXT(A29),'Teknisk administration'!E527,'Teknisk administration'!$B$520))","v":"Välj \"ja\" eller \"nej\" i den orange cellen"},null,null,null,null,null,null,"4 Energi och bränsle",null,null,null,null,null,null,null,null,null,null,null,null,null,null,null,null,null,null,null,null,null,null,null,null,null,null,null,null,null,0,0,null,{"$f":"(1-AO29)*'Teknisk administration'!J527","v":0},{"$f":"(1-$AO29)*'Teknisk administration'!K527","v":0},{"$f":"AN29*'Teknisk administration'!L527","v":0},{"$f":"(1-$AO29)*'Teknisk administration'!M527","v":0},{"$f":"$AN29*'Teknisk administration'!N527","v":0},{"$f":"$AN29*'Teknisk administration'!O527","v":0},{"$f":"$AN29*'Teknisk administration'!P527","v":0},{"$f":"(1-$AO29)*'Teknisk administration'!Q527","v":0},{"$f":"(1-$AO29)*'Teknisk administration'!R527","v":0},null,null,null,null,null,null,null,{"$f":"(1-AO29)*'Teknisk administration'!Z527","v":0},{"$f":"(1-$AO29)*'Teknisk administration'!AA527","v":0},{"$f":"$AN29*'Teknisk administration'!AB527","v":0}]
[{"$f":"'Teknisk administration'!B528","v":"Vill du beräkna växtnäringsutnyttjandet?"},null,{"$f":"IF(ISTEXT(B30),IF(B30='Teknisk administration'!C$537,'Teknisk administration'!C528,'Teknisk administration'!D528),IF(ISTEXT(A30),'Teknisk administration'!E528,'Teknisk administration'!$B$520))","v":"Ja = del 3 i verktyget (om växtnäringsutnyttjande) kommer att visas. Nej = del 3 är inte relevant för dig"},null,null,null,null,null,null,"5 Vattenanvändning",null,null,null,null,null,null,null,null,null,null,null,null,null,null,null,null,null,null,null,null,null,null,null,null,null,null,null,null,null,0,0,null,{"$f":"(1-AO30)*'Teknisk administration'!J528","v":0},{"$f":"(1-$AO30)*'Teknisk administration'!K528","v":0},{"$f":"AN30*'Teknisk administration'!L528","v":0},{"$f":"(1-$AO30)*'Teknisk administration'!M528","v":0},{"$f":"$AN30*'Teknisk administration'!N528","v":0},{"$f":"$AN30*'Teknisk administration'!O528","v":0},{"$f":"$AN30*'Teknisk administration'!P528","v":0},{"$f":"(1-$AO30)*'Teknisk administration'!Q528","v":0},{"$f":"(1-$AO30)*'Teknisk administration'!R528","v":0},null,null,null,null,null,null,null,{"$f":"(1-AO30)*'Teknisk administration'!Z528","v":0},{"$f":"(1-$AO30)*'Teknisk administration'!AA528","v":0},{"$f":"$AN30*'Teknisk administration'!AB528","v":0}]
[{"$f":"'Teknisk administration'!B529","v":"Har du en aktuell växtnäringsbalans för perioden:"},null,{"$f":"IF(ISTEXT(B31),IF(B31='Teknisk administration'!C$537,'Teknisk administration'!C529,'Teknisk administration'!D529),IF(ISTEXT(A31),'Teknisk administration'!E529,'Teknisk administration'!$B$520))","v":"T ex från Greppa Näringen. Användbart om du vill beräkna växtnäringsutnyttjande"},null,null,null,null,null,null,"6 Resultat",null,null,null,null,null,null,null,null,null,null,null,null,null,null,null,null,null,null,null,null,null,null,null,null,null,null,null,null,null,0,0,null,{"$f":"(1-AO31)*'Teknisk administration'!J529","v":0},{"$f":"(1-$AO31)*'Teknisk administration'!K529","v":0},{"$f":"AN31*'Teknisk administration'!L529","v":0},{"$f":"(1-$AO31)*'Teknisk administration'!M529","v":0},{"$f":"$AN31*'Teknisk administration'!N529","v":0},{"$f":"$AN31*'Teknisk administration'!O529","v":0},{"$f":"$AN31*'Teknisk administration'!P529","v":0},{"$f":"(1-$AO31)*'Teknisk administration'!Q529","v":0},{"$f":"(1-$AO31)*'Teknisk administration'!R529","v":0},null,null,null,null,null,null,null,{"$f":"(1-AO31)*'Teknisk administration'!Z529","v":0},{"$f":"(1-$AO31)*'Teknisk administration'!AA529","v":0},{"$f":"$AN31*'Teknisk administration'!AB529","v":0}]
[{"$f":"'Teknisk administration'!B530","v":"     - Period 1"},null,{"$f":"IF(ISTEXT(B32),IF(B32='Teknisk administration'!C$537,'Teknisk administration'!C530,'Teknisk administration'!D530),IF(ISTEXT(A32),'Teknisk administration'!E530,'Teknisk administration'!$B$520))","v":"Svara ja eller nej när du ska fylla i uppgifter för period 1"},null,null,null,null,null,null,null,null,null,null,null,null,null,null,null,null,null,null,null,null,null,null,null,null,null,null,null,null,null,null,null,null,null,null,null,null,0,0,null,{"$f":"(1-AO32)*'Teknisk administration'!J530","v":0},{"$f":"(1-$AO32)*'Teknisk administration'!K530","v":0},{"$f":"AN32*'Teknisk administration'!L530","v":0},{"$f":"(1-$AO32)*'Teknisk administration'!M530","v":0},{"$f":"$AN32*'Teknisk administration'!N530","v":0},{"$f":"$AN32*'Teknisk administration'!O530","v":0},{"$f":"$AN32*'Teknisk administration'!P530","v":0},{"$f":"(1-$AO32)*'Teknisk administration'!Q530","v":0},{"$f":"(1-$AO32)*'Teknisk administration'!R530","v":0},null,null,null,null,null,null,null,{"$f":"(1-AO32)*'Teknisk administration'!Z530","v":0},{"$f":"(1-$AO32)*'Teknisk administration'!AA530","v":0},{"$f":"$AN32*'Teknisk administration'!AB530","v":0}]
[{"$f":"'Teknisk administration'!B531","v":"     - Period 2"},null,{"$f":"IF(ISTEXT(B33),IF(B33='Teknisk administration'!C$537,'Teknisk administration'!C531,'Teknisk administration'!D531),IF(ISTEXT(A33),'Teknisk administration'!E531,'Teknisk administration'!$B$520))","v":"Svara ja eller nej när du ska fylla i uppgifter för period 2"},null,null,null,null,null,null,null,null,null,null,null,null,null,null,null,null,null,null,null,null,null,null,null,null,null,null,null,null,null,null,null,null,null,null,null,null,0,0,null,{"$f":"(1-AO33)*'Teknisk administration'!J531","v":0},{"$f":"(1-$AO33)*'Teknisk administration'!K531","v":0},{"$f":"AN33*'Teknisk administration'!L531","v":0},{"$f":"(1-$AO33)*'Teknisk administration'!M531","v":0},{"$f":"$AN33*'Teknisk administration'!N531","v":0},{"$f":"$AN33*'Teknisk administration'!O531","v":0},{"$f":"$AN33*'Teknisk administration'!P531","v":0},{"$f":"(1-$AO33)*'Teknisk administration'!Q531","v":0},{"$f":"(1-$AO33)*'Teknisk administration'!R531","v":0},null,null,null,null,null,null,null,{"$f":"(1-AO33)*'Teknisk administration'!Z531","v":0},{"$f":"(1-$AO33)*'Teknisk administration'!AA531","v":0},{"$f":"$AN33*'Teknisk administration'!AB531","v":0}]
[{"$f":"'Teknisk administration'!B532","v":"     - Period 3"},null,{"$f":"IF(ISTEXT(B34),IF(B34='Teknisk administration'!C$537,'Teknisk administration'!C532,'Teknisk administration'!D532),IF(ISTEXT(A34),'Teknisk administration'!E532,'Teknisk administration'!$B$520))","v":"Svara ja eller nej när du ska fylla i uppgifter för period 3"},null,null,null,null,null,null,null,null,null,null,null,null,null,null,null,null,null,null,null,null,null,null,null,null,null,null,null,null,null,null,null,null,null,null,null,null,0,0,null,{"$f":"(1-AO34)*'Teknisk administration'!J532","v":0},{"$f":"(1-$AO34)*'Teknisk administration'!K532","v":0},{"$f":"AN34*'Teknisk administration'!L532","v":0},{"$f":"(1-$AO34)*'Teknisk administration'!M532","v":0},{"$f":"$AN34*'Teknisk administration'!N532","v":0},{"$f":"$AN34*'Teknisk administration'!O532","v":0},{"$f":"$AN34*'Teknisk administration'!P532","v":0},{"$f":"(1-$AO34)*'Teknisk administration'!Q532","v":0},{"$f":"(1-$AO34)*'Teknisk administration'!R532","v":0},null,null,null,null,null,null,null,{"$f":"(1-AO34)*'Teknisk administration'!Z532","v":0},{"$f":"(1-$AO34)*'Teknisk administration'!AA532","v":0},{"$f":"$AN34*'Teknisk administration'!AB532","v":0}]
[{"$f":"'Teknisk administration'!B533","v":"Är du intresserad av vattenfrågor ?"},null,{"$f":"IF(ISTEXT(B35),IF(B35='Teknisk administration'!C$537,'Teknisk administration'!C533,'Teknisk administration'!D533),IF(ISTEXT(A35),'Teknisk administration'!E533,'Teknisk administration'!$B$520))","v":"Välj \"ja\" eller \"nej\" i den orange cellen"},null,null,null,null,null,null,null,null,null,null,null,null,null,null,null,null,null,null,null,null,null,null,null,null,null,null,null,null,null,null,null,null,null,null,null,null,0,0,null,{"$f":"(1-AO35)*'Teknisk administration'!J533","v":0},{"$f":"(1-$AO35)*'Teknisk administration'!K533","v":0},{"$f":"AN35*'Teknisk administration'!L533","v":0},{"$f":"(1-$AO35)*'Teknisk administration'!M533","v":0},{"$f":"$AN35*'Teknisk administration'!N533","v":0},{"$f":"$AN35*'Teknisk administration'!O533","v":0},{"$f":"$AN35*'Teknisk administration'!P533","v":0},{"$f":"(1-$AO35)*'Teknisk administration'!Q533","v":1},{"$f":"(1-$AO35)*'Teknisk administration'!R533","v":0},null,null,null,null,null,null,null,{"$f":"(1-AO35)*'Teknisk administration'!Z533","v":0},{"$f":"(1-$AO35)*'Teknisk administration'!AA533","v":0},{"$f":"$AN35*'Teknisk administration'!AB533","v":0}]
[{"$f":"'Teknisk administration'!B534","v":"Är du intresserad av energifrågor ?"},null,{"$f":"IF(ISTEXT(B36),IF(B36='Teknisk administration'!C$537,'Teknisk administration'!C534,'Teknisk administration'!D534),IF(ISTEXT(A36),'Teknisk administration'!E534,'Teknisk administration'!$B$520))","v":"Välj \"ja\" eller \"nej\" i den orange cellen"},null,null,null,null,null,null,null,null,null,null,null,null,null,null,null,null,null,null,null,null,null,null,null,null,null,null,null,null,null,null,null,null,null,null,null,null,0,0,null,{"$f":"(1-AO36)*'Teknisk administration'!J534","v":0},{"$f":"(1-$AO36)*'Teknisk administration'!K534","v":0},{"$f":"AN36*'Teknisk administration'!L534","v":0},{"$f":"(1-$AO36)*'Teknisk administration'!M534","v":0},{"$f":"$AN36*'Teknisk administration'!N534","v":0},{"$f":"$AN36*'Teknisk administration'!O534","v":0},{"$f":"$AN36*'Teknisk administration'!P534","v":0},{"$f":"(1-$AO36)*'Teknisk administration'!Q534","v":0},{"$f":"(1-$AO36)*'Teknisk administration'!R534","v":1},null,null,null,null,null,null,null,{"$f":"(1-AO36)*'Teknisk administration'!Z534","v":0},{"$f":"(1-$AO36)*'Teknisk administration'!AA534","v":0},{"$f":"$AN36*'Teknisk administration'!AB534","v":0}]
[null,null,null,null,null,null,null,null,null,null,null,null,null,null,null,null,null,null,null,null,null,null,null,null,null,null,null,null,null,null,null,null,null,null,null,null,null,null,null,null,null,null,{"$f":"SUM(AQ25:AQ36)","v":2},2,0,1,0,0,0,1,1,null,null,null,null,null,null,null,{"$f":"SUM(BG25:BG36)","v":1},{"$f":"SUM(BH25:BH36)","v":1},{"$f":"SUM(BI25:BI36)","v":0}]
[]
["Om djuren","Svar (ja/nej)","Förklaring till frågan och svaret",null,null,null,null,null,null,null,null,null,null,null,null,null,null,null,null,null,null,null,null,null,null,null,null,null,null,null,null,null,null,null,null,null,null,null,null,"Ja","Nej","Har uppföljningssystem","Har mark","Skördar grödor","Köper foder","Säljre grödor","växtnäringbalans period1","växtnäringbalans period2","växtnäringbalans period3","vatten","energi","Nöt: hondjur","Nöt: inköp kalvar","Bete?","Smågrisa","Slaktgrisa","Klimat","vinterlamm","Intresserad av foderåtgång","Intresserad av foderförluster","Intresserad växtnäring","Kolumn19","Kolumn19","Kolumn19","Kolumn19","Kolumn19","Kolumn19","Kolumn19","Kolumn19"]
[{"$f":"'Teknisk administration'!B538","v":"Har du hondjur som kalvar?"},null,{"$f":"IF(ISTEXT(B40),IF(B40='Teknisk administration'!C$537,'Teknisk administration'!C538,'Teknisk administration'!D538),IF(ISTEXT(A40),'Teknisk administration'!E538,'Teknisk administration'!$B$520))","v":"Välj \"ja\" eller \"nej\" i den orange cellen"},null,null,null,null,null,null,null,null,null,null,null,null,null,null,null,null,null,null,null,null,null,null,null,null,null,null,null,null,null,null,null,null,null,null,null,null,{"$f":"IF(B40=AN$39,1,0)","v":0},{"$f":"IF(B40=AO$39,1,0)","v":0},null,null,null,null,null,null,null,null,null,null,{"$f":"(1-$AO40)*'Teknisk administration'!S538","v":1},{"$f":"(1-$AO40)*'Teknisk administration'!T538","v":0},{"$f":"(1-$AO40)*'Teknisk administration'!U538","v":0}]
[{"$f":"'Teknisk administration'!B539","v":"Köper du in kalvar?"},null,{"$f":"IF(ISTEXT(B41),IF(B41='Teknisk administration'!C$537,'Teknisk administration'!C539,'Teknisk administration'!D539),IF(ISTEXT(A41),'Teknisk administration'!E539,'Teknisk administration'!$B$520))","v":"Välj \"ja\" eller \"nej\" i den orange cellen"},null,null,null,null,null,null,null,null,null,null,null,null,null,null,null,null,null,null,null,null,null,null,null,null,null,null,null,null,null,null,null,null,null,null,null,null,0,0,null,null,null,null,null,null,null,null,null,null,{"$f":"(1-$AO41)*'Teknisk administration'!S539","v":0},{"$f":"(1-$AO41)*'Teknisk administration'!T539","v":1},{"$f":"(1-$AO41)*'Teknisk administration'!U539","v":0}]
[{"$f":"'Teknisk administration'!B540","v":"Har du ett uppföljningsprogram (t ex KAP) där du kan hämta uppgifter om tillväxt etc."},null,{"$f":"IF(ISTEXT(B42),IF(B42='Teknisk administration'!C$537,'Teknisk administration'!C540,'Teknisk administration'!D540),IF(ISTEXT(A42),'Teknisk administration'!E540,'Teknisk administration'!$B$520))","v":"Välj \"ja\" eller \"nej\" i den orange cellen"},null,null,null,null,null,null,null,null,null,null,null,null,null,null,null,null,null,null,null,null,null,null,null,null,null,null,null,null,null,null,null,null,null,null,null,null,0,0,null,null,null,null,null,null,null,null,null,null,{"$f":"(1-$AO42)*'Teknisk administration'!S540","v":0},{"$f":"(1-$AO42)*'Teknisk administration'!T540","v":0},{"$f":"(1-$AO42)*'Teknisk administration'!U540","v":0}]
[{"$f":"'Teknisk administration'!B541","v":"Går djuren på bete?"},null,{"$f":"IF(ISTEXT(B43),IF(B43='Teknisk administration'!C$537,'Teknisk administration'!C541,'Teknisk administration'!D541),IF(ISTEXT(A43),'Teknisk administration'!E541,'Teknisk administration'!$B$520))","v":"Välj \"ja\" eller \"nej\" i den orange cellen"},null,null,null,null,null,null,null,null,null,null,null,null,null,null,null,null,null,null,null,null,null,null,null,null,null,null,null,null,null,null,null,null,null,null,null,null,0,0,null,null,null,null,null,null,null,null,null,null,{"$f":"(1-$AO43)*'Teknisk administration'!S541","v":0},{"$f":"(1-$AO43)*'Teknisk administration'!T541","v":0},{"$f":"(1-$AO43)*'Teknisk administration'!U541","v":1}]
[null,null,null,null,null,null,null,null,null,null,null,null,null,null,null,null,null,null,null,null,null,null,null,null,null,null,null,null,null,null,null,null,null,null,null,null,null,null,null,0,0,null,null,null,null,null,null,null,null,null,null,{"$f":"(1-$AO44)*'Teknisk administration'!S542","v":0},{"$f":"(1-$AO44)*'Teknisk administration'!T542","v":0},{"$f":"(1-$AO44)*'Teknisk administration'!U542","v":0}]
[null,null,null,null,null,null,null,null,null,null,null,null,null,null,null,null,null,null,null,null,null,null,null,null,null,null,null,null,null,null,null,null,null,null,null,null,null,null,null,0,0,null,null,null,null,null,null,null,null,null,null,{"$f":"(1-$AO45)*'Teknisk administration'!S543","v":0},{"$f":"(1-$AO45)*'Teknisk administration'!T543","v":0},{"$f":"(1-$AO45)*'Teknisk administration'!U543","v":0}]
[null,null,null,null,null,null,null,null,null,null,null,null,null,null,null,null,null,null,null,null,null,null,null,null,null,null,null,null,null,null,null,null,null,null,null,null,null,null,null,null,null,null,null,null,null,null,null,null,null,null,null,{"$f":"SUM(AZ40:AZ45)","v":1},{"$f":"SUM(BA40:BA45)","v":1},{"$f":"SUM(BB40:BB45)","v":1}]

{"sheet":"1 Intro djuren","index":2,"n_rows":33,"n_cols":17,"rows_kept":33,"cut":false,"hidden":false,"merged":[[10,2,10,5],[3,0,3,6],[8,2,8,5],[2,0,2,5],[5,0,5,5],[6,2,6,5],[9,2,9,5]]}
["1 Intro djuren"]
["Obligatoriskt blad"]
["På detta blad fyller du i uppgifter om djuren. Vissa uppgifter används på flera platser, så därför ska du fylla i dem på detta blad så förs de över till kommande blad.",null,null,null,null,null,null,null,"Det här betyder färgerna:"]
["Obligatoriska och frivilliga blad: En del blad har markerats som obligatoriska, och data som du lägger in på dem kommer automatiskt att dyka upp på flera platser där de behövs. Det finns även blad som är frivilliga eftersom de inte är relevanta för alla produktionsinriktningar. Data som du lägger in på frivilliga blad kan du behöva skriva in flera gånger, eftersom verktyget inte vet på förhand vad som kommer att vara relevant och inte för just dig.  ",null,null,null,null,null,null,null,"Cell med värden hämtade från annan cell"]
[null,null,null,null,null,null,null,null,"Fyll i din egen siffra"]
["I tabellen nedan får du en kort beskrivning av bladen i del 1, och instruktion huruvida du behöver fylla i bladet",null,null,null,null,null,null,null,"Resultat/uträkning"]
["Del 1. Djuren","Ska bladet fyllas i?","Om bladet",null,null,null,null,null,"Förklaringar till raden"]
[{"$f":"A1","v":"1 Intro djuren"},{"$f":"'Teknisk administration'!G4","v":"obligatoriskt"},"Ange antal djur. Uppgifterna används på andra blad",null,null,null,null,null,"Plats för egna kommentarer"]
[{"$f":"B_N_Kött","v":"1.1 Kött"},{"$f":"'Teknisk administration'!G4","v":"obligatoriskt"},"Beräknar mängd producerat kött "]
[{"$f":"B_N_Tillvaxt","v":"1.2 Tillväxt & förökning"},{"$f":"'Teknisk administration'!G5","v":"frivilligt"},"Nyckeltal för tillväxt, kornas produktivitet, rekrytering",null,null,null,null,null,"Snabblänkar till bladen i verktyget:"]
[{"$f":"B_N_Halsa","v":"1.3 Hälsa & dödlighet"},{"$f":"'Teknisk administration'!G5","v":"frivilligt"},"Förekomst och kostnader för sjukdomar och ohälsa. Dödlighet i olika åldersgrupper",null,null,null,null,null,"Instruktion"]
[null,null,null,null,null,null,null,null,"Bakgrund"]
[null,null,null,null,null,null,null,null,"1 Intro djuren"]
[null,null,null,null,null,null,null,null,"1.1 Kött"]
[null,null,null,null,null,null,null,null,"1.2 Tillväxt & förökning"]
[null,null,null,null,null,null,null,null,"1.3 Hälsa & dödlighet"]
[null,null,null,null,null,null,null,null,"2 Intro foder"]
["Fyll i antal djur samt stallplatser i gula celler. Om en kategori inte är relavant lämnar du cellen tom. ",null,null,null,null,null,null,null,"2.1 Odling foder"]
["Ljusgrå text och vit bakgrund = kategorin är ej relevant för dig, baserat på dina svar på Ja/nej-frågorna på bladet Bakgrund",null,null,null,null,null,null,null,"2.2 Förluster vid lagring"]
["Antal nötkreatur","Enhet",{"$f":"Bakgrund!R$7","v":"Period 1"},{"$f":"Bakgrund!S$7","v":"Period 2"},{"$f":"Bakgrund!T$7","v":"Period 3"},"Förklaring","Egen kommentar",null,"2.3 Inköpt foder (exkl mineral)"]
["Hondjur betäckta med tjur/seminerade","antal",null,null,null,"Totala antalet betäckta/seminerade hondjur",null,null,"2.4 Utfodrat"]
["Övriga vuxna kor i besättningen","antal",null,null,null,"Vuxna kor som inte är satta i avel",null,null,"2.5. Kasserat foder och spill"]
["Kor och kvigor som kalvat under året","antal",null,null,null,"Totala antalet kor/kvifor som kalvat in under året",null,null,"2.6 Bete"]
["Tjurar/äldre stutar och kvigor","antal",null,null,null,"Antal över 2 år som inte är satta i avel",null,null,"3 Växtnäringsutnyttjande (1)"]
["Ungdjur","antal",null,null,null,"Antalet djur mellan 6 mån - 2 år",null,null,"3 Växtnäringsutnyttjande (2)",null,null,null,null,null,{"$f":"SUM(C21+C22+C24+C25+C26+C27)","v":0},{"$f":"SUM(D21+D22+D24+D25+D26+D27)","v":0},{"$f":"SUM(E21+E22+E24+E25+E26+E27)","v":0}]
["Födda kalvar","antal",null,null,null,"Antalet levande födda kalvar per år, mindre än 6 månader",null,null,"3 Växtnäringsutnyttjande (3)"]
["Inköpta kalvar ","antal",null,null,null,"Inköpta kalvar under 6 månader",null,null,"4 Energi och bränsle"]
["Totalt antal djur i besättningen ","antal",{"$f":"O25","v":0},{"$f":"P25","v":0},0,null,null,null,"5 Vattenanvändning"]
[null,null,null,null,null,null,null,null,"6 Resultat"]
[]
[]
["Antal stallplatser enligt djurskyddslag","stallplatser",null,null,null,"Max antal djur enligt djurskyddslag, se din förprövning. Fylls i om du har tillgång till uppgiften "]
["Eget mål för antal stallplatser","stallplatser",null,null,null,"Så många djur som i praktiken önskas/bedöms lagom"]

{"sheet":"1.1 Kött","index":3,"n_rows":158,"n_cols":31,"rows_kept":158,"cut":false,"hidden":false,"merged":[[26,4,33,7],[142,0,143,0],[142,4,143,4],[142,8,143,8],[142,9,143,9],[142,7,143,7],[142,3,143,3],[40,0,41,0],[40,3,41,3],[107,5,107,7],[40,4,41,4],[72,9,72,10],[73,9,73,10],[66,6,73,8],[64,6,65,8],[64,9,65,10],[66,9,66,10],[67,9,67,10],[68,9,68,10],[40,8,41,8],[40,9,41,9],[40,29,41,29],[40,1,40,2],[92,0,93,0],[92,3,93,3],[92,4,93,4],[92,7,93,7],[92,8,93,8],[106,5,106,7],[53,5,53,7],[54,5,54,7],[105,5,105,7],[55,5,55,7],[78,4,85,7],[40,28,41,28],[40,7,41,7],[40,30,41,30],[92,9,93,9],[117,9,117,10],[2,14,2,17],[3,14,3,17],[4,14,4,17],[5,14,5,17],[6,14,6,17],[20,9,20,10],[21,9,21,10],[26,8,26,9],[27,8,27,9],[28,8,28,9],[7,14,7,17],[8,14,8,17],[9,14,9,17],[12,6,13,8],[12,9,13,10],[24,4,25,7],[24,8,25,9],[31,8,31,9],[32,8,32,9],[33,8,33,9],[14,6,21,8],[14,9,14,10],[15,9,15,10],[118,9,118,10],[119,9,119,10],[120,9,120,10],[121,9,121,10],[122,9,122,10],[123,9,123,10],[124,9,124,10],[78,8,78,9],[79,8,79,9],[80,8,80,9],[81,8,81,9],[82,8,82,9],[83,8,83,9],[84,8,84,9],[85,8,85,9],[16,9,16,10],[17,9,17,10],[18,9,18,10],[19,9,19,10],[29,8,29,9],[30,8,30,9],[157,5,157,7],[11,14,11,15],[115,6,116,8],[115,9,116,10],[92,1,92,2],[76,4,77,7],[76,8,77,9],[129,4,136,7],[129,8,129,9],[130,8,130,9],[131,8,131,9],[132,8,132,9],[133,8,133,9],[134,8,134,9],[135,8,135,9],[136,8,136,9],[127,4,128,7],[127,8,128,9],[69,9,69,10],[70,9,70,10],[71,9,71,10],[117,6,124,8],[155,5,155,7],[156,5,156,7]]}
["1.1 Kött",null,null,null,null,null,null,null,null,null,null,null,null,null,"Det här betyder färgerna:"]
["Obligatoriskt blad",null,null,null,null,null,null,null,null,null,null,null,null,null,null,null,null,null,null,"Snabblänkar till bladen i verktyget:"]
["Här beräknas hur mycket kött som producerats under perioden. Resurseffektiviteten uttrycks i de flesta nyckeltalen per kg kött, så därför är det viktigt att du fyller i dessa uppgifter noga så att resultaten blir så trovärdiga som möjligt.",null,null,null,null,null,null,null,null,null,null,null,null,null,"Cell med värden hämtade från annan cell",null,null,null,null,"Instruktion"]
["Mängden beräknas som netto, d v s sålda djur till liv och slakt minus inköpta djur. Du behöver ange antalet sålda/köpta djur på detta blad även om du redan angett det på tidigare blad.",null,null,null,null,null,null,null,null,null,null,null,null,null,"Fyll i din egen siffra",null,null,null,null,"Bakgrund"]
["Hänsyn kan även tas till förändring i levandelager, så om djurantalet ökat eller om man köpt in många kalvar som kommer slaktas kommande period kan man räkna med en större mängd producerat kött än vad som faktiskt sålts.",null,null,null,null,null,null,null,null,null,null,null,null,null,"Möjligt fylla i eget värde, om du har",null,null,null,null,"1 Intro djuren"]
["Mängden uttrycks som kg kött (kg slaktvikt), och omräkning görs därför från levandevikt till slaktvikt för att få en gemensam räknebas. ",null,null,null,null,null,null,null,null,null,null,null,null,null,"Resultat/uträkning",null,null,null,null,"1.1 Kött"]
[null,null,null,null,null,null,null,null,null,null,null,null,null,null,"Förklaringar till raden",null,null,null,null,"1.2 Tillväxt & förökning"]
["Perioderna ligger under varandra.",null,null,null,null,null,null,null,null,null,null,null,null,null,"Plats för egna kommentarer",null,null,null,null,"1.3 Hälsa & dödlighet"]
[null,null,null,null,null,null,null,null,null,null,null,null,null,null,"Schablonvärde",null,null,null,null,"2 Intro foder"]
[null,null,null,null,null,null,null,null,null,null,null,null,null,null,"Egen uppgift, men välj värde ur rullista. ",null,null,null,null,"2.1 Odling foder"]
[null,null,null,null,null,null,null,null,null,null,null,null,null,null,null,null,null,null,null,"2.2 Förluster vid lagring"]
[{"$f":"Bakgrund!$R$7","v":"Period 1"},null,null,null,null,null,null,null,null,null,null,null,null,null,null,null,null,null,null,"2.3 Inköpt foder (exkl mineral)"]
[{"$f":"\"Sålda djur \" &A12","v":"Sålda djur Period 1"},"Antal","Genomsnittlig vikt per djur",null,"Slaktutbyte (%)",null,"Förklaring",null,null,"Egen kommentar",null,null,null,null,null,null,null,null,null,"2.4 Utfodrat"]
["Välj lämpligt alternativ ur lista!","styck","Vikt","Enhet","Schablonvärde (%)","Eget värde - Fylls i om du vill räkna med annat slaktutbyte än schablon",null,null,null,null,null,"slaktubyte",null,null,null,null,null,null,null,"2.5. Kasserat foder och spill"]
[null,null,null,{"$f":"IF(ISTEXT(A15),VLOOKUP(A15,Tabell28279[],2,FALSE),\"\")","v":""},{"$f":"IF(ISTEXT(A15),VLOOKUP(A15,Tabell28279[],3,FALSE),\"\")","v":""},null,"Ange antal sålda djur till slakt eller liv, och vikt vid försäljning. Döda och kasserade djur ska inte tas med. Vikten på slaktdjur kan anges som levande- eller slaktvikt - välj rätt alternativ! Ditt val styr slaktutbyte - du kan välja genella kategorier eller specificerat på kön och typ. Fyll i eget värde på slaktutbyte om schablonvärdet inte stämmer - se tabell till höger.\nVikten på livdjur räknas om till slaktvikt så att mängden kött kan summeras.",null,null,null,null,{"$f":"IF(E15=1,1,IF(AND(F15>0,F15<1),F15,E15))","v":""},null,null,null,null,null,null,null,"2.6 Bete"]
[null,null,null,{"$f":"IF(ISTEXT(A16),VLOOKUP(A16,Tabell28279[],2,FALSE),\"\")","v":""},{"$f":"IF(ISTEXT(A16),VLOOKUP(A16,Tabell28279[],3,FALSE),\"\")","v":""},null,null,null,null,null,null,"",null,null,null,null,null,null,null,"3 Växtnäringsutnyttjande (1)"]
[null,null,null,{"$f":"IF(ISTEXT(A17),VLOOKUP(A17,Tabell28279[],2,FALSE),\"\")","v":""},{"$f":"IF(ISTEXT(A17),VLOOKUP(A17,Tabell28279[],3,FALSE),\"\")","v":""},null,null,null,null,null,null,"",null,null,null,null,null,null,null,"3 Växtnäringsutnyttjande (2)"]
[null,null,null,{"$f":"IF(ISTEXT(A18),VLOOKUP(A18,Tabell28279[],2,FALSE),\"\")","v":""},{"$f":"IF(ISTEXT(A18),VLOOKUP(A18,Tabell28279[],3,FALSE),\"\")","v":""},null,null,null,null,null,null,"",null,null,null,null,null,null,null,"3 Växtnäringsutnyttjande (3)"]
[null,null,null,{"$f":"IF(ISTEXT(A19),VLOOKUP(A19,Tabell28279[],2,FALSE),\"\")","v":""},{"$f":"IF(ISTEXT(A19),VLOOKUP(A19,Tabell28279[],3,FALSE),\"\")","v":""},null,null,null,null,null,null,"",null,"Slaktutbyte nöt, schablonvärden (kg slaktvikt av kg levandevikt)",null,null,null,null,null,"4 Energi och bränsle"]
[null,null,null,{"$f":"IF(ISTEXT(A20),VLOOKUP(A20,Tabell28279[],2,FALSE),\"\")","v":""},{"$f":"IF(ISTEXT(A20),VLOOKUP(A20,Tabell28279[],3,FALSE),\"\")","v":""},null,null,null,null,null,null,"",null,"Nöt","Låg","Medel","Hög",null,null,"5 Vattenanvändning"]
[null,null,null,{"$f":"IF(ISTEXT(A21),VLOOKUP(A21,Tabell28279[],2,FALSE),\"\")","v":""},{"$f":"IF(ISTEXT(A21),VLOOKUP(A21,Tabell28279[],3,FALSE),\"\")","v":""},null,null,null,null,null,null,"",null,"köttras tjur lätt",0.51,0.53,0.55000000000000004,null,null,"6 Resultat"]
[null,null,null,{"$f":"IF(ISTEXT(A22),VLOOKUP(A22,Tabell28279[],2,FALSE),\"\")","v":""},{"$f":"IF(ISTEXT(A22),VLOOKUP(A22,Tabell28279[],3,FALSE),\"\")","v":""},null,null,null,null,null,null,"",null,"köttras tjur tung",0.52,0.55000000000000004,0.57999999999999996]
[null,null,null,null,null,null,null,null,null,null,null,null,null,"mjölkras tjur",0.5,0.52,0.53]
[null,null,null,null,null,null,null,null,null,null,null,null,null,"köttras stut lätt",0.5,0.52,0.54]
[{"$f":"\"Inköpta djur \"&A12","v":"Inköpta djur Period 1"},"Antal","Genomsnittlig vikt per djur",null,"Förklaring",null,null,null,"Egen kommentar",null,null,null,null,"köttras stut tung",0.51,0.54,0.56000000000000005]
["Välj lämpligt alternativ ur lista!","styck","Vikt","Enhet",null,null,null,null,null,null,null,null,null,"mjölkras stut",0.49,0.51,0.53]
[null,null,null,{"$f":"IF(ISTEXT(A27),VLOOKUP(A27,'Teknisk administration'!$Q$188:$T$192,2,FALSE),\"\")","v":""},"Ange antal inköpta djur och vikt när de köptes in. Vikten på dessa djur dras ifrån vikten på sålda djur så att mängden kött (netto) kan beräknas.\nFör att kunna göra det räknas vikten på inköpta djur om till slaktvikt (52 % slaktutbyte).",null,null,null,null,null,null,{"$f":"IF(ISTEXT(A27),VLOOKUP(A27,'Teknisk administration'!$Q$188:$T$192,3,FALSE),\"\")","v":""},null,"köttras kviga tung",0.5,0.52,0.54]
[null,null,null,{"$f":"IF(ISTEXT(A28),VLOOKUP(A28,'Teknisk administration'!$Q$188:$T$192,2,FALSE),\"\")","v":""},null,null,null,null,null,null,null,{"$f":"IF(ISTEXT(A28),VLOOKUP(A28,'Teknisk administration'!$Q$188:$T$192,3,FALSE),\"\")","v":""},null,"köttras kviga lätt",0.49,0.51,0.53]
[null,null,null,{"$f":"IF(ISTEXT(A29),VLOOKUP(A29,'Teknisk administration'!$Q$188:$T$192,2,FALSE),\"\")","v":""},null,null,null,null,null,null,null,{"$f":"IF(ISTEXT(A29),VLOOKUP(A29,'Teknisk administration'!$Q$188:$T$192,3,FALSE),\"\")","v":""},null,"mjölkras kviga",0.48,0.5,0.52]
[null,null,null,{"$f":"IF(ISTEXT(A30),VLOOKUP(A30,'Teknisk administration'!$Q$188:$T$192,2,FALSE),\"\")","v":""},null,null,null,null,null,null,null,{"$f":"IF(ISTEXT(A30),VLOOKUP(A30,'Teknisk administration'!$Q$188:$T$192,3,FALSE),\"\")","v":""}]
[null,null,null,{"$f":"IF(ISTEXT(A31),VLOOKUP(A31,'Teknisk administration'!$Q$188:$T$192,2,FALSE),\"\")","v":""},null,null,null,null,null,null,null,{"$f":"IF(ISTEXT(A31),VLOOKUP(A31,'Teknisk administration'!$Q$188:$T$192,3,FALSE),\"\")","v":""}]
[null,null,null,{"$f":"IF(ISTEXT(A32),VLOOKUP(A32,'Teknisk administration'!$Q$188:$T$192,2,FALSE),\"\")","v":""},null,null,null,null,null,null,null,{"$f":"IF(ISTEXT(A32),VLOOKUP(A32,'Teknisk administration'!$Q$188:$T$192,3,FALSE),\"\")","v":""}]
[null,null,null,{"$f":"IF(ISTEXT(A33),VLOOKUP(A33,'Teknisk administration'!$Q$188:$T$192,2,FALSE),\"\")","v":""},null,null,null,null,null,null,null,{"$f":"IF(ISTEXT(A33),VLOOKUP(A33,'Teknisk administration'!$Q$188:$T$192,3,FALSE),\"\")","v":""}]
[null,null,null,{"$f":"IF(ISTEXT(A34),VLOOKUP(A34,'Teknisk administration'!$Q$188:$T$192,2,FALSE),\"\")","v":""},null,null,null,null,null,null,null,{"$f":"IF(ISTEXT(A34),VLOOKUP(A34,'Teknisk administration'!$Q$188:$T$192,3,FALSE),\"\")","v":""}]
[]
[]
["Frivilligt: Fyll i denna tabell om det skett stora förändringar i levandelager djur, så inkluderas förändringen i mängden producerat kött. Det kan t ex vara aktuellt om många kalvar fötts eller köpts in aktuell period medan få djur har slaktats, eller om du föder upp i omgångar. "]
["Börja med att benämna djurslaget (t ex \"tjurar\"). Ange sedan hur många de var vid periodens start och vad de vägde då, samt hur många som är kvar vid periodens slut och vad de väger då. "]
["För kalvar som fötts under perioden fyller du bara i antal och vikt vid periodens slut. För djur som köpts in under perioden anger du vikt och antal när de sattes in i besättningen. "]
[{"$f":"\"Förändring levandelager \"&A13","v":"Förändring levandelager Sålda djur Period 1"}]
["Djurslag, fritext (t ex kalvar, tjurar)","Periodens start alt. insättning",null,"Slaktutbyte (%)","kg kött vid periodens start","Periodens slut",null,"Slaktutbyte (%)","kg kött vid periodens slut","Förändring (kg kött)",null,null,null,null,null,null,null,null,null,null,null,null,null,null,null,null,null,null,"kg kött vid periodens start","kg kött vid periodens slut","Förändring (kg kött)"]
[null,"Antal","Vikt (kg levande vikt)",null,null,"Antal","Vikt (kg levande vikt)",null,null,null,"Egen kommentar"]
[null,null,null,0.52,{"$f":"B43*C43*D43","v":0},null,null,0.52,{"$f":"F43*G43*H43","v":0},{"$f":"I43-E43","v":0},null,null,null,null,null,null,null,null,null,null,null,null,null,null,null,null,null,null,{"$f":"B43*C43*D43","v":0},{"$f":"F43*G43*H43","v":0},{"$f":"AD43-AC43","v":0}]
[null,null,null,0.52,{"$f":"B44*C44*D44","v":0},null,null,0.52,{"$f":"F44*G44*H44","v":0},{"$f":"I44-E44","v":0},null,null,null,null,null,null,null,null,null,null,null,null,null,null,null,null,null,null,0,0,0]
[null,null,null,0.52,0,null,null,0.52,0,0,null,null,null,null,null,null,null,null,null,null,null,null,null,null,null,null,null,null,0,0,0]
[null,null,null,0.52,0,null,null,0.52,0,0,null,null,null,null,null,null,null,null,null,null,null,null,null,null,null,null,null,null,0,0,0]
[null,null,null,0.52,0,null,null,0.52,0,0,null,null,null,null,null,null,null,null,null,null,null,null,null,null,null,null,null,null,0,0,0]
[null,null,null,0.52,0,null,null,0.52,0,0,null,null,null,null,null,null,null,null,null,null,null,null,null,null,null,null,null,null,0,0,0]
["Summa",null,null,null,{"$f":"SUM(E43:E48)","v":0},null,null,null,{"$f":"SUM(I43:I48)","v":0},{"$f":"SUM(J43:J48)","v":0},null,null,null,null,null,null,null,null,null,null,null,null,null,null,null,null,null,null,{"$f":"SUM(AC43:AC48)","v":0},{"$f":"SUM(AD43:AD48)","v":0},{"$f":"SUM(AE43:AE48)","v":0}]
[]
[]
[]
[{"$f":"\"Totalt \" &A12","v":"Totalt Period 1"},"Enhet","Sålt","Inköpt","Netto","Förklaring"]
["Sålt minus inköpt","kg kött",{"$f":"SUMPRODUCT(B15:B22,C15:C22,L15:L22)","v":0},{"$f":"SUMPRODUCT(B27:B34,C27:C34,L27:L34)","v":0},{"$f":"C54-D54","v":0},"Netto = Sålda minus inköpta djur, omräknat till slaktvikt."]
["Ev förändring levandelager","kg kött",null,null,{"$f":"AE49","v":0},"Netto = förändring i levandelager"]
[null,null,null,null,{"$f":"SUM(E54:E55)","v":0},"Netto sålda minus köpta djur och förändring i levandelager (i kg kött)"]
[null,null,null,null," "]
[]
[]
[]
[]
[]
[]
[{"$f":"Bakgrund!$S$7","v":"Period 2"}]
[{"$f":"\"Sålda djur \" &A64","v":"Sålda djur Period 2"},"Antal","Genomsnittlig vikt per djur",null,"Slaktutbyte (%)",null,"Förklaring",null,null,"Egen kommentar",null,null,null,"Slaktutbyte nöt, schablonvärden (kg slaktvikt av kg levandevikt)"]
["Välj lämpligt alternativ ur lista!","styck","Vikt","Enhet","Schablonvärde (%)","Eget värde - Fylls i om du vill räkna med annat slaktutbyte än schablon",null,null,null,null,null,"slaktubyte",null,"Nöt","Låg","Medel","Hög"]
[null,null,null,{"$f":"IF(ISTEXT(A67),VLOOKUP(A67,Tabell28279[],2,FALSE),\"\")","v":""},{"$f":"IF(ISTEXT(A67),VLOOKUP(A67,Tabell28279[],3,FALSE),\"\")","v":""},null,"Ange antal sålda djur till slakt eller liv, och vikt vid försäljning. Döda och kasserade djur ska inte tas med. Vikten på slaktdjur kan anges som levande- eller slaktvikt - välj rätt alternativ! Ditt val styr slaktutbyte - du kan välja genella kategorier eller specificerat på kön och typ. Fyll i eget värde på slaktutbyte om schablonvärdet inte stämmer - se tabell till höger.\nVikten på livdjur räknas om till slaktvikt så att mängden kött kan summeras.",null,null,null,null,{"$f":"IF(E67=1,1,IF(AND(F67>0,F67<1),F67,E67))","v":""},null,"köttras tjur lätt",0.51,0.53,0.55000000000000004]
[null,null,null,{"$f":"IF(ISTEXT(A68),VLOOKUP(A68,Tabell28279[],2,FALSE),\"\")","v":""},{"$f":"IF(ISTEXT(A68),VLOOKUP(A68,Tabell28279[],3,FALSE),\"\")","v":""},null,null,null,null,null,null,"",null,"köttras tjur tung",0.52,0.55000000000000004,0.57999999999999996]
[null,null,null,{"$f":"IF(ISTEXT(A69),VLOOKUP(A69,Tabell28279[],2,FALSE),\"\")","v":""},{"$f":"IF(ISTEXT(A69),VLOOKUP(A69,Tabell28279[],3,FALSE),\"\")","v":""},null,null,null,null,null,null,"",null,"mjölkras tjur",0.5,0.52,0.53]
[null,null,null,{"$f":"IF(ISTEXT(A70),VLOOKUP(A70,Tabell28279[],2,FALSE),\"\")","v":""},{"$f":"IF(ISTEXT(A70),VLOOKUP(A70,Tabell28279[],3,FALSE),\"\")","v":""},null,null,null,null,null,null,"",null,"köttras stut lätt",0.5,0.52,0.54]
[null,null,null,{"$f":"IF(ISTEXT(A71),VLOOKUP(A71,Tabell28279[],2,FALSE),\"\")","v":""},{"$f":"IF(ISTEXT(A71),VLOOKUP(A71,Tabell28279[],3,FALSE),\"\")","v":""},null,null,null,null,null,null,"",null,"köttras stut tung",0.51,0.54,0.56000000000000005]
[null,null,null,{"$f":"IF(ISTEXT(A72),VLOOKUP(A72,Tabell28279[],2,FALSE),\"\")","v":""},{"$f":"IF(ISTEXT(A72),VLOOKUP(A72,Tabell28279[],3,FALSE),\"\")","v":""},null,null,null,null,null,null,"",null,"mjölkras stut",0.49,0.51,0.53]
[null,null,null,{"$f":"IF(ISTEXT(A73),VLOOKUP(A73,Tabell28279[],2,FALSE),\"\")","v":""},{"$f":"IF(ISTEXT(A73),VLOOKUP(A73,Tabell28279[],3,FALSE),\"\")","v":""},null,null,null,null,null,null,"",null,"köttras kviga tung",0.5,0.52,0.54]
[null,null,null,{"$f":"IF(ISTEXT(A74),VLOOKUP(A74,Tabell28279[],2,FALSE),\"\")","v":""},{"$f":"IF(ISTEXT(A74),VLOOKUP(A74,Tabell28279[],3,FALSE),\"\")","v":""},null,null,null,null,null,null,"",null,"köttras kviga lätt",0.49,0.51,0.53]
[null,null,null,null,null,null,null,null,null,null,null,null,null,"mjölkras kviga",0.48,0.5,0.52]
[]
[{"$f":"\"Inköpta djur \"&A64","v":"Inköpta djur Period 2"},"Antal","Genomsnittlig vikt per djur",null,"Förklaring",null,null,null,"Egen kommentar"]
["Välj lämpligt alternativ ur lista!","styck","Vikt","Enhet"]
[null,null,null,{"$f":"IF(ISTEXT(A79),VLOOKUP(A79,'Teknisk administration'!$Q$188:$T$192,2,FALSE),\"\")","v":""},"Ange antal inköpta djur och vikt när de köptes in. Vikten på dessa djur dras ifrån vikten på sålda djur så att mängden kött (netto) kan beräknas.\nFör att kunna göra det räknas vikten på inköpta djur om till slaktvikt (52 % slaktutbyte).",null,null,null,null,null,null,{"$f":"IF(ISTEXT(A79),VLOOKUP(A79,'Teknisk administration'!$Q$188:$T$192,3,FALSE),\"\")","v":""}]
[null,null,null,{"$f":"IF(ISTEXT(A80),VLOOKUP(A80,'Teknisk administration'!$Q$188:$T$192,2,FALSE),\"\")","v":""},null,null,null,null,null,null,null,{"$f":"IF(ISTEXT(A80),VLOOKUP(A80,'Teknisk administration'!$Q$188:$T$192,3,FALSE),\"\")","v":""}]
[null,null,null,{"$f":"IF(ISTEXT(A81),VLOOKUP(A81,'Teknisk administration'!$Q$188:$T$192,2,FALSE),\"\")","v":""},null,null,null,null,null,null,null,{"$f":"IF(ISTEXT(A81),VLOOKUP(A81,'Teknisk administration'!$Q$188:$T$192,3,FALSE),\"\")","v":""}]
[null,null,null,{"$f":"IF(ISTEXT(A82),VLOOKUP(A82,'Teknisk administration'!$Q$188:$T$192,2,FALSE),\"\")","v":""},null,null,null,null,null,null,null,{"$f":"IF(ISTEXT(A82),VLOOKUP(A82,'Teknisk administration'!$Q$188:$T$192,3,FALSE),\"\")","v":""}]
[null,null,null,{"$f":"IF(ISTEXT(A83),VLOOKUP(A83,'Teknisk administration'!$Q$188:$T$192,2,FALSE),\"\")","v":""},null,null,null,null,null,null,null,{"$f":"IF(ISTEXT(A83),VLOOKUP(A83,'Teknisk administration'!$Q$188:$T$192,3,FALSE),\"\")","v":""}]
[null,null,null,{"$f":"IF(ISTEXT(A84),VLOOKUP(A84,'Teknisk administration'!$Q$188:$T$192,2,FALSE),\"\")","v":""},null,null,null,null,null,null,null,{"$f":"IF(ISTEXT(A84),VLOOKUP(A84,'Teknisk administration'!$Q$188:$T$192,3,FALSE),\"\")","v":""}]
[null,null,null,{"$f":"IF(ISTEXT(A85),VLOOKUP(A85,'Teknisk administration'!$Q$188:$T$192,2,FALSE),\"\")","v":""},null,null,null,null,null,null,null,{"$f":"IF(ISTEXT(A85),VLOOKUP(A85,'Teknisk administration'!$Q$188:$T$192,3,FALSE),\"\")","v":""}]
[null,null,null,{"$f":"IF(ISTEXT(A86),VLOOKUP(A86,'Teknisk administration'!$Q$188:$T$192,2,FALSE),\"\")","v":""},null,null,null,null,null,null,null,{"$f":"IF(ISTEXT(A86),VLOOKUP(A86,'Teknisk administration'!$Q$188:$T$192,3,FALSE),\"\")","v":""}]
[]
[]
["Frivilligt: Fyll i denna tabell om det skett stora förändringar i levandelager djur, så inkluderas förändringen i mängden producerat kött. Det kan t ex vara aktuellt om många kalvar fötts eller köpts in aktuell period medan få djur har slaktats, eller om du föder upp i omgångar. "]
["Börja med att benäma djurslaget (t ex \"tjurar\"). Ange sedan hur många de var vid periodens start och vad de vägde då, samt hur många som är kvar vid periodens slut och vad de väger då. "]
["För kalvar som fötts under perioden fyller du bara i antal och vikt vid periodens slut. För djur som köpts in under perioden anger du vikt och antal när de sattes in i besättningen. "]
[{"$f":"\"Förändring levandelager \"&A65","v":"Förändring levandelager Sålda djur Period 2"}]
["Djurslag, fritext (t ex kalvar, tjurar)","Periodens start alt. insättning",null,"Slaktutbyte (%)","kg kött vid periodens start","Periodens slut",null,"Slaktutbyte (%)","kg kött vid periodens slut","Förändring (kg kött)"]
[null,"Antal","Vikt (kg levande vikt)",null,null,"Antal","Vikt (kg levande vikt)",null,null,null,"Egen kommentar"]
[null,null,null,0.52,{"$f":"B95*C95*D95","v":0},null,null,0.52,{"$f":"F95*G95*H95","v":0},{"$f":"I95-E95","v":0},null,null,null,null,null,null,null,null,null,null,null,null,null,null,null,null,null,null,{"$f":"B95*C95*D95","v":0},{"$f":"F95*G95*H95","v":0},{"$f":"AD95-AC95","v":0}]
[null,null,null,0.52,{"$f":"B96*C96*D96","v":0},null,null,0.52,{"$f":"F96*G96*H96","v":0},{"$f":"I96-E96","v":0},null,null,null,null,null,null,null,null,null,null,null,null,null,null,null,null,null,null,0,0,0]
[null,null,null,0.52,0,null,null,0.52,0,0,null,null,null,null,null,null,null,null,null,null,null,null,null,null,null,null,null,null,0,0,0]
[null,null,null,0.52,0,null,null,0.52,0,0,null,null,null,null,null,null,null,null,null,null,null,null,null,null,null,null,null,null,0,0,0]
[null,null,null,0.52,0,null,null,0.52,0,0,null,null,null,null,null,null,null,null,null,null,null,null,null,null,null,null,null,null,0,0,0]
[null,null,null,0.52,0,null,null,0.52,0,0,null,null,null,null,null,null,null,null,null,null,null,null,null,null,null,null,null,null,0,0,0]
["Summa",null,null,null,{"$f":"SUM(E95:E100)","v":0},null,null,null,{"$f":"SUM(I95:I100)","v":0},{"$f":"SUM(J95:J100)","v":0},null,null,null,null,null,null,null,null,null,null,null,null,null,null,null,null,null,null,{"$f":"SUM(AC95:AC100)","v":0},{"$f":"SUM(AD95:AD100)","v":0},{"$f":"SUM(AE95:AE100)","v":0}]
[]
[]
[]
[{"$f":"\"Totalt \" &A64","v":"Totalt Period 2"},"Enhet","Sålt","Inköpt","Netto","Förklaring"]
["Sålt minus inköpt","kg kött",{"$f":"SUMPRODUCT(B67:B74,C67:C74,L67:L74)","v":0},{"$f":"SUMPRODUCT(B79:B86,C79:C86,L79:L86)","v":0},{"$f":"C106-D106","v":0},"Netto = Sålda minus inköpta djur, omräknat till slaktvikt."]
["Ev förändring levandelager","kg kött",null,null,{"$f":"AE101","v":0},"Netto = förändring i levandelager"]
[null,null,null,null,{"$f":"SUM(E106:E107)","v":0},"Netto sålda minus köpta djur och förändring i levandelager (i kg kött)"]
[]
[]
[]
[]
[]
[]
[{"$f":"Bakgrund!$T$7","v":"Period 3"}]
[{"$f":"\"Sålda djur \" &A115","v":"Sålda djur Period 3"},"Antal","Genomsnittlig vikt per djur",null,"Slaktutbyte (%)",null,"Förklaring",null,null,"Egen kommentar",null,null,null,"Slaktutbyte nöt, schablonvärden (kg slaktvikt av kg levandevikt)"]
["Välj lämpligt alternativ ur lista!","styck","Vikt","Enhet","Schablonvärde (%)","Eget värde - Fylls i om du vill räkna med annat slaktutbyte än schablon",null,null,null,null,null,"slaktubyte",null,"Nöt","Låg","Medel","Hög"]
[null,null,null,{"$f":"IF(ISTEXT(A118),VLOOKUP(A118,Tabell28279[],2,FALSE),\"\")","v":""},{"$f":"IF(ISTEXT(A118),VLOOKUP(A118,Tabell28279[],3,FALSE),\"\")","v":""},null,"Ange antal sålda djur till slakt eller liv, och vikt vid försäljning. Döda och kasserade djur ska inte tas med. Vikten på slaktdjur kan anges som levande- eller slaktvikt - välj rätt alternativ! Ditt val styr slaktutbyte - du kan välja genella kategorier eller specificerat på kön och typ. Fyll i eget värde på slaktutbyte om schablonvärdet inte stämmer - se tabell till höger.\nVikten på livdjur räknas om till slaktvikt så att mängden kött kan summeras.",null,null,null,null,{"$f":"IF(E118=1,1,IF(AND(F118>0,F118<1),F118,E118))","v":""},null,"köttras tjur lätt",0.51,0.53,0.55000000000000004]
[null,null,null,{"$f":"IF(ISTEXT(A119),VLOOKUP(A119,Tabell28279[],2,FALSE),\"\")","v":""},{"$f":"IF(ISTEXT(A119),VLOOKUP(A119,Tabell28279[],3,FALSE),\"\")","v":""},null,null,null,null,null,null,"",null,"köttras tjur tung",0.52,0.55000000000000004,0.57999999999999996]
[null,null,null,{"$f":"IF(ISTEXT(A120),VLOOKUP(A120,Tabell28279[],2,FALSE),\"\")","v":""},{"$f":"IF(ISTEXT(A120),VLOOKUP(A120,Tabell28279[],3,FALSE),\"\")","v":""},null,null,null,null,null,null,"",null,"mjölkras tjur",0.5,0.52,0.53]
[null,null,null,{"$f":"IF(ISTEXT(A121),VLOOKUP(A121,Tabell28279[],2,FALSE),\"\")","v":""},{"$f":"IF(ISTEXT(A121),VLOOKUP(A121,Tabell28279[],3,FALSE),\"\")","v":""},null,null,null,null,null,null,"",null,"köttras stut lätt",0.5,0.52,0.54]
[null,null,null,{"$f":"IF(ISTEXT(A122),VLOOKUP(A122,Tabell28279[],2,FALSE),\"\")","v":""},{"$f":"IF(ISTEXT(A122),VLOOKUP(A122,Tabell28279[],3,FALSE),\"\")","v":""},null,null,null,null,null,null,"",null,"köttras stut tung",0.51,0.54,0.56000000000000005]
[null,null,null,{"$f":"IF(ISTEXT(A123),VLOOKUP(A123,Tabell28279[],2,FALSE),\"\")","v":""},{"$f":"IF(ISTEXT(A123),VLOOKUP(A123,Tabell28279[],3,FALSE),\"\")","v":""},null,null,null,null,null,null,"",null,"mjölkras stut",0.49,0.51,0.53]
[null,null,null,{"$f":"IF(ISTEXT(A124),VLOOKUP(A124,Tabell28279[],2,FALSE),\"\")","v":""},{"$f":"IF(ISTEXT(A124),VLOOKUP(A124,Tabell28279[],3,FALSE),\"\")","v":""},null,null,null,null,null,null,"",null,"köttras kviga tung",0.5,0.52,0.54]
[null,null,null,{"$f":"IF(ISTEXT(A125),VLOOKUP(A125,Tabell28279[],2,FALSE),\"\")","v":""},{"$f":"IF(ISTEXT(A125),VLOOKUP(A125,Tabell28279[],3,FALSE),\"\")","v":""},null,null,null,null,null,null,"",null,"köttras kviga lätt",0.49,0.51,0.53]
[null,null,null,null,null,null,null,null,null,null,null,null,null,"mjölkras kviga",0.48,0.5,0.52]
[]
[{"$f":"\"Inköpta djur \"&A115","v":"Inköpta djur Period 3"},"Antal","Genomsnittlig vikt per djur",null,"Förklaring",null,null,null,"Egen kommentar"]
["Välj lämpligt alternativ ur lista!","styck","Vikt","Enhet"]
[null,null,null,{"$f":"IF(ISTEXT(A130),VLOOKUP(A130,'Teknisk administration'!$Q$188:$T$192,2,FALSE),\"\")","v":""},"Ange antal inköpta djur och vikt när de köptes in. Vikten på dessa djur dras ifrån vikten på sålda djur så att mängden kött (netto) kan beräknas.\nFör att kunna göra det räknas vikten på inköpta djur om till slaktvikt (52 % slaktutbyte).",null,null,null,null,null,null,{"$f":"IF(ISTEXT(A130),VLOOKUP(A130,'Teknisk administration'!$Q$188:$T$192,3,FALSE),\"\")","v":""}]
[null,null,null,{"$f":"IF(ISTEXT(A131),VLOOKUP(A131,'Teknisk administration'!$Q$188:$T$192,2,FALSE),\"\")","v":""},null,null,null,null,null,null,null,{"$f":"IF(ISTEXT(A131),VLOOKUP(A131,'Teknisk administration'!$Q$188:$T$192,3,FALSE),\"\")","v":""}]
[null,null,null,{"$f":"IF(ISTEXT(A132),VLOOKUP(A132,'Teknisk administration'!$Q$188:$T$192,2,FALSE),\"\")","v":""},null,null,null,null,null,null,null,{"$f":"IF(ISTEXT(A132),VLOOKUP(A132,'Teknisk administration'!$Q$188:$T$192,3,FALSE),\"\")","v":""}]
[null,null,null,{"$f":"IF(ISTEXT(A133),VLOOKUP(A133,'Teknisk administration'!$Q$188:$T$192,2,FALSE),\"\")","v":""},null,null,null,null,null,null,null,{"$f":"IF(ISTEXT(A133),VLOOKUP(A133,'Teknisk administration'!$Q$188:$T$192,3,FALSE),\"\")","v":""}]
[null,null,null,{"$f":"IF(ISTEXT(A134),VLOOKUP(A134,'Teknisk administration'!$Q$188:$T$192,2,FALSE),\"\")","v":""},null,null,null,null,null,null,null,{"$f":"IF(ISTEXT(A134),VLOOKUP(A134,'Teknisk administration'!$Q$188:$T$192,3,FALSE),\"\")","v":""}]
[null,null,null,{"$f":"IF(ISTEXT(A135),VLOOKUP(A135,'Teknisk administration'!$Q$188:$T$192,2,FALSE),\"\")","v":""},null,null,null,null,null,null,null,{"$f":"IF(ISTEXT(A135),VLOOKUP(A135,'Teknisk administration'!$Q$188:$T$192,3,FALSE),\"\")","v":""}]
[null,null,null,{"$f":"IF(ISTEXT(A136),VLOOKUP(A136,'Teknisk administration'!$Q$188:$T$192,2,FALSE),\"\")","v":""},null,null,null,null,null,null,null,{"$f":"IF(ISTEXT(A136),VLOOKUP(A136,'Teknisk administration'!$Q$188:$T$192,3,FALSE),\"\")","v":""}]
[null,null,null,{"$f":"IF(ISTEXT(A137),VLOOKUP(A137,'Teknisk administration'!$Q$188:$T$192,2,FALSE),\"\")","v":""},null,null,null,null,null,null,null,{"$f":"IF(ISTEXT(A137),VLOOKUP(A137,'Teknisk administration'!$Q$188:$T$192,3,FALSE),\"\")","v":""}]
[]
["Frivilligt: Fyll i denna tabell om det skett stora förändringar i levandelager djur, så inkluderas förändringen i mängden producerat kött. Det kan t ex vara aktuellt om många kalvar fötts eller köpts in aktuell period medan få djur har slaktats, eller om du föder upp i omgångar. "]
["Börja med att benäma djurslaget (t ex \"tjurar\"). Ange sedan hur många de var vid periodens start och vad de vägde då, samt hur många som är kvar vid periodens slut och vad de väger då. "]
["För kalvar som fötts under perioden fyller du bara i antal och vikt vid periodens slut. För djur som köpts in under perioden anger du vikt och antal när de sattes in i besättningen. "]
[{"$f":"\"Förändring levandelager \"&A115","v":"Förändring levandelager Period 3"}]
["Djurslag, fritext (t ex kalvar, tjurar)","Periodens start alt. insättning",null,"Slaktutbyte (%)","kg kött vid periodens start","Periodens slut",null,"Slaktutbyte (%)","kg kött vid periodens slut","Förändring (kg kött)"]
[null,"Antal","Vikt (kg levande vikt)",null,null,"Antal","Vikt (kg levande vikt)",null,null,null,"Egen kommentar"]
[null,null,null,0.52,{"$f":"B145*C145*D145","v":0},null,null,0.52,{"$f":"F145*G145*H145","v":0},{"$f":"I145-E145","v":0},null,null,null,null,null,null,null,null,null,null,null,null,null,null,null,null,null,null,{"$f":"B145*C145*D145","v":0},{"$f":"F145*G145*H145","v":0},{"$f":"AD145-AC145","v":0}]
[null,null,null,0.52,{"$f":"B146*C146*D146","v":0},null,null,0.52,{"$f":"F146*G146*H146","v":0},{"$f":"I146-E146","v":0},null,null,null,null,null,null,null,null,null,null,null,null,null,null,null,null,null,null,0,0,0]
[null,null,null,0.52,0,null,null,0.52,0,0,null,null,null,null,null,null,null,null,null,null,null,null,null,null,null,null,null,null,0,0,0]
[null,null,null,0.52,0,null,null,0.52,0,0,null,null,null,null,null,null,null,null,null,null,null,null,null,null,null,null,null,null,0,0,0]
[null,null,null,0.52,0,null,null,0.52,0,0,null,null,null,null,null,null,null,null,null,null,null,null,null,null,null,null,null,null,0,0,0]
[null,null,null,0.52,0,null,null,0.52,0,0,null,null,null,null,null,null,null,null,null,null,null,null,null,null,null,null,null,null,0,0,0]
["Summa",null,null,null,{"$f":"SUM(E145:E150)","v":0},null,null,null,{"$f":"SUM(I145:I150)","v":0},{"$f":"SUM(J145:J150)","v":0},null,null,null,null,null,null,null,null,null,null,null,null,null,null,null,null,null,null,{"$f":"SUM(AC145:AC150)","v":0},{"$f":"SUM(AD145:AD150)","v":0},{"$f":"SUM(AE145:AE150)","v":0}]
[]
[]
[]
[{"$f":"\"Totalt \" &A115","v":"Totalt Period 3"},"Enhet","Sålt","Inköpt","Netto","Förklaring"]
["Sålt minus inköpt","kg kött",{"$f":"SUMPRODUCT(B118:B125,C118:C125,L118:L125)","v":0},{"$f":"SUMPRODUCT(B130:B137,C130:C137,L130:L137)","v":0},{"$f":"C156-D156","v":0},"Netto = Sålda minus inköpta djur, omräknat till slaktvikt."]
["Ev förändring levandelager","kg kött",null,null,{"$f":"AE151","v":0},"Netto = förändring i levandelager"]
[null,null,null,null,{"$f":"SUM(E156:E157)","v":0},"Netto sålda minus köpta djur och förändring i levandelager (i kg kött)"]

{"sheet":"1.2 Tillväxt & förökning","index":4,"n_rows":132,"n_cols":40,"rows_kept":132,"cut":false,"hidden":false,"merged":[[49,12,49,14],[49,15,49,17],[30,12,30,14],[112,2,112,4],[32,5,32,7],[43,5,43,7],[44,5,44,7],[41,15,41,17],[105,5,105,7],[106,5,106,7],[108,5,108,7],[109,5,109,7],[42,8,42,11],[32,8,32,11],[43,8,43,11],[107,5,107,7],[9,12,9,14],[41,12,41,14],[15,12,15,14],[9,5,9,7],[10,5,10,7],[11,5,11,7],[17,5,17,7],[18,5,18,7],[19,5,19,7],[20,5,20,7],[21,5,21,7],[22,5,22,7],[23,5,23,7],[24,5,24,7],[30,5,30,7],[31,5,31,7],[104,5,104,7],[127,5,127,7],[115,5,115,7],[116,5,116,7],[113,5,113,7],[117,5,117,7],[118,5,118,7],[114,5,114,7],[128,5,128,7],[129,5,129,7],[130,5,130,7],[131,5,131,7],[8,5,8,7],[16,5,16,7],[29,5,29,7],[42,5,42,7],[103,5,103,7],[45,5,45,7],[46,5,46,7],[48,5,48,7],[119,5,119,7],[125,5,125,7],[126,5,126,7],[124,5,124,7],[20,8,20,11],[21,8,21,11],[22,8,22,11],[23,8,23,11],[9,8,9,11],[10,8,10,11],[11,8,11,11],[17,8,17,11],[18,8,18,11],[130,8,131,11],[125,8,125,11],[126,8,126,11],[127,8,127,11],[128,8,128,11],[129,8,129,11],[113,8,113,11],[124,8,124,11],[103,8,103,11],[104,8,104,11],[105,8,108,11],[114,8,114,11],[115,8,118,11],[119,8,119,11],[109,8,109,11],[8,8,8,11],[16,8,16,11],[62,2,62,3],[62,4,62,5],[62,6,62,7],[62,8,62,9],[62,10,62,11],[44,8,44,11],[45,8,45,11],[46,8,46,11],[48,8,48,11],[24,8,24,11],[30,8,30,11],[31,8,31,11],[29,8,29,11],[19,8,19,11]]}
["1.2 Tillväxt & förökning",null,null,null,null,null,null,null,null,null,null,null,null,null,null,null,null,null,null,null,null,null,null,null,null,null,null,null,null,null,null,null,null,null,null,null,null,null,null,"Det här betyder färgerna:"]
["Bladet är frivilligt att fylla i",null,null,null,null,null,null,null,null,null,null,null,null,null,null,null,null,null,null,null,null,null,null,null,null,null,null,null,null,null,null,null,null,null,null,null,null,null,null,"Cell med värden hämtade från annan cell"]
[{"$f":"\"Här beräknar du nyckeltal för \"&IF(Bakgrund!AZ46>0,\"kornas produktivitet (kalvar/betäckt hondjur, fertilitet, rekrytering) och \",\"\")&\"ungnötens tillväxt.\" & IF(Bakgrund!AZ46=0,\" Eftersom du sagt att du saknar hondjur som kalvar (ja/nej-frågorna på Bakgrund) är texten under rubriken '\"&A7&\"' ljusgrå för att indikera att du ska hoppa över det avsnittet\",\"\")","v":"Här beräknar du nyckeltal för kornas produktivitet (kalvar/betäckt hondjur, fertilitet, rekrytering) och ungnötens tillväxt."},null,null,null,null,null,null,null,null,null,null,null,null,null,null,null,null,null,null,null,null,null,null,null,null,null,null,null,null,null,null,null,null,null,null,null,null,null,null,"Fyll i din egen siffra"]
[null,null,null,null,null,null,null,null,null,null,null,null,null,null,null,null,null,null,null,null,null,null,null,null,null,null,null,null,null,null,null,null,null,null,null,null,null,null,null,"Resultat/uträkning"]
[null,null,null,null,null,null,null,null,null,null,null,null,null,null,null,null,null,null,null,null,null,null,null,null,null,null,null,null,null,null,null,null,null,null,null,null,null,null,null,"Schablonvärde"]
[null,null,null,null,null,null,null,null,null,null,null,null,null,null,null,null,null,null,null,null,null,null,null,null,null,null,null,null,null,null,null,null,null,null,null,null,null,null,null,"Förklaringar till raden"]
["Dikor och rekrytering",null,null,null,null,null,null,null,null,null,null,null,null,null,null,null,null,null,null,null,null,null,null,null,null,null,null,null,null,null,null,null,null,null,null,null,null,null,null,"Plats för egna kommentarer"]
[null,null,null,null,null,null,null,null,null,null,null,null,null,null,null,null,null,null,null,null,null,null,null,null,null,null,null,null,null,null,null,null,null,null,null,null,null,null,null,"Glöm inte att fylla i värde! (Här krävs ett värde för att andra beräkningar ska fungera"]
["Avvanda kalvar/betäckt hondjur","Enhet",{"$f":"Bakgrund!R7","v":"Period 1"},{"$f":"Bakgrund!S7","v":"Period 2"},{"$f":"Bakgrund!T7","v":"Period 3"},"Egen kommentar",null,null,"Förklaring"]
["Antal avvanda kalvar","antal",null,null,null,null,null,null,"Antalet födda kalvar som avvants från moder",null,null,null,"Diko",null,null,null,null,null,null,null,null,null,null,null,null,null,null,null,null,null,null,null,null,null,null,null,null,null,null,"Snabblänkar till bladen i verktyget:"]
["Antal  hondjur betäckta med tjur/seminerade","antal",{"$f":"'1 Intro djuren'!C21","v":0},{"$f":"'1 Intro djuren'!D21","v":0},{"$f":"'1 Intro djuren'!E21","v":0},null,null,null,"Totala antalet hondjur som är betäckta/seminerade under året",null,null,null,"låg","medel","hög",null,null,null,null,null,null,null,null,null,null,null,null,null,null,null,null,null,null,null,null,null,null,null,null,"Instruktion"]
["Nyckeltal: Avvanda kalvar per betäckt hondjur","%",{"$f":"IF(C11=0,0,C10/C11)","v":0},0,{"$f":"IF(E11=0,0,E10/E11)","v":0},null,null,null,"Avser hur stor % av födda kalvar som avvänjs ",null,null,null,0.9,0.95,0.98,null,null,null,null,null,null,null,null,null,null,null,null,null,null,null,null,null,null,null,null,null,null,null,null,"Bakgrund"]
[null,null,null,null,null,null,null,null,null,null,null,null,null,null,null,null,null,null,null,null,null,null,null,null,null,null,null,null,null,null,null,null,null,null,null,null,null,null,null,"1 Intro djuren"]
[null,null,null,null,null,null,null,null,null,null,null,null,null,null,null,null,null,null,null,null,null,null,null,null,null,null,null,null,null,null,null,null,null,null,null,null,null,null,null,"1.1 Kött"]
[null,null,null,null,null,null,null,null,null,null,null,null,null,null,null,null,null,null,null,null,null,null,null,null,null,null,null,null,null,null,null,null,null,null,null,null,null,null,null,"1.2 Tillväxt & förökning"]
[null,null,null,null,null,null,null,null,null,null,null,null,"Diko",null,null,null,null,null,null,null,null,null,null,null,null,null,null,null,null,null,null,null,null,null,null,null,null,null,null,"1.3 Hälsa & dödlighet"]
["Fertilitet","Enhet",{"$f":"Bakgrund!R7","v":"Period 1"},{"$f":"Bakgrund!S7","v":"Period 2"},{"$f":"Bakgrund!T7","v":"Period 3"},"Egen kommentar",null,null,"Förklaring",null,null,null,"låg","medel","hög",null,null,null,null,null,null,null,null,null,null,null,null,null,null,null,null,null,null,null,null,null,null,null,null,"2 Intro foder"]
["Betäcknings-/semineringsålder","månader",null,null,null,null,null,null,"Det antal månader som kvigan är vid betäckning eller seminering",null,null,null,15,17,21,null,null,null,null,null,null,null,null,null,null,null,null,null,null,null,null,null,null,null,null,null,null,null,null,"2.1 Odling foder"]
["Inkalvningsålder","månader",{"$f":"IF(ISNUMBER(C18),C18+9,0)","v":0},{"$f":"IF(ISNUMBER(D18),D18+9,0)","v":0},0,null,null,null,"Ålder på kvigan vid inkalvning (betäckning/semineringsålder + 9 månader)",null,null,null,null,null,null,null,null,null,null,null,null,null,null,null,null,null,null,null,null,null,null,null,null,null,null,null,null,null,null,"2.2 Förluster vid lagring"]
["Antalet kor och kvigor som kalvat under året","antal",{"$f":"SUM('1 Intro djuren'!C23)","v":0},{"$f":"SUM('1 Intro djuren'!D23)","v":0},{"$f":"SUM('1 Intro djuren'!E23)","v":0},null,null,null,"Totalt antal kalvningar i besättningen",null,null,null,null,null,null,null,null,null,null,null,null,null,null,null,null,null,null,null,null,null,null,null,null,null,null,null,null,null,null,"2.3 Inköpt foder (exkl mineral)"]
["Antal  hondjur betäckta med tjur/seminerade","antal",{"$f":"'1 Intro djuren'!C21","v":0},{"$f":"'1 Intro djuren'!D21","v":0},{"$f":"'1 Intro djuren'!E21","v":0},null,null,null,"Antal hondjur som släppts till tjur eller seminerats",null,null,null,null,null,null,null,null,null,null,null,null,null,null,null,null,null,null,null,null,null,null,null,null,null,null,null,null,null,null,"2.4 Utfodrat"]
["Datum som första kalven föddes","datum",null,null,null,null,null,null,"Fyll i datum, t ex som 15/4, 15 april eller 2020-04-15. Visas som \"2020-04-15\"",null,null,null,null,null,null,null,null,null,null,null,null,null,null,null,null,null,null,null,null,null,null,null,null,null,null,null,null,null,null,"2.5. Kasserat foder och spill"]
["Datum som sista kalven föddes","datum",null,null,null,null,null,null,null,null,null,null,null,null,null,null,null,null,null,null,null,null,null,null,null,null,null,null,null,null,null,null,null,null,null,null,null,null,null,"2.6 Bete"]
["Kalvningsperiodens längd","dagar",{"$f":"_xlfn.DAYS(C23,C22)","v":0},{"$f":"_xlfn.DAYS(D23,D22)","v":0},0,null,null,null,"Dagar mellan första och sista dagen i kalvningsperioden. Cellen blir röd om periodens längd blir negativ. I så fall ska du justera datumen för första och sista kalven så släcks varningen.",null,null,null,45,90,150,null,null,null,null,null,null,null,null,null,null,null,null,null,null,null,null,null,null,null,null,null,null,null,null,"3 Växtnäringsutnyttjande (1)"]
["Nyckeltal: Dräktighetsprocent","%",{"$f":"IF(C21=0,0,C20/C21)","v":0},{"$f":"IF(D21=0,0,D20/D21)","v":0},0,null,null,null,"Antalet hondjur som kalvat  i % av hondjur som betäckts /seminerats",null,null,null,null,null,null,null,null,null,null,null,null,null,null,null,null,null,null,null,null,null,null,null,null,null,null,null,null,null,null,"3 Växtnäringsutnyttjande (2)"]
[null,null,null,null,null,null,null,null,null,null,null,null,null,null,null,null,null,null,null,null,null,null,null,null,null,null,null,null,null,null,null,null,null,null,null,null,null,null,null,"3 Växtnäringsutnyttjande (3)"]
[null,null,null,null,null,null,null,null,null,null,null,null,null,null,null,null,null,null,null,null,null,null,null,null,null,null,null,null,null,null,null,null,null,null,null,null,null,null,null,"4 Energi och bränsle"]
[null,null,null,null,null,null,null,null,null,null,null,null,null,null,null,null,null,null,null,null,null,null,null,null,null,null,null,null,null,null,null,null,null,null,null,null,null,null,null,"5 Vattenanvändning"]
[null,null,null,null,null,null,null,null,null,null,null,null,null,null,null,null,null,null,null,null,null,null,null,null,null,null,null,null,null,null,null,null,null,null,null,null,null,null,null,"6 Resultat"]
["Rekrytering","Enhet",{"$f":"Bakgrund!R7","v":"Period 1"},{"$f":"Bakgrund!S7","v":"Period 2"},{"$f":"Bakgrund!T7","v":"Period 3"},"Egen kommentar",null,null,"Förklaring"]
["Antal  hondjur betäckta med tjur/seminerade","antal",{"$f":"'1 Intro djuren'!C21","v":0},{"$f":"'1 Intro djuren'!D21","v":0},{"$f":"'1 Intro djuren'!E21","v":0},null,null,null,"Totala antalet hondjur i din besättning som är i avel (siffran hämtas från bladet Intro djuren)",null,null,null,"Diko",null,null,"Mjölk"]
["Rekryteringskvigor","antal",null,null,null,null,null,null,"Antalet betäckta/seminerade kvigor i din besättning under året",null,null,null,"låg","medel","hög","medel"]
["Rekryteringsprocent","%",{"$f":"IF(C31=0,0,(C32/C31))","v":0},{"$f":"IF(D31=0,0,(D32/D31))","v":0},{"$f":"IF(E31=0,0,(E32/E31))","v":0},null,null,null,"Andel i % hur många djur som sätts in i besättningen",null,null,null,0.15,0.25,0.4,0.3]
[]
[]
[]
[]
[]
[]
[]
["Kalvar i dikoproduktion"]
[null,null,null,null,null,null,null,null,null,null,null,null,"Köttras kalv (lätt/tung)",null,null,"Mjölkras kalv"]
["Tillväxt kalv i dikoproduktion","Enhet",{"$f":"Bakgrund!R7","v":"Period 1"},{"$f":"Bakgrund!S7","v":"Period 2"},{"$f":"Bakgrund!T7","v":"Period 3"},"Egen kommentar",null,null,"Förklaring",null,null,null,"låg","medel","hög","låg","medel","hög"]
["Vikt vid födsel","kg",null,null,null,null,null,null,"Genomsnittsvikt som kalvarna har vid födseln",null,null,null,"38/40","40/44","42/48",37,40,43]
["Levande vikt vid  avvänjning eller försäljning","lev. vikt kg",null,null,null,null,null,null,"Genomsnitt levande vikt vid specifikt tillfälle, skriv en egen kommentar om tillfället",null,null,null,"Tjurkalv 250/270 Kvigkalv 230/250","Tjurkalv 280/300 Kvigkalv 260/280","Tjukalv 320/340 Kvigkalv 290/320"]
["Uppfödningstid, dagar","dagar",null,null,null,null,null,null,"Genomsnitt antal dagar från födsel till avvänjning eller försäljning av dikalvar",null,null,null,170,200,230]
["Nyckeltal: Tillväxt levande vikt/dag","g/dag",{"$f":"IF(C46=0,0,(((C45-C44)/C46)*1000))","v":0},{"$f":"IF(D46=0,0,(((D45-D44)/D46)*1000))","v":0},0,null,null,null,"Kalvarnas genomsnittliga tillväxt g/dag. Jämför siffror i blå rutor  ",null,null,null,"Tjukalv  1000/1200 kvigkalv  950/1100  ","Tjurkalv 1300 / 1500 Kvigkalv 1100/1200 ","Tjurkalv  1500/1700 kvigkalv 1250/1400 "]
[]
["Avvänjningsvikt 6 månader","kg",null,null,null,null,null,null,null,null,null,null,230,280,330]
[]
[]
[]
[]
[]
[]
["Ungnöt"]
["Fyll i tabellen nedan för att beräkna ungnötens tillväxt. Obs! perioderna ligger under varandra"]
["Du kan fylla i flera rader per period om du exempelvis köper in djur med olika vikt. Fyll i eget värde i gula celler om du har uppgift. Lämnar du tomt används medelvärde enligt schablon"]
["Räcker inte raderna till? Ta bort bladets skrivskydd (Granska/Skydda), inget lösenord krävs. Högerklicka i tabellen och välj Infoga > Infoga rad ovanför"]
[]
[null,null,"Genomsnittsvikt vid insättning, kg",null,"Uppfödningstid, månader",null,"Genomsnittlig slaktvikt, kg",null,"Slaktutbyte, ungtjur %",null,"Tillväxt, g/dag"]
["Kön och ras","Antal djur","Eget värde","Schablon","Eget värde","Schablon","Eget värde","Schablon","Eget värde","Schablon","Beräknat","Schablon",null,null,null,null,null,null,null,null,null,null,null,null,"Värden som räknas med",null,null,null,null,"Schablon"]
["Välj lämpligt alternativ ur listan!",null,"Använd egen data om möjligt. Insättning ca 6 mån för köttras och 2,5 mån för mjölkras.",null,"Antalet månader från insättning  till slakt",null,null,null,null,null,"Genomsnittlig  tillväxt per djur och dag under uppfödningstiden ",null,null,null,null,null,null,null,null,"Ungtjur","Stut/kviga","Period 1","Period 2","Period 3","Vikt vid insättning","Uppfödningstid, mån","slaktvikt","slaktutbyte%","tillväxt","Vikt vid insättning","Uppfödningstid, mån","slaktvikt","slaktutbyte%","tillväxt"]
[{"$f":"\"Period 1, \"&period_1","v":"Period 1, Period 1"}]
[null,null,null,{"$f":"IF(ISTEXT($A65),VLOOKUP($A65,'Teknisk administration'!$T$611:$Y$638,2,FALSE),\"\")","v":""},null,{"$f":"IF(ISTEXT($A65),VLOOKUP($A65,'Teknisk administration'!$T$611:$Y$638,3,FALSE),\"\")","v":""},null,{"$f":"IF(ISTEXT($A65),VLOOKUP($A65,'Teknisk administration'!$T$611:$Y$638,4,FALSE),\"\")","v":""},null,{"$f":"IF(ISTEXT($A65),VLOOKUP($A65,'Teknisk administration'!$T$611:$Y$638,5,FALSE),\"\")","v":""},{"$f":"IF(ISTEXT(A65),('1.2 Tillväxt & förökning'!AA65/'1.2 Tillväxt & förökning'!AB65-'1.2 Tillväxt & förökning'!Y65)/('1.2 Tillväxt & förökning'!Z65*30)*1000,0)","v":0},{"$f":"IF(ISTEXT($A65),VLOOKUP($A65,'Teknisk administration'!$T$611:$Y$638,6,FALSE),\"\")","v":""},null,null,null,null,null,null,{"$f":"IF(ISTEXT(A65),VLOOKUP(A65,'Teknisk administration'!$T$611:$Z$620,7,FALSE),0)","v":0},{"$f":"IF(S65=\"ungtjur\",1,0)","v":0},{"$f":"IF(T65=0,1,0)","v":1},1,null,null,{"$f":"IF(ISNUMBER('1.2 Tillväxt & förökning'!C65),'1.2 Tillväxt & förökning'!C65,AD65)","v":"Vikt vid insättning"},{"$f":"IF(ISNUMBER('1.2 Tillväxt & förökning'!E65),'1.2 Tillväxt & förökning'!E65,AE65)","v":"Uppfödningstid, mån"},{"$f":"IF(ISNUMBER('1.2 Tillväxt & förökning'!G65),'1.2 Tillväxt & förökning'!G65,AF65)","v":"slaktvikt"},{"$f":"IF(ISNUMBER('1.2 Tillväxt & förökning'!I65),'1.2 Tillväxt & förökning'!I65,AG65)","v":"slaktutbyte%"},{"$f":"IF(ISNUMBER('1.2 Tillväxt & förökning'!K65),'1.2 Tillväxt & förökning'!K65,AH65)","v":0},{"$f":"VLOOKUP('1.2 Tillväxt & förökning'!$A65&\", medel\",'Teknisk administration'!$G$611:$P$638,6,FALSE)","v":"Vikt vid insättning"},{"$f":"VLOOKUP('1.2 Tillväxt & förökning'!$A65&\", medel\",'Teknisk administration'!$G$611:$P$638,7,FALSE)","v":"Uppfödningstid, mån"},{"$f":"VLOOKUP('1.2 Tillväxt & förökning'!$A65&\", medel\",'Teknisk administration'!$G$611:$P$638,8,FALSE)","v":"slaktvikt"},{"$f":"VLOOKUP('1.2 Tillväxt & förökning'!$A65&\", medel\",'Teknisk administration'!$G$611:$P$638,9,FALSE)","v":"slaktutbyte%"},{"$f":"VLOOKUP('1.2 Tillväxt & förökning'!$A65&\", medel\",'Teknisk administration'!$G$611:$P$638,10,FALSE)","v":"Tillväxt g/dag"}]
[null,null,null,{"$f":"IF(ISTEXT($A66),VLOOKUP($A66,'Teknisk administration'!$T$611:$Y$638,2,FALSE),\"\")","v":""},null,{"$f":"IF(ISTEXT($A66),VLOOKUP($A66,'Teknisk administration'!$T$611:$Y$638,3,FALSE),\"\")","v":""},null,{"$f":"IF(ISTEXT($A66),VLOOKUP($A66,'Teknisk administration'!$T$611:$Y$638,4,FALSE),\"\")","v":""},null,{"$f":"IF(ISTEXT($A66),VLOOKUP($A66,'Teknisk administration'!$T$611:$Y$638,5,FALSE),\"\")","v":""},{"$f":"IF(ISTEXT(A66),('1.2 Tillväxt & förökning'!AA66/'1.2 Tillväxt & förökning'!AB66-'1.2 Tillväxt & förökning'!Y66)/('1.2 Tillväxt & förökning'!Z66*30)*1000,0)","v":0},{"$f":"IF(ISTEXT($A66),VLOOKUP($A66,'Teknisk administration'!$T$611:$Y$638,6,FALSE),\"\")","v":""},null,null,null,null,null,null,{"$f":"IF(ISTEXT(A66),VLOOKUP(A66,'Teknisk administration'!$T$611:$Z$620,7,FALSE),0)","v":0},0,1,1,null,null,{"$f":"IF(ISNUMBER('1.2 Tillväxt & förökning'!C66),'1.2 Tillväxt & förökning'!C66,AD66)","v":"Vikt vid insättning"},{"$f":"IF(ISNUMBER('1.2 Tillväxt & förökning'!E66),'1.2 Tillväxt & förökning'!E66,AE66)","v":"Uppfödningstid, mån"},{"$f":"IF(ISNUMBER('1.2 Tillväxt & förökning'!G66),'1.2 Tillväxt & förökning'!G66,AF66)","v":"slaktvikt"},{"$f":"IF(ISNUMBER('1.2 Tillväxt & förökning'!I66),'1.2 Tillväxt & förökning'!I66,AG66)","v":"slaktutbyte%"},{"$f":"IF(ISNUMBER('1.2 Tillväxt & förökning'!K66),'1.2 Tillväxt & förökning'!K66,AH66)","v":0},{"$f":"VLOOKUP('1.2 Tillväxt & förökning'!$A66&\", medel\",'Teknisk administration'!$G$611:$P$638,6,FALSE)","v":"Vikt vid insättning"},{"$f":"VLOOKUP('1.2 Tillväxt & förökning'!$A66&\", medel\",'Teknisk administration'!$G$611:$P$638,7,FALSE)","v":"Uppfödningstid, mån"},{"$f":"VLOOKUP('1.2 Tillväxt & förökning'!$A66&\", medel\",'Teknisk administration'!$G$611:$P$638,8,FALSE)","v":"slaktvikt"},{"$f":"VLOOKUP('1.2 Tillväxt & förökning'!$A66&\", medel\",'Teknisk administration'!$G$611:$P$638,9,FALSE)","v":"slaktutbyte%"},{"$f":"VLOOKUP('1.2 Tillväxt & förökning'!$A66&\", medel\",'Teknisk administration'!$G$611:$P$638,10,FALSE)","v":"Tillväxt g/dag"}]
[null,null,null,{"$f":"IF(ISTEXT($A67),VLOOKUP($A67,'Teknisk administration'!$T$611:$Y$638,2,FALSE),\"\")","v":""},null,{"$f":"IF(ISTEXT($A67),VLOOKUP($A67,'Teknisk administration'!$T$611:$Y$638,3,FALSE),\"\")","v":""},null,{"$f":"IF(ISTEXT($A67),VLOOKUP($A67,'Teknisk administration'!$T$611:$Y$638,4,FALSE),\"\")","v":""},null,{"$f":"IF(ISTEXT($A67),VLOOKUP($A67,'Teknisk administration'!$T$611:$Y$638,5,FALSE),\"\")","v":""},{"$f":"IF(ISTEXT(A67),('1.2 Tillväxt & förökning'!AA67/'1.2 Tillväxt & förökning'!AB67-'1.2 Tillväxt & förökning'!Y67)/('1.2 Tillväxt & förökning'!Z67*30)*1000,0)","v":0},{"$f":"IF(ISTEXT($A67),VLOOKUP($A67,'Teknisk administration'!$T$611:$Y$638,6,FALSE),\"\")","v":""},null,null,null,null,null,null,{"$f":"IF(ISTEXT(A67),VLOOKUP(A67,'Teknisk administration'!$T$611:$Z$620,7,FALSE),0)","v":0},0,1,1,null,null,{"$f":"IF(ISNUMBER('1.2 Tillväxt & förökning'!C67),'1.2 Tillväxt & förökning'!C67,AD67)","v":"Vikt vid insättning"},{"$f":"IF(ISNUMBER('1.2 Tillväxt & förökning'!E67),'1.2 Tillväxt & förökning'!E67,AE67)","v":"Uppfödningstid, mån"},{"$f":"IF(ISNUMBER('1.2 Tillväxt & förökning'!G67),'1.2 Tillväxt & förökning'!G67,AF67)","v":"slaktvikt"},{"$f":"IF(ISNUMBER('1.2 Tillväxt & förökning'!I67),'1.2 Tillväxt & förökning'!I67,AG67)","v":"slaktutbyte%"},{"$f":"IF(ISNUMBER('1.2 Tillväxt & förökning'!K67),'1.2 Tillväxt & förökning'!K67,AH67)","v":0},{"$f":"VLOOKUP('1.2 Tillväxt & förökning'!$A67&\", medel\",'Teknisk administration'!$G$611:$P$638,6,FALSE)","v":"Vikt vid insättning"},{"$f":"VLOOKUP('1.2 Tillväxt & förökning'!$A67&\", medel\",'Teknisk administration'!$G$611:$P$638,7,FALSE)","v":"Uppfödningstid, mån"},{"$f":"VLOOKUP('1.2 Tillväxt & förökning'!$A67&\", medel\",'Teknisk administration'!$G$611:$P$638,8,FALSE)","v":"slaktvikt"},{"$f":"VLOOKUP('1.2 Tillväxt & förökning'!$A67&\", medel\",'Teknisk administration'!$G$611:$P$638,9,FALSE)","v":"slaktutbyte%"},{"$f":"VLOOKUP('1.2 Tillväxt & förökning'!$A67&\", medel\",'Teknisk administration'!$G$611:$P$638,10,FALSE)","v":"Tillväxt g/dag"}]
[null,null,null,{"$f":"IF(ISTEXT($A68),VLOOKUP($A68,'Teknisk administration'!$T$611:$Y$638,2,FALSE),\"\")","v":""},null,{"$f":"IF(ISTEXT($A68),VLOOKUP($A68,'Teknisk administration'!$T$611:$Y$638,3,FALSE),\"\")","v":""},null,{"$f":"IF(ISTEXT($A68),VLOOKUP($A68,'Teknisk administration'!$T$611:$Y$638,4,FALSE),\"\")","v":""},null,{"$f":"IF(ISTEXT($A68),VLOOKUP($A68,'Teknisk administration'!$T$611:$Y$638,5,FALSE),\"\")","v":""},{"$f":"IF(ISTEXT(A68),('1.2 Tillväxt & förökning'!AA68/'1.2 Tillväxt & förökning'!AB68-'1.2 Tillväxt & förökning'!Y68)/('1.2 Tillväxt & förökning'!Z68*30)*1000,0)","v":0},{"$f":"IF(ISTEXT($A68),VLOOKUP($A68,'Teknisk administration'!$T$611:$Y$638,6,FALSE),\"\")","v":""},null,null,null,null,null,null,{"$f":"IF(ISTEXT(A68),VLOOKUP(A68,'Teknisk administration'!$T$611:$Z$620,7,FALSE),0)","v":0},0,1,1,null,null,{"$f":"IF(ISNUMBER('1.2 Tillväxt & förökning'!C68),'1.2 Tillväxt & förökning'!C68,AD68)","v":"Vikt vid insättning"},{"$f":"IF(ISNUMBER('1.2 Tillväxt & förökning'!E68),'1.2 Tillväxt & förökning'!E68,AE68)","v":"Uppfödningstid, mån"},{"$f":"IF(ISNUMBER('1.2 Tillväxt & förökning'!G68),'1.2 Tillväxt & förökning'!G68,AF68)","v":"slaktvikt"},{"$f":"IF(ISNUMBER('1.2 Tillväxt & förökning'!I68),'1.2 Tillväxt & förökning'!I68,AG68)","v":"slaktutbyte%"},{"$f":"IF(ISNUMBER('1.2 Tillväxt & förökning'!K68),'1.2 Tillväxt & förökning'!K68,AH68)","v":0},{"$f":"VLOOKUP('1.2 Tillväxt & förökning'!$A68&\", medel\",'Teknisk administration'!$G$611:$P$638,6,FALSE)","v":"Vikt vid insättning"},{"$f":"VLOOKUP('1.2 Tillväxt & förökning'!$A68&\", medel\",'Teknisk administration'!$G$611:$P$638,7,FALSE)","v":"Uppfödningstid, mån"},{"$f":"VLOOKUP('1.2 Tillväxt & förökning'!$A68&\", medel\",'Teknisk administration'!$G$611:$P$638,8,FALSE)","v":"slaktvikt"},{"$f":"VLOOKUP('1.2 Tillväxt & förökning'!$A68&\", medel\",'Teknisk administration'!$G$611:$P$638,9,FALSE)","v":"slaktutbyte%"},{"$f":"VLOOKUP('1.2 Tillväxt & förökning'!$A68&\", medel\",'Teknisk administration'!$G$611:$P$638,10,FALSE)","v":"Tillväxt g/dag"}]
[null,null,null,{"$f":"IF(ISTEXT($A69),VLOOKUP($A69,'Teknisk administration'!$T$611:$Y$638,2,FALSE),\"\")","v":""},null,{"$f":"IF(ISTEXT($A69),VLOOKUP($A69,'Teknisk administration'!$T$611:$Y$638,3,FALSE),\"\")","v":""},null,{"$f":"IF(ISTEXT($A69),VLOOKUP($A69,'Teknisk administration'!$T$611:$Y$638,4,FALSE),\"\")","v":""},null,{"$f":"IF(ISTEXT($A69),VLOOKUP($A69,'Teknisk administration'!$T$611:$Y$638,5,FALSE),\"\")","v":""},{"$f":"IF(ISTEXT(A69),('1.2 Tillväxt & förökning'!AA69/'1.2 Tillväxt & förökning'!AB69-'1.2 Tillväxt & förökning'!Y69)/('1.2 Tillväxt & förökning'!Z69*30)*1000,0)","v":0},{"$f":"IF(ISTEXT($A69),VLOOKUP($A69,'Teknisk administration'!$T$611:$Y$638,6,FALSE),\"\")","v":""},null,null,null,null,null,null,{"$f":"IF(ISTEXT(A69),VLOOKUP(A69,'Teknisk administration'!$T$611:$Z$620,7,FALSE),0)","v":0},0,1,1,null,null,{"$f":"IF(ISNUMBER('1.2 Tillväxt & förökning'!C69),'1.2 Tillväxt & förökning'!C69,AD69)","v":"Vikt vid insättning"},{"$f":"IF(ISNUMBER('1.2 Tillväxt & förökning'!E69),'1.2 Tillväxt & förökning'!E69,AE69)","v":"Uppfödningstid, mån"},{"$f":"IF(ISNUMBER('1.2 Tillväxt & förökning'!G69),'1.2 Tillväxt & förökning'!G69,AF69)","v":"slaktvikt"},{"$f":"IF(ISNUMBER('1.2 Tillväxt & förökning'!I69),'1.2 Tillväxt & förökning'!I69,AG69)","v":"slaktutbyte%"},{"$f":"IF(ISNUMBER('1.2 Tillväxt & förökning'!K69),'1.2 Tillväxt & förökning'!K69,AH69)","v":0},{"$f":"VLOOKUP('1.2 Tillväxt & förökning'!$A69&\", medel\",'Teknisk administration'!$G$611:$P$638,6,FALSE)","v":"Vikt vid insättning"},{"$f":"VLOOKUP('1.2 Tillväxt & förökning'!$A69&\", medel\",'Teknisk administration'!$G$611:$P$638,7,FALSE)","v":"Uppfödningstid, mån"},{"$f":"VLOOKUP('1.2 Tillväxt & förökning'!$A69&\", medel\",'Teknisk administration'!$G$611:$P$638,8,FALSE)","v":"slaktvikt"},{"$f":"VLOOKUP('1.2 Tillväxt & förökning'!$A69&\", medel\",'Teknisk administration'!$G$611:$P$638,9,FALSE)","v":"slaktutbyte%"},{"$f":"VLOOKUP('1.2 Tillväxt & förökning'!$A69&\", medel\",'Teknisk administration'!$G$611:$P$638,10,FALSE)","v":"Tillväxt g/dag"}]
[null,null,null,{"$f":"IF(ISTEXT($A70),VLOOKUP($A70,'Teknisk administration'!$T$611:$Y$638,2,FALSE),\"\")","v":""},null,{"$f":"IF(ISTEXT($A70),VLOOKUP($A70,'Teknisk administration'!$T$611:$Y$638,3,FALSE),\"\")","v":""},null,{"$f":"IF(ISTEXT($A70),VLOOKUP($A70,'Teknisk administration'!$T$611:$Y$638,4,FALSE),\"\")","v":""},null,{"$f":"IF(ISTEXT($A70),VLOOKUP($A70,'Teknisk administration'!$T$611:$Y$638,5,FALSE),\"\")","v":""},{"$f":"IF(ISTEXT(A70),('1.2 Tillväxt & förökning'!AA70/'1.2 Tillväxt & förökning'!AB70-'1.2 Tillväxt & förökning'!Y70)/('1.2 Tillväxt & förökning'!Z70*30)*1000,0)","v":0},{"$f":"IF(ISTEXT($A70),VLOOKUP($A70,'Teknisk administration'!$T$611:$Y$638,6,FALSE),\"\")","v":""},null,null,null,null,null,null,{"$f":"IF(ISTEXT(A70),VLOOKUP(A70,'Teknisk administration'!$T$611:$Z$620,7,FALSE),0)","v":0},0,1,1,null,null,{"$f":"IF(ISNUMBER('1.2 Tillväxt & förökning'!C70),'1.2 Tillväxt & förökning'!C70,AD70)","v":"Vikt vid insättning"},{"$f":"IF(ISNUMBER('1.2 Tillväxt & förökning'!E70),'1.2 Tillväxt & förökning'!E70,AE70)","v":"Uppfödningstid, mån"},{"$f":"IF(ISNUMBER('1.2 Tillväxt & förökning'!G70),'1.2 Tillväxt & förökning'!G70,AF70)","v":"slaktvikt"},{"$f":"IF(ISNUMBER('1.2 Tillväxt & förökning'!I70),'1.2 Tillväxt & förökning'!I70,AG70)","v":"slaktutbyte%"},{"$f":"IF(ISNUMBER('1.2 Tillväxt & förökning'!K70),'1.2 Tillväxt & förökning'!K70,AH70)","v":0},{"$f":"VLOOKUP('1.2 Tillväxt & förökning'!$A70&\", medel\",'Teknisk administration'!$G$611:$P$638,6,FALSE)","v":"Vikt vid insättning"},{"$f":"VLOOKUP('1.2 Tillväxt & förökning'!$A70&\", medel\",'Teknisk administration'!$G$611:$P$638,7,FALSE)","v":"Uppfödningstid, mån"},{"$f":"VLOOKUP('1.2 Tillväxt & förökning'!$A70&\", medel\",'Teknisk administration'!$G$611:$P$638,8,FALSE)","v":"slaktvikt"},{"$f":"VLOOKUP('1.2 Tillväxt & förökning'!$A70&\", medel\",'Teknisk administration'!$G$611:$P$638,9,FALSE)","v":"slaktutbyte%"},{"$f":"VLOOKUP('1.2 Tillväxt & förökning'!$A70&\", medel\",'Teknisk administration'!$G$611:$P$638,10,FALSE)","v":"Tillväxt g/dag"}]
[null,null,null,{"$f":"IF(ISTEXT($A71),VLOOKUP($A71,'Teknisk administration'!$T$611:$Y$638,2,FALSE),\"\")","v":""},null,{"$f":"IF(ISTEXT($A71),VLOOKUP($A71,'Teknisk administration'!$T$611:$Y$638,3,FALSE),\"\")","v":""},null,{"$f":"IF(ISTEXT($A71),VLOOKUP($A71,'Teknisk administration'!$T$611:$Y$638,4,FALSE),\"\")","v":""},null,{"$f":"IF(ISTEXT($A71),VLOOKUP($A71,'Teknisk administration'!$T$611:$Y$638,5,FALSE),\"\")","v":""},{"$f":"IF(ISTEXT(A71),('1.2 Tillväxt & förökning'!AA71/'1.2 Tillväxt & förökning'!AB71-'1.2 Tillväxt & förökning'!Y71)/('1.2 Tillväxt & förökning'!Z71*30)*1000,0)","v":0},{"$f":"IF(ISTEXT($A71),VLOOKUP($A71,'Teknisk administration'!$T$611:$Y$638,6,FALSE),\"\")","v":""},null,null,null,null,null,null,{"$f":"IF(ISTEXT(A71),VLOOKUP(A71,'Teknisk administration'!$T$611:$Z$620,7,FALSE),0)","v":0},0,1,1,null,null,{"$f":"IF(ISNUMBER('1.2 Tillväxt & förökning'!C71),'1.2 Tillväxt & förökning'!C71,AD71)","v":"Vikt vid insättning"},{"$f":"IF(ISNUMBER('1.2 Tillväxt & förökning'!E71),'1.2 Tillväxt & förökning'!E71,AE71)","v":"Uppfödningstid, mån"},{"$f":"IF(ISNUMBER('1.2 Tillväxt & förökning'!G71),'1.2 Tillväxt & förökning'!G71,AF71)","v":"slaktvikt"},{"$f":"IF(ISNUMBER('1.2 Tillväxt & förökning'!I71),'1.2 Tillväxt & förökning'!I71,AG71)","v":"slaktutbyte%"},{"$f":"IF(ISNUMBER('1.2 Tillväxt & förökning'!K71),'1.2 Tillväxt & förökning'!K71,AH71)","v":0},{"$f":"VLOOKUP('1.2 Tillväxt & förökning'!$A71&\", medel\",'Teknisk administration'!$G$611:$P$638,6,FALSE)","v":"Vikt vid insättning"},{"$f":"VLOOKUP('1.2 Tillväxt & förökning'!$A71&\", medel\",'Teknisk administration'!$G$611:$P$638,7,FALSE)","v":"Uppfödningstid, mån"},{"$f":"VLOOKUP('1.2 Tillväxt & förökning'!$A71&\", medel\",'Teknisk administration'!$G$611:$P$638,8,FALSE)","v":"slaktvikt"},{"$f":"VLOOKUP('1.2 Tillväxt & förökning'!$A71&\", medel\",'Teknisk administration'!$G$611:$P$638,9,FALSE)","v":"slaktutbyte%"},{"$f":"VLOOKUP('1.2 Tillväxt & förökning'!$A71&\", medel\",'Teknisk administration'!$G$611:$P$638,10,FALSE)","v":"Tillväxt g/dag"}]
[null,null,null,{"$f":"IF(ISTEXT($A72),VLOOKUP($A72,'Teknisk administration'!$T$611:$Y$638,2,FALSE),\"\")","v":""},null,{"$f":"IF(ISTEXT($A72),VLOOKUP($A72,'Teknisk administration'!$T$611:$Y$638,3,FALSE),\"\")","v":""},null,{"$f":"IF(ISTEXT($A72),VLOOKUP($A72,'Teknisk administration'!$T$611:$Y$638,4,FALSE),\"\")","v":""},null,{"$f":"IF(ISTEXT($A72),VLOOKUP($A72,'Teknisk administration'!$T$611:$Y$638,5,FALSE),\"\")","v":""},{"$f":"IF(ISTEXT(A72),('1.2 Tillväxt & förökning'!AA72/'1.2 Tillväxt & förökning'!AB72-'1.2 Tillväxt & förökning'!Y72)/('1.2 Tillväxt & förökning'!Z72*30)*1000,0)","v":0},{"$f":"IF(ISTEXT($A72),VLOOKUP($A72,'Teknisk administration'!$T$611:$Y$638,6,FALSE),\"\")","v":""},null,null,null,null,null,null,{"$f":"IF(ISTEXT(A72),VLOOKUP(A72,'Teknisk administration'!$T$611:$Z$620,7,FALSE),0)","v":0},0,1,1,null,null,{"$f":"IF(ISNUMBER('1.2 Tillväxt & förökning'!C72),'1.2 Tillväxt & förökning'!C72,AD72)","v":"Vikt vid insättning"},{"$f":"IF(ISNUMBER('1.2 Tillväxt & förökning'!E72),'1.2 Tillväxt & förökning'!E72,AE72)","v":"Uppfödningstid, mån"},{"$f":"IF(ISNUMBER('1.2 Tillväxt & förökning'!G72),'1.2 Tillväxt & förökning'!G72,AF72)","v":"slaktvikt"},{"$f":"IF(ISNUMBER('1.2 Tillväxt & förökning'!I72),'1.2 Tillväxt & förökning'!I72,AG72)","v":"slaktutbyte%"},{"$f":"IF(ISNUMBER('1.2 Tillväxt & förökning'!K72),'1.2 Tillväxt & förökning'!K72,AH72)","v":0},{"$f":"VLOOKUP('1.2 Tillväxt & förökning'!$A72&\", medel\",'Teknisk administration'!$G$611:$P$638,6,FALSE)","v":"Vikt vid insättning"},{"$f":"VLOOKUP('1.2 Tillväxt & förökning'!$A72&\", medel\",'Teknisk administration'!$G$611:$P$638,7,FALSE)","v":"Uppfödningstid, mån"},{"$f":"VLOOKUP('1.2 Tillväxt & förökning'!$A72&\", medel\",'Teknisk administration'!$G$611:$P$638,8,FALSE)","v":"slaktvikt"},{"$f":"VLOOKUP('1.2 Tillväxt & förökning'!$A72&\", medel\",'Teknisk administration'!$G$611:$P$638,9,FALSE)","v":"slaktutbyte%"},{"$f":"VLOOKUP('1.2 Tillväxt & förökning'!$A72&\", medel\",'Teknisk administration'!$G$611:$P$638,10,FALSE)","v":"Tillväxt g/dag"}]
[null,null,null,{"$f":"IF(ISTEXT($A73),VLOOKUP($A73,'Teknisk administration'!$T$611:$Y$638,2,FALSE),\"\")","v":""},null,{"$f":"IF(ISTEXT($A73),VLOOKUP($A73,'Teknisk administration'!$T$611:$Y$638,3,FALSE),\"\")","v":""},null,{"$f":"IF(ISTEXT($A73),VLOOKUP($A73,'Teknisk administration'!$T$611:$Y$638,4,FALSE),\"\")","v":""},null,{"$f":"IF(ISTEXT($A73),VLOOKUP($A73,'Teknisk administration'!$T$611:$Y$638,5,FALSE),\"\")","v":""},{"$f":"IF(ISTEXT(A73),('1.2 Tillväxt & förökning'!AA73/'1.2 Tillväxt & förökning'!AB73-'1.2 Tillväxt & förökning'!Y73)/('1.2 Tillväxt & förökning'!Z73*30)*1000,0)","v":0},{"$f":"IF(ISTEXT($A73),VLOOKUP($A73,'Teknisk administration'!$T$611:$Y$638,6,FALSE),\"\")","v":""},null,null,null,null,null,null,{"$f":"IF(ISTEXT(A73),VLOOKUP(A73,'Teknisk administration'!$T$611:$Z$620,7,FALSE),0)","v":0},0,1,1,null,null,{"$f":"IF(ISNUMBER('1.2 Tillväxt & förökning'!C73),'1.2 Tillväxt & förökning'!C73,AD73)","v":"Vikt vid insättning"},{"$f":"IF(ISNUMBER('1.2 Tillväxt & förökning'!E73),'1.2 Tillväxt & förökning'!E73,AE73)","v":"Uppfödningstid, mån"},{"$f":"IF(ISNUMBER('1.2 Tillväxt & förökning'!G73),'1.2 Tillväxt & förökning'!G73,AF73)","v":"slaktvikt"},{"$f":"IF(ISNUMBER('1.2 Tillväxt & förökning'!I73),'1.2 Tillväxt & förökning'!I73,AG73)","v":"slaktutbyte%"},{"$f":"IF(ISNUMBER('1.2 Tillväxt & förökning'!K73),'1.2 Tillväxt & förökning'!K73,AH73)","v":0},{"$f":"VLOOKUP('1.2 Tillväxt & förökning'!$A73&\", medel\",'Teknisk administration'!$G$611:$P$638,6,FALSE)","v":"Vikt vid insättning"},{"$f":"VLOOKUP('1.2 Tillväxt & förökning'!$A73&\", medel\",'Teknisk administration'!$G$611:$P$638,7,FALSE)","v":"Uppfödningstid, mån"},{"$f":"VLOOKUP('1.2 Tillväxt & förökning'!$A73&\", medel\",'Teknisk administration'!$G$611:$P$638,8,FALSE)","v":"slaktvikt"},{"$f":"VLOOKUP('1.2 Tillväxt & förökning'!$A73&\", medel\",'Teknisk administration'!$G$611:$P$638,9,FALSE)","v":"slaktutbyte%"},{"$f":"VLOOKUP('1.2 Tillväxt & förökning'!$A73&\", medel\",'Teknisk administration'!$G$611:$P$638,10,FALSE)","v":"Tillväxt g/dag"}]
[]
[{"$f":"\"Period 2, \"&period_2","v":"Period 2, Period 2"}]
[null,null,null,{"$f":"IF(ISTEXT($A76),VLOOKUP($A76,'Teknisk administration'!$T$611:$Y$638,2,FALSE),\"\")","v":""},null,{"$f":"IF(ISTEXT($A76),VLOOKUP($A76,'Teknisk administration'!$T$611:$Y$638,3,FALSE),\"\")","v":""},null,{"$f":"IF(ISTEXT($A76),VLOOKUP($A76,'Teknisk administration'!$T$611:$Y$638,4,FALSE),\"\")","v":""},null,{"$f":"IF(ISTEXT($A76),VLOOKUP($A76,'Teknisk administration'!$T$611:$Y$638,5,FALSE),\"\")","v":""},{"$f":"IF(ISTEXT(A76),('1.2 Tillväxt & förökning'!AA76/'1.2 Tillväxt & förökning'!AB76-'1.2 Tillväxt & förökning'!Y76)/('1.2 Tillväxt & förökning'!Z76*30)*1000,0)","v":0},{"$f":"IF(ISTEXT($A76),VLOOKUP($A76,'Teknisk administration'!$T$611:$Y$638,6,FALSE),\"\")","v":""},null,null,null,null,null,null,{"$f":"IF(ISTEXT(A76),VLOOKUP(A76,'Teknisk administration'!$T$611:$Z$620,7,FALSE),0)","v":0},{"$f":"IF(S76=\"ungtjur\",1,0)","v":0},{"$f":"IF(T76=0,1,0)","v":1},null,1,null,{"$f":"IF(ISNUMBER('1.2 Tillväxt & förökning'!C76),'1.2 Tillväxt & förökning'!C76,AD76)","v":"Vikt vid insättning"},{"$f":"IF(ISNUMBER('1.2 Tillväxt & förökning'!E76),'1.2 Tillväxt & förökning'!E76,AE76)","v":"Uppfödningstid, mån"},{"$f":"IF(ISNUMBER('1.2 Tillväxt & förökning'!G76),'1.2 Tillväxt & förökning'!G76,AF76)","v":"slaktvikt"},{"$f":"IF(ISNUMBER('1.2 Tillväxt & förökning'!I76),'1.2 Tillväxt & förökning'!I76,AG76)","v":"slaktutbyte%"},{"$f":"IF(ISNUMBER('1.2 Tillväxt & förökning'!K76),'1.2 Tillväxt & förökning'!K76,AH76)","v":0},{"$f":"VLOOKUP('1.2 Tillväxt & förökning'!$A76&\", medel\",'Teknisk administration'!$G$611:$P$638,6,FALSE)","v":"Vikt vid insättning"},{"$f":"VLOOKUP('1.2 Tillväxt & förökning'!$A76&\", medel\",'Teknisk administration'!$G$611:$P$638,7,FALSE)","v":"Uppfödningstid, mån"},{"$f":"VLOOKUP('1.2 Tillväxt & förökning'!$A76&\", medel\",'Teknisk administration'!$G$611:$P$638,8,FALSE)","v":"slaktvikt"},{"$f":"VLOOKUP('1.2 Tillväxt & förökning'!$A76&\", medel\",'Teknisk administration'!$G$611:$P$638,9,FALSE)","v":"slaktutbyte%"},{"$f":"VLOOKUP('1.2 Tillväxt & förökning'!$A76&\", medel\",'Teknisk administration'!$G$611:$P$638,10,FALSE)","v":"Tillväxt g/dag"}]
[null," ",null,{"$f":"IF(ISTEXT($A77),VLOOKUP($A77,'Teknisk administration'!$T$611:$Y$638,2,FALSE),\"\")","v":""},null,{"$f":"IF(ISTEXT($A77),VLOOKUP($A77,'Teknisk administration'!$T$611:$Y$638,3,FALSE),\"\")","v":""},null,{"$f":"IF(ISTEXT($A77),VLOOKUP($A77,'Teknisk administration'!$T$611:$Y$638,4,FALSE),\"\")","v":""},null,{"$f":"IF(ISTEXT($A77),VLOOKUP($A77,'Teknisk administration'!$T$611:$Y$638,5,FALSE),\"\")","v":""},{"$f":"IF(ISTEXT(A77),('1.2 Tillväxt & förökning'!AA77/'1.2 Tillväxt & förökning'!AB77-'1.2 Tillväxt & förökning'!Y77)/('1.2 Tillväxt & förökning'!Z77*30)*1000,0)","v":0},{"$f":"IF(ISTEXT($A77),VLOOKUP($A77,'Teknisk administration'!$T$611:$Y$638,6,FALSE),\"\")","v":""},null,null,null,null,null,null,{"$f":"IF(ISTEXT(A77),VLOOKUP(A77,'Teknisk administration'!$T$611:$Z$620,7,FALSE),0)","v":0},0,1,null,1,null,{"$f":"IF(ISNUMBER('1.2 Tillväxt & förökning'!C77),'1.2 Tillväxt & förökning'!C77,AD77)","v":"Vikt vid insättning"},{"$f":"IF(ISNUMBER('1.2 Tillväxt & förökning'!E77),'1.2 Tillväxt & förökning'!E77,AE77)","v":"Uppfödningstid, mån"},{"$f":"IF(ISNUMBER('1.2 Tillväxt & förökning'!G77),'1.2 Tillväxt & förökning'!G77,AF77)","v":"slaktvikt"},{"$f":"IF(ISNUMBER('1.2 Tillväxt & förökning'!I77),'1.2 Tillväxt & förökning'!I77,AG77)","v":"slaktutbyte%"},{"$f":"IF(ISNUMBER('1.2 Tillväxt & förökning'!K77),'1.2 Tillväxt & förökning'!K77,AH77)","v":0},{"$f":"VLOOKUP('1.2 Tillväxt & förökning'!$A77&\", medel\",'Teknisk administration'!$G$611:$P$638,6,FALSE)","v":"Vikt vid insättning"},{"$f":"VLOOKUP('1.2 Tillväxt & förökning'!$A77&\", medel\",'Teknisk administration'!$G$611:$P$638,7,FALSE)","v":"Uppfödningstid, mån"},{"$f":"VLOOKUP('1.2 Tillväxt & förökning'!$A77&\", medel\",'Teknisk administration'!$G$611:$P$638,8,FALSE)","v":"slaktvikt"},{"$f":"VLOOKUP('1.2 Tillväxt & förökning'!$A77&\", medel\",'Teknisk administration'!$G$611:$P$638,9,FALSE)","v":"slaktutbyte%"},{"$f":"VLOOKUP('1.2 Tillväxt & förökning'!$A77&\", medel\",'Teknisk administration'!$G$611:$P$638,10,FALSE)","v":"Tillväxt g/dag"}]
[null,null,null,{"$f":"IF(ISTEXT($A78),VLOOKUP($A78,'Teknisk administration'!$T$611:$Y$638,2,FALSE),\"\")","v":""},null,{"$f":"IF(ISTEXT($A78),VLOOKUP($A78,'Teknisk administration'!$T$611:$Y$638,3,FALSE),\"\")","v":""},null,{"$f":"IF(ISTEXT($A78),VLOOKUP($A78,'Teknisk administration'!$T$611:$Y$638,4,FALSE),\"\")","v":""},null,{"$f":"IF(ISTEXT($A78),VLOOKUP($A78,'Teknisk administration'!$T$611:$Y$638,5,FALSE),\"\")","v":""},{"$f":"IF(ISTEXT(A78),('1.2 Tillväxt & förökning'!AA78/'1.2 Tillväxt & förökning'!AB78-'1.2 Tillväxt & förökning'!Y78)/('1.2 Tillväxt & förökning'!Z78*30)*1000,0)","v":0},{"$f":"IF(ISTEXT($A78),VLOOKUP($A78,'Teknisk administration'!$T$611:$Y$638,6,FALSE),\"\")","v":""},null,null,null,null,null,null,{"$f":"IF(ISTEXT(A78),VLOOKUP(A78,'Teknisk administration'!$T$611:$Z$620,7,FALSE),0)","v":0},0,1,null,1,null,{"$f":"IF(ISNUMBER('1.2 Tillväxt & förökning'!C78),'1.2 Tillväxt & förökning'!C78,AD78)","v":"Vikt vid insättning"},{"$f":"IF(ISNUMBER('1.2 Tillväxt & förökning'!E78),'1.2 Tillväxt & förökning'!E78,AE78)","v":"Uppfödningstid, mån"},{"$f":"IF(ISNUMBER('1.2 Tillväxt & förökning'!G78),'1.2 Tillväxt & förökning'!G78,AF78)","v":"slaktvikt"},{"$f":"IF(ISNUMBER('1.2 Tillväxt & förökning'!I78),'1.2 Tillväxt & förökning'!I78,AG78)","v":"slaktutbyte%"},{"$f":"IF(ISNUMBER('1.2 Tillväxt & förökning'!K78),'1.2 Tillväxt & förökning'!K78,AH78)","v":0},{"$f":"VLOOKUP('1.2 Tillväxt & förökning'!$A78&\", medel\",'Teknisk administration'!$G$611:$P$638,6,FALSE)","v":"Vikt vid insättning"},{"$f":"VLOOKUP('1.2 Tillväxt & förökning'!$A78&\", medel\",'Teknisk administration'!$G$611:$P$638,7,FALSE)","v":"Uppfödningstid, mån"},{"$f":"VLOOKUP('1.2 Tillväxt & förökning'!$A78&\", medel\",'Teknisk administration'!$G$611:$P$638,8,FALSE)","v":"slaktvikt"},{"$f":"VLOOKUP('1.2 Tillväxt & förökning'!$A78&\", medel\",'Teknisk administration'!$G$611:$P$638,9,FALSE)","v":"slaktutbyte%"},{"$f":"VLOOKUP('1.2 Tillväxt & förökning'!$A78&\", medel\",'Teknisk administration'!$G$611:$P$638,10,FALSE)","v":"Tillväxt g/dag"}]
[null,null,null,{"$f":"IF(ISTEXT($A79),VLOOKUP($A79,'Teknisk administration'!$T$611:$Y$638,2,FALSE),\"\")","v":""},null,{"$f":"IF(ISTEXT($A79),VLOOKUP($A79,'Teknisk administration'!$T$611:$Y$638,3,FALSE),\"\")","v":""},null,{"$f":"IF(ISTEXT($A79),VLOOKUP($A79,'Teknisk administration'!$T$611:$Y$638,4,FALSE),\"\")","v":""},null,{"$f":"IF(ISTEXT($A79),VLOOKUP($A79,'Teknisk administration'!$T$611:$Y$638,5,FALSE),\"\")","v":""},{"$f":"IF(ISTEXT(A79),('1.2 Tillväxt & förökning'!AA79/'1.2 Tillväxt & förökning'!AB79-'1.2 Tillväxt & förökning'!Y79)/('1.2 Tillväxt & förökning'!Z79*30)*1000,0)","v":0},{"$f":"IF(ISTEXT($A79),VLOOKUP($A79,'Teknisk administration'!$T$611:$Y$638,6,FALSE),\"\")","v":""},null,null,null,null,null,null,{"$f":"IF(ISTEXT(A79),VLOOKUP(A79,'Teknisk administration'!$T$611:$Z$620,7,FALSE),0)","v":0},0,1,null,1,null,{"$f":"IF(ISNUMBER('1.2 Tillväxt & förökning'!C79),'1.2 Tillväxt & förökning'!C79,AD79)","v":"Vikt vid insättning"},{"$f":"IF(ISNUMBER('1.2 Tillväxt & förökning'!E79),'1.2 Tillväxt & förökning'!E79,AE79)","v":"Uppfödningstid, mån"},{"$f":"IF(ISNUMBER('1.2 Tillväxt & förökning'!G79),'1.2 Tillväxt & förökning'!G79,AF79)","v":"slaktvikt"},{"$f":"IF(ISNUMBER('1.2 Tillväxt & förökning'!I79),'1.2 Tillväxt & förökning'!I79,AG79)","v":"slaktutbyte%"},{"$f":"IF(ISNUMBER('1.2 Tillväxt & förökning'!K79),'1.2 Tillväxt & förökning'!K79,AH79)","v":0},{"$f":"VLOOKUP('1.2 Tillväxt & förökning'!$A79&\", medel\",'Teknisk administration'!$G$611:$P$638,6,FALSE)","v":"Vikt vid insättning"},{"$f":"VLOOKUP('1.2 Tillväxt & förökning'!$A79&\", medel\",'Teknisk administration'!$G$611:$P$638,7,FALSE)","v":"Uppfödningstid, mån"},{"$f":"VLOOKUP('1.2 Tillväxt & förökning'!$A79&\", medel\",'Teknisk administration'!$G$611:$P$638,8,FALSE)","v":"slaktvikt"},{"$f":"VLOOKUP('1.2 Tillväxt & förökning'!$A79&\", medel\",'Teknisk administration'!$G$611:$P$638,9,FALSE)","v":"slaktutbyte%"},{"$f":"VLOOKUP('1.2 Tillväxt & förökning'!$A79&\", medel\",'Teknisk administration'!$G$611:$P$638,10,FALSE)","v":"Tillväxt g/dag"}]
[null,null,null,{"$f":"IF(ISTEXT($A80),VLOOKUP($A80,'Teknisk administration'!$T$611:$Y$638,2,FALSE),\"\")","v":""},null,{"$f":"IF(ISTEXT($A80),VLOOKUP($A80,'Teknisk administration'!$T$611:$Y$638,3,FALSE),\"\")","v":""},null,{"$f":"IF(ISTEXT($A80),VLOOKUP($A80,'Teknisk administration'!$T$611:$Y$638,4,FALSE),\"\")","v":""},null,{"$f":"IF(ISTEXT($A80),VLOOKUP($A80,'Teknisk administration'!$T$611:$Y$638,5,FALSE),\"\")","v":""},{"$f":"IF(ISTEXT(A80),('1.2 Tillväxt & förökning'!AA80/'1.2 Tillväxt & förökning'!AB80-'1.2 Tillväxt & förökning'!Y80)/('1.2 Tillväxt & förökning'!Z80*30)*1000,0)","v":0},{"$f":"IF(ISTEXT($A80),VLOOKUP($A80,'Teknisk administration'!$T$611:$Y$638,6,FALSE),\"\")","v":""},null,null,null,null,null,null,{"$f":"IF(ISTEXT(A80),VLOOKUP(A80,'Teknisk administration'!$T$611:$Z$620,7,FALSE),0)","v":0},0,1,null,1,null,{"$f":"IF(ISNUMBER('1.2 Tillväxt & förökning'!C80),'1.2 Tillväxt & förökning'!C80,AD80)","v":"Vikt vid insättning"},{"$f":"IF(ISNUMBER('1.2 Tillväxt & förökning'!E80),'1.2 Tillväxt & förökning'!E80,AE80)","v":"Uppfödningstid, mån"},{"$f":"IF(ISNUMBER('1.2 Tillväxt & förökning'!G80),'1.2 Tillväxt & förökning'!G80,AF80)","v":"slaktvikt"},{"$f":"IF(ISNUMBER('1.2 Tillväxt & förökning'!I80),'1.2 Tillväxt & förökning'!I80,AG80)","v":"slaktutbyte%"},{"$f":"IF(ISNUMBER('1.2 Tillväxt & förökning'!K80),'1.2 Tillväxt & förökning'!K80,AH80)","v":0},{"$f":"VLOOKUP('1.2 Tillväxt & förökning'!$A80&\", medel\",'Teknisk administration'!$G$611:$P$638,6,FALSE)","v":"Vikt vid insättning"},{"$f":"VLOOKUP('1.2 Tillväxt & förökning'!$A80&\", medel\",'Teknisk administration'!$G$611:$P$638,7,FALSE)","v":"Uppfödningstid, mån"},{"$f":"VLOOKUP('1.2 Tillväxt & förökning'!$A80&\", medel\",'Teknisk administration'!$G$611:$P$638,8,FALSE)","v":"slaktvikt"},{"$f":"VLOOKUP('1.2 Tillväxt & förökning'!$A80&\", medel\",'Teknisk administration'!$G$611:$P$638,9,FALSE)","v":"slaktutbyte%"},{"$f":"VLOOKUP('1.2 Tillväxt & förökning'!$A80&\", medel\",'Teknisk administration'!$G$611:$P$638,10,FALSE)","v":"Tillväxt g/dag"}]
[null,null,null,{"$f":"IF(ISTEXT($A81),VLOOKUP($A81,'Teknisk administration'!$T$611:$Y$638,2,FALSE),\"\")","v":""},null,{"$f":"IF(ISTEXT($A81),VLOOKUP($A81,'Teknisk administration'!$T$611:$Y$638,3,FALSE),\"\")","v":""},null,{"$f":"IF(ISTEXT($A81),VLOOKUP($A81,'Teknisk administration'!$T$611:$Y$638,4,FALSE),\"\")","v":""},null,{"$f":"IF(ISTEXT($A81),VLOOKUP($A81,'Teknisk administration'!$T$611:$Y$638,5,FALSE),\"\")","v":""},{"$f":"IF(ISTEXT(A81),('1.2 Tillväxt & förökning'!AA81/'1.2 Tillväxt & förökning'!AB81-'1.2 Tillväxt & förökning'!Y81)/('1.2 Tillväxt & förökning'!Z81*30)*1000,0)","v":0},{"$f":"IF(ISTEXT($A81),VLOOKUP($A81,'Teknisk administration'!$T$611:$Y$638,6,FALSE),\"\")","v":""},null,null,null,null,null,null,{"$f":"IF(ISTEXT(A81),VLOOKUP(A81,'Teknisk administration'!$T$611:$Z$620,7,FALSE),0)","v":0},0,1,null,1,null,{"$f":"IF(ISNUMBER('1.2 Tillväxt & förökning'!C81),'1.2 Tillväxt & förökning'!C81,AD81)","v":"Vikt vid insättning"},{"$f":"IF(ISNUMBER('1.2 Tillväxt & förökning'!E81),'1.2 Tillväxt & förökning'!E81,AE81)","v":"Uppfödningstid, mån"},{"$f":"IF(ISNUMBER('1.2 Tillväxt & förökning'!G81),'1.2 Tillväxt & förökning'!G81,AF81)","v":"slaktvikt"},{"$f":"IF(ISNUMBER('1.2 Tillväxt & förökning'!I81),'1.2 Tillväxt & förökning'!I81,AG81)","v":"slaktutbyte%"},{"$f":"IF(ISNUMBER('1.2 Tillväxt & förökning'!K81),'1.2 Tillväxt & förökning'!K81,AH81)","v":0},{"$f":"VLOOKUP('1.2 Tillväxt & förökning'!$A81&\", medel\",'Teknisk administration'!$G$611:$P$638,6,FALSE)","v":"Vikt vid insättning"},{"$f":"VLOOKUP('1.2 Tillväxt & förökning'!$A81&\", medel\",'Teknisk administration'!$G$611:$P$638,7,FALSE)","v":"Uppfödningstid, mån"},{"$f":"VLOOKUP('1.2 Tillväxt & förökning'!$A81&\", medel\",'Teknisk administration'!$G$611:$P$638,8,FALSE)","v":"slaktvikt"},{"$f":"VLOOKUP('1.2 Tillväxt & förökning'!$A81&\", medel\",'Teknisk administration'!$G$611:$P$638,9,FALSE)","v":"slaktutbyte%"},{"$f":"VLOOKUP('1.2 Tillväxt & förökning'!$A81&\", medel\",'Teknisk administration'!$G$611:$P$638,10,FALSE)","v":"Tillväxt g/dag"}]
[null,null,null,{"$f":"IF(ISTEXT($A82),VLOOKUP($A82,'Teknisk administration'!$T$611:$Y$638,2,FALSE),\"\")","v":""},null,{"$f":"IF(ISTEXT($A82),VLOOKUP($A82,'Teknisk administration'!$T$611:$Y$638,3,FALSE),\"\")","v":""},null,{"$f":"IF(ISTEXT($A82),VLOOKUP($A82,'Teknisk administration'!$T$611:$Y$638,4,FALSE),\"\")","v":""},null,{"$f":"IF(ISTEXT($A82),VLOOKUP($A82,'Teknisk administration'!$T$611:$Y$638,5,FALSE),\"\")","v":""},{"$f":"IF(ISTEXT(A82),('1.2 Tillväxt & förökning'!AA82/'1.2 Tillväxt & förökning'!AB82-'1.2 Tillväxt & förökning'!Y82)/('1.2 Tillväxt & förökning'!Z82*30)*1000,0)","v":0},{"$f":"IF(ISTEXT($A82),VLOOKUP($A82,'Teknisk administration'!$T$611:$Y$638,6,FALSE),\"\")","v":""},null,null,null,null,null,null,{"$f":"IF(ISTEXT(A82),VLOOKUP(A82,'Teknisk administration'!$T$611:$Z$620,7,FALSE),0)","v":0},0,1,null,1,null,{"$f":"IF(ISNUMBER('1.2 Tillväxt & förökning'!C82),'1.2 Tillväxt & förökning'!C82,AD82)","v":"Vikt vid insättning"},{"$f":"IF(ISNUMBER('1.2 Tillväxt & förökning'!E82),'1.2 Tillväxt & förökning'!E82,AE82)","v":"Uppfödningstid, mån"},{"$f":"IF(ISNUMBER('1.2 Tillväxt & förökning'!G82),'1.2 Tillväxt & förökning'!G82,AF82)","v":"slaktvikt"},{"$f":"IF(ISNUMBER('1.2 Tillväxt & förökning'!I82),'1.2 Tillväxt & förökning'!I82,AG82)","v":"slaktutbyte%"},{"$f":"IF(ISNUMBER('1.2 Tillväxt & förökning'!K82),'1.2 Tillväxt & förökning'!K82,AH82)","v":0},{"$f":"VLOOKUP('1.2 Tillväxt & förökning'!$A82&\", medel\",'Teknisk administration'!$G$611:$P$638,6,FALSE)","v":"Vikt vid insättning"},{"$f":"VLOOKUP('1.2 Tillväxt & förökning'!$A82&\", medel\",'Teknisk administration'!$G$611:$P$638,7,FALSE)","v":"Uppfödningstid, mån"},{"$f":"VLOOKUP('1.2 Tillväxt & förökning'!$A82&\", medel\",'Teknisk administration'!$G$611:$P$638,8,FALSE)","v":"slaktvikt"},{"$f":"VLOOKUP('1.2 Tillväxt & förökning'!$A82&\", medel\",'Teknisk administration'!$G$611:$P$638,9,FALSE)","v":"slaktutbyte%"},{"$f":"VLOOKUP('1.2 Tillväxt & förökning'!$A82&\", medel\",'Teknisk administration'!$G$611:$P$638,10,FALSE)","v":"Tillväxt g/dag"}]
[]
[{"$f":"\"Period 3, \"&period_3","v":"Period 3, Period 3"}]
[null,null,null,{"$f":"IF(ISTEXT($A85),VLOOKUP($A85,'Teknisk administration'!$T$611:$Y$638,2,FALSE),\"\")","v":""},null,{"$f":"IF(ISTEXT($A85),VLOOKUP($A85,'Teknisk administration'!$T$611:$Y$638,3,FALSE),\"\")","v":""},null,{"$f":"IF(ISTEXT($A85),VLOOKUP($A85,'Teknisk administration'!$T$611:$Y$638,4,FALSE),\"\")","v":""},null,{"$f":"IF(ISTEXT($A85),VLOOKUP($A85,'Teknisk administration'!$T$611:$Y$638,5,FALSE),\"\")","v":""},{"$f":"IF(ISTEXT(A85),('1.2 Tillväxt & förökning'!AA85/'1.2 Tillväxt & förökning'!AB85-'1.2 Tillväxt & förökning'!Y85)/('1.2 Tillväxt & förökning'!Z85*30)*1000,0)","v":0},{"$f":"IF(ISTEXT($A85),VLOOKUP($A85,'Teknisk administration'!$T$611:$Y$638,6,FALSE),\"\")","v":""},null,null,null,null,null,null,{"$f":"IF(ISTEXT(A85),VLOOKUP(A85,'Teknisk administration'!$T$611:$Z$620,7,FALSE),0)","v":0},{"$f":"IF(S85=\"ungtjur\",1,0)","v":0},{"$f":"IF(T85=0,1,0)","v":1},null,null,1,{"$f":"IF(ISNUMBER('1.2 Tillväxt & förökning'!C85),'1.2 Tillväxt & förökning'!C85,AD85)","v":"Vikt vid insättning"},{"$f":"IF(ISNUMBER('1.2 Tillväxt & förökning'!E85),'1.2 Tillväxt & förökning'!E85,AE85)","v":"Uppfödningstid, mån"},{"$f":"IF(ISNUMBER('1.2 Tillväxt & förökning'!G85),'1.2 Tillväxt & förökning'!G85,AF85)","v":"slaktvikt"},{"$f":"IF(ISNUMBER('1.2 Tillväxt & förökning'!I85),'1.2 Tillväxt & förökning'!I85,AG85)","v":"slaktutbyte%"},{"$f":"IF(ISNUMBER('1.2 Tillväxt & förökning'!K85),'1.2 Tillväxt & förökning'!K85,AH85)","v":0},{"$f":"VLOOKUP('1.2 Tillväxt & förökning'!$A85&\", medel\",'Teknisk administration'!$G$611:$P$638,6,FALSE)","v":"Vikt vid insättning"},{"$f":"VLOOKUP('1.2 Tillväxt & förökning'!$A85&\", medel\",'Teknisk administration'!$G$611:$P$638,7,FALSE)","v":"Uppfödningstid, mån"},{"$f":"VLOOKUP('1.2 Tillväxt & förökning'!$A85&\", medel\",'Teknisk administration'!$G$611:$P$638,8,FALSE)","v":"slaktvikt"},{"$f":"VLOOKUP('1.2 Tillväxt & förökning'!$A85&\", medel\",'Teknisk administration'!$G$611:$P$638,9,FALSE)","v":"slaktutbyte%"},{"$f":"VLOOKUP('1.2 Tillväxt & förökning'!$A85&\", medel\",'Teknisk administration'!$G$611:$P$638,10,FALSE)","v":"Tillväxt g/dag"}]
[null,null,null,{"$f":"IF(ISTEXT($A86),VLOOKUP($A86,'Teknisk administration'!$T$611:$Y$638,2,FALSE),\"\")","v":""},null,{"$f":"IF(ISTEXT($A86),VLOOKUP($A86,'Teknisk administration'!$T$611:$Y$638,3,FALSE),\"\")","v":""},null,{"$f":"IF(ISTEXT($A86),VLOOKUP($A86,'Teknisk administration'!$T$611:$Y$638,4,FALSE),\"\")","v":""},null,{"$f":"IF(ISTEXT($A86),VLOOKUP($A86,'Teknisk administration'!$T$611:$Y$638,5,FALSE),\"\")","v":""},{"$f":"IF(ISTEXT(A86),('1.2 Tillväxt & förökning'!AA86/'1.2 Tillväxt & förökning'!AB86-'1.2 Tillväxt & förökning'!Y86)/('1.2 Tillväxt & förökning'!Z86*30)*1000,0)","v":0},{"$f":"IF(ISTEXT($A86),VLOOKUP($A86,'Teknisk administration'!$T$611:$Y$638,6,FALSE),\"\")","v":""},null,null,null,null,null,null,{"$f":"IF(ISTEXT(A86),VLOOKUP(A86,'Teknisk administration'!$T$611:$Z$620,7,FALSE),0)","v":0},0,1,null,null,1,{"$f":"IF(ISNUMBER('1.2 Tillväxt & förökning'!C86),'1.2 Tillväxt & förökning'!C86,AD86)","v":"Vikt vid insättning"},{"$f":"IF(ISNUMBER('1.2 Tillväxt & förökning'!E86),'1.2 Tillväxt & förökning'!E86,AE86)","v":"Uppfödningstid, mån"},{"$f":"IF(ISNUMBER('1.2 Tillväxt & förökning'!G86),'1.2 Tillväxt & förökning'!G86,AF86)","v":"slaktvikt"},{"$f":"IF(ISNUMBER('1.2 Tillväxt & förökning'!I86),'1.2 Tillväxt & förökning'!I86,AG86)","v":"slaktutbyte%"},{"$f":"IF(ISNUMBER('1.2 Tillväxt & förökning'!K86),'1.2 Tillväxt & förökning'!K86,AH86)","v":0},{"$f":"VLOOKUP('1.2 Tillväxt & förökning'!$A86&\", medel\",'Teknisk administration'!$G$611:$P$638,6,FALSE)","v":"Vikt vid insättning"},{"$f":"VLOOKUP('1.2 Tillväxt & förökning'!$A86&\", medel\",'Teknisk administration'!$G$611:$P$638,7,FALSE)","v":"Uppfödningstid, mån"},{"$f":"VLOOKUP('1.2 Tillväxt & förökning'!$A86&\", medel\",'Teknisk administration'!$G$611:$P$638,8,FALSE)","v":"slaktvikt"},{"$f":"VLOOKUP('1.2 Tillväxt & förökning'!$A86&\", medel\",'Teknisk administration'!$G$611:$P$638,9,FALSE)","v":"slaktutbyte%"},{"$f":"VLOOKUP('1.2 Tillväxt & förökning'!$A86&\", medel\",'Teknisk administration'!$G$611:$P$638,10,FALSE)","v":"Tillväxt g/dag"}]
[null,null,null,{"$f":"IF(ISTEXT($A87),VLOOKUP($A87,'Teknisk administration'!$T$611:$Y$638,2,FALSE),\"\")","v":""},null,{"$f":"IF(ISTEXT($A87),VLOOKUP($A87,'Teknisk administration'!$T$611:$Y$638,3,FALSE),\"\")","v":""},null,{"$f":"IF(ISTEXT($A87),VLOOKUP($A87,'Teknisk administration'!$T$611:$Y$638,4,FALSE),\"\")","v":""},null,{"$f":"IF(ISTEXT($A87),VLOOKUP($A87,'Teknisk administration'!$T$611:$Y$638,5,FALSE),\"\")","v":""},{"$f":"IF(ISTEXT(A87),('1.2 Tillväxt & förökning'!AA87/'1.2 Tillväxt & förökning'!AB87-'1.2 Tillväxt & förökning'!Y87)/('1.2 Tillväxt & förökning'!Z87*30)*1000,0)","v":0},{"$f":"IF(ISTEXT($A87),VLOOKUP($A87,'Teknisk administration'!$T$611:$Y$638,6,FALSE),\"\")","v":""},null,null,null,null,null,null,{"$f":"IF(ISTEXT(A87),VLOOKUP(A87,'Teknisk administration'!$T$611:$Z$620,7,FALSE),0)","v":0},0,1,null,null,1,{"$f":"IF(ISNUMBER('1.2 Tillväxt & förökning'!C87),'1.2 Tillväxt & förökning'!C87,AD87)","v":"Vikt vid insättning"},{"$f":"IF(ISNUMBER('1.2 Tillväxt & förökning'!E87),'1.2 Tillväxt & förökning'!E87,AE87)","v":"Uppfödningstid, mån"},{"$f":"IF(ISNUMBER('1.2 Tillväxt & förökning'!G87),'1.2 Tillväxt & förökning'!G87,AF87)","v":"slaktvikt"},{"$f":"IF(ISNUMBER('1.2 Tillväxt & förökning'!I87),'1.2 Tillväxt & förökning'!I87,AG87)","v":"slaktutbyte%"},{"$f":"IF(ISNUMBER('1.2 Tillväxt & förökning'!K87),'1.2 Tillväxt & förökning'!K87,AH87)","v":0},{"$f":"VLOOKUP('1.2 Tillväxt & förökning'!$A87&\", medel\",'Teknisk administration'!$G$611:$P$638,6,FALSE)","v":"Vikt vid insättning"},{"$f":"VLOOKUP('1.2 Tillväxt & förökning'!$A87&\", medel\",'Teknisk administration'!$G$611:$P$638,7,FALSE)","v":"Uppfödningstid, mån"},{"$f":"VLOOKUP('1.2 Tillväxt & förökning'!$A87&\", medel\",'Teknisk administration'!$G$611:$P$638,8,FALSE)","v":"slaktvikt"},{"$f":"VLOOKUP('1.2 Tillväxt & förökning'!$A87&\", medel\",'Teknisk administration'!$G$611:$P$638,9,FALSE)","v":"slaktutbyte%"},{"$f":"VLOOKUP('1.2 Tillväxt & förökning'!$A87&\", medel\",'Teknisk administration'!$G$611:$P$638,10,FALSE)","v":"Tillväxt g/dag"}]
[null,null,null,{"$f":"IF(ISTEXT($A88),VLOOKUP($A88,'Teknisk administration'!$T$611:$Y$638,2,FALSE),\"\")","v":""},null,{"$f":"IF(ISTEXT($A88),VLOOKUP($A88,'Teknisk administration'!$T$611:$Y$638,3,FALSE),\"\")","v":""},null,{"$f":"IF(ISTEXT($A88),VLOOKUP($A88,'Teknisk administration'!$T$611:$Y$638,4,FALSE),\"\")","v":""},null,{"$f":"IF(ISTEXT($A88),VLOOKUP($A88,'Teknisk administration'!$T$611:$Y$638,5,FALSE),\"\")","v":""},{"$f":"IF(ISTEXT(A88),('1.2 Tillväxt & förökning'!AA88/'1.2 Tillväxt & förökning'!AB88-'1.2 Tillväxt & förökning'!Y88)/('1.2 Tillväxt & förökning'!Z88*30)*1000,0)","v":0},{"$f":"IF(ISTEXT($A88),VLOOKUP($A88,'Teknisk administration'!$T$611:$Y$638,6,FALSE),\"\")","v":""},null,null,null,null,null,null,{"$f":"IF(ISTEXT(A88),VLOOKUP(A88,'Teknisk administration'!$T$611:$Z$620,7,FALSE),0)","v":0},0,1,null,null,1,{"$f":"IF(ISNUMBER('1.2 Tillväxt & förökning'!C88),'1.2 Tillväxt & förökning'!C88,AD88)","v":"Vikt vid insättning"},{"$f":"IF(ISNUMBER('1.2 Tillväxt & förökning'!E88),'1.2 Tillväxt & förökning'!E88,AE88)","v":"Uppfödningstid, mån"},{"$f":"IF(ISNUMBER('1.2 Tillväxt & förökning'!G88),'1.2 Tillväxt & förökning'!G88,AF88)","v":"slaktvikt"},{"$f":"IF(ISNUMBER('1.2 Tillväxt & förökning'!I88),'1.2 Tillväxt & förökning'!I88,AG88)","v":"slaktutbyte%"},{"$f":"IF(ISNUMBER('1.2 Tillväxt & förökning'!K88),'1.2 Tillväxt & förökning'!K88,AH88)","v":0},{"$f":"VLOOKUP('1.2 Tillväxt & förökning'!$A88&\", medel\",'Teknisk administration'!$G$611:$P$638,6,FALSE)","v":"Vikt vid insättning"},{"$f":"VLOOKUP('1.2 Tillväxt & förökning'!$A88&\", medel\",'Teknisk administration'!$G$611:$P$638,7,FALSE)","v":"Uppfödningstid, mån"},{"$f":"VLOOKUP('1.2 Tillväxt & förökning'!$A88&\", medel\",'Teknisk administration'!$G$611:$P$638,8,FALSE)","v":"slaktvikt"},{"$f":"VLOOKUP('1.2 Tillväxt & förökning'!$A88&\", medel\",'Teknisk administration'!$G$611:$P$638,9,FALSE)","v":"slaktutbyte%"},{"$f":"VLOOKUP('1.2 Tillväxt & förökning'!$A88&\", medel\",'Teknisk administration'!$G$611:$P$638,10,FALSE)","v":"Tillväxt g/dag"}]
[null,null,null,{"$f":"IF(ISTEXT($A89),VLOOKUP($A89,'Teknisk administration'!$T$611:$Y$638,2,FALSE),\"\")","v":""},null,{"$f":"IF(ISTEXT($A89),VLOOKUP($A89,'Teknisk administration'!$T$611:$Y$638,3,FALSE),\"\")","v":""},null,{"$f":"IF(ISTEXT($A89),VLOOKUP($A89,'Teknisk administration'!$T$611:$Y$638,4,FALSE),\"\")","v":""},null,{"$f":"IF(ISTEXT($A89),VLOOKUP($A89,'Teknisk administration'!$T$611:$Y$638,5,FALSE),\"\")","v":""},{"$f":"IF(ISTEXT(A89),('1.2 Tillväxt & förökning'!AA89/'1.2 Tillväxt & förökning'!AB89-'1.2 Tillväxt & förökning'!Y89)/('1.2 Tillväxt & förökning'!Z89*30)*1000,0)","v":0},{"$f":"IF(ISTEXT($A89),VLOOKUP($A89,'Teknisk administration'!$T$611:$Y$638,6,FALSE),\"\")","v":""},null,null,null,null,null,null,{"$f":"IF(ISTEXT(A89),VLOOKUP(A89,'Teknisk administration'!$T$611:$Z$620,7,FALSE),0)","v":0},0,1,null,null,1,{"$f":"IF(ISNUMBER('1.2 Tillväxt & förökning'!C89),'1.2 Tillväxt & förökning'!C89,AD89)","v":"Vikt vid insättning"},{"$f":"IF(ISNUMBER('1.2 Tillväxt & förökning'!E89),'1.2 Tillväxt & förökning'!E89,AE89)","v":"Uppfödningstid, mån"},{"$f":"IF(ISNUMBER('1.2 Tillväxt & förökning'!G89),'1.2 Tillväxt & förökning'!G89,AF89)","v":"slaktvikt"},{"$f":"IF(ISNUMBER('1.2 Tillväxt & förökning'!I89),'1.2 Tillväxt & förökning'!I89,AG89)","v":"slaktutbyte%"},{"$f":"IF(ISNUMBER('1.2 Tillväxt & förökning'!K89),'1.2 Tillväxt & förökning'!K89,AH89)","v":0},{"$f":"VLOOKUP('1.2 Tillväxt & förökning'!$A89&\", medel\",'Teknisk administration'!$G$611:$P$638,6,FALSE)","v":"Vikt vid insättning"},{"$f":"VLOOKUP('1.2 Tillväxt & förökning'!$A89&\", medel\",'Teknisk administration'!$G$611:$P$638,7,FALSE)","v":"Uppfödningstid, mån"},{"$f":"VLOOKUP('1.2 Tillväxt & förökning'!$A89&\", medel\",'Teknisk administration'!$G$611:$P$638,8,FALSE)","v":"slaktvikt"},{"$f":"VLOOKUP('1.2 Tillväxt & förökning'!$A89&\", medel\",'Teknisk administration'!$G$611:$P$638,9,FALSE)","v":"slaktutbyte%"},{"$f":"VLOOKUP('1.2 Tillväxt & förökning'!$A89&\", medel\",'Teknisk administration'!$G$611:$P$638,10,FALSE)","v":"Tillväxt g/dag"}]
[null,null,null,{"$f":"IF(ISTEXT($A90),VLOOKUP($A90,'Teknisk administration'!$T$611:$Y$638,2,FALSE),\"\")","v":""},null,{"$f":"IF(ISTEXT($A90),VLOOKUP($A90,'Teknisk administration'!$T$611:$Y$638,3,FALSE),\"\")","v":""},null,{"$f":"IF(ISTEXT($A90),VLOOKUP($A90,'Teknisk administration'!$T$611:$Y$638,4,FALSE),\"\")","v":""},null,{"$f":"IF(ISTEXT($A90),VLOOKUP($A90,'Teknisk administration'!$T$611:$Y$638,5,FALSE),\"\")","v":""},{"$f":"IF(ISTEXT(A90),('1.2 Tillväxt & förökning'!AA90/'1.2 Tillväxt & förökning'!AB90-'1.2 Tillväxt & förökning'!Y90)/('1.2 Tillväxt & förökning'!Z90*30)*1000,0)","v":0},{"$f":"IF(ISTEXT($A90),VLOOKUP($A90,'Teknisk administration'!$T$611:$Y$638,6,FALSE),\"\")","v":""},null,null,null,null,null,null,{"$f":"IF(ISTEXT(A90),VLOOKUP(A90,'Teknisk administration'!$T$611:$Z$620,7,FALSE),0)","v":0},0,1,null,null,1,{"$f":"IF(ISNUMBER('1.2 Tillväxt & förökning'!C90),'1.2 Tillväxt & förökning'!C90,AD90)","v":"Vikt vid insättning"},{"$f":"IF(ISNUMBER('1.2 Tillväxt & förökning'!E90),'1.2 Tillväxt & förökning'!E90,AE90)","v":"Uppfödningstid, mån"},{"$f":"IF(ISNUMBER('1.2 Tillväxt & förökning'!G90),'1.2 Tillväxt & förökning'!G90,AF90)","v":"slaktvikt"},{"$f":"IF(ISNUMBER('1.2 Tillväxt & förökning'!I90),'1.2 Tillväxt & förökning'!I90,AG90)","v":"slaktutbyte%"},{"$f":"IF(ISNUMBER('1.2 Tillväxt & förökning'!K90),'1.2 Tillväxt & förökning'!K90,AH90)","v":0},{"$f":"VLOOKUP('1.2 Tillväxt & förökning'!$A90&\", medel\",'Teknisk administration'!$G$611:$P$638,6,FALSE)","v":"Vikt vid insättning"},{"$f":"VLOOKUP('1.2 Tillväxt & förökning'!$A90&\", medel\",'Teknisk administration'!$G$611:$P$638,7,FALSE)","v":"Uppfödningstid, mån"},{"$f":"VLOOKUP('1.2 Tillväxt & förökning'!$A90&\", medel\",'Teknisk administration'!$G$611:$P$638,8,FALSE)","v":"slaktvikt"},{"$f":"VLOOKUP('1.2 Tillväxt & förökning'!$A90&\", medel\",'Teknisk administration'!$G$611:$P$638,9,FALSE)","v":"slaktutbyte%"},{"$f":"VLOOKUP('1.2 Tillväxt & förökning'!$A90&\", medel\",'Teknisk administration'!$G$611:$P$638,10,FALSE)","v":"Tillväxt g/dag"}]
[null,null,null,{"$f":"IF(ISTEXT($A91),VLOOKUP($A91,'Teknisk administration'!$T$611:$Y$638,2,FALSE),\"\")","v":""},null,{"$f":"IF(ISTEXT($A91),VLOOKUP($A91,'Teknisk administration'!$T$611:$Y$638,3,FALSE),\"\")","v":""},null,{"$f":"IF(ISTEXT($A91),VLOOKUP($A91,'Teknisk administration'!$T$611:$Y$638,4,FALSE),\"\")","v":""},null,{"$f":"IF(ISTEXT($A91),VLOOKUP($A91,'Teknisk administration'!$T$611:$Y$638,5,FALSE),\"\")","v":""},{"$f":"IF(ISTEXT(A91),('1.2 Tillväxt & förökning'!AA91/'1.2 Tillväxt & förökning'!AB91-'1.2 Tillväxt & förökning'!Y91)/('1.2 Tillväxt & förökning'!Z91*30)*1000,0)","v":0},{"$f":"IF(ISTEXT($A91),VLOOKUP($A91,'Teknisk administration'!$T$611:$Y$638,6,FALSE),\"\")","v":""},null,null,null,null,null,null,{"$f":"IF(ISTEXT(A91),VLOOKUP(A91,'Teknisk administration'!$T$611:$Z$620,7,FALSE),0)","v":0},0,1,null,null,1,{"$f":"IF(ISNUMBER('1.2 Tillväxt & förökning'!C91),'1.2 Tillväxt & förökning'!C91,AD91)","v":"Vikt vid insättning"},{"$f":"IF(ISNUMBER('1.2 Tillväxt & förökning'!E91),'1.2 Tillväxt & förökning'!E91,AE91)","v":"Uppfödningstid, mån"},{"$f":"IF(ISNUMBER('1.2 Tillväxt & förökning'!G91),'1.2 Tillväxt & förökning'!G91,AF91)","v":"slaktvikt"},{"$f":"IF(ISNUMBER('1.2 Tillväxt & förökning'!I91),'1.2 Tillväxt & förökning'!I91,AG91)","v":"slaktutbyte%"},{"$f":"IF(ISNUMBER('1.2 Tillväxt & förökning'!K91),'1.2 Tillväxt & förökning'!K91,AH91)","v":0},{"$f":"VLOOKUP('1.2 Tillväxt & förökning'!$A91&\", medel\",'Teknisk administration'!$G$611:$P$638,6,FALSE)","v":"Vikt vid insättning"},{"$f":"VLOOKUP('1.2 Tillväxt & förökning'!$A91&\", medel\",'Teknisk administration'!$G$611:$P$638,7,FALSE)","v":"Uppfödningstid, mån"},{"$f":"VLOOKUP('1.2 Tillväxt & förökning'!$A91&\", medel\",'Teknisk administration'!$G$611:$P$638,8,FALSE)","v":"slaktvikt"},{"$f":"VLOOKUP('1.2 Tillväxt & förökning'!$A91&\", medel\",'Teknisk administration'!$G$611:$P$638,9,FALSE)","v":"slaktutbyte%"},{"$f":"VLOOKUP('1.2 Tillväxt & förökning'!$A91&\", medel\",'Teknisk administration'!$G$611:$P$638,10,FALSE)","v":"Tillväxt g/dag"}]
[]
[]
[]
[]
[]
[]
[]
[]
[]
[]
[]
["Uppfödningstid ungtjurar - summering av beräkningarna ovan"]
[null,"Enhet",{"$f":"Bakgrund!R7","v":"Period 1"},{"$f":"Bakgrund!S7","v":"Period 2"},{"$f":"Bakgrund!T7","v":"Period 3"},"Egen kommentar",null,null,"Förklaring"]
["Antal",null,{"$f":"SUMPRODUCT($B$65:$B$91,V65:V91,$T$65:$T$91)","v":0},{"$f":"SUMPRODUCT($B$65:$B$91,W65:W91,$T$65:$T$91)","v":0},{"$f":"SUMPRODUCT($B$65:$B$91,X65:X91,$T$65:$T$91)","v":0},null,null,null,"Summering av alla Ungtjurar (kött- och mjölkras) som du fyllt i ovan"]
["Vikt vid insättning","kg",{"$f":"IF(C105=0,0,SUMPRODUCT($B$65:$B$91,V65:V91,$T$65:$T$91,$Y$65:$Y$91)/SUMPRODUCT($B$65:$B$91,V65:V91,$T$65:$T$91))","v":0},{"$f":"IF(D105=0,0,SUMPRODUCT($B$65:$B$91,W65:W91,$T$65:$T$91,$Y$65:$Y$91)/SUMPRODUCT($B$65:$B$91,W65:W91,$T$65:$T$91))","v":0},{"$f":"IF(E105=0,0,SUMPRODUCT($B$65:$B$91,X65:X91,$T$65:$T$91,$Y$65:$Y$91)/SUMPRODUCT($B$65:$B$91,X65:X91,$T$65:$T$91))","v":0},null,null,null,"Genomsnittliga värden (viktat medel) för de ungtjurar du fyllt i ovan"]
["Uppfödningstid, mån.ungtjur ","månader",{"$f":"IF(C105=0,0,SUMPRODUCT($B$65:$B$91,V65:V91,$T$65:$T$91,$Z$65:$Z$91)/SUMPRODUCT($B$65:$B$91,V65:V91,$T$65:$T$91))","v":0},{"$f":"IF(D105=0,0,SUMPRODUCT($B$65:$B$91,W65:W91,$T$65:$T$91,$Z$65:$Z$91)/SUMPRODUCT($B$65:$B$91,W65:W91,$T$65:$T$91))","v":0},{"$f":"IF(E105=0,0,SUMPRODUCT($B$65:$B$91,X65:X91,$T$65:$T$91,$Z$65:$Z$91)/SUMPRODUCT($B$65:$B$91,X65:X91,$T$65:$T$91))","v":0}]
["Slaktvikt , ungtjur kg ","vikt kg",{"$f":"IF(C105=0,0,SUMPRODUCT($B$65:$B$91,V65:V91,$T$65:$T$91,$AA$65:$AA$91)/SUMPRODUCT($B$65:$B$91,V65:V91,$T$65:$T$91))","v":0},{"$f":"IF(D105=0,0,SUMPRODUCT($B$65:$B$91,W65:W91,$T$65:$T$91,$AA$65:$AA$91)/SUMPRODUCT($B$65:$B$91,W65:W91,$T$65:$T$91))","v":0},{"$f":"IF(E105=0,0,SUMPRODUCT($B$65:$B$91,X65:X91,$T$65:$T$91,$AA$65:$AA$91)/SUMPRODUCT($B$65:$B$91,X65:X91,$T$65:$T$91))","v":0}]
["Slaktutbyte, ungtjur %","%",{"$f":"IF(C105=0,0,SUMPRODUCT($B$65:$B$91,V65:V91,$T$65:$T$91,$AB$65:$AB$91)/SUMPRODUCT($B$65:$B$91,V65:V91,$T$65:$T$91))","v":0},{"$f":"IF(D105=0,0,SUMPRODUCT($B$65:$B$91,W65:W91,$T$65:$T$91,$AB$65:$AB$91)/SUMPRODUCT($B$65:$B$91,W65:W91,$T$65:$T$91))","v":0},{"$f":"IF(E105=0,0,SUMPRODUCT($B$65:$B$91,X65:X91,$T$65:$T$91,$AB$65:$AB$91)/SUMPRODUCT($B$65:$B$91,X65:X91,$T$65:$T$91))","v":0}]
["Tillväxt levandevikt/dag","g/dag",{"$f":"IF(C105=0,0,((C108/C109)-C106)/(C107*30)*1000)","v":0},{"$f":"IF(D105=0,0,((D108/D109)-D106)/(D107*30)*1000)","v":0},0,null,null,null,"Genomsnittlig  tillväxt per djur och dag under uppfödningstiden "]
[]
[]
["Uppfödningstid stutar & kvigor - summering av beräkningar ovan"]
[null,"Enhet",{"$f":"Bakgrund!R7","v":"Period 1"},{"$f":"Bakgrund!S7","v":"Period 2"},{"$f":"Bakgrund!T7","v":"Period 3"},"Egen kommentar",null,null,"Förklaring"]
["Antal",null,{"$f":"SUMPRODUCT($B$65:$B$91,V65:V91,$U$65:$U$91)","v":0},{"$f":"SUMPRODUCT($B$65:$B$91,W65:W91,$U$65:$U$91)","v":0},{"$f":"SUMPRODUCT($B$65:$B$91,X65:X91,$U$65:$U$91)","v":0},null,null,null,"Summering av alla stutar och kvigor (kött- och mjölkras) som du fyllt i ovan"]
["Vikt vid insättning","kg",{"$f":"IF(C115=0,0,SUMPRODUCT($B$65:$B$91,V65:V91,$U$65:$U$91,$Y$65:$Y$91)/SUMPRODUCT($B$65:$B$91,V65:V91,$U$65:$U$91))","v":0},{"$f":"IF(D115=0,0,SUMPRODUCT($B$65:$B$91,W65:W91,$U$65:$U$91,$Y$65:$Y$91)/SUMPRODUCT($B$65:$B$91,W65:W91,$U$65:$U$91))","v":0},{"$f":"IF(E115=0,0,SUMPRODUCT($B$65:$B$91,X65:X91,$U$65:$U$91,$Y$65:$Y$91)/SUMPRODUCT($B$65:$B$91,X65:X91,$U$65:$U$91))","v":0},null,null,null,"Genomsnittliga värden (viktat medel) för de stutar och kvigor som du fyllt i ovan"]
["Uppfödningstid, mån.stut/kviga ","månader",{"$f":"IF(C115=0,0,SUMPRODUCT($B$65:$B$91,V65:V91,$U$65:$U$91,$Z$65:$Z$91)/SUMPRODUCT($B$65:$B$91,V65:V91,$U$65:$U$91))","v":0},{"$f":"IF(D115=0,0,SUMPRODUCT($B$65:$B$91,W65:W91,$U$65:$U$91,$Z$65:$Z$91)/SUMPRODUCT($B$65:$B$91,W65:W91,$U$65:$U$91))","v":0},{"$f":"IF(E115=0,0,SUMPRODUCT($B$65:$B$91,X65:X91,$U$65:$U$91,$Z$65:$Z$91)/SUMPRODUCT($B$65:$B$91,X65:X91,$U$65:$U$91))","v":0}]
["Slaktvikt , stut/kviga kg ","vikt kg",{"$f":"IF(C115=0,0,SUMPRODUCT($B$65:$B$91,V65:V91,$U$65:$U$91,$AA$65:$AA$91)/SUMPRODUCT($B$65:$B$91,V65:V91,$U$65:$U$91))","v":0},{"$f":"IF(D115=0,0,SUMPRODUCT($B$65:$B$91,W65:W91,$U$65:$U$91,$AA$65:$AA$91)/SUMPRODUCT($B$65:$B$91,W65:W91,$U$65:$U$91))","v":0},{"$f":"IF(E115=0,0,SUMPRODUCT($B$65:$B$91,X65:X91,$U$65:$U$91,$AA$65:$AA$91)/SUMPRODUCT($B$65:$B$91,X65:X91,$U$65:$U$91))","v":0}]
["Slaktutbyte, stut/kviga %","%",{"$f":"IF(C115=0,0,SUMPRODUCT($B$65:$B$91,V65:V91,$U$65:$U$91,$AB$65:$AB$91)/SUMPRODUCT($B$65:$B$91,V65:V91,$U$65:$U$91))","v":0},{"$f":"IF(D115=0,0,SUMPRODUCT($B$65:$B$91,W65:W91,$U$65:$U$91,$AB$65:$AB$91)/SUMPRODUCT($B$65:$B$91,W65:W91,$U$65:$U$91))","v":0},{"$f":"IF(E115=0,0,SUMPRODUCT($B$65:$B$91,X65:X91,$U$65:$U$91,$AB$65:$AB$91)/SUMPRODUCT($B$65:$B$91,X65:X91,$U$65:$U$91))","v":0}]
["Tillväxt, levande vikt/dag","g/dag",{"$f":"IF(C115=0,0,((C118/C119)-C116)/(C117*30)*1000)","v":0},{"$f":"IF(D115=0,0,((D118/D119)-D116)/(D117*30)*1000)","v":0},0,null,null,null,"Genomsnittlig  tillväxt per djur och dag under uppfödningstiden "]
[]
[]
[]
["Nyckeltal: Tillväxt per stallplats"]
[null,"Enhet",{"$f":"Bakgrund!R7","v":"Period 1"},{"$f":"Bakgrund!S7","v":"Period 2"},{"$f":"Bakgrund!T7","v":"Period 3"},"Egen kommentar",null,null,"Förklaring"]
["Kalvar i dikoproduktion","antal",{"$f":"C10","v":0},{"$f":"D10","v":0},{"$f":"E10","v":0},null,null,null,"Antal avvanda kalvar enligt tidigare uppgift"]
["Ungtjurar","antal",{"$f":"C105","v":0},{"$f":"D105","v":0},0]
["Stutar & kvigor","antal",{"$f":"C115","v":0},{"$f":"D115","v":0},0]
["Antal stallplatser enligt djurskyddslag","stallplatser",{"$f":"'1 Intro djuren'!C32","v":0},{"$f":"'1 Intro djuren'!D32","v":0},{"$f":"'1 Intro djuren'!E32","v":0},null,null,null,"Hämtas från bladet Intro djuren"]
["Eget mål för antal stallplatser","stallplatser",{"$f":"'1 Intro djuren'!C33","v":0},{"$f":"'1 Intro djuren'!D33","v":0},{"$f":"'1 Intro djuren'!E33","v":0}]
["Tillväxt per dag i g per godkänd stallplats enligt förprövning","g/dag/stallplats",{"$f":"IF(C129=0,0,(C$126*C$47*IF(C$46>Bakgrund!R$17,Bakgrund!R$17,C$46)+C$127*C$110*IF(C$107*30.5>Bakgrund!R$17,Bakgrund!R$17,C$107*30.5)+C$128*C$120*IF(C$117*30.5>Bakgrund!R$17,Bakgrund!R$17,C$117*30.5))/C129/Bakgrund!R$17)","v":0},{"$f":"IF(D129=0,0,(D$126*D$47*IF(D$46>Bakgrund!S$17,Bakgrund!S$17,D$46)+D$127*D$110*IF(D$107*30.5>Bakgrund!S$17,Bakgrund!S$17,D$107*30.5)+D$128*D$120*IF(D$117*30.5>Bakgrund!S$17,Bakgrund!S$17,D$117*30.5))/D129/Bakgrund!S$17)","v":0},{"$f":"IF(E129=0,0,(E$126*E$47*IF(E$46>Bakgrund!T$17,Bakgrund!T$17,E$46)+E$127*E$110*IF(E$107*30.5>Bakgrund!T$17,Bakgrund!T$17,E$107*30.5)+E$128*E$120*IF(E$117*30.5>Bakgrund!T$17,Bakgrund!T$17,E$117*30.5))/E129/Bakgrund!T$17)","v":0},null,null,null,{"$f":"\"Beräknas som antal ungnöt*tillväxt under perioden dividerat med antal stallplatser. Antal stallplatser hämtas från bladet \"& B_N_Intro_djur&\"\nOm det står '#DIVISION/0!' beror det på att du inte fyllt i start- och slutdatum på Bakgrund.\"","v":"Beräknas som antal ungnöt*tillväxt under perioden dividerat med antal stallplatser. Antal stallplatser hämtas från bladet 1 Intro djuren\nOm det står '#DIVISION/0!' beror det på att du inte fyllt i start- och slutdatum på Bakgrund."}]
["Tillväxt per dag i g per egen önskad beläggning","g/dag/stallplats",{"$f":"IF(C130=0,0,(C$126*C$47*IF(C$46>Bakgrund!R$17,Bakgrund!R$17,C$46)+C$127*C$110*IF(C$107*30.5>Bakgrund!R$17,Bakgrund!R$17,C$107*30.5)+C$128*C$120*IF(C$117*30.5>Bakgrund!R$17,Bakgrund!R$17,C$117*30.5))/C130/Bakgrund!R$17)","v":0},{"$f":"IF(D130=0,0,(D$126*D$47*IF(D$46>Bakgrund!S$17,Bakgrund!S$17,D$46)+D$127*D$110*IF(D$107*30.5>Bakgrund!S$17,Bakgrund!S$17,D$107*30.5)+D$128*D$120*IF(D$117*30.5>Bakgrund!S$17,Bakgrund!S$17,D$117*30.5))/D130/Bakgrund!S$17)","v":0},{"$f":"IF(E130=0,0,(E$126*E$47*IF(E$46>Bakgrund!T$17,Bakgrund!T$17,E$46)+E$127*E$110*IF(E$107*30.5>Bakgrund!T$17,Bakgrund!T$17,E$107*30.5)+E$128*E$120*IF(E$117*30.5>Bakgrund!T$17,Bakgrund!T$17,E$117*30.5))/E130/Bakgrund!T$17)","v":0}]

{"sheet":"1.3 Hälsa & dödlighet","index":5,"n_rows":33,"n_cols":17,"rows_kept":33,"cut":false,"hidden":false,"merged":[[7,2,7,4],[2,0,2,5],[4,0,4,5]]}
["1.3 Hälsa & dödlighet"]
["Bladet är frivilligt att fylla i",null,null,null,null,null,null,null,null,null,"Det här betyder färgerna:"]
["Här kan du beräkna du nyckeltal för dödlighet i olika åldersgrupper, ohälsa samt kostnader för hälso- och sjukvård.",null,null,null,null,null,null,null,null,null,"Cell med värden hämtade från annan cell"]
[null,null,null,null,null,null,null,null,null,null,"Fyll i din egen siffra"]
["Uppgifterna på detta blad används inte i andra beräkningar, så du kan fritt bestämma t ex vilken typ av kostnader som du vill ta upp.",null,null,null,null,null,null,null,null,null,"Egen uppgift, men välj värde ur rullista. "]
[null,null,null,null,null,null,null,null,null,null,"Resultat/uträkning"]
[null,null,null,null,null,null,null,null,null,null,"Schablonvärde"]
[null,null,"Period",null,null,"Förklaring","Egen kommentar",null,null,null,"Förklaringar till raden"]
["Kostnader sjukvård, även förebyggande","Enhet",{"$f":"(Bakgrund!R7)","v":"Period 1"},{"$f":"(Bakgrund!S7)","v":"Period 2"},{"$f":"(Bakgrund!T7)","v":"Period 3"},null,null,null,null,null,"Plats för egna kommentarer"]
["Totalt antal djur i besättningen","antal",{"$f":"('1 Intro djuren'!O25)","v":0},{"$f":"('1 Intro djuren'!P25)","v":0},{"$f":"('1 Intro djuren'!Q25)","v":0},{"$f":"\"Totalt antal djur både kalvar, tjurar, stutar, kvigor och kor vid en tidpunkt du väljer att jämföra tas från \"&B_N_Intro_djur","v":"Totalt antal djur både kalvar, tjurar, stutar, kvigor och kor vid en tidpunkt du väljer att jämföra tas från 1 Intro djuren"}]
["Förebyggande behandlingar","kr",null,null,null,"Inköp av t.ex. vaccin, avmaskningsmedel, bolus, receptkostnad osv ",null,null,null,null,"Snabblänkar till bladen i verktyget:"]
["Behandlingar av sjuka djur","kr",null,null,null,"Kostand för behandling utförd av veterinär",null,null,null,null,"Instruktion"]
["Annan veterinärkostnad","kr",null,null,null,"Inköp av t.ex. avmaskningsmedel, bolus, receptkostnad osv ",null,null,null,null,"Bakgrund"]
["Total kostnad för veterinär och behandlingar","kr",{"$f":"C11+C12+C13","v":0},{"$f":"D11+D12+D13","v":0},{"$f":"E11+E12+E13","v":0},null,null,null,null,null,"1 Intro djuren"]
["Kostnad hälso- och sjukvård/djur","kr/djur",{"$f":"IF(C10=0,0,C14/C10)","v":0},{"$f":"IF(D10=0,0,D14/D10)","v":0},{"$f":"IF(E10=0,0,E14/E10)","v":0},null,null,null,null,null,"1.1 Kött"]
[null,null,null,null,null,null,null,null,null,null,"1.2 Tillväxt & förökning",null,null,null,null,null,{"$f":"A15","v":"Kostnad hälso- och sjukvård/djur"}]
["Levererad kg kött","kg",{"$f":"'6 Resultat'!R38","v":0},{"$f":"'6 Resultat'!S38","v":0},{"$f":"'6 Resultat'!T38","v":0},{"$f":"\"Antalet kg slaktvikt som skickats vidare till slakteri - siffra tas från \"&B_N_Kött&\" (fylls i automatiskt)\"","v":"Antalet kg slaktvikt som skickats vidare till slakteri - siffra tas från 1.1 Kött (fylls i automatiskt)"},null,null,null,null,"1.3 Hälsa & dödlighet",null,null,null,null,null,{"$f":"A17","v":"Levererad kg kött"}]
["Kostnad hälso- och sjukvård/kg kött","kr/kg kött",{"$f":"IF(C17=0,0,C14/C17)","v":0},{"$f":"IF(D17=0,0,D14/D17)","v":0},{"$f":"IF(E17=0,0,E14/E17)","v":0},"Kostnad för hälso och sjukvård  per kg kött som levererats till slakteri",null,null,null,null,"2 Intro foder",null,null,null,null,null,{"$f":"A24","v":"Noteringar om ohälsa/djur"}]
[null,null,null,null,null,null,null,null,null,null,"2.1 Odling foder",null,null,null,null,null,{"$f":"A32","v":"Dödlighet kalv inkl avlivade"}]
[null,null,null,null,null,null,null,null,null,null,"2.2 Förluster vid lagring",null,null,null,null,null,{"$f":"A33","v":"Nyckeltal: Dödlighet - Andel djur av djurproduktionen som inte går vidare som livsmedel eller till liv"}]
["Sjukdomar & ohälsa",null,null,null,null,null,null,null,null,null,"2.3 Inköpt foder (exkl mineral)"]
["Totalt antal djur i besättningen","antal",{"$f":"('1 Intro djuren'!O25)","v":0},{"$f":"('1 Intro djuren'!P25)","v":0},{"$f":"('1 Intro djuren'!Q25)","v":0},{"$f":"\"Totalt antal djur både kalvar, tjurar, stutar, kvigor och kor vid en tidpunkt du väljer att jämföra tas från \"&B_N_Intro_djur","v":"Totalt antal djur både kalvar, tjurar, stutar, kvigor och kor vid en tidpunkt du väljer att jämföra tas från 1 Intro djuren"},null,null,null,null,"2.4 Utfodrat"]
["Antal noteringar om ohälsa","antal",null,null,null,"Antal djur som du noterat ohälsa för, men som inte lett till någon behandlning, t ex kortvariga hältor",null,null,null,null,"2.5. Kasserat foder och spill"]
["Noteringar om ohälsa/djur","%",{"$f":"IF(C22=0,0,C23/C22)","v":0},{"$f":"IF(D22=0,0,D23/D22)","v":0},0,"% av totalt antal djur ",null,null,null,null,"2.6 Bete"]
[null,null,null,null,null,null,null,null,null,null,"3 Växtnäringsutnyttjande (1)"]
[null,null,null,null,null,null,null,null,null,null,"3 Växtnäringsutnyttjande (2)"]
["Dödlighet",null,null,null,null,null,null,null,null,null,"3 Växtnäringsutnyttjande (3)"]
["Antalet djur över 6 månader i besättningen","antal",{"$f":"'1 Intro djuren'!O25-'1 Intro djuren'!C26","v":0},{"$f":"'1 Intro djuren'!P25-'1 Intro djuren'!D26","v":0},{"$f":"'1 Intro djuren'!Q25-'1 Intro djuren'!E26","v":0},"Vuxna djur över 6 månader (kor, kvigor, tjurar och stutar)",null,null,null,null,"4 Energi och bränsle"]
["Antal avlivade/självdöda kor","antal",null,null,null,"Antal kor som avlivats eller självdött p.g.a. hälsoproblem/olycka",null,null,null,null,"5 Vattenanvändning"]
["Antal avlivade/självdöda övriga djur över 6 månader","antal",null,null,null,"Antal djur, exklusive kor, över 6 månader som avlivats eller självdött p.g.a. hälsoproblem/olycka",null,null,null,null,"6 Resultat"]
["Antal döda kalvar 0-6 månader inkl fullgångna dödfödda kalvar ","antal",null,null,null,"Antal döda kalvar från födelse till 6 månader. Även kalvar som dött vid födelsen",null,"låg ","medel","hög"]
["Dödlighet kalv inkl avlivade","%",{"$f":"IF('1 Intro djuren'!C26=0,,(C31/'1 Intro djuren'!C26))","v":0},{"$f":"IF('1 Intro djuren'!D26=0,,(D31/'1 Intro djuren'!D26))","v":0},{"$f":"IF('1 Intro djuren'!E26=0,,(E31/'1 Intro djuren'!E26))","v":0},"Andelen döda eller avlivade kalvar 0-6 månader av antalet födda kalvar",null,0.01,3.1E-2,0.06]
["Nyckeltal: Dödlighet - Andel djur av djurproduktionen som inte går vidare som livsmedel eller till liv","%",{"$f":"IF(C28=0,,((C30+C31+C29)/C28))","v":0},{"$f":"IF(D28=0,,((D30+D31)/D28))","v":0},0,"Andel vuxna djur och kalvar som avlivats eller självdött och som inte kan bli livsmedel"]

{"sheet":"2 Intro foder","index":6,"n_rows":37,"n_cols":15,"rows_kept":37,"cut":false,"hidden":false,"merged":[[15,2,15,5],[14,2,14,5],[8,2,8,5],[13,2,13,5],[12,2,12,5],[11,2,11,5],[10,2,10,5],[9,2,9,5]]}
["2 Intro foder",null,null,null,null,null,null,null,"Det här betyder färgerna:"]
[{"$f":"VLOOKUP(B10,'Teknisk administration'!G4:H6,2,FALSE)","v":"Obligatoriskt blad"},null,null,null,null,null,null,null,"Cell med värden hämtade från annan cell"]
["I del 2 fyller du i uppgifter om foder till djuren, inklusive bete och växtodling. Vissa uppgifter används på flera platser, så därför ska du fylla i dem på detta blad så förs de över till kommande blad.",null,null,null,null,null,null,null,"Fyll i din egen siffra"]
[null,null,null,null,null,null,null,null,"Möjligt fylla i eget värde, om du har"]
[null,null,null,null,null,null,null,null,"Resultat för nyckeltalet (cellen innehåller en formel)"]
["I tabellen nedan får du en kort beskrivning av bladen i del 2, och instruktion huruvida du behöver fylla i bladet. ",null,null,null,null,null,null,null,"Förklaringar till raden"]
[{"$f":"\"Instruktionen stryrs av dina svar på ja/nej-frågorna på Bakgrund, så gå tillbaks till Bakgrund om du vill ändra dina svar. \" & IF(Bakgrund!BG37=0,\"Du svarade att du inte är intresserad av foderfrågor så därför markeras bladen som ej relevanta för dig\",\"\")","v":"Instruktionen stryrs av dina svar på ja/nej-frågorna på Bakgrund, så gå tillbaks till Bakgrund om du vill ändra dina svar. "},null,null,null,null,null,null,null,"Plats för egna kommentarer"]
["Om du svarat att du vill ta fram nyckeltal om foderåtgång, förluster i foderkedjan och/eller växtnäringsutnyttjande kommer de blad som behöver fyllas i att markeras som obligatoriska"]
["Del 2. Foder","Ska bladet fyllas i?","Om bladet",null,null,null,null,null,"Snabblänkar till bladen i verktyget:"]
[{"$f":"C_Foder","v":"2 Intro foder"},{"$f":"IF(AND(Bakgrund!BG37=0,Bakgrund!BH37=0),'Teknisk administration'!G6,'Teknisk administration'!G4)","v":"obligatoriskt"},"Sammanställning av arealen åkermark, åkerbete och naturbete",null,null,null,null,null,"Instruktion"]
[{"$f":"C_Odling_foder","v":"2.1 Odling foder"},{"$f":"IF(B10='Teknisk administration'!$G$6,'Teknisk administration'!G6,IF(Bakgrund!AR37=0,'Teknisk administration'!$G$6,IF(SUM(Bakgrund!BG37:BH37)=0,'Teknisk administration'!$G$5,'Teknisk administration'!$G$4)))","v":"obligatoriskt"},"Mängden odlat foder (kg ts och MJ). Underlag för beräkna förluster i foderkedjan, kan även användas för att beräkna foderåtgång",null,null,null,null,null,"Bakgrund"]
[{"$f":"C_forluster_lagring","v":"2.2 Förluster vid lagring"},{"$f":"IF(B11=inte_relevant,inte_relevant,IF(Bakgrund!BH37>0,obligatoriskt,frivilligt))","v":"obligatoriskt"},"Förluster vid lagring av odlat foder, före uttag. Underlag för att beräkna förluster i foderkedjan",null,null,null,null,null,"1 Intro djuren"]
[{"$f":"C_N_inköpt","v":"2.3 Inköpt foder (exkl mineral)"},{"$f":"IF(Bakgrund!AS37=0,inte_relevant,IF(SUM(Bakgrund!BG37:BI37)=0,'Teknisk administration'!G5,'Teknisk administration'!G4))","v":"inte relevant för dig"},"Sammanställning av mängd inköpt foder (exkl mineralfoder). Underlag för att beräkna foderåtgång, förluster och växtnäringsutnyttjande",null,null,null,null,null,"1.1 Kött"]
[{"$f":"C_N_summering","v":"2.4 Utfodrat"},{"$f":"IF(Bakgrund!BG37>0,'Teknisk administration'!G4,'Teknisk administration'!G5)","v":"obligatoriskt"},"Beräknad foderåtgång (eget bärgat foder + inköpt foder). Underlag för beräkning av förluster i foderkedjan ",null,null,null,null,null,"1.2 Tillväxt & förökning"]
[{"$f":"'2.5. Kasserat foder och spill'!A1","v":"2.5. Kasserat foder och spill"},{"$f":"IF(Bakgrund!BH37>0,obligatoriskt,frivilligt)","v":"obligatoriskt"},"Kasserat foder (mögligt foder, skrotbalar etc.) och spill vid utfodring",null,null,null,null,null,"1.3 Hälsa & dödlighet"]
[{"$f":"C_N_bete","v":"2.6 Bete"},{"$f":"IF(Bakgrund!BB46=0,'Teknisk administration'!G6,'Teknisk administration'!G5)","v":"frivilligt"},"Beräkna mängden ts bete/hektar, djurens energibehov på betet och tillväxt",null,null,null,null,null,"2 Intro foder"]
[null,null,null,null,null,null,null,null,"2.1 Odling foder"]
[null,null,null,null,null,null,null,null,"2.2 Förluster vid lagring"]
[null,null,null,null,null,null,null,null,"2.3 Inköpt foder (exkl mineral)"]
[null,null,null,null,null,null,null,null,"2.4 Utfodrat"]
["Fyll i areal åkermark respektive naturbetesmark i gula celler. Om en kategori inte är relavant lämnar du cellen tom. ",null,null,null,null,null,null,null,"2.5. Kasserat foder och spill"]
["Areal åkermark","Enhet",{"$f":"Bakgrund!R$7","v":"Period 1"},{"$f":"Bakgrund!S$7","v":"Period 2"},{"$f":"Bakgrund!T$7","v":"Period 3"},"Förklaring","Egen kommentar",null,"2.6 Bete"]
["Avsalugrödor","hektar åker",null,null,null,"Arealer med spannmål, oljeväxter etc. som säljs och som inte används till eget foder",null,null,"3 Växtnäringsutnyttjande (1)"]
["Vall (slåttervall+bete)","hektar åker",null,null,null,"Vall som går till eget foder, både skördat och betat",null,null,"3 Växtnäringsutnyttjande (2)"]
["Spannmål/blandsäd till bete eller grönfoder","hektar åker",null,null,null,"Går till eget foder",null,null,"3 Växtnäringsutnyttjande (3)"]
["Proteingrödor till ensilering","hektar åker",null,null,null,"Proteingrödor som går till eget foder",null,null,"4 Energi och bränsle"]
["Spannmål till tröskning","hektar åker",null,null,null,"Spannmål som går till eget foder",null,null,"5 Vattenanvändning"]
["Proteingrödor till tröskning","hektar åker",null,null,null,"Proteingrödor som tröskas och går till eget foder",null,null,"6 Resultat"]
["Träda","hektar åker"]
["Övriga grödor","hektar åker",null,null,null,"Ej foder, t ex salix"]
["Total åkerareal","hektar åker",{"$f":"SUM(C23:C30)","v":0},{"$f":"SUM(D23:D30)","v":0},0,"Summering av alla rader ovan.",null,null,null,null,null,null,{"$f":"SUM(C23:C30)","v":0},{"$f":"SUM(D23:D30)","v":0},{"$f":"SUM(E23:E30)","v":0}]
["Varav areal åker för egen foderproduktion","hektar åker",{"$f":"SUM(C24:C28)","v":0},{"$f":"SUM(D24:D28)","v":0},0,"summering av raderna ovan, exklusive Areal avsalugrödor, träda och övriga grödor",null,null,null,null,null,null,{"$f":"SUM(C24:C28)","v":0},{"$f":"SUM(D24:D28)","v":0},{"$f":"SUM(E24:E28)","v":0}]
["Varav areal åkermark som enbart betats","hektar åker",null,null,null,"Ange här hur många hektar av åkermarken som enbart betats under perioden, d v s där det inte tagit någon vallskörd"]
["Varav areal åkermark där återväxt betats","hektar åker",null,null,null,"Ange här hur många hektar av åkermarken som djuren betat återväxten efter vall- eller grönfoderskörd."]
[]
["Areal naturbete","hektar naturbete"]
["Arealen naturbete som andel av den totala grovfoderareal","%",{"$f":"IF(C24+C25+C36=0,0,C36/(C24+C25+C36))","v":0},{"$f":"IF(D24+D25+D36=0,0,D36/(D24+D25+D36))","v":0},{"$f":"IF(E24+E25+E36=0,0,E36/(E24+E25+E36))","v":0},"Arealen naturbete dividerat med arealen vall, spannmål/blandsäd till grönfoder och naturbete"]

{"sheet":"2.1 Odling foder","index":7,"n_rows":197,"n_cols":48,"rows_kept":197,"cut":false,"hidden":false,"merged":[]}
["2.1 Odling foder",null,null,null,null,null,null,null,null,null,null,null,null,null,"Snabblänkar till bladen i verktyget:"]
[{"$f":"VLOOKUP('2 Intro foder'!B11,'Teknisk administration'!$G$4:$H$6,2,FALSE)","v":"Obligatoriskt blad"},null,null,null,null,null,null,null,null,null,null,null,"Det här betyder färgerna:",null,"Instruktion"]
["Här beräknar du mängden foder (MJ och kg ts) som odlats samt mängd halm som bärgas under perioden. Avsalugrödor, t ex brödspannmål, kan men behöver inte tas med. ",null,null,null,null,null,null,null,null,null,null,null,"Cell med värden hämtade från annan cell",null,"Bakgrund"]
["Räcker inte raderna till? Ta bort bladets skrivskydd (Granska/Skydda), inget lösenord krävs. Högerklicka i tabellen och välj Infoga > Infoga rad ovanför",null,null,null,null,null,null,null,null,null,null,null,"Fyll i din egen siffra",null,"1 Intro djuren"]
["Perioderna ligger under varandra på detta blad",null,null,null,null,null,null,null,null,null,null,null,"Resultat/uträkning",null,"1.1 Kött"]
[null,null,null,null,null,null,null,null,null,null,null,null,"Schablonvärde",null,"1.2 Tillväxt & förökning"]
[null,null,null,null,null,null,null,null,null,null,null,null,"Förklaringar till raden",null,"1.3 Hälsa & dödlighet"]
[null,null,null,null,null,null,null,null,null,null,null,null,"Plats för egna kommentarer",null,"2 Intro foder"]
[{"$f":"Bakgrund!R7","v":"Period 1"},null,null,null,null,null,null,null,null,null,null,null,"Fyll i egen siffra - frivilligt, t ex om du har tillgång till uppgift eller om du vill räkna med annat värde än det schablonvärde som visas i angränsande cell",null,"2.1 Odling foder"]
["Mängd vallfoder, direktutfodrad grönmassa och halm",null,null,null,null,null,null,null,null,null,null,null,"Egen uppgift, men välj värde ur rullista. ",null,"2.2 Förluster vid lagring"]
["Skördemängden kan anges med två olika alternativ: ",null,null,null,null,null,null,null,null,null,null,null,null,null,"2.3 Inköpt foder (exkl mineral)"]
["1. Fyll i färdigt värde om du mätt skörden som lagts in (kg och ts). ",null,null,null,null,null,null,null,null,null,null,null,null,null,"2.4 Utfodrat"]
["2. Uppskatta mängden (kg och ts) genom att beräkna volymen inlagt grovfoder och direktutfodrad grönmassa. ",null,null,null,null,null,null,null,null,null,null,null,null,null,"2.5. Kasserat foder och spill"]
["Du kan ha en kombination av alternativ under en och samma period, t ex om du inte vägt mängden vid varje skörd.  ",null,null,null,null,null,null,null,null,null,null,null,null,null,"2.6 Bete"]
["Börja med att välja typ av system (plansilo, rundbal, halm etc. i den vänstraste kolumnen. Då tänds de celler du ska skriva siffror i (gula celler) eller där du ska välja ur en lista (orange celler). Övriga celler i lämnar du tomma.",null,null,null,null,null,null,null,null,null,null,null,null,null,"3 Växtnäringsutnyttjande (1)"]
["När det gäller energi i fodret kan du antingen välja ur lista (orange cell) eller skriva in ett eget värde (ljusgul cell)",null,null,null,null,null,null,null,null,null,null,null,null,null,"3 Växtnäringsutnyttjande (2)"]
["Du kan lägga in flera rader med samma system, t ex om du vill särkilja 1:a 2:a och 3:e skörd eller vill räkna separat för olika skriften. Om du hellre vill det kan du lägga allt på en rad. ",null,null,null,null,null,null,null,null,null,null,null,null,null,"3 Växtnäringsutnyttjande (3)"]
[null,null,null,null,null,null,null,null,null,null,null,null,null,null,"4 Energi och bränsle"]
[null,null,null,null,null,null,null,null,null,null,null,null,null,null,"5 Vattenanvändning",null,null,null,null,null,null,null,null,null,null,null,null,null,null,null,null,null,null,null,null,null,null,null,null,null,null,null,"Gruppering av system"]
[null,null,null,null,null,null,null,null,null,null,null,null,null,null,"6 Resultat"]
["Alternativ 1. Har vägt skörden och har ts-analys"]
["Mängden ts och MJ beräknas först när MJ/kg ts, ts-halt och kg grönmassa fyllts i."]
[null,null,"Energi - välj ur lista eller skriv eget värde",null,"TS-halt (%)",null,"Mängd","Beräknad mängd foder*",null,null,null,null,null,null,null,null,null,null,null,null,null,null,null,null,null,null,null,null,null,null,null,null,null,null,null,null,null,null,null,null,null,null,"Plansilo","Torn","Storbalar (rund- och fyrkantsbalar)","Hö","Direktutfodrad grönmassa","Halm till foder"]
["System - välj alternativ ur listan!","Egen kommentar","Välj ur lista","Eget värde (MJ/kg ts)","% ts","Förklaring","kg grönmassa","kg ts","MJ","Kolumn1","Kolumn2","Kolumn3","Kolumn4","Kolumn5","Kolumn6","Kolumn7","Kolumn8","Kolumn9","Kolumn10","Kolumn11","Kolumn12","  ","TS-halt","Kolumn15","Kolumn16","Kolumn17","Kolumn18","Kolumn19","Kolumn20","Kolumn21","Kolumn22","Kolumn23","Kolumn24","Kolumn25","Kolumn26","Kolumn27","Kolumn28","Kolumn29","Kolumn30","Kolumn31","Kolumn32","MJ/kg ts","Plansilo12","Torn13","Storbalar (rund- och fyrkantsbalar)","Hö14","Direktutfodrad grönmassa15","Halm till foder"]
[null,null,null,null,null,{"$f":"IF(ISTEXT(A25),VLOOKUP(A25,Tabell203[],17,FALSE),\"\")","v":""},null,{"$f":"W25*G25","v":0},{"$f":"H25*IF(D25>0,D25,IF(AND(ISTEXT(A25),(OR(ISTEXT(C25),ISNUMBER(D25)))),IF(D25>0,D41,VLOOKUP(C25,INDIRECT(A25),2,FALSE)),0))","v":0},null,null,null,null,null,null,null,null,null,null,null,null,null,{"$f":"IF(ISTEXT(A25),IF(E25>0.000001,E25,VLOOKUP(A25,Tabell203[],2,FALSE)),0)","v":0},null,null,null,null,null,null,null,null,null,null,null,null,null,null,null,null,null,null,{"$f":"IF(AND(ISTEXT(A25),(OR(ISTEXT(C25),ISNUMBER(D25)))),IF(D25>0,D25,VLOOKUP(C25,INDIRECT(A25),2,FALSE)),0)","v":0},{"$f":"IF(ISTEXT($A25),VLOOKUP($A25,Tabell203[],11,FALSE),0)","v":0},{"$f":"IF(ISTEXT($A25),VLOOKUP($A25,Tabell203[],12,FALSE),0)","v":0},{"$f":"IF(ISTEXT($A25),VLOOKUP($A25,Tabell203[],13,FALSE),0)","v":0},{"$f":"IF(ISTEXT($A25),VLOOKUP($A25,Tabell203[],14,FALSE),0)","v":0},{"$f":"IF(ISTEXT($A25),VLOOKUP($A25,Tabell203[],15,FALSE),0)","v":0},{"$f":"IF(AND(ISTEXT($A25),AP25>0),VLOOKUP($A25,Tabell203[],16,FALSE),0)","v":0}]
[null,null,null,null,null,{"$f":"IF(ISTEXT(A26),VLOOKUP(A26,Tabell203[],17,FALSE),\"\")","v":""},null,0,0,null,null,null,null,null,null,null,null,null,null,null,null,null,{"$f":"IF(ISTEXT(A26),IF(E26>0.000001,E26,VLOOKUP(A26,Tabell203[],2,FALSE)),0)","v":0},null,null,null,null,null,null,null,null,null,null,null,null,null,null,null,null,null,null,0,{"$f":"IF(ISTEXT($A26),VLOOKUP($A26,Tabell203[],11,FALSE),0)","v":0},{"$f":"IF(ISTEXT($A26),VLOOKUP($A26,Tabell203[],12,FALSE),0)","v":0},{"$f":"IF(ISTEXT($A26),VLOOKUP($A26,Tabell203[],13,FALSE),0)","v":0},{"$f":"IF(ISTEXT($A26),VLOOKUP($A26,Tabell203[],14,FALSE),0)","v":0},{"$f":"IF(ISTEXT($A26),VLOOKUP($A26,Tabell203[],15,FALSE),0)","v":0},{"$f":"IF(AND(ISTEXT($A26),AP26>0),VLOOKUP($A26,Tabell203[],16,FALSE),0)","v":0}]
[null,null,null,null,null,{"$f":"IF(ISTEXT(A27),VLOOKUP(A27,Tabell203[],17,FALSE),\"\")","v":""},null,0,0,null,null,null,null,null,null,null,null,null,null,null,null,null,{"$f":"IF(ISTEXT(A27),IF(E27>0.000001,E27,VLOOKUP(A27,Tabell203[],2,FALSE)),0)","v":0},null,null,null,null,null,null,null,null,null,null,null,null,null,null,null,null,null,null,0,{"$f":"IF(ISTEXT($A27),VLOOKUP($A27,Tabell203[],11,FALSE),0)","v":0},{"$f":"IF(ISTEXT($A27),VLOOKUP($A27,Tabell203[],12,FALSE),0)","v":0},{"$f":"IF(ISTEXT($A27),VLOOKUP($A27,Tabell203[],13,FALSE),0)","v":0},{"$f":"IF(ISTEXT($A27),VLOOKUP($A27,Tabell203[],14,FALSE),0)","v":0},{"$f":"IF(ISTEXT($A27),VLOOKUP($A27,Tabell203[],15,FALSE),0)","v":0},{"$f":"IF(AND(ISTEXT($A27),AP27>0),VLOOKUP($A27,Tabell203[],16,FALSE),0)","v":0}]
[null,null,null,null,null,{"$f":"IF(ISTEXT(A28),VLOOKUP(A28,Tabell203[],17,FALSE),\"\")","v":""},null,0,0,null,null,null,null,null,null,null,null,null,null,null,null,null,{"$f":"IF(ISTEXT(A28),IF(E28>0.000001,E28,VLOOKUP(A28,Tabell203[],2,FALSE)),0)","v":0},null,null,null,null,null,null,null,null,null,null,null,null,null,null,null,null,null,null,0,{"$f":"IF(ISTEXT($A28),VLOOKUP($A28,Tabell203[],11,FALSE),0)","v":0},{"$f":"IF(ISTEXT($A28),VLOOKUP($A28,Tabell203[],12,FALSE),0)","v":0},{"$f":"IF(ISTEXT($A28),VLOOKUP($A28,Tabell203[],13,FALSE),0)","v":0},{"$f":"IF(ISTEXT($A28),VLOOKUP($A28,Tabell203[],14,FALSE),0)","v":0},{"$f":"IF(ISTEXT($A28),VLOOKUP($A28,Tabell203[],15,FALSE),0)","v":0},{"$f":"IF(AND(ISTEXT($A28),AP28>0),VLOOKUP($A28,Tabell203[],16,FALSE),0)","v":0}]
[null,null,null,null,null,{"$f":"IF(ISTEXT(A29),VLOOKUP(A29,Tabell203[],17,FALSE),\"\")","v":""},null,0,0,null,null,null,null,null,null,null,null,null,null,null,null,null,{"$f":"IF(ISTEXT(A29),IF(E29>0.000001,E29,VLOOKUP(A29,Tabell203[],2,FALSE)),0)","v":0},null,null,null,null,null,null,null,null,null,null,null,null,null,null,null,null,null,null,0,{"$f":"IF(ISTEXT($A29),VLOOKUP($A29,Tabell203[],11,FALSE),0)","v":0},{"$f":"IF(ISTEXT($A29),VLOOKUP($A29,Tabell203[],12,FALSE),0)","v":0},{"$f":"IF(ISTEXT($A29),VLOOKUP($A29,Tabell203[],13,FALSE),0)","v":0},{"$f":"IF(ISTEXT($A29),VLOOKUP($A29,Tabell203[],14,FALSE),0)","v":0},{"$f":"IF(ISTEXT($A29),VLOOKUP($A29,Tabell203[],15,FALSE),0)","v":0},{"$f":"IF(AND(ISTEXT($A29),AP29>0),VLOOKUP($A29,Tabell203[],16,FALSE),0)","v":0}]
[null,null,null,null,null,{"$f":"IF(ISTEXT(A30),VLOOKUP(A30,Tabell203[],17,FALSE),\"\")","v":""},null,0,0,null,null,null,null,null,null,null,null,null,null,null,null,null,{"$f":"IF(ISTEXT(A30),IF(E30>0.000001,E30,VLOOKUP(A30,Tabell203[],2,FALSE)),0)","v":0},null,null,null,null,null,null,null,null,null,null,null,null,null,null,null,null,null,null,0,{"$f":"IF(ISTEXT($A30),VLOOKUP($A30,Tabell203[],11,FALSE),0)","v":0},{"$f":"IF(ISTEXT($A30),VLOOKUP($A30,Tabell203[],12,FALSE),0)","v":0},{"$f":"IF(ISTEXT($A30),VLOOKUP($A30,Tabell203[],13,FALSE),0)","v":0},{"$f":"IF(ISTEXT($A30),VLOOKUP($A30,Tabell203[],14,FALSE),0)","v":0},{"$f":"IF(ISTEXT($A30),VLOOKUP($A30,Tabell203[],15,FALSE),0)","v":0},{"$f":"IF(AND(ISTEXT($A30),AP30>0),VLOOKUP($A30,Tabell203[],16,FALSE),0)","v":0}]
[null,null,null,null,null,{"$f":"IF(ISTEXT(A31),VLOOKUP(A31,Tabell203[],17,FALSE),\"\")","v":""},null,0,0,null,null,null,null,null,null,null,null,null,null,null,null,null,{"$f":"IF(ISTEXT(A31),IF(E31>0.000001,E31,VLOOKUP(A31,Tabell203[],2,FALSE)),0)","v":0},null,null,null,null,null,null,null,null,null,null,null,null,null,null,null,null,null,null,0,{"$f":"IF(ISTEXT($A31),VLOOKUP($A31,Tabell203[],11,FALSE),0)","v":0},{"$f":"IF(ISTEXT($A31),VLOOKUP($A31,Tabell203[],12,FALSE),0)","v":0},{"$f":"IF(ISTEXT($A31),VLOOKUP($A31,Tabell203[],13,FALSE),0)","v":0},{"$f":"IF(ISTEXT($A31),VLOOKUP($A31,Tabell203[],14,FALSE),0)","v":0},{"$f":"IF(ISTEXT($A31),VLOOKUP($A31,Tabell203[],15,FALSE),0)","v":0},{"$f":"IF(AND(ISTEXT($A31),AP31>0),VLOOKUP($A31,Tabell203[],16,FALSE),0)","v":0}]
[null,null,null,null,null,{"$f":"IF(ISTEXT(A32),VLOOKUP(A32,Tabell203[],17,FALSE),\"\")","v":""},null,0,0,null,null,null,null,null,null,null,null,null,null,null,null,null,{"$f":"IF(ISTEXT(A32),IF(E32>0.000001,E32,VLOOKUP(A32,Tabell203[],2,FALSE)),0)","v":0},null,null,null,null,null,null,null,null,null,null,null,null,null,null,null,null,null,null,0,{"$f":"IF(ISTEXT($A32),VLOOKUP($A32,Tabell203[],11,FALSE),0)","v":0},{"$f":"IF(ISTEXT($A32),VLOOKUP($A32,Tabell203[],12,FALSE),0)","v":0},{"$f":"IF(ISTEXT($A32),VLOOKUP($A32,Tabell203[],13,FALSE),0)","v":0},{"$f":"IF(ISTEXT($A32),VLOOKUP($A32,Tabell203[],14,FALSE),0)","v":0},{"$f":"IF(ISTEXT($A32),VLOOKUP($A32,Tabell203[],15,FALSE),0)","v":0},{"$f":"IF(AND(ISTEXT($A32),AP32>0),VLOOKUP($A32,Tabell203[],16,FALSE),0)","v":0}]
["Totalt",null,null,null,null,null,null,{"$f":"SUM(H25:H32)","v":0},{"$f":"SUM(I25:I32)","v":0}]
[null,null,null,null,null,null,null,"* All halm (foder och strö) visas i summan här, men det är bara mängden foderhalm som följer med till kommande beräkningar"]
[]
[]
["Alternativ 2. Har inte vägt skörden, behöver räkna ut mängden skördat",null,null,null,null,null,null,null,null,null,null,null,null,null,null,null,null,"ska dölja"]
["Om det står \"Saknas!\" eller \"0\" under rubriken \"Beräknad mängd foder\" beror det på att någon uppgift saknas. Kontrollera då att du fyllt i alla gula celler på raden samt valt något i alla orange celler på raden",null,null,null,null,null,null,null,null,null,null,null,null,null,null,null,null,"Beskrivning av systemet",null,null,null,null,"TS-halt","Vilket system? 1=ja, 0=nej",null,null,null,null,null,null,null,null,"Volymvikt (kg ts/m3)",null,null,null,null,null,null,null,null,"Energi","Gruppering av system"]
[null,null,"Energi - välj ur lista eller skriv eget värde",null,"TS-halt (%)",null,"Antal balar eller lass grönmassa","Mängd per lass grönmassa","Teknik - inläggning, pressning etc. ","Lagrets respektive balarnas storlek",null,null,null,"Beräknad mängd foder*",null,null,null,null,null,null,null,null,null,{"$f":"'Teknisk administration'!$B$391","v":"Plansilo"},{"$f":"'Teknisk administration'!$B$392","v":"Torn"},{"$f":"'Teknisk administration'!$B$393","v":"Rundbalar"},{"$f":"'Teknisk administration'!$B$394","v":"Fyrkantsbalar_ensilage"},{"$f":"'Teknisk administration'!$B$397","v":"Hö"},{"$f":"'Teknisk administration'!$B$396","v":"Direktutfodrad_grönmassa"},{"$f":"'Teknisk administration'!$B$398","v":"Halm"},{"$f":"'Teknisk administration'!$B$395","v":"Fyrkantsbalar_hö"},{"$f":"'Teknisk administration'!$B$399","v":0},{"$f":"X39","v":"Plansilo"},"Torn","Rundbalar","Fyrkantsbalar_ensilage","Hö","Direktutfodrad_grönmassa","Halm","Fyrkantsbalar_hö",0,"MJ/kg ts","Plansilo","Torn","Storbalar (rund- och fyrkantsbalar)","Hö","Direktutfodrad","Halm till foder"]
["System - välj alternativ ur listan!","Egen kommentar","Välj ur lista","Eget värde (MJ/kg ts)","% ts","Förklaring","stycken","m3","välj ur listan i orange celler!","Höjd (m)","Bredd (m)","Längd (m)","Förklaring för volymberäkning","Volym (m3)","Volymvikt (kg ts/m3)","Mängd (kg ts)","Mängd (MJ)","Antal","Mängd per lass","Teknik","rätblock","cylinder","TS-halt","Plansilo","Torn","Rundbalar","Fyrkantsbalar","Hö","Grönfoder","Halm","Fyrkantsbalar_hö","tom","Plansilo3","Torn4","Rundbalar5","Fyrkantsbalar6","Hö7","Direktutfodrat","Kolumn1","Fyrkantsbalar_hö2","Visa ts?","MJ/kg ts","Plansilo12","Torn13","Storbalar (rund- och fyrkantsbalar)","Hö14","Direktutfodrad","Halm till foder"]
[null,null,null,null,null,{"$f":"IF(ISTEXT(A41),VLOOKUP(A41,Tabell203[],3,FALSE),\"\")","v":""},null,null,null,null,null,null,{"$f":"IF(ISTEXT(A41),VLOOKUP(A41,Tabell203[],10,FALSE),\"\")","v":""},{"$f":"IF(ISTEXT(A41),IF(U41=1,J41*K41*L41,IF(V41=1,J41*(K41/2)^2*PI(),1))*IF(R41=1,G41,1)*IF(S41=1,H41,1),0)","v":0},{"$f":"SUM(AG41:AN41)","v":0},{"$f":"N41*O41","v":0},{"$f":"P41*AP41","v":0},{"$f":"IF(ISTEXT(A41),VLOOKUP(A41,Tabell203[],4,FALSE),0)","v":0},{"$f":"IF(ISTEXT(A41),VLOOKUP(A41,Tabell203[],6,FALSE),0)","v":0},{"$f":"IF(ISTEXT(A41),VLOOKUP(A41,Tabell203[],5,FALSE),0)","v":0},{"$f":"IF(ISTEXT(A41),VLOOKUP(A41,Tabell203[],8,FALSE),0)","v":0},{"$f":"IF(ISTEXT(A41),VLOOKUP(A41,Tabell203[],9,FALSE),0)","v":0},{"$f":"IF(ISTEXT(A41),IF(E41>0.000001,E41,VLOOKUP(A41,Tabell203[],2,FALSE)),0)","v":0},{"$f":"IF($A41=X$39,1,0)","v":0},0,0,{"$f":"IF($A41=AA$39,1,0)","v":0},0,0,0,0,1,{"$f":"IF(X41=1,VLOOKUP(I41,Tabell220[],2,FALSE),0)","v":0},{"$f":"IF(Y41=1,IF(OR(W41<'Teknisk administration'!$P$262,W41>'Teknisk administration'!$P$263),'Teknisk administration'!$Q$262*J41^2+'Teknisk administration'!$R$262*J41+'Teknisk administration'!$S$262,'Teknisk administration'!$Q$263*J41^2+'Teknisk administration'!$R$263*J41+'Teknisk administration'!$S$263),0)","v":0},{"$f":"IF(Z41=1,VLOOKUP(I41,Tabell214[],2,FALSE)*W41+VLOOKUP(I41,Tabell214[],3,FALSE),0)","v":0},{"$f":"IF(AA41=1,VLOOKUP(I41,Tabell215[],2,FALSE)*W41+VLOOKUP(I41,Tabell215[],3,FALSE),0)","v":0},{"$f":"IF(AB41=1,VLOOKUP(I41,Tabell216[],2,FALSE)*W41,0)","v":0},{"$f":"IF(AC41=1,'Teknisk administration'!$AP$377,0)","v":0},{"$f":"IF(AD41=1,VLOOKUP($I41,Tabell217[],2,FALSE)*$W41,0)","v":0},{"$f":"IF(AE41=1,VLOOKUP($I41,Tabell29[],2,FALSE)*$W41,0)","v":0},{"$f":"IF(ISTEXT(A41),VLOOKUP(A41,Tabell203[],7,FALSE),0)","v":0},{"$f":"IF(AND(ISTEXT(A41),(OR(ISTEXT(C41),ISNUMBER(D41)))),IF(D41>0,D41,VLOOKUP(C41,INDIRECT(A41),2,FALSE)),0)","v":0},{"$f":"IF(ISTEXT($A41),VLOOKUP($A41,Tabell203[],11,FALSE),0)","v":0},{"$f":"IF(ISTEXT($A41),VLOOKUP($A41,Tabell203[],12,FALSE),0)","v":0},{"$f":"IF(ISTEXT($A41),VLOOKUP($A41,Tabell203[],13,FALSE),0)","v":0},{"$f":"IF(ISTEXT($A41),VLOOKUP($A41,Tabell203[],14,FALSE),0)","v":0},{"$f":"IF(ISTEXT($A41),VLOOKUP($A41,Tabell203[],15,FALSE),0)","v":0},{"$f":"IF(AND(ISTEXT($A41),AP41>0),VLOOKUP($A41,Tabell203[],16,FALSE),0)","v":0}]
[null,null,null,null,null,{"$f":"IF(ISTEXT(A42),VLOOKUP(A42,Tabell203[],3,FALSE),\"\")","v":""},null,null,null,null,null,null,{"$f":"IF(ISTEXT(A42),VLOOKUP(A42,Tabell203[],10,FALSE),\"\")","v":""},0,0,0,0,{"$f":"IF(ISTEXT(A42),VLOOKUP(A42,Tabell203[],4,FALSE),0)","v":0},{"$f":"IF(ISTEXT(A42),VLOOKUP(A42,Tabell203[],6,FALSE),0)","v":0},{"$f":"IF(ISTEXT(A42),VLOOKUP(A42,Tabell203[],5,FALSE),0)","v":0},{"$f":"IF(ISTEXT(A42),VLOOKUP(A42,Tabell203[],8,FALSE),0)","v":0},{"$f":"IF(ISTEXT(A42),VLOOKUP(A42,Tabell203[],9,FALSE),0)","v":0},{"$f":"IF(ISTEXT(A42),IF(E42>0.000001,E42,VLOOKUP(A42,Tabell203[],2,FALSE)),0)","v":0},0,0,0,0,0,0,0,0,1,{"$f":"IF(X42=1,VLOOKUP(I42,Tabell220[],2,FALSE),0)","v":0},{"$f":"IF(Y42=1,IF(OR(W42<'Teknisk administration'!$P$262,W42>'Teknisk administration'!$P$263),'Teknisk administration'!$Q$262*J42^2+'Teknisk administration'!$R$262*J42+'Teknisk administration'!$S$262,'Teknisk administration'!$Q$263*J42^2+'Teknisk administration'!$R$263*J42+'Teknisk administration'!$S$263),0)","v":0},{"$f":"IF(Z42=1,VLOOKUP(I42,Tabell214[],2,FALSE)*W42+VLOOKUP(I42,Tabell214[],3,FALSE),0)","v":0},{"$f":"IF(AA42=1,VLOOKUP(I42,Tabell215[],2,FALSE)*W42+VLOOKUP(I42,Tabell215[],3,FALSE),0)","v":0},{"$f":"IF(AB42=1,VLOOKUP(I42,Tabell216[],2,FALSE)*W42,0)","v":0},{"$f":"IF(AC42=1,'Teknisk administration'!$AP$377,0)","v":0},{"$f":"IF(AD42=1,VLOOKUP($I42,Tabell217[],2,FALSE)*$W42,0)","v":0},{"$f":"IF(AE42=1,VLOOKUP($I42,Tabell29[],2,FALSE)*$W42,0)","v":0},{"$f":"IF(ISTEXT(A42),VLOOKUP(A42,Tabell203[],7,FALSE),0)","v":0},0,{"$f":"IF(ISTEXT($A42),VLOOKUP($A42,Tabell203[],11,FALSE),0)","v":0},{"$f":"IF(ISTEXT($A42),VLOOKUP($A42,Tabell203[],12,FALSE),0)","v":0},{"$f":"IF(ISTEXT($A42),VLOOKUP($A42,Tabell203[],13,FALSE),0)","v":0},{"$f":"IF(ISTEXT($A42),VLOOKUP($A42,Tabell203[],14,FALSE),0)","v":0},{"$f":"IF(ISTEXT($A42),VLOOKUP($A42,Tabell203[],15,FALSE),0)","v":0},{"$f":"IF(AND(ISTEXT($A42),AP42>0),VLOOKUP($A42,Tabell203[],16,FALSE),0)","v":0}]
[null,null,null,null,null,{"$f":"IF(ISTEXT(A43),VLOOKUP(A43,Tabell203[],3,FALSE),\"\")","v":""},null,null,null,null,null,null,{"$f":"IF(ISTEXT(A43),VLOOKUP(A43,Tabell203[],10,FALSE),\"\")","v":""},0,0,0,0,{"$f":"IF(ISTEXT(A43),VLOOKUP(A43,Tabell203[],4,FALSE),0)","v":0},{"$f":"IF(ISTEXT(A43),VLOOKUP(A43,Tabell203[],6,FALSE),0)","v":0},{"$f":"IF(ISTEXT(A43),VLOOKUP(A43,Tabell203[],5,FALSE),0)","v":0},{"$f":"IF(ISTEXT(A43),VLOOKUP(A43,Tabell203[],8,FALSE),0)","v":0},{"$f":"IF(ISTEXT(A43),VLOOKUP(A43,Tabell203[],9,FALSE),0)","v":0},{"$f":"IF(ISTEXT(A43),IF(E43>0.000001,E43,VLOOKUP(A43,Tabell203[],2,FALSE)),0)","v":0},0,0,0,0,0,0,0,0,1,{"$f":"IF(X43=1,VLOOKUP(I43,Tabell220[],2,FALSE),0)","v":0},{"$f":"IF(Y43=1,IF(OR(W43<'Teknisk administration'!$P$262,W43>'Teknisk administration'!$P$263),'Teknisk administration'!$Q$262*J43^2+'Teknisk administration'!$R$262*J43+'Teknisk administration'!$S$262,'Teknisk administration'!$Q$263*J43^2+'Teknisk administration'!$R$263*J43+'Teknisk administration'!$S$263),0)","v":0},{"$f":"IF(Z43=1,VLOOKUP(I43,Tabell214[],2,FALSE)*W43+VLOOKUP(I43,Tabell214[],3,FALSE),0)","v":0},{"$f":"IF(AA43=1,VLOOKUP(I43,Tabell215[],2,FALSE)*W43+VLOOKUP(I43,Tabell215[],3,FALSE),0)","v":0},{"$f":"IF(AB43=1,VLOOKUP(I43,Tabell216[],2,FALSE)*W43,0)","v":0},{"$f":"IF(AC43=1,'Teknisk administration'!$AP$377,0)","v":0},{"$f":"IF(AD43=1,VLOOKUP($I43,Tabell217[],2,FALSE)*$W43,0)","v":0},{"$f":"IF(AE43=1,VLOOKUP($I43,Tabell29[],2,FALSE)*$W43,0)","v":0},{"$f":"IF(ISTEXT(A43),VLOOKUP(A43,Tabell203[],7,FALSE),0)","v":0},0,{"$f":"IF(ISTEXT($A43),VLOOKUP($A43,Tabell203[],11,FALSE),0)","v":0},{"$f":"IF(ISTEXT($A43),VLOOKUP($A43,Tabell203[],12,FALSE),0)","v":0},{"$f":"IF(ISTEXT($A43),VLOOKUP($A43,Tabell203[],13,FALSE),0)","v":0},{"$f":"IF(ISTEXT($A43),VLOOKUP($A43,Tabell203[],14,FALSE),0)","v":0},{"$f":"IF(ISTEXT($A43),VLOOKUP($A43,Tabell203[],15,FALSE),0)","v":0},{"$f":"IF(AND(ISTEXT($A43),AP43>0),VLOOKUP($A43,Tabell203[],16,FALSE),0)","v":0}]
[null,null,null,null,null,{"$f":"IF(ISTEXT(A44),VLOOKUP(A44,Tabell203[],3,FALSE),\"\")","v":""},null,null,null,null,null,null,{"$f":"IF(ISTEXT(A44),VLOOKUP(A44,Tabell203[],10,FALSE),\"\")","v":""},0,0,0,0,{"$f":"IF(ISTEXT(A44),VLOOKUP(A44,Tabell203[],4,FALSE),0)","v":0},{"$f":"IF(ISTEXT(A44),VLOOKUP(A44,Tabell203[],6,FALSE),0)","v":0},{"$f":"IF(ISTEXT(A44),VLOOKUP(A44,Tabell203[],5,FALSE),0)","v":0},{"$f":"IF(ISTEXT(A44),VLOOKUP(A44,Tabell203[],8,FALSE),0)","v":0},{"$f":"IF(ISTEXT(A44),VLOOKUP(A44,Tabell203[],9,FALSE),0)","v":0},{"$f":"IF(ISTEXT(A44),IF(E44>0.000001,E44,VLOOKUP(A44,Tabell203[],2,FALSE)),0)","v":0},0,0,0,0,0,0,0,0,1,{"$f":"IF(X44=1,VLOOKUP(I44,Tabell220[],2,FALSE),0)","v":0},{"$f":"IF(Y44=1,IF(OR(W44<'Teknisk administration'!$P$262,W44>'Teknisk administration'!$P$263),'Teknisk administration'!$Q$262*J44^2+'Teknisk administration'!$R$262*J44+'Teknisk administration'!$S$262,'Teknisk administration'!$Q$263*J44^2+'Teknisk administration'!$R$263*J44+'Teknisk administration'!$S$263),0)","v":0},{"$f":"IF(Z44=1,VLOOKUP(I44,Tabell214[],2,FALSE)*W44+VLOOKUP(I44,Tabell214[],3,FALSE),0)","v":0},{"$f":"IF(AA44=1,VLOOKUP(I44,Tabell215[],2,FALSE)*W44+VLOOKUP(I44,Tabell215[],3,FALSE),0)","v":0},{"$f":"IF(AB44=1,VLOOKUP(I44,Tabell216[],2,FALSE)*W44,0)","v":0},{"$f":"IF(AC44=1,'Teknisk administration'!$AP$377,0)","v":0},{"$f":"IF(AD44=1,VLOOKUP($I44,Tabell217[],2,FALSE)*$W44,0)","v":0},{"$f":"IF(AE44=1,VLOOKUP($I44,Tabell29[],2,FALSE)*$W44,0)","v":0},{"$f":"IF(ISTEXT(A44),VLOOKUP(A44,Tabell203[],7,FALSE),0)","v":0},0,{"$f":"IF(ISTEXT($A44),VLOOKUP($A44,Tabell203[],11,FALSE),0)","v":0},{"$f":"IF(ISTEXT($A44),VLOOKUP($A44,Tabell203[],12,FALSE),0)","v":0},{"$f":"IF(ISTEXT($A44),VLOOKUP($A44,Tabell203[],13,FALSE),0)","v":0},{"$f":"IF(ISTEXT($A44),VLOOKUP($A44,Tabell203[],14,FALSE),0)","v":0},{"$f":"IF(ISTEXT($A44),VLOOKUP($A44,Tabell203[],15,FALSE),0)","v":0},{"$f":"IF(AND(ISTEXT($A44),AP44>0),VLOOKUP($A44,Tabell203[],16,FALSE),0)","v":0}]
[null,null,null,null,null,{"$f":"IF(ISTEXT(A45),VLOOKUP(A45,Tabell203[],3,FALSE),\"\")","v":""},null,null,null,null,null,null,{"$f":"IF(ISTEXT(A45),VLOOKUP(A45,Tabell203[],10,FALSE),\"\")","v":""},0,0,0,0,{"$f":"IF(ISTEXT(A45),VLOOKUP(A45,Tabell203[],4,FALSE),0)","v":0},{"$f":"IF(ISTEXT(A45),VLOOKUP(A45,Tabell203[],6,FALSE),0)","v":0},{"$f":"IF(ISTEXT(A45),VLOOKUP(A45,Tabell203[],5,FALSE),0)","v":0},{"$f":"IF(ISTEXT(A45),VLOOKUP(A45,Tabell203[],8,FALSE),0)","v":0},{"$f":"IF(ISTEXT(A45),VLOOKUP(A45,Tabell203[],9,FALSE),0)","v":0},{"$f":"IF(ISTEXT(A45),IF(E45>0.000001,E45,VLOOKUP(A45,Tabell203[],2,FALSE)),0)","v":0},0,0,0,0,0,0,0,0,1,{"$f":"IF(X45=1,VLOOKUP(I45,Tabell220[],2,FALSE),0)","v":0},{"$f":"IF(Y45=1,IF(OR(W45<'Teknisk administration'!$P$262,W45>'Teknisk administration'!$P$263),'Teknisk administration'!$Q$262*J45^2+'Teknisk administration'!$R$262*J45+'Teknisk administration'!$S$262,'Teknisk administration'!$Q$263*J45^2+'Teknisk administration'!$R$263*J45+'Teknisk administration'!$S$263),0)","v":0},{"$f":"IF(Z45=1,VLOOKUP(I45,Tabell214[],2,FALSE)*W45+VLOOKUP(I45,Tabell214[],3,FALSE),0)","v":0},{"$f":"IF(AA45=1,VLOOKUP(I45,Tabell215[],2,FALSE)*W45+VLOOKUP(I45,Tabell215[],3,FALSE),0)","v":0},{"$f":"IF(AB45=1,VLOOKUP(I45,Tabell216[],2,FALSE)*W45,0)","v":0},{"$f":"IF(AC45=1,'Teknisk administration'!$AP$377,0)","v":0},{"$f":"IF(AD45=1,VLOOKUP($I45,Tabell217[],2,FALSE)*$W45,0)","v":0},{"$f":"IF(AE45=1,VLOOKUP($I45,Tabell29[],2,FALSE)*$W45,0)","v":0},{"$f":"IF(ISTEXT(A45),VLOOKUP(A45,Tabell203[],7,FALSE),0)","v":0},0,{"$f":"IF(ISTEXT($A45),VLOOKUP($A45,Tabell203[],11,FALSE),0)","v":0},{"$f":"IF(ISTEXT($A45),VLOOKUP($A45,Tabell203[],12,FALSE),0)","v":0},{"$f":"IF(ISTEXT($A45),VLOOKUP($A45,Tabell203[],13,FALSE),0)","v":0},{"$f":"IF(ISTEXT($A45),VLOOKUP($A45,Tabell203[],14,FALSE),0)","v":0},{"$f":"IF(ISTEXT($A45),VLOOKUP($A45,Tabell203[],15,FALSE),0)","v":0},{"$f":"IF(AND(ISTEXT($A45),AP45>0),VLOOKUP($A45,Tabell203[],16,FALSE),0)","v":0}]
[null,null,null,null,null,{"$f":"IF(ISTEXT(A46),VLOOKUP(A46,Tabell203[],3,FALSE),\"\")","v":""},null,null,null,null,null,null,{"$f":"IF(ISTEXT(A46),VLOOKUP(A46,Tabell203[],10,FALSE),\"\")","v":""},0,0,0,0,{"$f":"IF(ISTEXT(A46),VLOOKUP(A46,Tabell203[],4,FALSE),0)","v":0},{"$f":"IF(ISTEXT(A46),VLOOKUP(A46,Tabell203[],6,FALSE),0)","v":0},{"$f":"IF(ISTEXT(A46),VLOOKUP(A46,Tabell203[],5,FALSE),0)","v":0},{"$f":"IF(ISTEXT(A46),VLOOKUP(A46,Tabell203[],8,FALSE),0)","v":0},{"$f":"IF(ISTEXT(A46),VLOOKUP(A46,Tabell203[],9,FALSE),0)","v":0},{"$f":"IF(ISTEXT(A46),IF(E46>0.000001,E46,VLOOKUP(A46,Tabell203[],2,FALSE)),0)","v":0},0,0,0,0,0,0,0,0,1,{"$f":"IF(X46=1,VLOOKUP(I46,Tabell220[],2,FALSE),0)","v":0},{"$f":"IF(Y46=1,IF(OR(W46<'Teknisk administration'!$P$262,W46>'Teknisk administration'!$P$263),'Teknisk administration'!$Q$262*J46^2+'Teknisk administration'!$R$262*J46+'Teknisk administration'!$S$262,'Teknisk administration'!$Q$263*J46^2+'Teknisk administration'!$R$263*J46+'Teknisk administration'!$S$263),0)","v":0},{"$f":"IF(Z46=1,VLOOKUP(I46,Tabell214[],2,FALSE)*W46+VLOOKUP(I46,Tabell214[],3,FALSE),0)","v":0},{"$f":"IF(AA46=1,VLOOKUP(I46,Tabell215[],2,FALSE)*W46+VLOOKUP(I46,Tabell215[],3,FALSE),0)","v":0},{"$f":"IF(AB46=1,VLOOKUP(I46,Tabell216[],2,FALSE)*W46,0)","v":0},{"$f":"IF(AC46=1,'Teknisk administration'!$AP$377,0)","v":0},{"$f":"IF(AD46=1,VLOOKUP($I46,Tabell217[],2,FALSE)*$W46,0)","v":0},{"$f":"IF(AE46=1,VLOOKUP($I46,Tabell29[],2,FALSE)*$W46,0)","v":0},{"$f":"IF(ISTEXT(A46),VLOOKUP(A46,Tabell203[],7,FALSE),0)","v":0},0,{"$f":"IF(ISTEXT($A46),VLOOKUP($A46,Tabell203[],11,FALSE),0)","v":0},{"$f":"IF(ISTEXT($A46),VLOOKUP($A46,Tabell203[],12,FALSE),0)","v":0},{"$f":"IF(ISTEXT($A46),VLOOKUP($A46,Tabell203[],13,FALSE),0)","v":0},{"$f":"IF(ISTEXT($A46),VLOOKUP($A46,Tabell203[],14,FALSE),0)","v":0},{"$f":"IF(ISTEXT($A46),VLOOKUP($A46,Tabell203[],15,FALSE),0)","v":0},{"$f":"IF(AND(ISTEXT($A46),AP46>0),VLOOKUP($A46,Tabell203[],16,FALSE),0)","v":0}]
[null,null,null,null,null,{"$f":"IF(ISTEXT(A47),VLOOKUP(A47,Tabell203[],3,FALSE),\"\")","v":""},null,null,null,null,null,null,{"$f":"IF(ISTEXT(A47),VLOOKUP(A47,Tabell203[],10,FALSE),\"\")","v":""},0,0,0,0,{"$f":"IF(ISTEXT(A47),VLOOKUP(A47,Tabell203[],4,FALSE),0)","v":0},{"$f":"IF(ISTEXT(A47),VLOOKUP(A47,Tabell203[],6,FALSE),0)","v":0},{"$f":"IF(ISTEXT(A47),VLOOKUP(A47,Tabell203[],5,FALSE),0)","v":0},{"$f":"IF(ISTEXT(A47),VLOOKUP(A47,Tabell203[],8,FALSE),0)","v":0},{"$f":"IF(ISTEXT(A47),VLOOKUP(A47,Tabell203[],9,FALSE),0)","v":0},{"$f":"IF(ISTEXT(A47),IF(E47>0.000001,E47,VLOOKUP(A47,Tabell203[],2,FALSE)),0)","v":0},0,0,0,0,0,0,0,0,1,{"$f":"IF(X47=1,VLOOKUP(I47,Tabell220[],2,FALSE),0)","v":0},{"$f":"IF(Y47=1,IF(OR(W47<'Teknisk administration'!$P$262,W47>'Teknisk administration'!$P$263),'Teknisk administration'!$Q$262*J47^2+'Teknisk administration'!$R$262*J47+'Teknisk administration'!$S$262,'Teknisk administration'!$Q$263*J47^2+'Teknisk administration'!$R$263*J47+'Teknisk administration'!$S$263),0)","v":0},{"$f":"IF(Z47=1,VLOOKUP(I47,Tabell214[],2,FALSE)*W47+VLOOKUP(I47,Tabell214[],3,FALSE),0)","v":0},{"$f":"IF(AA47=1,VLOOKUP(I47,Tabell215[],2,FALSE)*W47+VLOOKUP(I47,Tabell215[],3,FALSE),0)","v":0},{"$f":"IF(AB47=1,VLOOKUP(I47,Tabell216[],2,FALSE)*W47,0)","v":0},{"$f":"IF(AC47=1,'Teknisk administration'!$AP$377,0)","v":0},{"$f":"IF(AD47=1,VLOOKUP($I47,Tabell217[],2,FALSE)*$W47,0)","v":0},{"$f":"IF(AE47=1,VLOOKUP($I47,Tabell29[],2,FALSE)*$W47,0)","v":0},{"$f":"IF(ISTEXT(A47),VLOOKUP(A47,Tabell203[],7,FALSE),0)","v":0},0,{"$f":"IF(ISTEXT($A47),VLOOKUP($A47,Tabell203[],11,FALSE),0)","v":0},{"$f":"IF(ISTEXT($A47),VLOOKUP($A47,Tabell203[],12,FALSE),0)","v":0},{"$f":"IF(ISTEXT($A47),VLOOKUP($A47,Tabell203[],13,FALSE),0)","v":0},{"$f":"IF(ISTEXT($A47),VLOOKUP($A47,Tabell203[],14,FALSE),0)","v":0},{"$f":"IF(ISTEXT($A47),VLOOKUP($A47,Tabell203[],15,FALSE),0)","v":0},{"$f":"IF(AND(ISTEXT($A47),AP47>0),VLOOKUP($A47,Tabell203[],16,FALSE),0)","v":0}]
[null,null,null,null,null,{"$f":"IF(ISTEXT(A48),VLOOKUP(A48,Tabell203[],3,FALSE),\"\")","v":""},null,null,null,null,null,null,{"$f":"IF(ISTEXT(A48),VLOOKUP(A48,Tabell203[],10,FALSE),\"\")","v":""},0,0,0,0,{"$f":"IF(ISTEXT(A48),VLOOKUP(A48,Tabell203[],4,FALSE),0)","v":0},{"$f":"IF(ISTEXT(A48),VLOOKUP(A48,Tabell203[],6,FALSE),0)","v":0},{"$f":"IF(ISTEXT(A48),VLOOKUP(A48,Tabell203[],5,FALSE),0)","v":0},{"$f":"IF(ISTEXT(A48),VLOOKUP(A48,Tabell203[],8,FALSE),0)","v":0},{"$f":"IF(ISTEXT(A48),VLOOKUP(A48,Tabell203[],9,FALSE),0)","v":0},{"$f":"IF(ISTEXT(A48),IF(E48>0.000001,E48,VLOOKUP(A48,Tabell203[],2,FALSE)),0)","v":0},0,0,0,0,0,0,0,0,1,{"$f":"IF(X48=1,VLOOKUP(I48,Tabell220[],2,FALSE),0)","v":0},{"$f":"IF(Y48=1,IF(OR(W48<'Teknisk administration'!$P$262,W48>'Teknisk administration'!$P$263),'Teknisk administration'!$Q$262*J48^2+'Teknisk administration'!$R$262*J48+'Teknisk administration'!$S$262,'Teknisk administration'!$Q$263*J48^2+'Teknisk administration'!$R$263*J48+'Teknisk administration'!$S$263),0)","v":0},{"$f":"IF(Z48=1,VLOOKUP(I48,Tabell214[],2,FALSE)*W48+VLOOKUP(I48,Tabell214[],3,FALSE),0)","v":0},{"$f":"IF(AA48=1,VLOOKUP(I48,Tabell215[],2,FALSE)*W48+VLOOKUP(I48,Tabell215[],3,FALSE),0)","v":0},{"$f":"IF(AB48=1,VLOOKUP(I48,Tabell216[],2,FALSE)*W48,0)","v":0},{"$f":"IF(AC48=1,'Teknisk administration'!$AP$377,0)","v":0},{"$f":"IF(AD48=1,VLOOKUP($I48,Tabell217[],2,FALSE)*$W48,0)","v":0},{"$f":"IF(AE48=1,VLOOKUP($I48,Tabell29[],2,FALSE)*$W48,0)","v":0},{"$f":"IF(ISTEXT(A48),VLOOKUP(A48,Tabell203[],7,FALSE),0)","v":0},0,{"$f":"IF(ISTEXT($A48),VLOOKUP($A48,Tabell203[],11,FALSE),0)","v":0},{"$f":"IF(ISTEXT($A48),VLOOKUP($A48,Tabell203[],12,FALSE),0)","v":0},{"$f":"IF(ISTEXT($A48),VLOOKUP($A48,Tabell203[],13,FALSE),0)","v":0},{"$f":"IF(ISTEXT($A48),VLOOKUP($A48,Tabell203[],14,FALSE),0)","v":0},{"$f":"IF(ISTEXT($A48),VLOOKUP($A48,Tabell203[],15,FALSE),0)","v":0},{"$f":"IF(AND(ISTEXT($A48),AP48>0),VLOOKUP($A48,Tabell203[],16,FALSE),0)","v":0}]
[null,null,null,null,null,{"$f":"IF(ISTEXT(A49),VLOOKUP(A49,Tabell203[],3,FALSE),\"\")","v":""},null,null,null,null,null,null,{"$f":"IF(ISTEXT(A49),VLOOKUP(A49,Tabell203[],10,FALSE),\"\")","v":""},0,0,0,0,{"$f":"IF(ISTEXT(A49),VLOOKUP(A49,Tabell203[],4,FALSE),0)","v":0},{"$f":"IF(ISTEXT(A49),VLOOKUP(A49,Tabell203[],6,FALSE),0)","v":0},{"$f":"IF(ISTEXT(A49),VLOOKUP(A49,Tabell203[],5,FALSE),0)","v":0},{"$f":"IF(ISTEXT(A49),VLOOKUP(A49,Tabell203[],8,FALSE),0)","v":0},{"$f":"IF(ISTEXT(A49),VLOOKUP(A49,Tabell203[],9,FALSE),0)","v":0},{"$f":"IF(ISTEXT(A49),IF(E49>0.000001,E49,VLOOKUP(A49,Tabell203[],2,FALSE)),0)","v":0},0,0,0,0,0,0,0,0,1,{"$f":"IF(X49=1,VLOOKUP(I49,Tabell220[],2,FALSE),0)","v":0},{"$f":"IF(Y49=1,IF(OR(W49<'Teknisk administration'!$P$262,W49>'Teknisk administration'!$P$263),'Teknisk administration'!$Q$262*J49^2+'Teknisk administration'!$R$262*J49+'Teknisk administration'!$S$262,'Teknisk administration'!$Q$263*J49^2+'Teknisk administration'!$R$263*J49+'Teknisk administration'!$S$263),0)","v":0},{"$f":"IF(Z49=1,VLOOKUP(I49,Tabell214[],2,FALSE)*W49+VLOOKUP(I49,Tabell214[],3,FALSE),0)","v":0},{"$f":"IF(AA49=1,VLOOKUP(I49,Tabell215[],2,FALSE)*W49+VLOOKUP(I49,Tabell215[],3,FALSE),0)","v":0},{"$f":"IF(AB49=1,VLOOKUP(I49,Tabell216[],2,FALSE)*W49,0)","v":0},{"$f":"IF(AC49=1,'Teknisk administration'!$AP$377,0)","v":0},{"$f":"IF(AD49=1,VLOOKUP($I49,Tabell217[],2,FALSE)*$W49,0)","v":0},{"$f":"IF(AE49=1,VLOOKUP($I49,Tabell29[],2,FALSE)*$W49,0)","v":0},{"$f":"IF(ISTEXT(A49),VLOOKUP(A49,Tabell203[],7,FALSE),0)","v":0},0,{"$f":"IF(ISTEXT($A49),VLOOKUP($A49,Tabell203[],11,FALSE),0)","v":0},{"$f":"IF(ISTEXT($A49),VLOOKUP($A49,Tabell203[],12,FALSE),0)","v":0},{"$f":"IF(ISTEXT($A49),VLOOKUP($A49,Tabell203[],13,FALSE),0)","v":0},{"$f":"IF(ISTEXT($A49),VLOOKUP($A49,Tabell203[],14,FALSE),0)","v":0},{"$f":"IF(ISTEXT($A49),VLOOKUP($A49,Tabell203[],15,FALSE),0)","v":0},{"$f":"IF(AND(ISTEXT($A49),AP49>0),VLOOKUP($A49,Tabell203[],16,FALSE),0)","v":0}]
[null,null,null,null,null,{"$f":"IF(ISTEXT(A50),VLOOKUP(A50,Tabell203[],3,FALSE),\"\")","v":""},null,null,null,null,null,null,{"$f":"IF(ISTEXT(A50),VLOOKUP(A50,Tabell203[],10,FALSE),\"\")","v":""},0,0,0,0,{"$f":"IF(ISTEXT(A50),VLOOKUP(A50,Tabell203[],4,FALSE),0)","v":0},{"$f":"IF(ISTEXT(A50),VLOOKUP(A50,Tabell203[],6,FALSE),0)","v":0},{"$f":"IF(ISTEXT(A50),VLOOKUP(A50,Tabell203[],5,FALSE),0)","v":0},{"$f":"IF(ISTEXT(A50),VLOOKUP(A50,Tabell203[],8,FALSE),0)","v":0},{"$f":"IF(ISTEXT(A50),VLOOKUP(A50,Tabell203[],9,FALSE),0)","v":0},{"$f":"IF(ISTEXT(A50),IF(E50>0.000001,E50,VLOOKUP(A50,Tabell203[],2,FALSE)),0)","v":0},0,0,0,0,0,0,0,0,1,{"$f":"IF(X50=1,VLOOKUP(I50,Tabell220[],2,FALSE),0)","v":0},{"$f":"IF(Y50=1,IF(OR(W50<'Teknisk administration'!$P$262,W50>'Teknisk administration'!$P$263),'Teknisk administration'!$Q$262*J50^2+'Teknisk administration'!$R$262*J50+'Teknisk administration'!$S$262,'Teknisk administration'!$Q$263*J50^2+'Teknisk administration'!$R$263*J50+'Teknisk administration'!$S$263),0)","v":0},{"$f":"IF(Z50=1,VLOOKUP(I50,Tabell214[],2,FALSE)*W50+VLOOKUP(I50,Tabell214[],3,FALSE),0)","v":0},{"$f":"IF(AA50=1,VLOOKUP(I50,Tabell215[],2,FALSE)*W50+VLOOKUP(I50,Tabell215[],3,FALSE),0)","v":0},{"$f":"IF(AB50=1,VLOOKUP(I50,Tabell216[],2,FALSE)*W50,0)","v":0},{"$f":"IF(AC50=1,'Teknisk administration'!$AP$377,0)","v":0},{"$f":"IF(AD50=1,VLOOKUP($I50,Tabell217[],2,FALSE)*$W50,0)","v":0},{"$f":"IF(AE50=1,VLOOKUP($I50,Tabell29[],2,FALSE)*$W50,0)","v":0},{"$f":"IF(ISTEXT(A50),VLOOKUP(A50,Tabell203[],7,FALSE),0)","v":0},0,{"$f":"IF(ISTEXT($A50),VLOOKUP($A50,Tabell203[],11,FALSE),0)","v":0},{"$f":"IF(ISTEXT($A50),VLOOKUP($A50,Tabell203[],12,FALSE),0)","v":0},{"$f":"IF(ISTEXT($A50),VLOOKUP($A50,Tabell203[],13,FALSE),0)","v":0},{"$f":"IF(ISTEXT($A50),VLOOKUP($A50,Tabell203[],14,FALSE),0)","v":0},{"$f":"IF(ISTEXT($A50),VLOOKUP($A50,Tabell203[],15,FALSE),0)","v":0},{"$f":"IF(AND(ISTEXT($A50),AP50>0),VLOOKUP($A50,Tabell203[],16,FALSE),0)","v":0}]
[null,null,null,null,null,{"$f":"IF(ISTEXT(A51),VLOOKUP(A51,Tabell203[],3,FALSE),\"\")","v":""},null,null,null,null,null,null,{"$f":"IF(ISTEXT(A51),VLOOKUP(A51,Tabell203[],10,FALSE),\"\")","v":""},0,0,0,0,{"$f":"IF(ISTEXT(A51),VLOOKUP(A51,Tabell203[],4,FALSE),0)","v":0},{"$f":"IF(ISTEXT(A51),VLOOKUP(A51,Tabell203[],6,FALSE),0)","v":0},{"$f":"IF(ISTEXT(A51),VLOOKUP(A51,Tabell203[],5,FALSE),0)","v":0},{"$f":"IF(ISTEXT(A51),VLOOKUP(A51,Tabell203[],8,FALSE),0)","v":0},{"$f":"IF(ISTEXT(A51),VLOOKUP(A51,Tabell203[],9,FALSE),0)","v":0},{"$f":"IF(ISTEXT(A51),IF(E51>0.000001,E51,VLOOKUP(A51,Tabell203[],2,FALSE)),0)","v":0},0,0,0,0,0,0,0,0,1,{"$f":"IF(X51=1,VLOOKUP(I51,Tabell220[],2,FALSE),0)","v":0},{"$f":"IF(Y51=1,IF(OR(W51<'Teknisk administration'!$P$262,W51>'Teknisk administration'!$P$263),'Teknisk administration'!$Q$262*J51^2+'Teknisk administration'!$R$262*J51+'Teknisk administration'!$S$262,'Teknisk administration'!$Q$263*J51^2+'Teknisk administration'!$R$263*J51+'Teknisk administration'!$S$263),0)","v":0},{"$f":"IF(Z51=1,VLOOKUP(I51,Tabell214[],2,FALSE)*W51+VLOOKUP(I51,Tabell214[],3,FALSE),0)","v":0},{"$f":"IF(AA51=1,VLOOKUP(I51,Tabell215[],2,FALSE)*W51+VLOOKUP(I51,Tabell215[],3,FALSE),0)","v":0},{"$f":"IF(AB51=1,VLOOKUP(I51,Tabell216[],2,FALSE)*W51,0)","v":0},{"$f":"IF(AC51=1,'Teknisk administration'!$AP$377,0)","v":0},{"$f":"IF(AD51=1,VLOOKUP($I51,Tabell217[],2,FALSE)*$W51,0)","v":0},{"$f":"IF(AE51=1,VLOOKUP($I51,Tabell29[],2,FALSE)*$W51,0)","v":0},{"$f":"IF(ISTEXT(A51),VLOOKUP(A51,Tabell203[],7,FALSE),0)","v":0},0,{"$f":"IF(ISTEXT($A51),VLOOKUP($A51,Tabell203[],11,FALSE),0)","v":0},{"$f":"IF(ISTEXT($A51),VLOOKUP($A51,Tabell203[],12,FALSE),0)","v":0},{"$f":"IF(ISTEXT($A51),VLOOKUP($A51,Tabell203[],13,FALSE),0)","v":0},{"$f":"IF(ISTEXT($A51),VLOOKUP($A51,Tabell203[],14,FALSE),0)","v":0},{"$f":"IF(ISTEXT($A51),VLOOKUP($A51,Tabell203[],15,FALSE),0)","v":0},{"$f":"IF(AND(ISTEXT($A51),AP51>0),VLOOKUP($A51,Tabell203[],16,FALSE),0)","v":0}]
[null,null,null,null,null,{"$f":"IF(ISTEXT(A52),VLOOKUP(A52,Tabell203[],3,FALSE),\"\")","v":""},null,null,null,null,null,null,{"$f":"IF(ISTEXT(A52),VLOOKUP(A52,Tabell203[],10,FALSE),\"\")","v":""},0,0,0,0,{"$f":"IF(ISTEXT(A52),VLOOKUP(A52,Tabell203[],4,FALSE),0)","v":0},{"$f":"IF(ISTEXT(A52),VLOOKUP(A52,Tabell203[],6,FALSE),0)","v":0},{"$f":"IF(ISTEXT(A52),VLOOKUP(A52,Tabell203[],5,FALSE),0)","v":0},{"$f":"IF(ISTEXT(A52),VLOOKUP(A52,Tabell203[],8,FALSE),0)","v":0},{"$f":"IF(ISTEXT(A52),VLOOKUP(A52,Tabell203[],9,FALSE),0)","v":0},{"$f":"IF(ISTEXT(A52),IF(E52>0.000001,E52,VLOOKUP(A52,Tabell203[],2,FALSE)),0)","v":0},0,0,0,0,0,0,0,0,1,{"$f":"IF(X52=1,VLOOKUP(I52,Tabell220[],2,FALSE),0)","v":0},{"$f":"IF(Y52=1,IF(OR(W52<'Teknisk administration'!$P$262,W52>'Teknisk administration'!$P$263),'Teknisk administration'!$Q$262*J52^2+'Teknisk administration'!$R$262*J52+'Teknisk administration'!$S$262,'Teknisk administration'!$Q$263*J52^2+'Teknisk administration'!$R$263*J52+'Teknisk administration'!$S$263),0)","v":0},{"$f":"IF(Z52=1,VLOOKUP(I52,Tabell214[],2,FALSE)*W52+VLOOKUP(I52,Tabell214[],3,FALSE),0)","v":0},{"$f":"IF(AA52=1,VLOOKUP(I52,Tabell215[],2,FALSE)*W52+VLOOKUP(I52,Tabell215[],3,FALSE),0)","v":0},{"$f":"IF(AB52=1,VLOOKUP(I52,Tabell216[],2,FALSE)*W52,0)","v":0},{"$f":"IF(AC52=1,'Teknisk administration'!$AP$377,0)","v":0},{"$f":"IF(AD52=1,VLOOKUP($I52,Tabell217[],2,FALSE)*$W52,0)","v":0},{"$f":"IF(AE52=1,VLOOKUP($I52,Tabell29[],2,FALSE)*$W52,0)","v":0},{"$f":"IF(ISTEXT(A52),VLOOKUP(A52,Tabell203[],7,FALSE),0)","v":0},0,{"$f":"IF(ISTEXT($A52),VLOOKUP($A52,Tabell203[],11,FALSE),0)","v":0},{"$f":"IF(ISTEXT($A52),VLOOKUP($A52,Tabell203[],12,FALSE),0)","v":0},{"$f":"IF(ISTEXT($A52),VLOOKUP($A52,Tabell203[],13,FALSE),0)","v":0},{"$f":"IF(ISTEXT($A52),VLOOKUP($A52,Tabell203[],14,FALSE),0)","v":0},{"$f":"IF(ISTEXT($A52),VLOOKUP($A52,Tabell203[],15,FALSE),0)","v":0},{"$f":"IF(AND(ISTEXT($A52),AP52>0),VLOOKUP($A52,Tabell203[],16,FALSE),0)","v":0}]
[null,null,null,null,null,null,null,null,null,null,null,null,"Totalt mängd inlagt eller direkttfodrat ",{"$f":"SUM(Tabell221[Volym (m3)])","v":0},null,{"$f":"SUM(P41:P52)","v":0},{"$f":"SUM(Q41:Q52)","v":0},null,null,null,null,null,null,null,null,{"$f":"IF(SUMPRODUCT(Z41:Z52,$G41:$G52)=0,0,SUMPRODUCT($P41:$P52,Z41:Z52)/SUMPRODUCT(Z41:Z52,$G41:$G52))","v":0},{"$f":"IF(SUMPRODUCT(AA41:AA52,$G41:$G52)=0,0,SUMPRODUCT($P41:$P52,AA41:AA52)/SUMPRODUCT(AA41:AA52,$G41:$G52))","v":0}]
[]
[]
[{"$f":"\"Övrigt egenproducerat foder \"&A9","v":"Övrigt egenproducerat foder Period 1"}]
["Välj typ av ur lista och mängden bärgat foder aktuell period (enhet visas när du valt ett foder ur listan). Enhet och ts-halt hämtas från en databas. ",null,null,null,null,null,null,null,null,null,null,null,null,null,null,null,null,null,"Nöt och lamm","Växande grisar","Suggor"]
["Typ av foder - välj ur lista","Mängd","Enhet och ts-halt","Egen kommentar",null,null,null,null,null,null,null,null,null,null,null,null,null,"ts-halt","MJ OM","MJ NE","MJ NE",null,"typ av foder","spannmål","trindsäd","oljeväxter","rotfrukter"]
[null,null,{"$f":"IF(ISTEXT(A59),VLOOKUP(A59,'Teknisk administration'!$B$323:$G$340,2,FALSE),\"\")","v":""},null,null,null,null,null,null,null,null,null,null,null,null,null,null,{"$f":"IF(ISTEXT(A59),VLOOKUP(A59,'Teknisk administration'!$B$323:$G$340,3,FALSE),\"\")","v":""},{"$f":"IF(ISTEXT($A59),VLOOKUP($A59,'Teknisk administration'!$B$323:$I$340,4,FALSE)*$B59*$R59,\"\")","v":""},{"$f":"IF(ISTEXT($A59),VLOOKUP($A59,'Teknisk administration'!$B$323:$I$340,5,FALSE)*$B59,\"\")","v":""},{"$f":"IF(ISTEXT($A59),VLOOKUP($A59,'Teknisk administration'!$B$323:$I$340,6,FALSE)*$B59,\"\")","v":""},null,{"$f":"IF(ISTEXT(A59),VLOOKUP(A59,'Teknisk administration'!$B$323:$I$340,8,FALSE),\"\")","v":""},{"$f":"IF($W59=X$58,1,0)","v":0},0,0,0]
[null,null,{"$f":"IF(ISTEXT(A60),VLOOKUP(A60,'Teknisk administration'!$B$323:$G$340,2,FALSE),\"\")","v":""},null,null,null,null,null,null,null,null,null,null,null,null,null,null,{"$f":"IF(ISTEXT(A60),VLOOKUP(A60,'Teknisk administration'!$B$323:$G$340,3,FALSE),\"\")","v":""},{"$f":"IF(ISTEXT($A60),VLOOKUP($A60,'Teknisk administration'!$B$323:$I$340,4,FALSE)*$B60*$R60,\"\")","v":""},{"$f":"IF(ISTEXT($A60),VLOOKUP($A60,'Teknisk administration'!$B$323:$I$340,5,FALSE)*$B60,\"\")","v":""},{"$f":"IF(ISTEXT($A60),VLOOKUP($A60,'Teknisk administration'!$B$323:$I$340,6,FALSE)*$B60,\"\")","v":""},null,{"$f":"IF(ISTEXT(A60),VLOOKUP(A60,'Teknisk administration'!$B$323:$I$340,8,FALSE),\"\")","v":""},0,0,0,0]
[null,null,{"$f":"IF(ISTEXT(A61),VLOOKUP(A61,'Teknisk administration'!$B$323:$G$340,2,FALSE),\"\")","v":""},null,null,null,null,null,null,null,null,null,null,null,null,null,null,{"$f":"IF(ISTEXT(A61),VLOOKUP(A61,'Teknisk administration'!$B$323:$G$340,3,FALSE),\"\")","v":""},{"$f":"IF(ISTEXT($A61),VLOOKUP($A61,'Teknisk administration'!$B$323:$I$340,4,FALSE)*$B61*$R61,\"\")","v":""},{"$f":"IF(ISTEXT($A61),VLOOKUP($A61,'Teknisk administration'!$B$323:$I$340,5,FALSE)*$B61,\"\")","v":""},{"$f":"IF(ISTEXT($A61),VLOOKUP($A61,'Teknisk administration'!$B$323:$I$340,6,FALSE)*$B61,\"\")","v":""},null,{"$f":"IF(ISTEXT(A61),VLOOKUP(A61,'Teknisk administration'!$B$323:$I$340,8,FALSE),\"\")","v":""},0,0,0,0]
[null,null,{"$f":"IF(ISTEXT(A62),VLOOKUP(A62,'Teknisk administration'!$B$323:$G$340,2,FALSE),\"\")","v":""},null,null,null,null,null,null,null,null,null,null,null,null,null,null,{"$f":"IF(ISTEXT(A62),VLOOKUP(A62,'Teknisk administration'!$B$323:$G$340,3,FALSE),\"\")","v":""},{"$f":"IF(ISTEXT($A62),VLOOKUP($A62,'Teknisk administration'!$B$323:$I$340,4,FALSE)*$B62*$R62,\"\")","v":""},{"$f":"IF(ISTEXT($A62),VLOOKUP($A62,'Teknisk administration'!$B$323:$I$340,5,FALSE)*$B62,\"\")","v":""},{"$f":"IF(ISTEXT($A62),VLOOKUP($A62,'Teknisk administration'!$B$323:$I$340,6,FALSE)*$B62,\"\")","v":""},null,{"$f":"IF(ISTEXT(A62),VLOOKUP(A62,'Teknisk administration'!$B$323:$I$340,8,FALSE),\"\")","v":""},0,0,0,0]
[null,null,{"$f":"IF(ISTEXT(A63),VLOOKUP(A63,'Teknisk administration'!$B$323:$G$340,2,FALSE),\"\")","v":""},null,null,null,null,null,null,null,null,null,null,null,null,null,null,{"$f":"IF(ISTEXT(A63),VLOOKUP(A63,'Teknisk administration'!$B$323:$G$340,3,FALSE),\"\")","v":""},{"$f":"IF(ISTEXT($A63),VLOOKUP($A63,'Teknisk administration'!$B$323:$I$340,4,FALSE)*$B63*$R63,\"\")","v":""},{"$f":"IF(ISTEXT($A63),VLOOKUP($A63,'Teknisk administration'!$B$323:$I$340,5,FALSE)*$B63,\"\")","v":""},{"$f":"IF(ISTEXT($A63),VLOOKUP($A63,'Teknisk administration'!$B$323:$I$340,6,FALSE)*$B63,\"\")","v":""},null,{"$f":"IF(ISTEXT(A63),VLOOKUP(A63,'Teknisk administration'!$B$323:$I$340,8,FALSE),\"\")","v":""},0,0,0,0]
[null,null,{"$f":"IF(ISTEXT(A64),VLOOKUP(A64,'Teknisk administration'!$B$323:$G$340,2,FALSE),\"\")","v":""},null,null,null,null,null,null,null,null,null,null,null,null,null,null,{"$f":"IF(ISTEXT(A64),VLOOKUP(A64,'Teknisk administration'!$B$323:$G$340,3,FALSE),\"\")","v":""},{"$f":"IF(ISTEXT($A64),VLOOKUP($A64,'Teknisk administration'!$B$323:$I$340,4,FALSE)*$B64*$R64,\"\")","v":""},{"$f":"IF(ISTEXT($A64),VLOOKUP($A64,'Teknisk administration'!$B$323:$I$340,5,FALSE)*$B64,\"\")","v":""},{"$f":"IF(ISTEXT($A64),VLOOKUP($A64,'Teknisk administration'!$B$323:$I$340,6,FALSE)*$B64,\"\")","v":""},null,{"$f":"IF(ISTEXT(A64),VLOOKUP(A64,'Teknisk administration'!$B$323:$I$340,8,FALSE),\"\")","v":""},0,0,0,0]
[null,null,{"$f":"IF(ISTEXT(A65),VLOOKUP(A65,'Teknisk administration'!$B$323:$G$340,2,FALSE),\"\")","v":""},null,null,null,null,null,null,null,null,null,null,null,null,null,null,{"$f":"IF(ISTEXT(A65),VLOOKUP(A65,'Teknisk administration'!$B$323:$G$340,3,FALSE),\"\")","v":""},{"$f":"IF(ISTEXT($A65),VLOOKUP($A65,'Teknisk administration'!$B$323:$I$340,4,FALSE)*$B65*$R65,\"\")","v":""},{"$f":"IF(ISTEXT($A65),VLOOKUP($A65,'Teknisk administration'!$B$323:$I$340,5,FALSE)*$B65,\"\")","v":""},{"$f":"IF(ISTEXT($A65),VLOOKUP($A65,'Teknisk administration'!$B$323:$I$340,6,FALSE)*$B65,\"\")","v":""},null,{"$f":"IF(ISTEXT(A65),VLOOKUP(A65,'Teknisk administration'!$B$323:$I$340,8,FALSE),\"\")","v":""},0,0,0,0]
[null,null,{"$f":"IF(ISTEXT(A66),VLOOKUP(A66,'Teknisk administration'!$B$323:$G$340,2,FALSE),\"\")","v":""},null,null,null,null,null,null,null,null,null,null,null,null,null,null,{"$f":"IF(ISTEXT(A66),VLOOKUP(A66,'Teknisk administration'!$B$323:$G$340,3,FALSE),\"\")","v":""},{"$f":"IF(ISTEXT($A66),VLOOKUP($A66,'Teknisk administration'!$B$323:$I$340,4,FALSE)*$B66*$R66,\"\")","v":""},{"$f":"IF(ISTEXT($A66),VLOOKUP($A66,'Teknisk administration'!$B$323:$I$340,5,FALSE)*$B66,\"\")","v":""},{"$f":"IF(ISTEXT($A66),VLOOKUP($A66,'Teknisk administration'!$B$323:$I$340,6,FALSE)*$B66,\"\")","v":""},null,{"$f":"IF(ISTEXT(A66),VLOOKUP(A66,'Teknisk administration'!$B$323:$I$340,8,FALSE),\"\")","v":""},0,0,0,0]
[null,null,{"$f":"IF(ISTEXT(A67),VLOOKUP(A67,'Teknisk administration'!$B$323:$G$340,2,FALSE),\"\")","v":""},null,null,null,null,null,null,null,null,null,null,null,null,null,null,{"$f":"IF(ISTEXT(A67),VLOOKUP(A67,'Teknisk administration'!$B$323:$G$340,3,FALSE),\"\")","v":""},{"$f":"IF(ISTEXT($A67),VLOOKUP($A67,'Teknisk administration'!$B$323:$I$340,4,FALSE)*$B67*$R67,\"\")","v":""},{"$f":"IF(ISTEXT($A67),VLOOKUP($A67,'Teknisk administration'!$B$323:$I$340,5,FALSE)*$B67,\"\")","v":""},{"$f":"IF(ISTEXT($A67),VLOOKUP($A67,'Teknisk administration'!$B$323:$I$340,6,FALSE)*$B67,\"\")","v":""},null,{"$f":"IF(ISTEXT(A67),VLOOKUP(A67,'Teknisk administration'!$B$323:$I$340,8,FALSE),\"\")","v":""},0,0,0,0]
[null,null,{"$f":"IF(ISTEXT(A68),VLOOKUP(A68,'Teknisk administration'!$B$323:$G$340,2,FALSE),\"\")","v":""},null,null,null,null,null,null,null,null,null,null,null,null,null,null,{"$f":"IF(ISTEXT(A68),VLOOKUP(A68,'Teknisk administration'!$B$323:$G$340,3,FALSE),\"\")","v":""},{"$f":"IF(ISTEXT($A68),VLOOKUP($A68,'Teknisk administration'!$B$323:$I$340,4,FALSE)*$B68*$R68,\"\")","v":""},{"$f":"IF(ISTEXT($A68),VLOOKUP($A68,'Teknisk administration'!$B$323:$I$340,5,FALSE)*$B68,\"\")","v":""},{"$f":"IF(ISTEXT($A68),VLOOKUP($A68,'Teknisk administration'!$B$323:$I$340,6,FALSE)*$B68,\"\")","v":""},null,{"$f":"IF(ISTEXT(A68),VLOOKUP(A68,'Teknisk administration'!$B$323:$I$340,8,FALSE),\"\")","v":""},0,0,0,0]
["totalt, kg ts",{"$f":"SUMPRODUCT(B59:B68,R59:R68)","v":0},null,null,null,null,null,null,null,null,null,null,null,null,null,null,null,null,{"$f":"SUM(S59:S68)","v":0},{"$f":"SUM(T59:T68)","v":0},{"$f":"SUM(U59:U68)","v":0}]
[]
[]
[]
[{"$f":"period_2","v":"Period 2"}]
["Mängd vallfoder, direktutfodrad grönmassa och halm"]
["Skördemängden kan anges med två olika alternativ: "]
["1. Fyll i färdigt värde om du mätt skörden som lagts in (kg och ts). "]
["2. Uppskatta mängden (kg och ts) genom att beräkna volymen inlagt grovfoder och direktutfodrad grönmassa. "]
["Du kan ha en kombination av alternativ under en och samma period, t ex om du inte vägt mängden vid varje skörd.  "]
["Börja med att välja typ av system (plansilo, rundbal, halm etc. i den vänstraste kolumnen. Då tänds de celler du ska skriva siffror i (gula celler) eller där du ska välja ur en lista (orange celler). Övriga celler i lämnar du tomma."]
["När det gäller energi i fodret kan du antingen välja ur lista (orange cell) eller skriva in ett eget värde (ljusgul cell)"]
["Du kan lägga in flera rader med samma system, t ex om du vill särkilja 1:a 2:a och 3:e skörd eller vill räkna separat för olika skriften. Om du hellre vill det kan du lägga allt på en rad. "]
[]
[]
["Alternativ 1. Har vägt skörden och har ts-analys"]
["Mängden ts och MJ beräknas först när MJ/kg ts, ts-halt och kg grönmassa fyllts i.",null,null,null,null,null,null,null,null,null,null,null,null,null,null,null,null,null,null,null,null,null,null,null,null,null,null,null,null,null,null,null,null,null,null,null,null,null,null,null,null,null,"Gruppering av system"]
[null,null,"Energi - välj ur lista eller skriv eget värde",null,"TS-halt (%)",null,"Mängd","Beräknad mängd foder*",null,null,null,null,null,null,null,null,null,null,null,null,null,null,null,null,null,null,null,null,null,null,null,null,null,null,null,null,null,null,null,null,null,null,"Plansilo","Torn","Storbalar (rund- och fyrkantsbalar)","Hö","Direktutfodrad grönmassa","Halm till foder"]
["System - välj alternativ ur listan!","Egen kommentar","Välj ur lista","Eget värde (MJ/kg ts)","% ts","Förklaring","kg grönmassa","kg ts","MJ","Kolumn1","Kolumn2","Kolumn3","Kolumn4","Kolumn5","Kolumn6","Kolumn7","Kolumn8","Kolumn9","Kolumn10","Kolumn11","Kolumn12","  ","TS-halt","Kolumn15","Kolumn16","Kolumn17","Kolumn18","Kolumn19","Kolumn20","Kolumn21","Kolumn22","Kolumn23","Kolumn24","Kolumn25","Kolumn26","Kolumn27","Kolumn28","Kolumn29","Kolumn30","Kolumn31","Kolumn32","MJ/kg ts","Plansilo12","Torn13","Storbalar (rund- och fyrkantsbalar)","Hö14","Direktutfodrad grönmassa15","Halm till foder"]
[null,null,null,null,null,{"$f":"IF(ISTEXT(A88),VLOOKUP(A88,Tabell203[],17,FALSE),\"\")","v":""},null,{"$f":"W88*G88","v":0},{"$f":"H88*IF(D88>0,D88,IF(AND(ISTEXT(A88),(OR(ISTEXT(C88),ISNUMBER(D88)))),IF(D88>0,D104,VLOOKUP(C88,INDIRECT(A88),2,FALSE)),0))","v":0},null,null,null,null,null,null,null,null,null,null,null,null,null,{"$f":"IF(ISTEXT(A88),IF(E88>0.000001,E88,VLOOKUP(A88,Tabell203[],2,FALSE)),0)","v":0},null,null,null,null,null,null,null,null,null,null,null,null,null,null,null,null,null,null,{"$f":"IF(AND(ISTEXT(A88),(OR(ISTEXT(C88),ISNUMBER(D88)))),IF(D88>0,D88,VLOOKUP(C88,INDIRECT(A88),2,FALSE)),0)","v":0},{"$f":"IF(ISTEXT($A88),VLOOKUP($A88,Tabell203[],11,FALSE),0)","v":0},{"$f":"IF(ISTEXT($A88),VLOOKUP($A88,Tabell203[],12,FALSE),0)","v":0},{"$f":"IF(ISTEXT($A88),VLOOKUP($A88,Tabell203[],13,FALSE),0)","v":0},{"$f":"IF(ISTEXT($A88),VLOOKUP($A88,Tabell203[],14,FALSE),0)","v":0},{"$f":"IF(ISTEXT($A88),VLOOKUP($A88,Tabell203[],15,FALSE),0)","v":0},{"$f":"IF(AND(ISTEXT($A88),AP88>0),VLOOKUP($A88,Tabell203[],16,FALSE),0)","v":0}]
[null,null,null,null,null,{"$f":"IF(ISTEXT(A89),VLOOKUP(A89,Tabell203[],17,FALSE),\"\")","v":""},null,0,0,null,null,null,null,null,null,null,null,null,null,null,null,null,{"$f":"IF(ISTEXT(A89),IF(E89>0.000001,E89,VLOOKUP(A89,Tabell203[],2,FALSE)),0)","v":0},null,null,null,null,null,null,null,null,null,null,null,null,null,null,null,null,null,null,0,{"$f":"IF(ISTEXT($A89),VLOOKUP($A89,Tabell203[],11,FALSE),0)","v":0},{"$f":"IF(ISTEXT($A89),VLOOKUP($A89,Tabell203[],12,FALSE),0)","v":0},{"$f":"IF(ISTEXT($A89),VLOOKUP($A89,Tabell203[],13,FALSE),0)","v":0},{"$f":"IF(ISTEXT($A89),VLOOKUP($A89,Tabell203[],14,FALSE),0)","v":0},{"$f":"IF(ISTEXT($A89),VLOOKUP($A89,Tabell203[],15,FALSE),0)","v":0},{"$f":"IF(AND(ISTEXT($A89),AP89>0),VLOOKUP($A89,Tabell203[],16,FALSE),0)","v":0}]
[null,null,null,null,null,{"$f":"IF(ISTEXT(A90),VLOOKUP(A90,Tabell203[],17,FALSE),\"\")","v":""},null,0,0,null,null,null,null,null,null,null,null,null,null,null,null,null,{"$f":"IF(ISTEXT(A90),IF(E90>0.000001,E90,VLOOKUP(A90,Tabell203[],2,FALSE)),0)","v":0},null,null,null,null,null,null,null,null,null,null,null,null,null,null,null,null,null,null,0,{"$f":"IF(ISTEXT($A90),VLOOKUP($A90,Tabell203[],11,FALSE),0)","v":0},{"$f":"IF(ISTEXT($A90),VLOOKUP($A90,Tabell203[],12,FALSE),0)","v":0},{"$f":"IF(ISTEXT($A90),VLOOKUP($A90,Tabell203[],13,FALSE),0)","v":0},{"$f":"IF(ISTEXT($A90),VLOOKUP($A90,Tabell203[],14,FALSE),0)","v":0},{"$f":"IF(ISTEXT($A90),VLOOKUP($A90,Tabell203[],15,FALSE),0)","v":0},{"$f":"IF(AND(ISTEXT($A90),AP90>0),VLOOKUP($A90,Tabell203[],16,FALSE),0)","v":0}]
[null,null,null,null,null,{"$f":"IF(ISTEXT(A91),VLOOKUP(A91,Tabell203[],17,FALSE),\"\")","v":""},null,0,0,null,null,null,null,null,null,null,null,null,null,null,null,null,{"$f":"IF(ISTEXT(A91),IF(E91>0.000001,E91,VLOOKUP(A91,Tabell203[],2,FALSE)),0)","v":0},null,null,null,null,null,null,null,null,null,null,null,null,null,null,null,null,null,null,0,{"$f":"IF(ISTEXT($A91),VLOOKUP($A91,Tabell203[],11,FALSE),0)","v":0},{"$f":"IF(ISTEXT($A91),VLOOKUP($A91,Tabell203[],12,FALSE),0)","v":0},{"$f":"IF(ISTEXT($A91),VLOOKUP($A91,Tabell203[],13,FALSE),0)","v":0},{"$f":"IF(ISTEXT($A91),VLOOKUP($A91,Tabell203[],14,FALSE),0)","v":0},{"$f":"IF(ISTEXT($A91),VLOOKUP($A91,Tabell203[],15,FALSE),0)","v":0},{"$f":"IF(AND(ISTEXT($A91),AP91>0),VLOOKUP($A91,Tabell203[],16,FALSE),0)","v":0}]
[null,null,null,null,null,{"$f":"IF(ISTEXT(A92),VLOOKUP(A92,Tabell203[],17,FALSE),\"\")","v":""},null,0,0,null,null,null,null,null,null,null,null,null,null,null,null,null,{"$f":"IF(ISTEXT(A92),IF(E92>0.000001,E92,VLOOKUP(A92,Tabell203[],2,FALSE)),0)","v":0},null,null,null,null,null,null,null,null,null,null,null,null,null,null,null,null,null,null,0,{"$f":"IF(ISTEXT($A92),VLOOKUP($A92,Tabell203[],11,FALSE),0)","v":0},{"$f":"IF(ISTEXT($A92),VLOOKUP($A92,Tabell203[],12,FALSE),0)","v":0},{"$f":"IF(ISTEXT($A92),VLOOKUP($A92,Tabell203[],13,FALSE),0)","v":0},{"$f":"IF(ISTEXT($A92),VLOOKUP($A92,Tabell203[],14,FALSE),0)","v":0},{"$f":"IF(ISTEXT($A92),VLOOKUP($A92,Tabell203[],15,FALSE),0)","v":0},{"$f":"IF(AND(ISTEXT($A92),AP92>0),VLOOKUP($A92,Tabell203[],16,FALSE),0)","v":0}]
[null,null,null,null,null,{"$f":"IF(ISTEXT(A93),VLOOKUP(A93,Tabell203[],17,FALSE),\"\")","v":""},null,0,0,null,null,null,null,null,null,null,null,null,null,null,null,null,{"$f":"IF(ISTEXT(A93),IF(E93>0.000001,E93,VLOOKUP(A93,Tabell203[],2,FALSE)),0)","v":0},null,null,null,null,null,null,null,null,null,null,null,null,null,null,null,null,null,null,0,{"$f":"IF(ISTEXT($A93),VLOOKUP($A93,Tabell203[],11,FALSE),0)","v":0},{"$f":"IF(ISTEXT($A93),VLOOKUP($A93,Tabell203[],12,FALSE),0)","v":0},{"$f":"IF(ISTEXT($A93),VLOOKUP($A93,Tabell203[],13,FALSE),0)","v":0},{"$f":"IF(ISTEXT($A93),VLOOKUP($A93,Tabell203[],14,FALSE),0)","v":0},{"$f":"IF(ISTEXT($A93),VLOOKUP($A93,Tabell203[],15,FALSE),0)","v":0},{"$f":"IF(AND(ISTEXT($A93),AP93>0),VLOOKUP($A93,Tabell203[],16,FALSE),0)","v":0}]
[null,null,null,null,null,{"$f":"IF(ISTEXT(A94),VLOOKUP(A94,Tabell203[],17,FALSE),\"\")","v":""},null,0,0,null,null,null,null,null,null,null,null,null,null,null,null,null,{"$f":"IF(ISTEXT(A94),IF(E94>0.000001,E94,VLOOKUP(A94,Tabell203[],2,FALSE)),0)","v":0},null,null,null,null,null,null,null,null,null,null,null,null,null,null,null,null,null,null,0,{"$f":"IF(ISTEXT($A94),VLOOKUP($A94,Tabell203[],11,FALSE),0)","v":0},{"$f":"IF(ISTEXT($A94),VLOOKUP($A94,Tabell203[],12,FALSE),0)","v":0},{"$f":"IF(ISTEXT($A94),VLOOKUP($A94,Tabell203[],13,FALSE),0)","v":0},{"$f":"IF(ISTEXT($A94),VLOOKUP($A94,Tabell203[],14,FALSE),0)","v":0},{"$f":"IF(ISTEXT($A94),VLOOKUP($A94,Tabell203[],15,FALSE),0)","v":0},{"$f":"IF(AND(ISTEXT($A94),AP94>0),VLOOKUP($A94,Tabell203[],16,FALSE),0)","v":0}]
[null,null,null,null,null,{"$f":"IF(ISTEXT(A95),VLOOKUP(A95,Tabell203[],17,FALSE),\"\")","v":""},null,0,0,null,null,null,null,null,null,null,null,null,null,null,null,null,{"$f":"IF(ISTEXT(A95),IF(E95>0.000001,E95,VLOOKUP(A95,Tabell203[],2,FALSE)),0)","v":0},null,null,null,null,null,null,null,null,null,null,null,null,null,null,null,null,null,null,0,{"$f":"IF(ISTEXT($A95),VLOOKUP($A95,Tabell203[],11,FALSE),0)","v":0},{"$f":"IF(ISTEXT($A95),VLOOKUP($A95,Tabell203[],12,FALSE),0)","v":0},{"$f":"IF(ISTEXT($A95),VLOOKUP($A95,Tabell203[],13,FALSE),0)","v":0},{"$f":"IF(ISTEXT($A95),VLOOKUP($A95,Tabell203[],14,FALSE),0)","v":0},{"$f":"IF(ISTEXT($A95),VLOOKUP($A95,Tabell203[],15,FALSE),0)","v":0},{"$f":"IF(AND(ISTEXT($A95),AP95>0),VLOOKUP($A95,Tabell203[],16,FALSE),0)","v":0}]
["Totalt",null,null,null,null,null,null,{"$f":"SUM(H88:H95)","v":0},{"$f":"SUM(I88:I95)","v":0}]
[null,null,null,null,null,null,null,"* All halm (foder och strö) visas i summan här, men det är bara mängden foderhalm som följer med till kommande beräkningar"]
[]
[]
["Alternativ 2. Har inte vägt skörden, behöver räkna ut mängden skördat",null,null,null,null,null,null,null,null,null,null,null,null,null,null,null,null,"ska dölja"]
["Om det står \"Saknas!\" eller \"0\" under rubriken \"Beräknad mängd foder\" beror det på att någon uppgift saknas. Kontrollera då att du fyllt i alla gula celler på raden samt valt något i alla orange celler på raden",null,null,null,null,null,null,null,null,null,null,null,null,null,null,null,null,"Beskrivning av systemet",null,null,null,null,"TS-halt","Vilket system? 1=ja, 0=nej",null,null,null,null,null,null,null,null,"Volymvikt (kg ts/m3)",null,null,null,null,null,null,null,null,"Energi","Gruppering av system"]
[null,null,"Energi - välj ur lista eller skriv eget värde",null,"TS-halt (%)",null,"Antal balar eller lass grönmassa","Mängd per lass grönmassa","Teknik - inläggning, pressning etc. ","Lagrets respektive balarnas storlek",null,null,null,"Beräknad mängd foder*",null,null,null,null,null,null,null,null,null,{"$f":"'Teknisk administration'!$B$391","v":"Plansilo"},{"$f":"'Teknisk administration'!$B$392","v":"Torn"},{"$f":"'Teknisk administration'!$B$393","v":"Rundbalar"},{"$f":"'Teknisk administration'!$B$394","v":"Fyrkantsbalar_ensilage"},{"$f":"'Teknisk administration'!$B$397","v":"Hö"},{"$f":"'Teknisk administration'!$B$396","v":"Direktutfodrad_grönmassa"},{"$f":"'Teknisk administration'!$B$398","v":"Halm"},{"$f":"'Teknisk administration'!$B$395","v":"Fyrkantsbalar_hö"},{"$f":"'Teknisk administration'!$B$399","v":0},{"$f":"X102","v":"Plansilo"},"Torn","Rundbalar","Fyrkantsbalar_ensilage","Hö","Direktutfodrad_grönmassa","Halm","Fyrkantsbalar_hö",0,"MJ/kg ts","Plansilo","Torn","Storbalar (rund- och fyrkantsbalar)","Hö","Direktutfodrad","Halm till foder"]
["System - välj alternativ ur listan!","Egen kommentar","Välj ur lista","Eget värde (MJ/kg ts)","% ts","Förklaring","stycken","m3","välj ur listan i orange celler!","Höjd (m)","Bredd (m)","Längd (m)","Förklaring för volymberäkning","Volym (m3)","Volymvikt (kg ts/m3)","Mängd (kg ts)","Mängd (MJ)","Antal","Mängd per lass","Teknik","rätblock","cylinder","TS-halt","Plansilo","Torn","Rundbalar","Fyrkantsbalar","Hö","Grönfoder","Halm","Fyrkantsbalar_hö","tom","Plansilo3","Torn4","Rundbalar5","Fyrkantsbalar6","Hö7","Direktutfodrat","Kolumn1","Fyrkantsbalar_hö2","Visa ts?","MJ/kg ts","Plansilo12","Torn13","Storbalar (rund- och fyrkantsbalar)","Hö14","Direktutfodrad","Halm till foder"]
[null,null,null,null,null,{"$f":"IF(ISTEXT(A104),VLOOKUP(A104,Tabell203[],3,FALSE),\"\")","v":""},null,null,null,null,null,null,{"$f":"IF(ISTEXT(A104),VLOOKUP(A104,Tabell203[],10,FALSE),\"\")","v":""},{"$f":"IF(ISTEXT(A104),IF(U104=1,J104*K104*L104,IF(V104=1,J104*(K104/2)^2*PI(),1))*IF(R104=1,G104,1)*IF(S104=1,H104,1),0)","v":0},{"$f":"SUM(AG104:AN104)","v":0},{"$f":"N104*O104","v":0},{"$f":"P104*AP104","v":0},{"$f":"IF(ISTEXT(A104),VLOOKUP(A104,Tabell203[],4,FALSE),0)","v":0},{"$f":"IF(ISTEXT(A104),VLOOKUP(A104,Tabell203[],6,FALSE),0)","v":0},{"$f":"IF(ISTEXT(A104),VLOOKUP(A104,Tabell203[],5,FALSE),0)","v":0},{"$f":"IF(ISTEXT(A104),VLOOKUP(A104,Tabell203[],8,FALSE),0)","v":0},{"$f":"IF(ISTEXT(A104),VLOOKUP(A104,Tabell203[],9,FALSE),0)","v":0},{"$f":"IF(ISTEXT(A104),IF(E104>0.000001,E104,VLOOKUP(A104,Tabell203[],2,FALSE)),0)","v":0},{"$f":"IF($A104=X$39,1,0)","v":0},0,0,0,0,0,0,0,1,{"$f":"IF(X104=1,VLOOKUP(I104,Tabell220[],2,FALSE),0)","v":0},{"$f":"IF(Y104=1,IF(OR(W104<'Teknisk administration'!$P$262,W104>'Teknisk administration'!$P$263),'Teknisk administration'!$Q$262*J104^2+'Teknisk administration'!$R$262*J104+'Teknisk administration'!$S$262,'Teknisk administration'!$Q$263*J104^2+'Teknisk administration'!$R$263*J104+'Teknisk administration'!$S$263),0)","v":0},{"$f":"IF(Z104=1,VLOOKUP(I104,Tabell214[],2,FALSE)*W104+VLOOKUP(I104,Tabell214[],3,FALSE),0)","v":0},{"$f":"IF(AA104=1,VLOOKUP(I104,Tabell215[],2,FALSE)*W104+VLOOKUP(I104,Tabell215[],3,FALSE),0)","v":0},{"$f":"IF(AB104=1,VLOOKUP(I104,Tabell216[],2,FALSE)*W104,0)","v":0},{"$f":"IF(AC104=1,'Teknisk administration'!$AP$377,0)","v":0},{"$f":"IF(AD104=1,VLOOKUP($I104,Tabell217[],2,FALSE)*$W104,0)","v":0},{"$f":"IF(AE104=1,VLOOKUP($I104,Tabell29[],2,FALSE)*$W104,0)","v":0},{"$f":"IF(ISTEXT(A104),VLOOKUP(A104,Tabell203[],7,FALSE),0)","v":0},{"$f":"IF(AND(ISTEXT(A104),(OR(ISTEXT(C104),ISNUMBER(D104)))),IF(D104>0,D104,VLOOKUP(C104,INDIRECT(A104),2,FALSE)),0)","v":0},{"$f":"IF(ISTEXT($A104),VLOOKUP($A104,Tabell203[],11,FALSE),0)","v":0},{"$f":"IF(ISTEXT($A104),VLOOKUP($A104,Tabell203[],12,FALSE),0)","v":0},{"$f":"IF(ISTEXT($A104),VLOOKUP($A104,Tabell203[],13,FALSE),0)","v":0},{"$f":"IF(ISTEXT($A104),VLOOKUP($A104,Tabell203[],14,FALSE),0)","v":0},{"$f":"IF(ISTEXT($A104),VLOOKUP($A104,Tabell203[],15,FALSE),0)","v":0},{"$f":"IF(AND(ISTEXT($A104),AP104>0),VLOOKUP($A104,Tabell203[],16,FALSE),0)","v":0}]
[null,null,null,null,null,{"$f":"IF(ISTEXT(A105),VLOOKUP(A105,Tabell203[],3,FALSE),\"\")","v":""},null,null,null,null,null,null,{"$f":"IF(ISTEXT(A105),VLOOKUP(A105,Tabell203[],10,FALSE),\"\")","v":""},0,0,0,0,{"$f":"IF(ISTEXT(A105),VLOOKUP(A105,Tabell203[],4,FALSE),0)","v":0},{"$f":"IF(ISTEXT(A105),VLOOKUP(A105,Tabell203[],6,FALSE),0)","v":0},{"$f":"IF(ISTEXT(A105),VLOOKUP(A105,Tabell203[],5,FALSE),0)","v":0},{"$f":"IF(ISTEXT(A105),VLOOKUP(A105,Tabell203[],8,FALSE),0)","v":0},{"$f":"IF(ISTEXT(A105),VLOOKUP(A105,Tabell203[],9,FALSE),0)","v":0},{"$f":"IF(ISTEXT(A105),IF(E105>0.000001,E105,VLOOKUP(A105,Tabell203[],2,FALSE)),0)","v":0},0,0,0,0,0,0,0,0,1,{"$f":"IF(X105=1,VLOOKUP(I105,Tabell220[],2,FALSE),0)","v":0},{"$f":"IF(Y105=1,IF(OR(W105<'Teknisk administration'!$P$262,W105>'Teknisk administration'!$P$263),'Teknisk administration'!$Q$262*J105^2+'Teknisk administration'!$R$262*J105+'Teknisk administration'!$S$262,'Teknisk administration'!$Q$263*J105^2+'Teknisk administration'!$R$263*J105+'Teknisk administration'!$S$263),0)","v":0},{"$f":"IF(Z105=1,VLOOKUP(I105,Tabell214[],2,FALSE)*W105+VLOOKUP(I105,Tabell214[],3,FALSE),0)","v":0},{"$f":"IF(AA105=1,VLOOKUP(I105,Tabell215[],2,FALSE)*W105+VLOOKUP(I105,Tabell215[],3,FALSE),0)","v":0},{"$f":"IF(AB105=1,VLOOKUP(I105,Tabell216[],2,FALSE)*W105,0)","v":0},{"$f":"IF(AC105=1,'Teknisk administration'!$AP$377,0)","v":0},{"$f":"IF(AD105=1,VLOOKUP($I105,Tabell217[],2,FALSE)*$W105,0)","v":0},{"$f":"IF(AE105=1,VLOOKUP($I105,Tabell29[],2,FALSE)*$W105,0)","v":0},{"$f":"IF(ISTEXT(A105),VLOOKUP(A105,Tabell203[],7,FALSE),0)","v":0},0,{"$f":"IF(ISTEXT($A105),VLOOKUP($A105,Tabell203[],11,FALSE),0)","v":0},{"$f":"IF(ISTEXT($A105),VLOOKUP($A105,Tabell203[],12,FALSE),0)","v":0},{"$f":"IF(ISTEXT($A105),VLOOKUP($A105,Tabell203[],13,FALSE),0)","v":0},{"$f":"IF(ISTEXT($A105),VLOOKUP($A105,Tabell203[],14,FALSE),0)","v":0},{"$f":"IF(ISTEXT($A105),VLOOKUP($A105,Tabell203[],15,FALSE),0)","v":0},{"$f":"IF(AND(ISTEXT($A105),AP105>0),VLOOKUP($A105,Tabell203[],16,FALSE),0)","v":0}]
[null,null,null,null,null,{"$f":"IF(ISTEXT(A106),VLOOKUP(A106,Tabell203[],3,FALSE),\"\")","v":""},null,null,null,null,null,null,{"$f":"IF(ISTEXT(A106),VLOOKUP(A106,Tabell203[],10,FALSE),\"\")","v":""},0,0,0,0,{"$f":"IF(ISTEXT(A106),VLOOKUP(A106,Tabell203[],4,FALSE),0)","v":0},{"$f":"IF(ISTEXT(A106),VLOOKUP(A106,Tabell203[],6,FALSE),0)","v":0},{"$f":"IF(ISTEXT(A106),VLOOKUP(A106,Tabell203[],5,FALSE),0)","v":0},{"$f":"IF(ISTEXT(A106),VLOOKUP(A106,Tabell203[],8,FALSE),0)","v":0},{"$f":"IF(ISTEXT(A106),VLOOKUP(A106,Tabell203[],9,FALSE),0)","v":0},{"$f":"IF(ISTEXT(A106),IF(E106>0.000001,E106,VLOOKUP(A106,Tabell203[],2,FALSE)),0)","v":0},0,0,0,0,0,0,0,0,1,{"$f":"IF(X106=1,VLOOKUP(I106,Tabell220[],2,FALSE),0)","v":0},{"$f":"IF(Y106=1,IF(OR(W106<'Teknisk administration'!$P$262,W106>'Teknisk administration'!$P$263),'Teknisk administration'!$Q$262*J106^2+'Teknisk administration'!$R$262*J106+'Teknisk administration'!$S$262,'Teknisk administration'!$Q$263*J106^2+'Teknisk administration'!$R$263*J106+'Teknisk administration'!$S$263),0)","v":0},{"$f":"IF(Z106=1,VLOOKUP(I106,Tabell214[],2,FALSE)*W106+VLOOKUP(I106,Tabell214[],3,FALSE),0)","v":0},{"$f":"IF(AA106=1,VLOOKUP(I106,Tabell215[],2,FALSE)*W106+VLOOKUP(I106,Tabell215[],3,FALSE),0)","v":0},{"$f":"IF(AB106=1,VLOOKUP(I106,Tabell216[],2,FALSE)*W106,0)","v":0},{"$f":"IF(AC106=1,'Teknisk administration'!$AP$377,0)","v":0},{"$f":"IF(AD106=1,VLOOKUP($I106,Tabell217[],2,FALSE)*$W106,0)","v":0},{"$f":"IF(AE106=1,VLOOKUP($I106,Tabell29[],2,FALSE)*$W106,0)","v":0},{"$f":"IF(ISTEXT(A106),VLOOKUP(A106,Tabell203[],7,FALSE),0)","v":0},0,{"$f":"IF(ISTEXT($A106),VLOOKUP($A106,Tabell203[],11,FALSE),0)","v":0},{"$f":"IF(ISTEXT($A106),VLOOKUP($A106,Tabell203[],12,FALSE),0)","v":0},{"$f":"IF(ISTEXT($A106),VLOOKUP($A106,Tabell203[],13,FALSE),0)","v":0},{"$f":"IF(ISTEXT($A106),VLOOKUP($A106,Tabell203[],14,FALSE),0)","v":0},{"$f":"IF(ISTEXT($A106),VLOOKUP($A106,Tabell203[],15,FALSE),0)","v":0},{"$f":"IF(AND(ISTEXT($A106),AP106>0),VLOOKUP($A106,Tabell203[],16,FALSE),0)","v":0}]
[null,null,null,null,null,{"$f":"IF(ISTEXT(A107),VLOOKUP(A107,Tabell203[],3,FALSE),\"\")","v":""},null,null,null,null,null,null,{"$f":"IF(ISTEXT(A107),VLOOKUP(A107,Tabell203[],10,FALSE),\"\")","v":""},0,0,0,0,{"$f":"IF(ISTEXT(A107),VLOOKUP(A107,Tabell203[],4,FALSE),0)","v":0},{"$f":"IF(ISTEXT(A107),VLOOKUP(A107,Tabell203[],6,FALSE),0)","v":0},{"$f":"IF(ISTEXT(A107),VLOOKUP(A107,Tabell203[],5,FALSE),0)","v":0},{"$f":"IF(ISTEXT(A107),VLOOKUP(A107,Tabell203[],8,FALSE),0)","v":0},{"$f":"IF(ISTEXT(A107),VLOOKUP(A107,Tabell203[],9,FALSE),0)","v":0},{"$f":"IF(ISTEXT(A107),IF(E107>0.000001,E107,VLOOKUP(A107,Tabell203[],2,FALSE)),0)","v":0},0,0,0,0,0,0,0,0,1,{"$f":"IF(X107=1,VLOOKUP(I107,Tabell220[],2,FALSE),0)","v":0},{"$f":"IF(Y107=1,IF(OR(W107<'Teknisk administration'!$P$262,W107>'Teknisk administration'!$P$263),'Teknisk administration'!$Q$262*J107^2+'Teknisk administration'!$R$262*J107+'Teknisk administration'!$S$262,'Teknisk administration'!$Q$263*J107^2+'Teknisk administration'!$R$263*J107+'Teknisk administration'!$S$263),0)","v":0},{"$f":"IF(Z107=1,VLOOKUP(I107,Tabell214[],2,FALSE)*W107+VLOOKUP(I107,Tabell214[],3,FALSE),0)","v":0},{"$f":"IF(AA107=1,VLOOKUP(I107,Tabell215[],2,FALSE)*W107+VLOOKUP(I107,Tabell215[],3,FALSE),0)","v":0},{"$f":"IF(AB107=1,VLOOKUP(I107,Tabell216[],2,FALSE)*W107,0)","v":0},{"$f":"IF(AC107=1,'Teknisk administration'!$AP$377,0)","v":0},{"$f":"IF(AD107=1,VLOOKUP($I107,Tabell217[],2,FALSE)*$W107,0)","v":0},{"$f":"IF(AE107=1,VLOOKUP($I107,Tabell29[],2,FALSE)*$W107,0)","v":0},{"$f":"IF(ISTEXT(A107),VLOOKUP(A107,Tabell203[],7,FALSE),0)","v":0},0,{"$f":"IF(ISTEXT($A107),VLOOKUP($A107,Tabell203[],11,FALSE),0)","v":0},{"$f":"IF(ISTEXT($A107),VLOOKUP($A107,Tabell203[],12,FALSE),0)","v":0},{"$f":"IF(ISTEXT($A107),VLOOKUP($A107,Tabell203[],13,FALSE),0)","v":0},{"$f":"IF(ISTEXT($A107),VLOOKUP($A107,Tabell203[],14,FALSE),0)","v":0},{"$f":"IF(ISTEXT($A107),VLOOKUP($A107,Tabell203[],15,FALSE),0)","v":0},{"$f":"IF(AND(ISTEXT($A107),AP107>0),VLOOKUP($A107,Tabell203[],16,FALSE),0)","v":0}]
[null,null,null,null,null,{"$f":"IF(ISTEXT(A108),VLOOKUP(A108,Tabell203[],3,FALSE),\"\")","v":""},null,null,null,null,null,null,{"$f":"IF(ISTEXT(A108),VLOOKUP(A108,Tabell203[],10,FALSE),\"\")","v":""},0,0,0,0,{"$f":"IF(ISTEXT(A108),VLOOKUP(A108,Tabell203[],4,FALSE),0)","v":0},{"$f":"IF(ISTEXT(A108),VLOOKUP(A108,Tabell203[],6,FALSE),0)","v":0},{"$f":"IF(ISTEXT(A108),VLOOKUP(A108,Tabell203[],5,FALSE),0)","v":0},{"$f":"IF(ISTEXT(A108),VLOOKUP(A108,Tabell203[],8,FALSE),0)","v":0},{"$f":"IF(ISTEXT(A108),VLOOKUP(A108,Tabell203[],9,FALSE),0)","v":0},{"$f":"IF(ISTEXT(A108),IF(E108>0.000001,E108,VLOOKUP(A108,Tabell203[],2,FALSE)),0)","v":0},0,0,0,0,0,0,0,0,1,{"$f":"IF(X108=1,VLOOKUP(I108,Tabell220[],2,FALSE),0)","v":0},{"$f":"IF(Y108=1,IF(OR(W108<'Teknisk administration'!$P$262,W108>'Teknisk administration'!$P$263),'Teknisk administration'!$Q$262*J108^2+'Teknisk administration'!$R$262*J108+'Teknisk administration'!$S$262,'Teknisk administration'!$Q$263*J108^2+'Teknisk administration'!$R$263*J108+'Teknisk administration'!$S$263),0)","v":0},{"$f":"IF(Z108=1,VLOOKUP(I108,Tabell214[],2,FALSE)*W108+VLOOKUP(I108,Tabell214[],3,FALSE),0)","v":0},{"$f":"IF(AA108=1,VLOOKUP(I108,Tabell215[],2,FALSE)*W108+VLOOKUP(I108,Tabell215[],3,FALSE),0)","v":0},{"$f":"IF(AB108=1,VLOOKUP(I108,Tabell216[],2,FALSE)*W108,0)","v":0},{"$f":"IF(AC108=1,'Teknisk administration'!$AP$377,0)","v":0},{"$f":"IF(AD108=1,VLOOKUP($I108,Tabell217[],2,FALSE)*$W108,0)","v":0},{"$f":"IF(AE108=1,VLOOKUP($I108,Tabell29[],2,FALSE)*$W108,0)","v":0},{"$f":"IF(ISTEXT(A108),VLOOKUP(A108,Tabell203[],7,FALSE),0)","v":0},0,{"$f":"IF(ISTEXT($A108),VLOOKUP($A108,Tabell203[],11,FALSE),0)","v":0},{"$f":"IF(ISTEXT($A108),VLOOKUP($A108,Tabell203[],12,FALSE),0)","v":0},{"$f":"IF(ISTEXT($A108),VLOOKUP($A108,Tabell203[],13,FALSE),0)","v":0},{"$f":"IF(ISTEXT($A108),VLOOKUP($A108,Tabell203[],14,FALSE),0)","v":0},{"$f":"IF(ISTEXT($A108),VLOOKUP($A108,Tabell203[],15,FALSE),0)","v":0},{"$f":"IF(AND(ISTEXT($A108),AP108>0),VLOOKUP($A108,Tabell203[],16,FALSE),0)","v":0}]
[null,null,null,null,null,{"$f":"IF(ISTEXT(A109),VLOOKUP(A109,Tabell203[],3,FALSE),\"\")","v":""},null,null,null,null,null,null,{"$f":"IF(ISTEXT(A109),VLOOKUP(A109,Tabell203[],10,FALSE),\"\")","v":""},0,0,0,0,{"$f":"IF(ISTEXT(A109),VLOOKUP(A109,Tabell203[],4,FALSE),0)","v":0},{"$f":"IF(ISTEXT(A109),VLOOKUP(A109,Tabell203[],6,FALSE),0)","v":0},{"$f":"IF(ISTEXT(A109),VLOOKUP(A109,Tabell203[],5,FALSE),0)","v":0},{"$f":"IF(ISTEXT(A109),VLOOKUP(A109,Tabell203[],8,FALSE),0)","v":0},{"$f":"IF(ISTEXT(A109),VLOOKUP(A109,Tabell203[],9,FALSE),0)","v":0},{"$f":"IF(ISTEXT(A109),IF(E109>0.000001,E109,VLOOKUP(A109,Tabell203[],2,FALSE)),0)","v":0},0,0,0,0,0,0,0,0,1,{"$f":"IF(X109=1,VLOOKUP(I109,Tabell220[],2,FALSE),0)","v":0},{"$f":"IF(Y109=1,IF(OR(W109<'Teknisk administration'!$P$262,W109>'Teknisk administration'!$P$263),'Teknisk administration'!$Q$262*J109^2+'Teknisk administration'!$R$262*J109+'Teknisk administration'!$S$262,'Teknisk administration'!$Q$263*J109^2+'Teknisk administration'!$R$263*J109+'Teknisk administration'!$S$263),0)","v":0},{"$f":"IF(Z109=1,VLOOKUP(I109,Tabell214[],2,FALSE)*W109+VLOOKUP(I109,Tabell214[],3,FALSE),0)","v":0},{"$f":"IF(AA109=1,VLOOKUP(I109,Tabell215[],2,FALSE)*W109+VLOOKUP(I109,Tabell215[],3,FALSE),0)","v":0},{"$f":"IF(AB109=1,VLOOKUP(I109,Tabell216[],2,FALSE)*W109,0)","v":0},{"$f":"IF(AC109=1,'Teknisk administration'!$AP$377,0)","v":0},{"$f":"IF(AD109=1,VLOOKUP($I109,Tabell217[],2,FALSE)*$W109,0)","v":0},{"$f":"IF(AE109=1,VLOOKUP($I109,Tabell29[],2,FALSE)*$W109,0)","v":0},{"$f":"IF(ISTEXT(A109),VLOOKUP(A109,Tabell203[],7,FALSE),0)","v":0},0,{"$f":"IF(ISTEXT($A109),VLOOKUP($A109,Tabell203[],11,FALSE),0)","v":0},{"$f":"IF(ISTEXT($A109),VLOOKUP($A109,Tabell203[],12,FALSE),0)","v":0},{"$f":"IF(ISTEXT($A109),VLOOKUP($A109,Tabell203[],13,FALSE),0)","v":0},{"$f":"IF(ISTEXT($A109),VLOOKUP($A109,Tabell203[],14,FALSE),0)","v":0},{"$f":"IF(ISTEXT($A109),VLOOKUP($A109,Tabell203[],15,FALSE),0)","v":0},{"$f":"IF(AND(ISTEXT($A109),AP109>0),VLOOKUP($A109,Tabell203[],16,FALSE),0)","v":0}]
[null,null,null,null,null,{"$f":"IF(ISTEXT(A110),VLOOKUP(A110,Tabell203[],3,FALSE),\"\")","v":""},null,null,null,null,null,null,{"$f":"IF(ISTEXT(A110),VLOOKUP(A110,Tabell203[],10,FALSE),\"\")","v":""},0,0,0,0,{"$f":"IF(ISTEXT(A110),VLOOKUP(A110,Tabell203[],4,FALSE),0)","v":0},{"$f":"IF(ISTEXT(A110),VLOOKUP(A110,Tabell203[],6,FALSE),0)","v":0},{"$f":"IF(ISTEXT(A110),VLOOKUP(A110,Tabell203[],5,FALSE),0)","v":0},{"$f":"IF(ISTEXT(A110),VLOOKUP(A110,Tabell203[],8,FALSE),0)","v":0},{"$f":"IF(ISTEXT(A110),VLOOKUP(A110,Tabell203[],9,FALSE),0)","v":0},{"$f":"IF(ISTEXT(A110),IF(E110>0.000001,E110,VLOOKUP(A110,Tabell203[],2,FALSE)),0)","v":0},0,0,0,0,0,0,0,0,1,{"$f":"IF(X110=1,VLOOKUP(I110,Tabell220[],2,FALSE),0)","v":0},{"$f":"IF(Y110=1,IF(OR(W110<'Teknisk administration'!$P$262,W110>'Teknisk administration'!$P$263),'Teknisk administration'!$Q$262*J110^2+'Teknisk administration'!$R$262*J110+'Teknisk administration'!$S$262,'Teknisk administration'!$Q$263*J110^2+'Teknisk administration'!$R$263*J110+'Teknisk administration'!$S$263),0)","v":0},{"$f":"IF(Z110=1,VLOOKUP(I110,Tabell214[],2,FALSE)*W110+VLOOKUP(I110,Tabell214[],3,FALSE),0)","v":0},{"$f":"IF(AA110=1,VLOOKUP(I110,Tabell215[],2,FALSE)*W110+VLOOKUP(I110,Tabell215[],3,FALSE),0)","v":0},{"$f":"IF(AB110=1,VLOOKUP(I110,Tabell216[],2,FALSE)*W110,0)","v":0},{"$f":"IF(AC110=1,'Teknisk administration'!$AP$377,0)","v":0},{"$f":"IF(AD110=1,VLOOKUP($I110,Tabell217[],2,FALSE)*$W110,0)","v":0},{"$f":"IF(AE110=1,VLOOKUP($I110,Tabell29[],2,FALSE)*$W110,0)","v":0},{"$f":"IF(ISTEXT(A110),VLOOKUP(A110,Tabell203[],7,FALSE),0)","v":0},0,{"$f":"IF(ISTEXT($A110),VLOOKUP($A110,Tabell203[],11,FALSE),0)","v":0},{"$f":"IF(ISTEXT($A110),VLOOKUP($A110,Tabell203[],12,FALSE),0)","v":0},{"$f":"IF(ISTEXT($A110),VLOOKUP($A110,Tabell203[],13,FALSE),0)","v":0},{"$f":"IF(ISTEXT($A110),VLOOKUP($A110,Tabell203[],14,FALSE),0)","v":0},{"$f":"IF(ISTEXT($A110),VLOOKUP($A110,Tabell203[],15,FALSE),0)","v":0},{"$f":"IF(AND(ISTEXT($A110),AP110>0),VLOOKUP($A110,Tabell203[],16,FALSE),0)","v":0}]
[null,null,null,null,null,{"$f":"IF(ISTEXT(A111),VLOOKUP(A111,Tabell203[],3,FALSE),\"\")","v":""},null,null,null,null,null,null,{"$f":"IF(ISTEXT(A111),VLOOKUP(A111,Tabell203[],10,FALSE),\"\")","v":""},0,0,0,0,{"$f":"IF(ISTEXT(A111),VLOOKUP(A111,Tabell203[],4,FALSE),0)","v":0},{"$f":"IF(ISTEXT(A111),VLOOKUP(A111,Tabell203[],6,FALSE),0)","v":0},{"$f":"IF(ISTEXT(A111),VLOOKUP(A111,Tabell203[],5,FALSE),0)","v":0},{"$f":"IF(ISTEXT(A111),VLOOKUP(A111,Tabell203[],8,FALSE),0)","v":0},{"$f":"IF(ISTEXT(A111),VLOOKUP(A111,Tabell203[],9,FALSE),0)","v":0},{"$f":"IF(ISTEXT(A111),IF(E111>0.000001,E111,VLOOKUP(A111,Tabell203[],2,FALSE)),0)","v":0},0,0,0,0,0,0,0,0,1,{"$f":"IF(X111=1,VLOOKUP(I111,Tabell220[],2,FALSE),0)","v":0},{"$f":"IF(Y111=1,IF(OR(W111<'Teknisk administration'!$P$262,W111>'Teknisk administration'!$P$263),'Teknisk administration'!$Q$262*J111^2+'Teknisk administration'!$R$262*J111+'Teknisk administration'!$S$262,'Teknisk administration'!$Q$263*J111^2+'Teknisk administration'!$R$263*J111+'Teknisk administration'!$S$263),0)","v":0},{"$f":"IF(Z111=1,VLOOKUP(I111,Tabell214[],2,FALSE)*W111+VLOOKUP(I111,Tabell214[],3,FALSE),0)","v":0},{"$f":"IF(AA111=1,VLOOKUP(I111,Tabell215[],2,FALSE)*W111+VLOOKUP(I111,Tabell215[],3,FALSE),0)","v":0},{"$f":"IF(AB111=1,VLOOKUP(I111,Tabell216[],2,FALSE)*W111,0)","v":0},{"$f":"IF(AC111=1,'Teknisk administration'!$AP$377,0)","v":0},{"$f":"IF(AD111=1,VLOOKUP($I111,Tabell217[],2,FALSE)*$W111,0)","v":0},{"$f":"IF(AE111=1,VLOOKUP($I111,Tabell29[],2,FALSE)*$W111,0)","v":0},{"$f":"IF(ISTEXT(A111),VLOOKUP(A111,Tabell203[],7,FALSE),0)","v":0},0,{"$f":"IF(ISTEXT($A111),VLOOKUP($A111,Tabell203[],11,FALSE),0)","v":0},{"$f":"IF(ISTEXT($A111),VLOOKUP($A111,Tabell203[],12,FALSE),0)","v":0},{"$f":"IF(ISTEXT($A111),VLOOKUP($A111,Tabell203[],13,FALSE),0)","v":0},{"$f":"IF(ISTEXT($A111),VLOOKUP($A111,Tabell203[],14,FALSE),0)","v":0},{"$f":"IF(ISTEXT($A111),VLOOKUP($A111,Tabell203[],15,FALSE),0)","v":0},{"$f":"IF(AND(ISTEXT($A111),AP111>0),VLOOKUP($A111,Tabell203[],16,FALSE),0)","v":0}]
[null,null,null,null,null,{"$f":"IF(ISTEXT(A112),VLOOKUP(A112,Tabell203[],3,FALSE),\"\")","v":""},null,null,null,null,null,null,{"$f":"IF(ISTEXT(A112),VLOOKUP(A112,Tabell203[],10,FALSE),\"\")","v":""},0,0,0,0,{"$f":"IF(ISTEXT(A112),VLOOKUP(A112,Tabell203[],4,FALSE),0)","v":0},{"$f":"IF(ISTEXT(A112),VLOOKUP(A112,Tabell203[],6,FALSE),0)","v":0},{"$f":"IF(ISTEXT(A112),VLOOKUP(A112,Tabell203[],5,FALSE),0)","v":0},{"$f":"IF(ISTEXT(A112),VLOOKUP(A112,Tabell203[],8,FALSE),0)","v":0},{"$f":"IF(ISTEXT(A112),VLOOKUP(A112,Tabell203[],9,FALSE),0)","v":0},{"$f":"IF(ISTEXT(A112),IF(E112>0.000001,E112,VLOOKUP(A112,Tabell203[],2,FALSE)),0)","v":0},0,0,0,0,0,0,0,0,1,{"$f":"IF(X112=1,VLOOKUP(I112,Tabell220[],2,FALSE),0)","v":0},{"$f":"IF(Y112=1,IF(OR(W112<'Teknisk administration'!$P$262,W112>'Teknisk administration'!$P$263),'Teknisk administration'!$Q$262*J112^2+'Teknisk administration'!$R$262*J112+'Teknisk administration'!$S$262,'Teknisk administration'!$Q$263*J112^2+'Teknisk administration'!$R$263*J112+'Teknisk administration'!$S$263),0)","v":0},{"$f":"IF(Z112=1,VLOOKUP(I112,Tabell214[],2,FALSE)*W112+VLOOKUP(I112,Tabell214[],3,FALSE),0)","v":0},{"$f":"IF(AA112=1,VLOOKUP(I112,Tabell215[],2,FALSE)*W112+VLOOKUP(I112,Tabell215[],3,FALSE),0)","v":0},{"$f":"IF(AB112=1,VLOOKUP(I112,Tabell216[],2,FALSE)*W112,0)","v":0},{"$f":"IF(AC112=1,'Teknisk administration'!$AP$377,0)","v":0},{"$f":"IF(AD112=1,VLOOKUP($I112,Tabell217[],2,FALSE)*$W112,0)","v":0},{"$f":"IF(AE112=1,VLOOKUP($I112,Tabell29[],2,FALSE)*$W112,0)","v":0},{"$f":"IF(ISTEXT(A112),VLOOKUP(A112,Tabell203[],7,FALSE),0)","v":0},0,{"$f":"IF(ISTEXT($A112),VLOOKUP($A112,Tabell203[],11,FALSE),0)","v":0},{"$f":"IF(ISTEXT($A112),VLOOKUP($A112,Tabell203[],12,FALSE),0)","v":0},{"$f":"IF(ISTEXT($A112),VLOOKUP($A112,Tabell203[],13,FALSE),0)","v":0},{"$f":"IF(ISTEXT($A112),VLOOKUP($A112,Tabell203[],14,FALSE),0)","v":0},{"$f":"IF(ISTEXT($A112),VLOOKUP($A112,Tabell203[],15,FALSE),0)","v":0},{"$f":"IF(AND(ISTEXT($A112),AP112>0),VLOOKUP($A112,Tabell203[],16,FALSE),0)","v":0}]
[null,null,null,null,null,{"$f":"IF(ISTEXT(A113),VLOOKUP(A113,Tabell203[],3,FALSE),\"\")","v":""},null,null,null,null,null,null,{"$f":"IF(ISTEXT(A113),VLOOKUP(A113,Tabell203[],10,FALSE),\"\")","v":""},0,0,0,0,{"$f":"IF(ISTEXT(A113),VLOOKUP(A113,Tabell203[],4,FALSE),0)","v":0},{"$f":"IF(ISTEXT(A113),VLOOKUP(A113,Tabell203[],6,FALSE),0)","v":0},{"$f":"IF(ISTEXT(A113),VLOOKUP(A113,Tabell203[],5,FALSE),0)","v":0},{"$f":"IF(ISTEXT(A113),VLOOKUP(A113,Tabell203[],8,FALSE),0)","v":0},{"$f":"IF(ISTEXT(A113),VLOOKUP(A113,Tabell203[],9,FALSE),0)","v":0},{"$f":"IF(ISTEXT(A113),IF(E113>0.000001,E113,VLOOKUP(A113,Tabell203[],2,FALSE)),0)","v":0},0,0,0,0,0,0,0,0,1,{"$f":"IF(X113=1,VLOOKUP(I113,Tabell220[],2,FALSE),0)","v":0},{"$f":"IF(Y113=1,IF(OR(W113<'Teknisk administration'!$P$262,W113>'Teknisk administration'!$P$263),'Teknisk administration'!$Q$262*J113^2+'Teknisk administration'!$R$262*J113+'Teknisk administration'!$S$262,'Teknisk administration'!$Q$263*J113^2+'Teknisk administration'!$R$263*J113+'Teknisk administration'!$S$263),0)","v":0},{"$f":"IF(Z113=1,VLOOKUP(I113,Tabell214[],2,FALSE)*W113+VLOOKUP(I113,Tabell214[],3,FALSE),0)","v":0},{"$f":"IF(AA113=1,VLOOKUP(I113,Tabell215[],2,FALSE)*W113+VLOOKUP(I113,Tabell215[],3,FALSE),0)","v":0},{"$f":"IF(AB113=1,VLOOKUP(I113,Tabell216[],2,FALSE)*W113,0)","v":0},{"$f":"IF(AC113=1,'Teknisk administration'!$AP$377,0)","v":0},{"$f":"IF(AD113=1,VLOOKUP($I113,Tabell217[],2,FALSE)*$W113,0)","v":0},{"$f":"IF(AE113=1,VLOOKUP($I113,Tabell29[],2,FALSE)*$W113,0)","v":0},{"$f":"IF(ISTEXT(A113),VLOOKUP(A113,Tabell203[],7,FALSE),0)","v":0},0,{"$f":"IF(ISTEXT($A113),VLOOKUP($A113,Tabell203[],11,FALSE),0)","v":0},{"$f":"IF(ISTEXT($A113),VLOOKUP($A113,Tabell203[],12,FALSE),0)","v":0},{"$f":"IF(ISTEXT($A113),VLOOKUP($A113,Tabell203[],13,FALSE),0)","v":0},{"$f":"IF(ISTEXT($A113),VLOOKUP($A113,Tabell203[],14,FALSE),0)","v":0},{"$f":"IF(ISTEXT($A113),VLOOKUP($A113,Tabell203[],15,FALSE),0)","v":0},{"$f":"IF(AND(ISTEXT($A113),AP113>0),VLOOKUP($A113,Tabell203[],16,FALSE),0)","v":0}]
[null,null,null,null,null,{"$f":"IF(ISTEXT(A114),VLOOKUP(A114,Tabell203[],3,FALSE),\"\")","v":""},null,null,null,null,null,null,{"$f":"IF(ISTEXT(A114),VLOOKUP(A114,Tabell203[],10,FALSE),\"\")","v":""},0,0,0,0,{"$f":"IF(ISTEXT(A114),VLOOKUP(A114,Tabell203[],4,FALSE),0)","v":0},{"$f":"IF(ISTEXT(A114),VLOOKUP(A114,Tabell203[],6,FALSE),0)","v":0},{"$f":"IF(ISTEXT(A114),VLOOKUP(A114,Tabell203[],5,FALSE),0)","v":0},{"$f":"IF(ISTEXT(A114),VLOOKUP(A114,Tabell203[],8,FALSE),0)","v":0},{"$f":"IF(ISTEXT(A114),VLOOKUP(A114,Tabell203[],9,FALSE),0)","v":0},{"$f":"IF(ISTEXT(A114),IF(E114>0.000001,E114,VLOOKUP(A114,Tabell203[],2,FALSE)),0)","v":0},0,0,0,0,0,0,0,0,1,{"$f":"IF(X114=1,VLOOKUP(I114,Tabell220[],2,FALSE),0)","v":0},{"$f":"IF(Y114=1,IF(OR(W114<'Teknisk administration'!$P$262,W114>'Teknisk administration'!$P$263),'Teknisk administration'!$Q$262*J114^2+'Teknisk administration'!$R$262*J114+'Teknisk administration'!$S$262,'Teknisk administration'!$Q$263*J114^2+'Teknisk administration'!$R$263*J114+'Teknisk administration'!$S$263),0)","v":0},{"$f":"IF(Z114=1,VLOOKUP(I114,Tabell214[],2,FALSE)*W114+VLOOKUP(I114,Tabell214[],3,FALSE),0)","v":0},{"$f":"IF(AA114=1,VLOOKUP(I114,Tabell215[],2,FALSE)*W114+VLOOKUP(I114,Tabell215[],3,FALSE),0)","v":0},{"$f":"IF(AB114=1,VLOOKUP(I114,Tabell216[],2,FALSE)*W114,0)","v":0},{"$f":"IF(AC114=1,'Teknisk administration'!$AP$377,0)","v":0},{"$f":"IF(AD114=1,VLOOKUP($I114,Tabell217[],2,FALSE)*$W114,0)","v":0},{"$f":"IF(AE114=1,VLOOKUP($I114,Tabell29[],2,FALSE)*$W114,0)","v":0},{"$f":"IF(ISTEXT(A114),VLOOKUP(A114,Tabell203[],7,FALSE),0)","v":0},0,{"$f":"IF(ISTEXT($A114),VLOOKUP($A114,Tabell203[],11,FALSE),0)","v":0},{"$f":"IF(ISTEXT($A114),VLOOKUP($A114,Tabell203[],12,FALSE),0)","v":0},{"$f":"IF(ISTEXT($A114),VLOOKUP($A114,Tabell203[],13,FALSE),0)","v":0},{"$f":"IF(ISTEXT($A114),VLOOKUP($A114,Tabell203[],14,FALSE),0)","v":0},{"$f":"IF(ISTEXT($A114),VLOOKUP($A114,Tabell203[],15,FALSE),0)","v":0},{"$f":"IF(AND(ISTEXT($A114),AP114>0),VLOOKUP($A114,Tabell203[],16,FALSE),0)","v":0}]
[null,null,null,null,null,{"$f":"IF(ISTEXT(A115),VLOOKUP(A115,Tabell203[],3,FALSE),\"\")","v":""},null,null,null,null,null,null,{"$f":"IF(ISTEXT(A115),VLOOKUP(A115,Tabell203[],10,FALSE),\"\")","v":""},0,0,0,0,{"$f":"IF(ISTEXT(A115),VLOOKUP(A115,Tabell203[],4,FALSE),0)","v":0},{"$f":"IF(ISTEXT(A115),VLOOKUP(A115,Tabell203[],6,FALSE),0)","v":0},{"$f":"IF(ISTEXT(A115),VLOOKUP(A115,Tabell203[],5,FALSE),0)","v":0},{"$f":"IF(ISTEXT(A115),VLOOKUP(A115,Tabell203[],8,FALSE),0)","v":0},{"$f":"IF(ISTEXT(A115),VLOOKUP(A115,Tabell203[],9,FALSE),0)","v":0},{"$f":"IF(ISTEXT(A115),IF(E115>0.000001,E115,VLOOKUP(A115,Tabell203[],2,FALSE)),0)","v":0},0,0,0,0,0,0,0,0,1,{"$f":"IF(X115=1,VLOOKUP(I115,Tabell220[],2,FALSE),0)","v":0},{"$f":"IF(Y115=1,IF(OR(W115<'Teknisk administration'!$P$262,W115>'Teknisk administration'!$P$263),'Teknisk administration'!$Q$262*J115^2+'Teknisk administration'!$R$262*J115+'Teknisk administration'!$S$262,'Teknisk administration'!$Q$263*J115^2+'Teknisk administration'!$R$263*J115+'Teknisk administration'!$S$263),0)","v":0},{"$f":"IF(Z115=1,VLOOKUP(I115,Tabell214[],2,FALSE)*W115+VLOOKUP(I115,Tabell214[],3,FALSE),0)","v":0},{"$f":"IF(AA115=1,VLOOKUP(I115,Tabell215[],2,FALSE)*W115+VLOOKUP(I115,Tabell215[],3,FALSE),0)","v":0},{"$f":"IF(AB115=1,VLOOKUP(I115,Tabell216[],2,FALSE)*W115,0)","v":0},{"$f":"IF(AC115=1,'Teknisk administration'!$AP$377,0)","v":0},{"$f":"IF(AD115=1,VLOOKUP($I115,Tabell217[],2,FALSE)*$W115,0)","v":0},{"$f":"IF(AE115=1,VLOOKUP($I115,Tabell29[],2,FALSE)*$W115,0)","v":0},{"$f":"IF(ISTEXT(A115),VLOOKUP(A115,Tabell203[],7,FALSE),0)","v":0},0,{"$f":"IF(ISTEXT($A115),VLOOKUP($A115,Tabell203[],11,FALSE),0)","v":0},{"$f":"IF(ISTEXT($A115),VLOOKUP($A115,Tabell203[],12,FALSE),0)","v":0},{"$f":"IF(ISTEXT($A115),VLOOKUP($A115,Tabell203[],13,FALSE),0)","v":0},{"$f":"IF(ISTEXT($A115),VLOOKUP($A115,Tabell203[],14,FALSE),0)","v":0},{"$f":"IF(ISTEXT($A115),VLOOKUP($A115,Tabell203[],15,FALSE),0)","v":0},{"$f":"IF(AND(ISTEXT($A115),AP115>0),VLOOKUP($A115,Tabell203[],16,FALSE),0)","v":0}]
[null,null,null,null,null,null,null,null,null,null,null,null,"Totalt mängd inlagt eller direkttfodrat ",{"$f":"SUM(N104:N115)","v":0},null,{"$f":"SUM(P104:P115)","v":0},{"$f":"SUM(Q104:Q115)","v":0},null,null,null,null,null,null,null,null,{"$f":"IF(SUMPRODUCT(Z104:Z115,$G104:$G115)=0,0,SUMPRODUCT($P104:$P115,Z104:Z115)/SUMPRODUCT(Z104:Z115,$G104:$G115))","v":0},{"$f":"IF(SUMPRODUCT(AA104:AA115,$G104:$G115)=0,0,SUMPRODUCT($P104:$P115,AA104:AA115)/SUMPRODUCT(AA104:AA115,$G104:$G115))","v":0}]
[]
[]
[{"$f":"\"Övrigt egenproducerat foder \"&A73","v":"Övrigt egenproducerat foder Period 2"}]
["Välj typ av ur lista och mängden bärgat foder aktuell period (enhet visas när du valt ett foder ur listan). Enhet och ts-halt hämtas från en databas. ",null,null,null,null,null,null,null,null,null,null,null,null,null,null,null,null,null,"Nöt och lamm","Växande grisar","Suggor"]
["Typ av foder - välj ur lista","Mängd","Enhet och ts-halt","Egen kommentar",null,null,null,null,null,null,null,null,null,null,null,null,null,"ts-halt","MJ OM","MJ NE","MJ NE",null,"typ av foder","spannmål","trindsäd","oljeväxter","rotfrukter"]
[null,null,{"$f":"IF(ISTEXT(A122),VLOOKUP(A122,'Teknisk administration'!$B$323:$G$340,2,FALSE),\"\")","v":""},null,null,null,null,null,null,null,null,null,null,null,null,null,null,{"$f":"IF(ISTEXT(A122),VLOOKUP(A122,'Teknisk administration'!$B$323:$G$340,3,FALSE),\"\")","v":""},{"$f":"IF(ISTEXT($A122),VLOOKUP($A122,'Teknisk administration'!$B$323:$I$340,4,FALSE)*$B122*$R122,\"\")","v":""},{"$f":"IF(ISTEXT($A122),VLOOKUP($A122,'Teknisk administration'!$B$323:$I$340,5,FALSE)*$B122,\"\")","v":""},{"$f":"IF(ISTEXT($A122),VLOOKUP($A122,'Teknisk administration'!$B$323:$I$340,6,FALSE)*$B122,\"\")","v":""},null,{"$f":"IF(ISTEXT(A122),VLOOKUP(A122,'Teknisk administration'!$B$323:$I$340,8,FALSE),\"\")","v":""},{"$f":"IF($W122=X$58,1,0)","v":0},0,0,0]
[null,null,{"$f":"IF(ISTEXT(A123),VLOOKUP(A123,'Teknisk administration'!$B$323:$G$340,2,FALSE),\"\")","v":""},null,null,null,null,null,null,null,null,null,null,null,null,null,null,{"$f":"IF(ISTEXT(A123),VLOOKUP(A123,'Teknisk administration'!$B$323:$G$340,3,FALSE),\"\")","v":""},{"$f":"IF(ISTEXT($A123),VLOOKUP($A123,'Teknisk administration'!$B$323:$I$340,4,FALSE)*$B123*$R123,\"\")","v":""},{"$f":"IF(ISTEXT($A123),VLOOKUP($A123,'Teknisk administration'!$B$323:$I$340,5,FALSE)*$B123,\"\")","v":""},{"$f":"IF(ISTEXT($A123),VLOOKUP($A123,'Teknisk administration'!$B$323:$I$340,6,FALSE)*$B123,\"\")","v":""},null,{"$f":"IF(ISTEXT(A123),VLOOKUP(A123,'Teknisk administration'!$B$323:$I$340,8,FALSE),\"\")","v":""},0,0,0,0]
[null,null,{"$f":"IF(ISTEXT(A124),VLOOKUP(A124,'Teknisk administration'!$B$323:$G$340,2,FALSE),\"\")","v":""},null,null,null,null,null,null,null,null,null,null,null,null,null,null,{"$f":"IF(ISTEXT(A124),VLOOKUP(A124,'Teknisk administration'!$B$323:$G$340,3,FALSE),\"\")","v":""},{"$f":"IF(ISTEXT($A124),VLOOKUP($A124,'Teknisk administration'!$B$323:$I$340,4,FALSE)*$B124*$R124,\"\")","v":""},{"$f":"IF(ISTEXT($A124),VLOOKUP($A124,'Teknisk administration'!$B$323:$I$340,5,FALSE)*$B124,\"\")","v":""},{"$f":"IF(ISTEXT($A124),VLOOKUP($A124,'Teknisk administration'!$B$323:$I$340,6,FALSE)*$B124,\"\")","v":""},null,{"$f":"IF(ISTEXT(A124),VLOOKUP(A124,'Teknisk administration'!$B$323:$I$340,8,FALSE),\"\")","v":""},0,0,0,0]
[null,null,{"$f":"IF(ISTEXT(A125),VLOOKUP(A125,'Teknisk administration'!$B$323:$G$340,2,FALSE),\"\")","v":""},null,null,null,null,null,null,null,null,null,null,null,null,null,null,{"$f":"IF(ISTEXT(A125),VLOOKUP(A125,'Teknisk administration'!$B$323:$G$340,3,FALSE),\"\")","v":""},{"$f":"IF(ISTEXT($A125),VLOOKUP($A125,'Teknisk administration'!$B$323:$I$340,4,FALSE)*$B125*$R125,\"\")","v":""},{"$f":"IF(ISTEXT($A125),VLOOKUP($A125,'Teknisk administration'!$B$323:$I$340,5,FALSE)*$B125,\"\")","v":""},{"$f":"IF(ISTEXT($A125),VLOOKUP($A125,'Teknisk administration'!$B$323:$I$340,6,FALSE)*$B125,\"\")","v":""},null,{"$f":"IF(ISTEXT(A125),VLOOKUP(A125,'Teknisk administration'!$B$323:$I$340,8,FALSE),\"\")","v":""},0,0,0,0]
[null,null,{"$f":"IF(ISTEXT(A126),VLOOKUP(A126,'Teknisk administration'!$B$323:$G$340,2,FALSE),\"\")","v":""},null,null,null,null,null,null,null,null,null,null,null,null,null,null,{"$f":"IF(ISTEXT(A126),VLOOKUP(A126,'Teknisk administration'!$B$323:$G$340,3,FALSE),\"\")","v":""},{"$f":"IF(ISTEXT($A126),VLOOKUP($A126,'Teknisk administration'!$B$323:$I$340,4,FALSE)*$B126*$R126,\"\")","v":""},{"$f":"IF(ISTEXT($A126),VLOOKUP($A126,'Teknisk administration'!$B$323:$I$340,5,FALSE)*$B126,\"\")","v":""},{"$f":"IF(ISTEXT($A126),VLOOKUP($A126,'Teknisk administration'!$B$323:$I$340,6,FALSE)*$B126,\"\")","v":""},null,{"$f":"IF(ISTEXT(A126),VLOOKUP(A126,'Teknisk administration'!$B$323:$I$340,8,FALSE),\"\")","v":""},0,0,0,0]
[null,null,{"$f":"IF(ISTEXT(A127),VLOOKUP(A127,'Teknisk administration'!$B$323:$G$340,2,FALSE),\"\")","v":""},null,null,null,null,null,null,null,null,null,null,null,null,null,null,{"$f":"IF(ISTEXT(A127),VLOOKUP(A127,'Teknisk administration'!$B$323:$G$340,3,FALSE),\"\")","v":""},{"$f":"IF(ISTEXT($A127),VLOOKUP($A127,'Teknisk administration'!$B$323:$I$340,4,FALSE)*$B127*$R127,\"\")","v":""},{"$f":"IF(ISTEXT($A127),VLOOKUP($A127,'Teknisk administration'!$B$323:$I$340,5,FALSE)*$B127,\"\")","v":""},{"$f":"IF(ISTEXT($A127),VLOOKUP($A127,'Teknisk administration'!$B$323:$I$340,6,FALSE)*$B127,\"\")","v":""},null,{"$f":"IF(ISTEXT(A127),VLOOKUP(A127,'Teknisk administration'!$B$323:$I$340,8,FALSE),\"\")","v":""},0,0,0,0]
[null,null,{"$f":"IF(ISTEXT(A128),VLOOKUP(A128,'Teknisk administration'!$B$323:$G$340,2,FALSE),\"\")","v":""},null,null,null,null,null,null,null,null,null,null,null,null,null,null,{"$f":"IF(ISTEXT(A128),VLOOKUP(A128,'Teknisk administration'!$B$323:$G$340,3,FALSE),\"\")","v":""},{"$f":"IF(ISTEXT($A128),VLOOKUP($A128,'Teknisk administration'!$B$323:$I$340,4,FALSE)*$B128*$R128,\"\")","v":""},{"$f":"IF(ISTEXT($A128),VLOOKUP($A128,'Teknisk administration'!$B$323:$I$340,5,FALSE)*$B128,\"\")","v":""},{"$f":"IF(ISTEXT($A128),VLOOKUP($A128,'Teknisk administration'!$B$323:$I$340,6,FALSE)*$B128,\"\")","v":""},null,{"$f":"IF(ISTEXT(A128),VLOOKUP(A128,'Teknisk administration'!$B$323:$I$340,8,FALSE),\"\")","v":""},0,0,0,0]
[null,null,{"$f":"IF(ISTEXT(A129),VLOOKUP(A129,'Teknisk administration'!$B$323:$G$340,2,FALSE),\"\")","v":""},null,null,null,null,null,null,null,null,null,null,null,null,null,null,{"$f":"IF(ISTEXT(A129),VLOOKUP(A129,'Teknisk administration'!$B$323:$G$340,3,FALSE),\"\")","v":""},{"$f":"IF(ISTEXT($A129),VLOOKUP($A129,'Teknisk administration'!$B$323:$I$340,4,FALSE)*$B129*$R129,\"\")","v":""},{"$f":"IF(ISTEXT($A129),VLOOKUP($A129,'Teknisk administration'!$B$323:$I$340,5,FALSE)*$B129,\"\")","v":""},{"$f":"IF(ISTEXT($A129),VLOOKUP($A129,'Teknisk administration'!$B$323:$I$340,6,FALSE)*$B129,\"\")","v":""},null,{"$f":"IF(ISTEXT(A129),VLOOKUP(A129,'Teknisk administration'!$B$323:$I$340,8,FALSE),\"\")","v":""},0,0,0,0]
[null,null,{"$f":"IF(ISTEXT(A130),VLOOKUP(A130,'Teknisk administration'!$B$323:$G$340,2,FALSE),\"\")","v":""},null,null,null,null,null,null,null,null,null,null,null,null,null,null,{"$f":"IF(ISTEXT(A130),VLOOKUP(A130,'Teknisk administration'!$B$323:$G$340,3,FALSE),\"\")","v":""},{"$f":"IF(ISTEXT($A130),VLOOKUP($A130,'Teknisk administration'!$B$323:$I$340,4,FALSE)*$B130*$R130,\"\")","v":""},{"$f":"IF(ISTEXT($A130),VLOOKUP($A130,'Teknisk administration'!$B$323:$I$340,5,FALSE)*$B130,\"\")","v":""},{"$f":"IF(ISTEXT($A130),VLOOKUP($A130,'Teknisk administration'!$B$323:$I$340,6,FALSE)*$B130,\"\")","v":""},null,{"$f":"IF(ISTEXT(A130),VLOOKUP(A130,'Teknisk administration'!$B$323:$I$340,8,FALSE),\"\")","v":""},0,0,0,0]
[null,null,{"$f":"IF(ISTEXT(A131),VLOOKUP(A131,'Teknisk administration'!$B$323:$G$340,2,FALSE),\"\")","v":""},null,null,null,null,null,null,null,null,null,null,null,null,null,null,{"$f":"IF(ISTEXT(A131),VLOOKUP(A131,'Teknisk administration'!$B$323:$G$340,3,FALSE),\"\")","v":""},{"$f":"IF(ISTEXT($A131),VLOOKUP($A131,'Teknisk administration'!$B$323:$I$340,4,FALSE)*$B131*$R131,\"\")","v":""},{"$f":"IF(ISTEXT($A131),VLOOKUP($A131,'Teknisk administration'!$B$323:$I$340,5,FALSE)*$B131,\"\")","v":""},{"$f":"IF(ISTEXT($A131),VLOOKUP($A131,'Teknisk administration'!$B$323:$I$340,6,FALSE)*$B131,\"\")","v":""},null,{"$f":"IF(ISTEXT(A131),VLOOKUP(A131,'Teknisk administration'!$B$323:$I$340,8,FALSE),\"\")","v":""},0,0,0,0]
["totalt, kg ts",{"$f":"SUMPRODUCT(B122:B131,R122:R131)","v":0},null,null,null,null,null,null,null,null,null,null,null,null,null,null,null,null,{"$f":"SUM(S122:S131)","v":0},{"$f":"SUM(T122:T131)","v":0},{"$f":"SUM(U122:U131)","v":0}]
[]
[]
[]
[]
[]
[{"$f":"period_3","v":"Period 3"}]
["Mängd vallfoder, direktutfodrad grönmassa och halm"]
["Skördemängden kan anges med två olika alternativ: "]
["1. Fyll i färdigt värde om du mätt skörden som lagts in (kg och ts). "]
["2. Uppskatta mängden (kg och ts) genom att beräkna volymen inlagt grovfoder och direktutfodrad grönmassa. "]
["Du kan ha en kombination av alternativ under en och samma period, t ex om du inte vägt mängden vid varje skörd.  "]
["Börja med att välja typ av system (plansilo, rundbal, halm etc. i den vänstraste kolumnen. Då tänds de celler du ska skriva siffror i (gula celler) eller där du ska välja ur en lista (orange celler). Övriga celler i lämnar du tomma."]
["När det gäller energi i fodret kan du antingen välja ur lista (orange cell) eller skriva in ett eget värde (ljusgul cell)"]
["Du kan lägga in flera rader med samma system, t ex om du vill särkilja 1:a 2:a och 3:e skörd eller vill räkna separat för olika skriften. Om du hellre vill det kan du lägga allt på en rad. "]
[]
[]
["Alternativ 1. Har vägt skörden och har ts-analys",null,null,null,null,null,null,null,null,null,null,null,null,null,null,null,null,null,null,null,null,null,"TS-halt"]
["Mängden ts och MJ beräknas först när MJ/kg ts, ts-halt och kg grönmassa fyllts i.",null,null,null,null,null,null,null,null,null,null,null,null,null,null,null,null,null,null,null,null,null,null,null,null,null,null,null,null,null,null,null,null,null,null,null,null,null,null,null,null,null,"Gruppering av system"]
[null,null,"Energi - välj ur lista eller skriv eget värde",null,"TS-halt (%)",null,"Mängd","Beräknad mängd foder*",null,null,null,null,null,null,null,null,null,null,null,null,null,null,null,null,null,null,null,null,null,null,null,null,null,null,null,null,null,null,null,null,null,null,"Plansilo","Torn","Storbalar (rund- och fyrkantsbalar)","Hö","Direktutfodrad grönmassa","Halm till foder"]
["System - välj alternativ ur listan!","Egen kommentar","Välj ur lista","Eget värde (MJ/kg ts)","% ts","Förklaring","kg grönmassa","kg ts","MJ","Kolumn1","Kolumn2","Kolumn3","Kolumn4","Kolumn5","Kolumn6","Kolumn7","Kolumn8","Kolumn9","Kolumn10","Kolumn11","Kolumn12","  ","TS-halt","Kolumn15","Kolumn16","Kolumn17","Kolumn18","Kolumn19","Kolumn20","Kolumn21","Kolumn22","Kolumn23","Kolumn24","Kolumn25","Kolumn26","Kolumn27","Kolumn28","Kolumn29","Kolumn30","Kolumn31","Kolumn32","MJ/kg ts","Plansilo12","Torn13","Storbalar (rund- och fyrkantsbalar)","Hö14","Direktutfodrad grönmassa15","Halm till foder"]
[null,null,null,null,null,{"$f":"IF(ISTEXT(A153),VLOOKUP(A153,Tabell203[],17,FALSE),\"\")","v":""},null,{"$f":"W153*G153","v":0},{"$f":"H153*IF(D153>0,D153,IF(AND(ISTEXT(A153),(OR(ISTEXT(C153),ISNUMBER(D153)))),IF(D153>0,D169,VLOOKUP(C153,INDIRECT(A153),2,FALSE)),0))","v":0},null,null,null,null,null,null,null,null,null,null,null,null,null,{"$f":"IF(ISTEXT(A153),IF(E153>0.000001,E153,VLOOKUP(A153,Tabell203[],2,FALSE)),0)","v":0},null,null,null,null,null,null,null,null,null,null,null,null,null,null,null,null,null,null,{"$f":"IF(AND(ISTEXT(A153),(OR(ISTEXT(C153),ISNUMBER(D153)))),IF(D153>0,D153,VLOOKUP(C153,INDIRECT(A153),2,FALSE)),0)","v":0},{"$f":"IF(ISTEXT($A153),VLOOKUP($A153,Tabell203[],11,FALSE),0)","v":0},{"$f":"IF(ISTEXT($A153),VLOOKUP($A153,Tabell203[],12,FALSE),0)","v":0},{"$f":"IF(ISTEXT($A153),VLOOKUP($A153,Tabell203[],13,FALSE),0)","v":0},{"$f":"IF(ISTEXT($A153),VLOOKUP($A153,Tabell203[],14,FALSE),0)","v":0},{"$f":"IF(ISTEXT($A153),VLOOKUP($A153,Tabell203[],15,FALSE),0)","v":0},{"$f":"IF(AND(ISTEXT($A153),AP153>0),VLOOKUP($A153,Tabell203[],16,FALSE),0)","v":0}]
[null,null,null,null,null,{"$f":"IF(ISTEXT(A154),VLOOKUP(A154,Tabell203[],17,FALSE),\"\")","v":""},null,0,0,null,null,null,null,null,null,null,null,null,null,null,null,null,{"$f":"IF(ISTEXT(A154),IF(E154>0.000001,E154,VLOOKUP(A154,Tabell203[],2,FALSE)),0)","v":0},null,null,null,null,null,null,null,null,null,null,null,null,null,null,null,null,null,null,0,{"$f":"IF(ISTEXT($A154),VLOOKUP($A154,Tabell203[],11,FALSE),0)","v":0},{"$f":"IF(ISTEXT($A154),VLOOKUP($A154,Tabell203[],12,FALSE),0)","v":0},{"$f":"IF(ISTEXT($A154),VLOOKUP($A154,Tabell203[],13,FALSE),0)","v":0},{"$f":"IF(ISTEXT($A154),VLOOKUP($A154,Tabell203[],14,FALSE),0)","v":0},{"$f":"IF(ISTEXT($A154),VLOOKUP($A154,Tabell203[],15,FALSE),0)","v":0},{"$f":"IF(AND(ISTEXT($A154),AP154>0),VLOOKUP($A154,Tabell203[],16,FALSE),0)","v":0}]
[null,null,null,null,null,{"$f":"IF(ISTEXT(A155),VLOOKUP(A155,Tabell203[],17,FALSE),\"\")","v":""},null,0,0,null,null,null,null,null,null,null,null,null,null,null,null,null,{"$f":"IF(ISTEXT(A155),IF(E155>0.000001,E155,VLOOKUP(A155,Tabell203[],2,FALSE)),0)","v":0},null,null,null,null,null,null,null,null,null,null,null,null,null,null,null,null,null,null,0,{"$f":"IF(ISTEXT($A155),VLOOKUP($A155,Tabell203[],11,FALSE),0)","v":0},{"$f":"IF(ISTEXT($A155),VLOOKUP($A155,Tabell203[],12,FALSE),0)","v":0},{"$f":"IF(ISTEXT($A155),VLOOKUP($A155,Tabell203[],13,FALSE),0)","v":0},{"$f":"IF(ISTEXT($A155),VLOOKUP($A155,Tabell203[],14,FALSE),0)","v":0},{"$f":"IF(ISTEXT($A155),VLOOKUP($A155,Tabell203[],15,FALSE),0)","v":0},{"$f":"IF(AND(ISTEXT($A155),AP155>0),VLOOKUP($A155,Tabell203[],16,FALSE),0)","v":0}]
[null,null,null,null,null,{"$f":"IF(ISTEXT(A156),VLOOKUP(A156,Tabell203[],17,FALSE),\"\")","v":""},null,0,0,null,null,null,null,null,null,null,null,null,null,null,null,null,{"$f":"IF(ISTEXT(A156),IF(E156>0.000001,E156,VLOOKUP(A156,Tabell203[],2,FALSE)),0)","v":0},null,null,null,null,null,null,null,null,null,null,null,null,null,null,null,null,null,null,0,{"$f":"IF(ISTEXT($A156),VLOOKUP($A156,Tabell203[],11,FALSE),0)","v":0},{"$f":"IF(ISTEXT($A156),VLOOKUP($A156,Tabell203[],12,FALSE),0)","v":0},{"$f":"IF(ISTEXT($A156),VLOOKUP($A156,Tabell203[],13,FALSE),0)","v":0},{"$f":"IF(ISTEXT($A156),VLOOKUP($A156,Tabell203[],14,FALSE),0)","v":0},{"$f":"IF(ISTEXT($A156),VLOOKUP($A156,Tabell203[],15,FALSE),0)","v":0},{"$f":"IF(AND(ISTEXT($A156),AP156>0),VLOOKUP($A156,Tabell203[],16,FALSE),0)","v":0}]
[null,null,null,null,null,{"$f":"IF(ISTEXT(A157),VLOOKUP(A157,Tabell203[],17,FALSE),\"\")","v":""},null,0,0,null,null,null,null,null,null,null,null,null,null,null,null,null,{"$f":"IF(ISTEXT(A157),IF(E157>0.000001,E157,VLOOKUP(A157,Tabell203[],2,FALSE)),0)","v":0},null,null,null,null,null,null,null,null,null,null,null,null,null,null,null,null,null,null,0,{"$f":"IF(ISTEXT($A157),VLOOKUP($A157,Tabell203[],11,FALSE),0)","v":0},{"$f":"IF(ISTEXT($A157),VLOOKUP($A157,Tabell203[],12,FALSE),0)","v":0},{"$f":"IF(ISTEXT($A157),VLOOKUP($A157,Tabell203[],13,FALSE),0)","v":0},{"$f":"IF(ISTEXT($A157),VLOOKUP($A157,Tabell203[],14,FALSE),0)","v":0},{"$f":"IF(ISTEXT($A157),VLOOKUP($A157,Tabell203[],15,FALSE),0)","v":0},{"$f":"IF(AND(ISTEXT($A157),AP157>0),VLOOKUP($A157,Tabell203[],16,FALSE),0)","v":0}]
[null,null,null,null,null,{"$f":"IF(ISTEXT(A158),VLOOKUP(A158,Tabell203[],17,FALSE),\"\")","v":""},null,0,0,null,null,null,null,null,null,null,null,null,null,null,null,null,{"$f":"IF(ISTEXT(A158),IF(E158>0.000001,E158,VLOOKUP(A158,Tabell203[],2,FALSE)),0)","v":0},null,null,null,null,null,null,null,null,null,null,null,null,null,null,null,null,null,null,0,{"$f":"IF(ISTEXT($A158),VLOOKUP($A158,Tabell203[],11,FALSE),0)","v":0},{"$f":"IF(ISTEXT($A158),VLOOKUP($A158,Tabell203[],12,FALSE),0)","v":0},{"$f":"IF(ISTEXT($A158),VLOOKUP($A158,Tabell203[],13,FALSE),0)","v":0},{"$f":"IF(ISTEXT($A158),VLOOKUP($A158,Tabell203[],14,FALSE),0)","v":0},{"$f":"IF(ISTEXT($A158),VLOOKUP($A158,Tabell203[],15,FALSE),0)","v":0},{"$f":"IF(AND(ISTEXT($A158),AP158>0),VLOOKUP($A158,Tabell203[],16,FALSE),0)","v":0}]
[null,null,null,null,null,{"$f":"IF(ISTEXT(A159),VLOOKUP(A159,Tabell203[],17,FALSE),\"\")","v":""},null,0,0,null,null,null,null,null,null,null,null,null,null,null,null,null,{"$f":"IF(ISTEXT(A159),IF(E159>0.000001,E159,VLOOKUP(A159,Tabell203[],2,FALSE)),0)","v":0},null,null,null,null,null,null,null,null,null,null,null,null,null,null,null,null,null,null,0,{"$f":"IF(ISTEXT($A159),VLOOKUP($A159,Tabell203[],11,FALSE),0)","v":0},{"$f":"IF(ISTEXT($A159),VLOOKUP($A159,Tabell203[],12,FALSE),0)","v":0},{"$f":"IF(ISTEXT($A159),VLOOKUP($A159,Tabell203[],13,FALSE),0)","v":0},{"$f":"IF(ISTEXT($A159),VLOOKUP($A159,Tabell203[],14,FALSE),0)","v":0},{"$f":"IF(ISTEXT($A159),VLOOKUP($A159,Tabell203[],15,FALSE),0)","v":0},{"$f":"IF(AND(ISTEXT($A159),AP159>0),VLOOKUP($A159,Tabell203[],16,FALSE),0)","v":0}]
[null,null,null,null,null,{"$f":"IF(ISTEXT(A160),VLOOKUP(A160,Tabell203[],17,FALSE),\"\")","v":""},null,0,0,null,null,null,null,null,null,null,null,null,null,null,null,null,{"$f":"IF(ISTEXT(A160),IF(E160>0.000001,E160,VLOOKUP(A160,Tabell203[],2,FALSE)),0)","v":0},null,null,null,null,null,null,null,null,null,null,null,null,null,null,null,null,null,null,0,{"$f":"IF(ISTEXT($A160),VLOOKUP($A160,Tabell203[],11,FALSE),0)","v":0},{"$f":"IF(ISTEXT($A160),VLOOKUP($A160,Tabell203[],12,FALSE),0)","v":0},{"$f":"IF(ISTEXT($A160),VLOOKUP($A160,Tabell203[],13,FALSE),0)","v":0},{"$f":"IF(ISTEXT($A160),VLOOKUP($A160,Tabell203[],14,FALSE),0)","v":0},{"$f":"IF(ISTEXT($A160),VLOOKUP($A160,Tabell203[],15,FALSE),0)","v":0},{"$f":"IF(AND(ISTEXT($A160),AP160>0),VLOOKUP($A160,Tabell203[],16,FALSE),0)","v":0}]
["Totalt",null,null,null,null,null,null,{"$f":"SUM(H153:H160)","v":0},{"$f":"SUM(I153:I160)","v":0}]
[null,null,null,null,null,null,null,"* All halm (foder och strö) visas i summan här, men det är bara mängden foderhalm som följer med till kommande beräkningar"]
[]
[]
["Alternativ 2. Har inte vägt skörden, behöver räkna ut mängden skördat",null,null,null,null,null,null,null,null,null,null,null,null,null,null,null,null,"ska dölja"]
["Om det står \"Saknas!\" eller \"0\" under rubriken \"Beräknad mängd foder\" beror det på att någon uppgift saknas. Kontrollera då att du fyllt i alla gula celler på raden samt valt något i alla orange celler på raden",null,null,null,null,null,null,null,null,null,null,null,null,null,null,null,null,"Beskrivning av systemet",null,null,null,null,"TS-halt","Vilket system? 1=ja, 0=nej",null,null,null,null,null,null,null,null,"Volymvikt (kg ts/m3)",null,null,null,null,null,null,null,null,"Energi","Gruppering av system"]
[null,null,"Energi - välj ur lista eller skriv eget värde",null,"TS-halt (%)",null,"Antal balar eller lass grönmassa","Mängd per lass grönmassa","Teknik - inläggning, pressning etc. ","Lagrets respektive balarnas storlek",null,null,null,"Beräknad mängd foder*",null,null,null,null,null,null,null,null,null,{"$f":"'Teknisk administration'!$B$391","v":"Plansilo"},{"$f":"'Teknisk administration'!$B$392","v":"Torn"},{"$f":"'Teknisk administration'!$B$393","v":"Rundbalar"},{"$f":"'Teknisk administration'!$B$394","v":"Fyrkantsbalar_ensilage"},{"$f":"'Teknisk administration'!$B$397","v":"Hö"},{"$f":"'Teknisk administration'!$B$396","v":"Direktutfodrad_grönmassa"},{"$f":"'Teknisk administration'!$B$398","v":"Halm"},{"$f":"'Teknisk administration'!$B$395","v":"Fyrkantsbalar_hö"},{"$f":"'Teknisk administration'!$B$399","v":0},{"$f":"X167","v":"Plansilo"},"Torn","Rundbalar","Fyrkantsbalar_ensilage","Hö","Direktutfodrad_grönmassa","Halm","Fyrkantsbalar_hö",0,"MJ/kg ts","Plansilo","Torn","Storbalar (rund- och fyrkantsbalar)","Hö","Direktutfodrad","Halm till foder"]
["System - välj alternativ ur listan!","Egen kommentar","Välj ur lista","Eget värde (MJ/kg ts)","% ts","Förklaring","stycken","m3","välj ur listan i orange celler!","Höjd (m)","Bredd (m)","Längd (m)","Förklaring för volymberäkning","Volym (m3)","Volymvikt (kg ts/m3)","Mängd (kg ts)","Mängd (MJ)","Antal","Mängd per lass","Teknik","rätblock","cylinder","TS-halt","Plansilo","Torn","Rundbalar","Fyrkantsbalar","Hö","Grönfoder","Halm","Fyrkantsbalar_hö","tom","Plansilo3","Torn4","Rundbalar5","Fyrkantsbalar6","Hö7","Direktutfodrat","Kolumn1","Fyrkantsbalar_hö2","Visa ts?","MJ/kg ts","Plansilo12","Torn13","Storbalar (rund- och fyrkantsbalar)","Hö14","Direktutfodrad","Halm till foder"]
[null,null,null,null,null,{"$f":"IF(ISTEXT(A169),VLOOKUP(A169,Tabell203[],3,FALSE),\"\")","v":""},null,null,null,null,null,null,{"$f":"IF(ISTEXT(A169),VLOOKUP(A169,Tabell203[],10,FALSE),\"\")","v":""},{"$f":"IF(ISTEXT(A169),IF(U169=1,J169*K169*L169,IF(V169=1,J169*(K169/2)^2*PI(),1))*IF(R169=1,G169,1)*IF(S169=1,H169,1),0)","v":0},{"$f":"SUM(AG169:AN169)","v":0},{"$f":"N169*O169","v":0},{"$f":"P169*AP169","v":0},{"$f":"IF(ISTEXT(A169),VLOOKUP(A169,Tabell203[],4,FALSE),0)","v":0},{"$f":"IF(ISTEXT(A169),VLOOKUP(A169,Tabell203[],6,FALSE),0)","v":0},{"$f":"IF(ISTEXT(A169),VLOOKUP(A169,Tabell203[],5,FALSE),0)","v":0},{"$f":"IF(ISTEXT(A169),VLOOKUP(A169,Tabell203[],8,FALSE),0)","v":0},{"$f":"IF(ISTEXT(A169),VLOOKUP(A169,Tabell203[],9,FALSE),0)","v":0},{"$f":"IF(ISTEXT(A169),IF(E169>0.000001,E169,VLOOKUP(A169,Tabell203[],2,FALSE)),0)","v":0},{"$f":"IF($A169=X$39,1,0)","v":0},0,0,0,0,0,0,0,1,{"$f":"IF(X169=1,VLOOKUP(I169,Tabell220[],2,FALSE),0)","v":0},{"$f":"IF(Y169=1,IF(OR(W169<'Teknisk administration'!$P$262,W169>'Teknisk administration'!$P$263),'Teknisk administration'!$Q$262*J169^2+'Teknisk administration'!$R$262*J169+'Teknisk administration'!$S$262,'Teknisk administration'!$Q$263*J169^2+'Teknisk administration'!$R$263*J169+'Teknisk administration'!$S$263),0)","v":0},{"$f":"IF(Z169=1,VLOOKUP(I169,Tabell214[],2,FALSE)*W169+VLOOKUP(I169,Tabell214[],3,FALSE),0)","v":0},{"$f":"IF(AA169=1,VLOOKUP(I169,Tabell215[],2,FALSE)*W169+VLOOKUP(I169,Tabell215[],3,FALSE),0)","v":0},{"$f":"IF(AB169=1,VLOOKUP(I169,Tabell216[],2,FALSE)*W169,0)","v":0},{"$f":"IF(AC169=1,'Teknisk administration'!$AP$377,0)","v":0},{"$f":"IF(AD169=1,VLOOKUP($I169,Tabell217[],2,FALSE)*$W169,0)","v":0},{"$f":"IF(AE169=1,VLOOKUP($I169,Tabell29[],2,FALSE)*$W169,0)","v":0},{"$f":"IF(ISTEXT(A169),VLOOKUP(A169,Tabell203[],7,FALSE),0)","v":0},{"$f":"IF(AND(ISTEXT(A169),(OR(ISTEXT(C169),ISNUMBER(D169)))),IF(D169>0,D169,VLOOKUP(C169,INDIRECT(A169),2,FALSE)),0)","v":0},{"$f":"IF(ISTEXT($A169),VLOOKUP($A169,Tabell203[],11,FALSE),0)","v":0},{"$f":"IF(ISTEXT($A169),VLOOKUP($A169,Tabell203[],12,FALSE),0)","v":0},{"$f":"IF(ISTEXT($A169),VLOOKUP($A169,Tabell203[],13,FALSE),0)","v":0},{"$f":"IF(ISTEXT($A169),VLOOKUP($A169,Tabell203[],14,FALSE),0)","v":0},{"$f":"IF(ISTEXT($A169),VLOOKUP($A169,Tabell203[],15,FALSE),0)","v":0},{"$f":"IF(AND(ISTEXT($A169),AP169>0),VLOOKUP($A169,Tabell203[],16,FALSE),0)","v":0}]
[null,null,null,null,null,{"$f":"IF(ISTEXT(A170),VLOOKUP(A170,Tabell203[],3,FALSE),\"\")","v":""},null,null,null,null,null,null,{"$f":"IF(ISTEXT(A170),VLOOKUP(A170,Tabell203[],10,FALSE),\"\")","v":""},0,0,0,0,{"$f":"IF(ISTEXT(A170),VLOOKUP(A170,Tabell203[],4,FALSE),0)","v":0},{"$f":"IF(ISTEXT(A170),VLOOKUP(A170,Tabell203[],6,FALSE),0)","v":0},{"$f":"IF(ISTEXT(A170),VLOOKUP(A170,Tabell203[],5,FALSE),0)","v":0},{"$f":"IF(ISTEXT(A170),VLOOKUP(A170,Tabell203[],8,FALSE),0)","v":0},{"$f":"IF(ISTEXT(A170),VLOOKUP(A170,Tabell203[],9,FALSE),0)","v":0},{"$f":"IF(ISTEXT(A170),IF(E170>0.000001,E170,VLOOKUP(A170,Tabell203[],2,FALSE)),0)","v":0},0,0,0,0,0,0,0,0,1,{"$f":"IF(X170=1,VLOOKUP(I170,Tabell220[],2,FALSE),0)","v":0},{"$f":"IF(Y170=1,IF(OR(W170<'Teknisk administration'!$P$262,W170>'Teknisk administration'!$P$263),'Teknisk administration'!$Q$262*J170^2+'Teknisk administration'!$R$262*J170+'Teknisk administration'!$S$262,'Teknisk administration'!$Q$263*J170^2+'Teknisk administration'!$R$263*J170+'Teknisk administration'!$S$263),0)","v":0},{"$f":"IF(Z170=1,VLOOKUP(I170,Tabell214[],2,FALSE)*W170+VLOOKUP(I170,Tabell214[],3,FALSE),0)","v":0},{"$f":"IF(AA170=1,VLOOKUP(I170,Tabell215[],2,FALSE)*W170+VLOOKUP(I170,Tabell215[],3,FALSE),0)","v":0},{"$f":"IF(AB170=1,VLOOKUP(I170,Tabell216[],2,FALSE)*W170,0)","v":0},{"$f":"IF(AC170=1,'Teknisk administration'!$AP$377,0)","v":0},{"$f":"IF(AD170=1,VLOOKUP($I170,Tabell217[],2,FALSE)*$W170,0)","v":0},{"$f":"IF(AE170=1,VLOOKUP($I170,Tabell29[],2,FALSE)*$W170,0)","v":0},{"$f":"IF(ISTEXT(A170),VLOOKUP(A170,Tabell203[],7,FALSE),0)","v":0},0,{"$f":"IF(ISTEXT($A170),VLOOKUP($A170,Tabell203[],11,FALSE),0)","v":0},{"$f":"IF(ISTEXT($A170),VLOOKUP($A170,Tabell203[],12,FALSE),0)","v":0},{"$f":"IF(ISTEXT($A170),VLOOKUP($A170,Tabell203[],13,FALSE),0)","v":0},{"$f":"IF(ISTEXT($A170),VLOOKUP($A170,Tabell203[],14,FALSE),0)","v":0},{"$f":"IF(ISTEXT($A170),VLOOKUP($A170,Tabell203[],15,FALSE),0)","v":0},{"$f":"IF(AND(ISTEXT($A170),AP170>0),VLOOKUP($A170,Tabell203[],16,FALSE),0)","v":0}]
[null,null,null,null,null,{"$f":"IF(ISTEXT(A171),VLOOKUP(A171,Tabell203[],3,FALSE),\"\")","v":""},null,null,null,null,null,null,{"$f":"IF(ISTEXT(A171),VLOOKUP(A171,Tabell203[],10,FALSE),\"\")","v":""},0,0,0,0,{"$f":"IF(ISTEXT(A171),VLOOKUP(A171,Tabell203[],4,FALSE),0)","v":0},{"$f":"IF(ISTEXT(A171),VLOOKUP(A171,Tabell203[],6,FALSE),0)","v":0},{"$f":"IF(ISTEXT(A171),VLOOKUP(A171,Tabell203[],5,FALSE),0)","v":0},{"$f":"IF(ISTEXT(A171),VLOOKUP(A171,Tabell203[],8,FALSE),0)","v":0},{"$f":"IF(ISTEXT(A171),VLOOKUP(A171,Tabell203[],9,FALSE),0)","v":0},{"$f":"IF(ISTEXT(A171),IF(E171>0.000001,E171,VLOOKUP(A171,Tabell203[],2,FALSE)),0)","v":0},0,0,0,0,0,0,0,0,1,{"$f":"IF(X171=1,VLOOKUP(I171,Tabell220[],2,FALSE),0)","v":0},{"$f":"IF(Y171=1,IF(OR(W171<'Teknisk administration'!$P$262,W171>'Teknisk administration'!$P$263),'Teknisk administration'!$Q$262*J171^2+'Teknisk administration'!$R$262*J171+'Teknisk administration'!$S$262,'Teknisk administration'!$Q$263*J171^2+'Teknisk administration'!$R$263*J171+'Teknisk administration'!$S$263),0)","v":0},{"$f":"IF(Z171=1,VLOOKUP(I171,Tabell214[],2,FALSE)*W171+VLOOKUP(I171,Tabell214[],3,FALSE),0)","v":0},{"$f":"IF(AA171=1,VLOOKUP(I171,Tabell215[],2,FALSE)*W171+VLOOKUP(I171,Tabell215[],3,FALSE),0)","v":0},{"$f":"IF(AB171=1,VLOOKUP(I171,Tabell216[],2,FALSE)*W171,0)","v":0},{"$f":"IF(AC171=1,'Teknisk administration'!$AP$377,0)","v":0},{"$f":"IF(AD171=1,VLOOKUP($I171,Tabell217[],2,FALSE)*$W171,0)","v":0},{"$f":"IF(AE171=1,VLOOKUP($I171,Tabell29[],2,FALSE)*$W171,0)","v":0},{"$f":"IF(ISTEXT(A171),VLOOKUP(A171,Tabell203[],7,FALSE),0)","v":0},0,{"$f":"IF(ISTEXT($A171),VLOOKUP($A171,Tabell203[],11,FALSE),0)","v":0},{"$f":"IF(ISTEXT($A171),VLOOKUP($A171,Tabell203[],12,FALSE),0)","v":0},{"$f":"IF(ISTEXT($A171),VLOOKUP($A171,Tabell203[],13,FALSE),0)","v":0},{"$f":"IF(ISTEXT($A171),VLOOKUP($A171,Tabell203[],14,FALSE),0)","v":0},{"$f":"IF(ISTEXT($A171),VLOOKUP($A171,Tabell203[],15,FALSE),0)","v":0},{"$f":"IF(AND(ISTEXT($A171),AP171>0),VLOOKUP($A171,Tabell203[],16,FALSE),0)","v":0}]
[null,null,null,null,null,{"$f":"IF(ISTEXT(A172),VLOOKUP(A172,Tabell203[],3,FALSE),\"\")","v":""},null,null,null,null,null,null,{"$f":"IF(ISTEXT(A172),VLOOKUP(A172,Tabell203[],10,FALSE),\"\")","v":""},0,0,0,0,{"$f":"IF(ISTEXT(A172),VLOOKUP(A172,Tabell203[],4,FALSE),0)","v":0},{"$f":"IF(ISTEXT(A172),VLOOKUP(A172,Tabell203[],6,FALSE),0)","v":0},{"$f":"IF(ISTEXT(A172),VLOOKUP(A172,Tabell203[],5,FALSE),0)","v":0},{"$f":"IF(ISTEXT(A172),VLOOKUP(A172,Tabell203[],8,FALSE),0)","v":0},{"$f":"IF(ISTEXT(A172),VLOOKUP(A172,Tabell203[],9,FALSE),0)","v":0},{"$f":"IF(ISTEXT(A172),IF(E172>0.000001,E172,VLOOKUP(A172,Tabell203[],2,FALSE)),0)","v":0},0,0,0,0,0,0,0,0,1,{"$f":"IF(X172=1,VLOOKUP(I172,Tabell220[],2,FALSE),0)","v":0},{"$f":"IF(Y172=1,IF(OR(W172<'Teknisk administration'!$P$262,W172>'Teknisk administration'!$P$263),'Teknisk administration'!$Q$262*J172^2+'Teknisk administration'!$R$262*J172+'Teknisk administration'!$S$262,'Teknisk administration'!$Q$263*J172^2+'Teknisk administration'!$R$263*J172+'Teknisk administration'!$S$263),0)","v":0},{"$f":"IF(Z172=1,VLOOKUP(I172,Tabell214[],2,FALSE)*W172+VLOOKUP(I172,Tabell214[],3,FALSE),0)","v":0},{"$f":"IF(AA172=1,VLOOKUP(I172,Tabell215[],2,FALSE)*W172+VLOOKUP(I172,Tabell215[],3,FALSE),0)","v":0},{"$f":"IF(AB172=1,VLOOKUP(I172,Tabell216[],2,FALSE)*W172,0)","v":0},{"$f":"IF(AC172=1,'Teknisk administration'!$AP$377,0)","v":0},{"$f":"IF(AD172=1,VLOOKUP($I172,Tabell217[],2,FALSE)*$W172,0)","v":0},{"$f":"IF(AE172=1,VLOOKUP($I172,Tabell29[],2,FALSE)*$W172,0)","v":0},{"$f":"IF(ISTEXT(A172),VLOOKUP(A172,Tabell203[],7,FALSE),0)","v":0},0,{"$f":"IF(ISTEXT($A172),VLOOKUP($A172,Tabell203[],11,FALSE),0)","v":0},{"$f":"IF(ISTEXT($A172),VLOOKUP($A172,Tabell203[],12,FALSE),0)","v":0},{"$f":"IF(ISTEXT($A172),VLOOKUP($A172,Tabell203[],13,FALSE),0)","v":0},{"$f":"IF(ISTEXT($A172),VLOOKUP($A172,Tabell203[],14,FALSE),0)","v":0},{"$f":"IF(ISTEXT($A172),VLOOKUP($A172,Tabell203[],15,FALSE),0)","v":0},{"$f":"IF(AND(ISTEXT($A172),AP172>0),VLOOKUP($A172,Tabell203[],16,FALSE),0)","v":0}]
[null,null,null,null,null,{"$f":"IF(ISTEXT(A173),VLOOKUP(A173,Tabell203[],3,FALSE),\"\")","v":""},null,null,null,null,null,null,{"$f":"IF(ISTEXT(A173),VLOOKUP(A173,Tabell203[],10,FALSE),\"\")","v":""},0,0,0,0,{"$f":"IF(ISTEXT(A173),VLOOKUP(A173,Tabell203[],4,FALSE),0)","v":0},{"$f":"IF(ISTEXT(A173),VLOOKUP(A173,Tabell203[],6,FALSE),0)","v":0},{"$f":"IF(ISTEXT(A173),VLOOKUP(A173,Tabell203[],5,FALSE),0)","v":0},{"$f":"IF(ISTEXT(A173),VLOOKUP(A173,Tabell203[],8,FALSE),0)","v":0},{"$f":"IF(ISTEXT(A173),VLOOKUP(A173,Tabell203[],9,FALSE),0)","v":0},{"$f":"IF(ISTEXT(A173),IF(E173>0.000001,E173,VLOOKUP(A173,Tabell203[],2,FALSE)),0)","v":0},0,0,0,0,0,0,0,0,1,{"$f":"IF(X173=1,VLOOKUP(I173,Tabell220[],2,FALSE),0)","v":0},{"$f":"IF(Y173=1,IF(OR(W173<'Teknisk administration'!$P$262,W173>'Teknisk administration'!$P$263),'Teknisk administration'!$Q$262*J173^2+'Teknisk administration'!$R$262*J173+'Teknisk administration'!$S$262,'Teknisk administration'!$Q$263*J173^2+'Teknisk administration'!$R$263*J173+'Teknisk administration'!$S$263),0)","v":0},{"$f":"IF(Z173=1,VLOOKUP(I173,Tabell214[],2,FALSE)*W173+VLOOKUP(I173,Tabell214[],3,FALSE),0)","v":0},{"$f":"IF(AA173=1,VLOOKUP(I173,Tabell215[],2,FALSE)*W173+VLOOKUP(I173,Tabell215[],3,FALSE),0)","v":0},{"$f":"IF(AB173=1,VLOOKUP(I173,Tabell216[],2,FALSE)*W173,0)","v":0},{"$f":"IF(AC173=1,'Teknisk administration'!$AP$377,0)","v":0},{"$f":"IF(AD173=1,VLOOKUP($I173,Tabell217[],2,FALSE)*$W173,0)","v":0},{"$f":"IF(AE173=1,VLOOKUP($I173,Tabell29[],2,FALSE)*$W173,0)","v":0},{"$f":"IF(ISTEXT(A173),VLOOKUP(A173,Tabell203[],7,FALSE),0)","v":0},0,{"$f":"IF(ISTEXT($A173),VLOOKUP($A173,Tabell203[],11,FALSE),0)","v":0},{"$f":"IF(ISTEXT($A173),VLOOKUP($A173,Tabell203[],12,FALSE),0)","v":0},{"$f":"IF(ISTEXT($A173),VLOOKUP($A173,Tabell203[],13,FALSE),0)","v":0},{"$f":"IF(ISTEXT($A173),VLOOKUP($A173,Tabell203[],14,FALSE),0)","v":0},{"$f":"IF(ISTEXT($A173),VLOOKUP($A173,Tabell203[],15,FALSE),0)","v":0},{"$f":"IF(AND(ISTEXT($A173),AP173>0),VLOOKUP($A173,Tabell203[],16,FALSE),0)","v":0}]
[null,null,null,null,null,{"$f":"IF(ISTEXT(A174),VLOOKUP(A174,Tabell203[],3,FALSE),\"\")","v":""},null,null,null,null,null,null,{"$f":"IF(ISTEXT(A174),VLOOKUP(A174,Tabell203[],10,FALSE),\"\")","v":""},0,0,0,0,{"$f":"IF(ISTEXT(A174),VLOOKUP(A174,Tabell203[],4,FALSE),0)","v":0},{"$f":"IF(ISTEXT(A174),VLOOKUP(A174,Tabell203[],6,FALSE),0)","v":0},{"$f":"IF(ISTEXT(A174),VLOOKUP(A174,Tabell203[],5,FALSE),0)","v":0},{"$f":"IF(ISTEXT(A174),VLOOKUP(A174,Tabell203[],8,FALSE),0)","v":0},{"$f":"IF(ISTEXT(A174),VLOOKUP(A174,Tabell203[],9,FALSE),0)","v":0},{"$f":"IF(ISTEXT(A174),IF(E174>0.000001,E174,VLOOKUP(A174,Tabell203[],2,FALSE)),0)","v":0},0,0,0,0,0,0,0,0,1,{"$f":"IF(X174=1,VLOOKUP(I174,Tabell220[],2,FALSE),0)","v":0},{"$f":"IF(Y174=1,IF(OR(W174<'Teknisk administration'!$P$262,W174>'Teknisk administration'!$P$263),'Teknisk administration'!$Q$262*J174^2+'Teknisk administration'!$R$262*J174+'Teknisk administration'!$S$262,'Teknisk administration'!$Q$263*J174^2+'Teknisk administration'!$R$263*J174+'Teknisk administration'!$S$263),0)","v":0},{"$f":"IF(Z174=1,VLOOKUP(I174,Tabell214[],2,FALSE)*W174+VLOOKUP(I174,Tabell214[],3,FALSE),0)","v":0},{"$f":"IF(AA174=1,VLOOKUP(I174,Tabell215[],2,FALSE)*W174+VLOOKUP(I174,Tabell215[],3,FALSE),0)","v":0},{"$f":"IF(AB174=1,VLOOKUP(I174,Tabell216[],2,FALSE)*W174,0)","v":0},{"$f":"IF(AC174=1,'Teknisk administration'!$AP$377,0)","v":0},{"$f":"IF(AD174=1,VLOOKUP($I174,Tabell217[],2,FALSE)*$W174,0)","v":0},{"$f":"IF(AE174=1,VLOOKUP($I174,Tabell29[],2,FALSE)*$W174,0)","v":0},{"$f":"IF(ISTEXT(A174),VLOOKUP(A174,Tabell203[],7,FALSE),0)","v":0},0,{"$f":"IF(ISTEXT($A174),VLOOKUP($A174,Tabell203[],11,FALSE),0)","v":0},{"$f":"IF(ISTEXT($A174),VLOOKUP($A174,Tabell203[],12,FALSE),0)","v":0},{"$f":"IF(ISTEXT($A174),VLOOKUP($A174,Tabell203[],13,FALSE),0)","v":0},{"$f":"IF(ISTEXT($A174),VLOOKUP($A174,Tabell203[],14,FALSE),0)","v":0},{"$f":"IF(ISTEXT($A174),VLOOKUP($A174,Tabell203[],15,FALSE),0)","v":0},{"$f":"IF(AND(ISTEXT($A174),AP174>0),VLOOKUP($A174,Tabell203[],16,FALSE),0)","v":0}]
[null,null,null,null,null,{"$f":"IF(ISTEXT(A175),VLOOKUP(A175,Tabell203[],3,FALSE),\"\")","v":""},null,null,null,null,null,null,{"$f":"IF(ISTEXT(A175),VLOOKUP(A175,Tabell203[],10,FALSE),\"\")","v":""},0,0,0,0,{"$f":"IF(ISTEXT(A175),VLOOKUP(A175,Tabell203[],4,FALSE),0)","v":0},{"$f":"IF(ISTEXT(A175),VLOOKUP(A175,Tabell203[],6,FALSE),0)","v":0},{"$f":"IF(ISTEXT(A175),VLOOKUP(A175,Tabell203[],5,FALSE),0)","v":0},{"$f":"IF(ISTEXT(A175),VLOOKUP(A175,Tabell203[],8,FALSE),0)","v":0},{"$f":"IF(ISTEXT(A175),VLOOKUP(A175,Tabell203[],9,FALSE),0)","v":0},{"$f":"IF(ISTEXT(A175),IF(E175>0.000001,E175,VLOOKUP(A175,Tabell203[],2,FALSE)),0)","v":0},0,0,0,0,0,0,0,0,1,{"$f":"IF(X175=1,VLOOKUP(I175,Tabell220[],2,FALSE),0)","v":0},{"$f":"IF(Y175=1,IF(OR(W175<'Teknisk administration'!$P$262,W175>'Teknisk administration'!$P$263),'Teknisk administration'!$Q$262*J175^2+'Teknisk administration'!$R$262*J175+'Teknisk administration'!$S$262,'Teknisk administration'!$Q$263*J175^2+'Teknisk administration'!$R$263*J175+'Teknisk administration'!$S$263),0)","v":0},{"$f":"IF(Z175=1,VLOOKUP(I175,Tabell214[],2,FALSE)*W175+VLOOKUP(I175,Tabell214[],3,FALSE),0)","v":0},{"$f":"IF(AA175=1,VLOOKUP(I175,Tabell215[],2,FALSE)*W175+VLOOKUP(I175,Tabell215[],3,FALSE),0)","v":0},{"$f":"IF(AB175=1,VLOOKUP(I175,Tabell216[],2,FALSE)*W175,0)","v":0},{"$f":"IF(AC175=1,'Teknisk administration'!$AP$377,0)","v":0},{"$f":"IF(AD175=1,VLOOKUP($I175,Tabell217[],2,FALSE)*$W175,0)","v":0},{"$f":"IF(AE175=1,VLOOKUP($I175,Tabell29[],2,FALSE)*$W175,0)","v":0},{"$f":"IF(ISTEXT(A175),VLOOKUP(A175,Tabell203[],7,FALSE),0)","v":0},0,{"$f":"IF(ISTEXT($A175),VLOOKUP($A175,Tabell203[],11,FALSE),0)","v":0},{"$f":"IF(ISTEXT($A175),VLOOKUP($A175,Tabell203[],12,FALSE),0)","v":0},{"$f":"IF(ISTEXT($A175),VLOOKUP($A175,Tabell203[],13,FALSE),0)","v":0},{"$f":"IF(ISTEXT($A175),VLOOKUP($A175,Tabell203[],14,FALSE),0)","v":0},{"$f":"IF(ISTEXT($A175),VLOOKUP($A175,Tabell203[],15,FALSE),0)","v":0},{"$f":"IF(AND(ISTEXT($A175),AP175>0),VLOOKUP($A175,Tabell203[],16,FALSE),0)","v":0}]
[null,null,null,null,null,{"$f":"IF(ISTEXT(A176),VLOOKUP(A176,Tabell203[],3,FALSE),\"\")","v":""},null,null,null,null,null,null,{"$f":"IF(ISTEXT(A176),VLOOKUP(A176,Tabell203[],10,FALSE),\"\")","v":""},0,0,0,0,{"$f":"IF(ISTEXT(A176),VLOOKUP(A176,Tabell203[],4,FALSE),0)","v":0},{"$f":"IF(ISTEXT(A176),VLOOKUP(A176,Tabell203[],6,FALSE),0)","v":0},{"$f":"IF(ISTEXT(A176),VLOOKUP(A176,Tabell203[],5,FALSE),0)","v":0},{"$f":"IF(ISTEXT(A176),VLOOKUP(A176,Tabell203[],8,FALSE),0)","v":0},{"$f":"IF(ISTEXT(A176),VLOOKUP(A176,Tabell203[],9,FALSE),0)","v":0},{"$f":"IF(ISTEXT(A176),IF(E176>0.000001,E176,VLOOKUP(A176,Tabell203[],2,FALSE)),0)","v":0},0,0,0,0,0,0,0,0,1,{"$f":"IF(X176=1,VLOOKUP(I176,Tabell220[],2,FALSE),0)","v":0},{"$f":"IF(Y176=1,IF(OR(W176<'Teknisk administration'!$P$262,W176>'Teknisk administration'!$P$263),'Teknisk administration'!$Q$262*J176^2+'Teknisk administration'!$R$262*J176+'Teknisk administration'!$S$262,'Teknisk administration'!$Q$263*J176^2+'Teknisk administration'!$R$263*J176+'Teknisk administration'!$S$263),0)","v":0},{"$f":"IF(Z176=1,VLOOKUP(I176,Tabell214[],2,FALSE)*W176+VLOOKUP(I176,Tabell214[],3,FALSE),0)","v":0},{"$f":"IF(AA176=1,VLOOKUP(I176,Tabell215[],2,FALSE)*W176+VLOOKUP(I176,Tabell215[],3,FALSE),0)","v":0},{"$f":"IF(AB176=1,VLOOKUP(I176,Tabell216[],2,FALSE)*W176,0)","v":0},{"$f":"IF(AC176=1,'Teknisk administration'!$AP$377,0)","v":0},{"$f":"IF(AD176=1,VLOOKUP($I176,Tabell217[],2,FALSE)*$W176,0)","v":0},{"$f":"IF(AE176=1,VLOOKUP($I176,Tabell29[],2,FALSE)*$W176,0)","v":0},{"$f":"IF(ISTEXT(A176),VLOOKUP(A176,Tabell203[],7,FALSE),0)","v":0},0,{"$f":"IF(ISTEXT($A176),VLOOKUP($A176,Tabell203[],11,FALSE),0)","v":0},{"$f":"IF(ISTEXT($A176),VLOOKUP($A176,Tabell203[],12,FALSE),0)","v":0},{"$f":"IF(ISTEXT($A176),VLOOKUP($A176,Tabell203[],13,FALSE),0)","v":0},{"$f":"IF(ISTEXT($A176),VLOOKUP($A176,Tabell203[],14,FALSE),0)","v":0},{"$f":"IF(ISTEXT($A176),VLOOKUP($A176,Tabell203[],15,FALSE),0)","v":0},{"$f":"IF(AND(ISTEXT($A176),AP176>0),VLOOKUP($A176,Tabell203[],16,FALSE),0)","v":0}]
[null,null,null,null,null,{"$f":"IF(ISTEXT(A177),VLOOKUP(A177,Tabell203[],3,FALSE),\"\")","v":""},null,null,null,null,null,null,{"$f":"IF(ISTEXT(A177),VLOOKUP(A177,Tabell203[],10,FALSE),\"\")","v":""},0,0,0,0,{"$f":"IF(ISTEXT(A177),VLOOKUP(A177,Tabell203[],4,FALSE),0)","v":0},{"$f":"IF(ISTEXT(A177),VLOOKUP(A177,Tabell203[],6,FALSE),0)","v":0},{"$f":"IF(ISTEXT(A177),VLOOKUP(A177,Tabell203[],5,FALSE),0)","v":0},{"$f":"IF(ISTEXT(A177),VLOOKUP(A177,Tabell203[],8,FALSE),0)","v":0},{"$f":"IF(ISTEXT(A177),VLOOKUP(A177,Tabell203[],9,FALSE),0)","v":0},{"$f":"IF(ISTEXT(A177),IF(E177>0.000001,E177,VLOOKUP(A177,Tabell203[],2,FALSE)),0)","v":0},0,0,0,0,0,0,0,0,1,{"$f":"IF(X177=1,VLOOKUP(I177,Tabell220[],2,FALSE),0)","v":0},{"$f":"IF(Y177=1,IF(OR(W177<'Teknisk administration'!$P$262,W177>'Teknisk administration'!$P$263),'Teknisk administration'!$Q$262*J177^2+'Teknisk administration'!$R$262*J177+'Teknisk administration'!$S$262,'Teknisk administration'!$Q$263*J177^2+'Teknisk administration'!$R$263*J177+'Teknisk administration'!$S$263),0)","v":0},{"$f":"IF(Z177=1,VLOOKUP(I177,Tabell214[],2,FALSE)*W177+VLOOKUP(I177,Tabell214[],3,FALSE),0)","v":0},{"$f":"IF(AA177=1,VLOOKUP(I177,Tabell215[],2,FALSE)*W177+VLOOKUP(I177,Tabell215[],3,FALSE),0)","v":0},{"$f":"IF(AB177=1,VLOOKUP(I177,Tabell216[],2,FALSE)*W177,0)","v":0},{"$f":"IF(AC177=1,'Teknisk administration'!$AP$377,0)","v":0},{"$f":"IF(AD177=1,VLOOKUP($I177,Tabell217[],2,FALSE)*$W177,0)","v":0},{"$f":"IF(AE177=1,VLOOKUP($I177,Tabell29[],2,FALSE)*$W177,0)","v":0},{"$f":"IF(ISTEXT(A177),VLOOKUP(A177,Tabell203[],7,FALSE),0)","v":0},0,{"$f":"IF(ISTEXT($A177),VLOOKUP($A177,Tabell203[],11,FALSE),0)","v":0},{"$f":"IF(ISTEXT($A177),VLOOKUP($A177,Tabell203[],12,FALSE),0)","v":0},{"$f":"IF(ISTEXT($A177),VLOOKUP($A177,Tabell203[],13,FALSE),0)","v":0},{"$f":"IF(ISTEXT($A177),VLOOKUP($A177,Tabell203[],14,FALSE),0)","v":0},{"$f":"IF(ISTEXT($A177),VLOOKUP($A177,Tabell203[],15,FALSE),0)","v":0},{"$f":"IF(AND(ISTEXT($A177),AP177>0),VLOOKUP($A177,Tabell203[],16,FALSE),0)","v":0}]
[null,null,null,null,null,{"$f":"IF(ISTEXT(A178),VLOOKUP(A178,Tabell203[],3,FALSE),\"\")","v":""},null,null,null,null,null,null,{"$f":"IF(ISTEXT(A178),VLOOKUP(A178,Tabell203[],10,FALSE),\"\")","v":""},0,0,0,0,{"$f":"IF(ISTEXT(A178),VLOOKUP(A178,Tabell203[],4,FALSE),0)","v":0},{"$f":"IF(ISTEXT(A178),VLOOKUP(A178,Tabell203[],6,FALSE),0)","v":0},{"$f":"IF(ISTEXT(A178),VLOOKUP(A178,Tabell203[],5,FALSE),0)","v":0},{"$f":"IF(ISTEXT(A178),VLOOKUP(A178,Tabell203[],8,FALSE),0)","v":0},{"$f":"IF(ISTEXT(A178),VLOOKUP(A178,Tabell203[],9,FALSE),0)","v":0},{"$f":"IF(ISTEXT(A178),IF(E178>0.000001,E178,VLOOKUP(A178,Tabell203[],2,FALSE)),0)","v":0},0,0,0,0,0,0,0,0,1,{"$f":"IF(X178=1,VLOOKUP(I178,Tabell220[],2,FALSE),0)","v":0},{"$f":"IF(Y178=1,IF(OR(W178<'Teknisk administration'!$P$262,W178>'Teknisk administration'!$P$263),'Teknisk administration'!$Q$262*J178^2+'Teknisk administration'!$R$262*J178+'Teknisk administration'!$S$262,'Teknisk administration'!$Q$263*J178^2+'Teknisk administration'!$R$263*J178+'Teknisk administration'!$S$263),0)","v":0},{"$f":"IF(Z178=1,VLOOKUP(I178,Tabell214[],2,FALSE)*W178+VLOOKUP(I178,Tabell214[],3,FALSE),0)","v":0},{"$f":"IF(AA178=1,VLOOKUP(I178,Tabell215[],2,FALSE)*W178+VLOOKUP(I178,Tabell215[],3,FALSE),0)","v":0},{"$f":"IF(AB178=1,VLOOKUP(I178,Tabell216[],2,FALSE)*W178,0)","v":0},{"$f":"IF(AC178=1,'Teknisk administration'!$AP$377,0)","v":0},{"$f":"IF(AD178=1,VLOOKUP($I178,Tabell217[],2,FALSE)*$W178,0)","v":0},{"$f":"IF(AE178=1,VLOOKUP($I178,Tabell29[],2,FALSE)*$W178,0)","v":0},{"$f":"IF(ISTEXT(A178),VLOOKUP(A178,Tabell203[],7,FALSE),0)","v":0},0,{"$f":"IF(ISTEXT($A178),VLOOKUP($A178,Tabell203[],11,FALSE),0)","v":0},{"$f":"IF(ISTEXT($A178),VLOOKUP($A178,Tabell203[],12,FALSE),0)","v":0},{"$f":"IF(ISTEXT($A178),VLOOKUP($A178,Tabell203[],13,FALSE),0)","v":0},{"$f":"IF(ISTEXT($A178),VLOOKUP($A178,Tabell203[],14,FALSE),0)","v":0},{"$f":"IF(ISTEXT($A178),VLOOKUP($A178,Tabell203[],15,FALSE),0)","v":0},{"$f":"IF(AND(ISTEXT($A178),AP178>0),VLOOKUP($A178,Tabell203[],16,FALSE),0)","v":0}]
[null,null,null,null,null,{"$f":"IF(ISTEXT(A179),VLOOKUP(A179,Tabell203[],3,FALSE),\"\")","v":""},null,null,null,null,null,null,{"$f":"IF(ISTEXT(A179),VLOOKUP(A179,Tabell203[],10,FALSE),\"\")","v":""},0,0,0,0,{"$f":"IF(ISTEXT(A179),VLOOKUP(A179,Tabell203[],4,FALSE),0)","v":0},{"$f":"IF(ISTEXT(A179),VLOOKUP(A179,Tabell203[],6,FALSE),0)","v":0},{"$f":"IF(ISTEXT(A179),VLOOKUP(A179,Tabell203[],5,FALSE),0)","v":0},{"$f":"IF(ISTEXT(A179),VLOOKUP(A179,Tabell203[],8,FALSE),0)","v":0},{"$f":"IF(ISTEXT(A179),VLOOKUP(A179,Tabell203[],9,FALSE),0)","v":0},{"$f":"IF(ISTEXT(A179),IF(E179>0.000001,E179,VLOOKUP(A179,Tabell203[],2,FALSE)),0)","v":0},0,0,0,0,0,0,0,0,1,{"$f":"IF(X179=1,VLOOKUP(I179,Tabell220[],2,FALSE),0)","v":0},{"$f":"IF(Y179=1,IF(OR(W179<'Teknisk administration'!$P$262,W179>'Teknisk administration'!$P$263),'Teknisk administration'!$Q$262*J179^2+'Teknisk administration'!$R$262*J179+'Teknisk administration'!$S$262,'Teknisk administration'!$Q$263*J179^2+'Teknisk administration'!$R$263*J179+'Teknisk administration'!$S$263),0)","v":0},{"$f":"IF(Z179=1,VLOOKUP(I179,Tabell214[],2,FALSE)*W179+VLOOKUP(I179,Tabell214[],3,FALSE),0)","v":0},{"$f":"IF(AA179=1,VLOOKUP(I179,Tabell215[],2,FALSE)*W179+VLOOKUP(I179,Tabell215[],3,FALSE),0)","v":0},{"$f":"IF(AB179=1,VLOOKUP(I179,Tabell216[],2,FALSE)*W179,0)","v":0},{"$f":"IF(AC179=1,'Teknisk administration'!$AP$377,0)","v":0},{"$f":"IF(AD179=1,VLOOKUP($I179,Tabell217[],2,FALSE)*$W179,0)","v":0},{"$f":"IF(AE179=1,VLOOKUP($I179,Tabell29[],2,FALSE)*$W179,0)","v":0},{"$f":"IF(ISTEXT(A179),VLOOKUP(A179,Tabell203[],7,FALSE),0)","v":0},0,{"$f":"IF(ISTEXT($A179),VLOOKUP($A179,Tabell203[],11,FALSE),0)","v":0},{"$f":"IF(ISTEXT($A179),VLOOKUP($A179,Tabell203[],12,FALSE),0)","v":0},{"$f":"IF(ISTEXT($A179),VLOOKUP($A179,Tabell203[],13,FALSE),0)","v":0},{"$f":"IF(ISTEXT($A179),VLOOKUP($A179,Tabell203[],14,FALSE),0)","v":0},{"$f":"IF(ISTEXT($A179),VLOOKUP($A179,Tabell203[],15,FALSE),0)","v":0},{"$f":"IF(AND(ISTEXT($A179),AP179>0),VLOOKUP($A179,Tabell203[],16,FALSE),0)","v":0}]
[null,null,null,null,null,{"$f":"IF(ISTEXT(A180),VLOOKUP(A180,Tabell203[],3,FALSE),\"\")","v":""},null,null,null,null,null,null,{"$f":"IF(ISTEXT(A180),VLOOKUP(A180,Tabell203[],10,FALSE),\"\")","v":""},0,0,0,0,{"$f":"IF(ISTEXT(A180),VLOOKUP(A180,Tabell203[],4,FALSE),0)","v":0},{"$f":"IF(ISTEXT(A180),VLOOKUP(A180,Tabell203[],6,FALSE),0)","v":0},{"$f":"IF(ISTEXT(A180),VLOOKUP(A180,Tabell203[],5,FALSE),0)","v":0},{"$f":"IF(ISTEXT(A180),VLOOKUP(A180,Tabell203[],8,FALSE),0)","v":0},{"$f":"IF(ISTEXT(A180),VLOOKUP(A180,Tabell203[],9,FALSE),0)","v":0},{"$f":"IF(ISTEXT(A180),IF(E180>0.000001,E180,VLOOKUP(A180,Tabell203[],2,FALSE)),0)","v":0},0,0,0,0,0,0,0,0,1,{"$f":"IF(X180=1,VLOOKUP(I180,Tabell220[],2,FALSE),0)","v":0},{"$f":"IF(Y180=1,IF(OR(W180<'Teknisk administration'!$P$262,W180>'Teknisk administration'!$P$263),'Teknisk administration'!$Q$262*J180^2+'Teknisk administration'!$R$262*J180+'Teknisk administration'!$S$262,'Teknisk administration'!$Q$263*J180^2+'Teknisk administration'!$R$263*J180+'Teknisk administration'!$S$263),0)","v":0},{"$f":"IF(Z180=1,VLOOKUP(I180,Tabell214[],2,FALSE)*W180+VLOOKUP(I180,Tabell214[],3,FALSE),0)","v":0},{"$f":"IF(AA180=1,VLOOKUP(I180,Tabell215[],2,FALSE)*W180+VLOOKUP(I180,Tabell215[],3,FALSE),0)","v":0},{"$f":"IF(AB180=1,VLOOKUP(I180,Tabell216[],2,FALSE)*W180,0)","v":0},{"$f":"IF(AC180=1,'Teknisk administration'!$AP$377,0)","v":0},{"$f":"IF(AD180=1,VLOOKUP($I180,Tabell217[],2,FALSE)*$W180,0)","v":0},{"$f":"IF(AE180=1,VLOOKUP($I180,Tabell29[],2,FALSE)*$W180,0)","v":0},{"$f":"IF(ISTEXT(A180),VLOOKUP(A180,Tabell203[],7,FALSE),0)","v":0},0,{"$f":"IF(ISTEXT($A180),VLOOKUP($A180,Tabell203[],11,FALSE),0)","v":0},{"$f":"IF(ISTEXT($A180),VLOOKUP($A180,Tabell203[],12,FALSE),0)","v":0},{"$f":"IF(ISTEXT($A180),VLOOKUP($A180,Tabell203[],13,FALSE),0)","v":0},{"$f":"IF(ISTEXT($A180),VLOOKUP($A180,Tabell203[],14,FALSE),0)","v":0},{"$f":"IF(ISTEXT($A180),VLOOKUP($A180,Tabell203[],15,FALSE),0)","v":0},{"$f":"IF(AND(ISTEXT($A180),AP180>0),VLOOKUP($A180,Tabell203[],16,FALSE),0)","v":0}]
[null,null,null,null,null,null,null,null,null,null,null,null,"Totalt mängd inlagt eller direkttfodrat ",{"$f":"SUM(N169:N180)","v":0},null,{"$f":"SUM(P169:P180)","v":0},{"$f":"SUM(Q169:Q180)","v":0},null,null,null,null,null,null,null,null,{"$f":"IF(SUMPRODUCT(Z169:Z180,$G169:$G180)=0,0,SUMPRODUCT($P169:$P180,Z169:Z180)/SUMPRODUCT(Z169:Z180,$G169:$G180))","v":0},{"$f":"IF(SUMPRODUCT(AA169:AA180,$G169:$G180)=0,0,SUMPRODUCT($P169:$P180,AA169:AA180)/SUMPRODUCT(AA169:AA180,$G169:$G180))","v":0}]
[null,null,null,null,null,null,null,null,null,null,null,null,null,null,null,null,"* All halm (foder och strö) visas i summan här, men det är bara mängden foderhalm som följer med till kommande beräkningar"]
[]
[{"$f":"\"Övrigt egenproducerat foder \"&A138","v":"Övrigt egenproducerat foder Period 3"}]
["Välj typ av ur lista och mängden bärgat foder aktuell period (enhet visas när du valt ett foder ur listan). Enhet och ts-halt hämtas från en databas. ",null,null,null,null,null,null,null,null,null,null,null,null,null,null,null,null,null,"Nöt och lamm","Växande grisar","Suggor"]
["Typ av foder - välj ur lista","Mängd","Enhet och ts-halt","Egen kommentar",null,null,null,null,null,null,null,null,null,null,null,null,null,"ts-halt","MJ OM","MJ NE","MJ NE",null,"typ av foder","spannmål","trindsäd","oljeväxter","rotfrukter"]
[null,null,{"$f":"IF(ISTEXT(A187),VLOOKUP(A187,'Teknisk administration'!$B$323:$G$340,2,FALSE),\"\")","v":""},null,null,null,null,null,null,null,null,null,null,null,null,null,null,{"$f":"IF(ISTEXT(A187),VLOOKUP(A187,'Teknisk administration'!$B$323:$G$340,3,FALSE),\"\")","v":""},{"$f":"IF(ISTEXT($A187),VLOOKUP($A187,'Teknisk administration'!$B$323:$I$340,4,FALSE)*$B187*$R187,\"\")","v":""},{"$f":"IF(ISTEXT($A187),VLOOKUP($A187,'Teknisk administration'!$B$323:$I$340,5,FALSE)*$B187,\"\")","v":""},{"$f":"IF(ISTEXT($A187),VLOOKUP($A187,'Teknisk administration'!$B$323:$I$340,6,FALSE)*$B187,\"\")","v":""},null,{"$f":"IF(ISTEXT(A187),VLOOKUP(A187,'Teknisk administration'!$B$323:$I$340,8,FALSE),\"\")","v":""},{"$f":"IF($W187=X$58,1,0)","v":0},0,0,0]
[null,null,{"$f":"IF(ISTEXT(A188),VLOOKUP(A188,'Teknisk administration'!$B$323:$G$340,2,FALSE),\"\")","v":""},null,null,null,null,null,null,null,null,null,null,null,null,null,null,{"$f":"IF(ISTEXT(A188),VLOOKUP(A188,'Teknisk administration'!$B$323:$G$340,3,FALSE),\"\")","v":""},{"$f":"IF(ISTEXT($A188),VLOOKUP($A188,'Teknisk administration'!$B$323:$I$340,4,FALSE)*$B188*$R188,\"\")","v":""},{"$f":"IF(ISTEXT($A188),VLOOKUP($A188,'Teknisk administration'!$B$323:$I$340,5,FALSE)*$B188,\"\")","v":""},{"$f":"IF(ISTEXT($A188),VLOOKUP($A188,'Teknisk administration'!$B$323:$I$340,6,FALSE)*$B188,\"\")","v":""},null,{"$f":"IF(ISTEXT(A188),VLOOKUP(A188,'Teknisk administration'!$B$323:$I$340,8,FALSE),\"\")","v":""},0,0,0,0]
[null,null,{"$f":"IF(ISTEXT(A189),VLOOKUP(A189,'Teknisk administration'!$B$323:$G$340,2,FALSE),\"\")","v":""},null,null,null,null,null,null,null,null,null,null,null,null,null,null,{"$f":"IF(ISTEXT(A189),VLOOKUP(A189,'Teknisk administration'!$B$323:$G$340,3,FALSE),\"\")","v":""},{"$f":"IF(ISTEXT($A189),VLOOKUP($A189,'Teknisk administration'!$B$323:$I$340,4,FALSE)*$B189*$R189,\"\")","v":""},{"$f":"IF(ISTEXT($A189),VLOOKUP($A189,'Teknisk administration'!$B$323:$I$340,5,FALSE)*$B189,\"\")","v":""},{"$f":"IF(ISTEXT($A189),VLOOKUP($A189,'Teknisk administration'!$B$323:$I$340,6,FALSE)*$B189,\"\")","v":""},null,{"$f":"IF(ISTEXT(A189),VLOOKUP(A189,'Teknisk administration'!$B$323:$I$340,8,FALSE),\"\")","v":""},0,0,0,0]
[null,null,{"$f":"IF(ISTEXT(A190),VLOOKUP(A190,'Teknisk administration'!$B$323:$G$340,2,FALSE),\"\")","v":""},null,null,null,null,null,null,null,null,null,null,null,null,null,null,{"$f":"IF(ISTEXT(A190),VLOOKUP(A190,'Teknisk administration'!$B$323:$G$340,3,FALSE),\"\")","v":""},{"$f":"IF(ISTEXT($A190),VLOOKUP($A190,'Teknisk administration'!$B$323:$I$340,4,FALSE)*$B190*$R190,\"\")","v":""},{"$f":"IF(ISTEXT($A190),VLOOKUP($A190,'Teknisk administration'!$B$323:$I$340,5,FALSE)*$B190,\"\")","v":""},{"$f":"IF(ISTEXT($A190),VLOOKUP($A190,'Teknisk administration'!$B$323:$I$340,6,FALSE)*$B190,\"\")","v":""},null,{"$f":"IF(ISTEXT(A190),VLOOKUP(A190,'Teknisk administration'!$B$323:$I$340,8,FALSE),\"\")","v":""},0,0,0,0]
[null,null,{"$f":"IF(ISTEXT(A191),VLOOKUP(A191,'Teknisk administration'!$B$323:$G$340,2,FALSE),\"\")","v":""},null,null,null,null,null,null,null,null,null,null,null,null,null,null,{"$f":"IF(ISTEXT(A191),VLOOKUP(A191,'Teknisk administration'!$B$323:$G$340,3,FALSE),\"\")","v":""},{"$f":"IF(ISTEXT($A191),VLOOKUP($A191,'Teknisk administration'!$B$323:$I$340,4,FALSE)*$B191*$R191,\"\")","v":""},{"$f":"IF(ISTEXT($A191),VLOOKUP($A191,'Teknisk administration'!$B$323:$I$340,5,FALSE)*$B191,\"\")","v":""},{"$f":"IF(ISTEXT($A191),VLOOKUP($A191,'Teknisk administration'!$B$323:$I$340,6,FALSE)*$B191,\"\")","v":""},null,{"$f":"IF(ISTEXT(A191),VLOOKUP(A191,'Teknisk administration'!$B$323:$I$340,8,FALSE),\"\")","v":""},0,0,0,0]
[null,null,{"$f":"IF(ISTEXT(A192),VLOOKUP(A192,'Teknisk administration'!$B$323:$G$340,2,FALSE),\"\")","v":""},null,null,null,null,null,null,null,null,null,null,null,null,null,null,{"$f":"IF(ISTEXT(A192),VLOOKUP(A192,'Teknisk administration'!$B$323:$G$340,3,FALSE),\"\")","v":""},{"$f":"IF(ISTEXT($A192),VLOOKUP($A192,'Teknisk administration'!$B$323:$I$340,4,FALSE)*$B192*$R192,\"\")","v":""},{"$f":"IF(ISTEXT($A192),VLOOKUP($A192,'Teknisk administration'!$B$323:$I$340,5,FALSE)*$B192,\"\")","v":""},{"$f":"IF(ISTEXT($A192),VLOOKUP($A192,'Teknisk administration'!$B$323:$I$340,6,FALSE)*$B192,\"\")","v":""},null,{"$f":"IF(ISTEXT(A192),VLOOKUP(A192,'Teknisk administration'!$B$323:$I$340,8,FALSE),\"\")","v":""},0,0,0,0]
[null,null,{"$f":"IF(ISTEXT(A193),VLOOKUP(A193,'Teknisk administration'!$B$323:$G$340,2,FALSE),\"\")","v":""},null,null,null,null,null,null,null,null,null,null,null,null,null,null,{"$f":"IF(ISTEXT(A193),VLOOKUP(A193,'Teknisk administration'!$B$323:$G$340,3,FALSE),\"\")","v":""},{"$f":"IF(ISTEXT($A193),VLOOKUP($A193,'Teknisk administration'!$B$323:$I$340,4,FALSE)*$B193*$R193,\"\")","v":""},{"$f":"IF(ISTEXT($A193),VLOOKUP($A193,'Teknisk administration'!$B$323:$I$340,5,FALSE)*$B193,\"\")","v":""},{"$f":"IF(ISTEXT($A193),VLOOKUP($A193,'Teknisk administration'!$B$323:$I$340,6,FALSE)*$B193,\"\")","v":""},null,{"$f":"IF(ISTEXT(A193),VLOOKUP(A193,'Teknisk administration'!$B$323:$I$340,8,FALSE),\"\")","v":""},0,0,0,0]
[null,null,{"$f":"IF(ISTEXT(A194),VLOOKUP(A194,'Teknisk administration'!$B$323:$G$340,2,FALSE),\"\")","v":""},null,null,null,null,null,null,null,null,null,null,null,null,null,null,{"$f":"IF(ISTEXT(A194),VLOOKUP(A194,'Teknisk administration'!$B$323:$G$340,3,FALSE),\"\")","v":""},{"$f":"IF(ISTEXT($A194),VLOOKUP($A194,'Teknisk administration'!$B$323:$I$340,4,FALSE)*$B194*$R194,\"\")","v":""},{"$f":"IF(ISTEXT($A194),VLOOKUP($A194,'Teknisk administration'!$B$323:$I$340,5,FALSE)*$B194,\"\")","v":""},{"$f":"IF(ISTEXT($A194),VLOOKUP($A194,'Teknisk administration'!$B$323:$I$340,6,FALSE)*$B194,\"\")","v":""},null,{"$f":"IF(ISTEXT(A194),VLOOKUP(A194,'Teknisk administration'!$B$323:$I$340,8,FALSE),\"\")","v":""},0,0,0,0]
[null,null,{"$f":"IF(ISTEXT(A195),VLOOKUP(A195,'Teknisk administration'!$B$323:$G$340,2,FALSE),\"\")","v":""},null,null,null,null,null,null,null,null,null,null,null,null,null,null,{"$f":"IF(ISTEXT(A195),VLOOKUP(A195,'Teknisk administration'!$B$323:$G$340,3,FALSE),\"\")","v":""},{"$f":"IF(ISTEXT($A195),VLOOKUP($A195,'Teknisk administration'!$B$323:$I$340,4,FALSE)*$B195*$R195,\"\")","v":""},{"$f":"IF(ISTEXT($A195),VLOOKUP($A195,'Teknisk administration'!$B$323:$I$340,5,FALSE)*$B195,\"\")","v":""},{"$f":"IF(ISTEXT($A195),VLOOKUP($A195,'Teknisk administration'!$B$323:$I$340,6,FALSE)*$B195,\"\")","v":""},null,{"$f":"IF(ISTEXT(A195),VLOOKUP(A195,'Teknisk administration'!$B$323:$I$340,8,FALSE),\"\")","v":""},0,0,0,0]
[null,null,{"$f":"IF(ISTEXT(A196),VLOOKUP(A196,'Teknisk administration'!$B$323:$G$340,2,FALSE),\"\")","v":""},null,null,null,null,null,null,null,null,null,null,null,null,null,null,{"$f":"IF(ISTEXT(A196),VLOOKUP(A196,'Teknisk administration'!$B$323:$G$340,3,FALSE),\"\")","v":""},{"$f":"IF(ISTEXT($A196),VLOOKUP($A196,'Teknisk administration'!$B$323:$I$340,4,FALSE)*$B196*$R196,\"\")","v":""},{"$f":"IF(ISTEXT($A196),VLOOKUP($A196,'Teknisk administration'!$B$323:$I$340,5,FALSE)*$B196,\"\")","v":""},{"$f":"IF(ISTEXT($A196),VLOOKUP($A196,'Teknisk administration'!$B$323:$I$340,6,FALSE)*$B196,\"\")","v":""},null,{"$f":"IF(ISTEXT(A196),VLOOKUP(A196,'Teknisk administration'!$B$323:$I$340,8,FALSE),\"\")","v":""},0,0,0,0]
["totalt, kg ts",{"$f":"SUMPRODUCT(B187:B196,R187:R196)","v":0},null,null,null,null,null,null,null,null,null,null,null,null,null,null,null,null,{"$f":"SUM(S187:S196)","v":0},{"$f":"SUM(T187:T196)","v":0},{"$f":"SUM(U187:U196)","v":0}]

{"sheet":"2.2 Förluster vid lagring","index":8,"n_rows":59,"n_cols":12,"rows_kept":59,"cut":false,"hidden":false,"merged":[[6,8,6,10],[7,8,7,10],[3,8,3,10],[1,8,1,10],[2,8,2,10],[4,8,4,10],[5,8,5,10],[29,1,33,1],[35,1,39,1],[10,2,10,4],[12,1,16,1],[18,1,22,1]]}
["2.2 Förluster vid lagring",null,null,null,null,null,null,null,"Det här betyder färgerna"]
[{"$f":"VLOOKUP('2 Intro foder'!B12,'Teknisk administration'!$G$4:$H$6,2,FALSE)","v":"Obligatoriskt blad"},null,null,null,null,null,null,null,"Cell med värden hämtade från annan cell"]
["Under lagring av foder, speciellt av ensilage, kan det ske stora förluster av ts och energi till följd av att mikroorganismer bryter ner foder (\"varmgång\") och via pressvatten",null,null,null,null,null,null,null,"Fyll i din egen siffra"]
[{"$f":"\"På detta blad beräknas förluster under lagring, före uttag, av fodret som odlats aktuell period. Mängd odlat foder hämtas från bladet \" &C_Odling_foder","v":"På detta blad beräknas förluster under lagring, före uttag, av fodret som odlats aktuell period. Mängd odlat foder hämtas från bladet 2.1 Odling foder"},null,null,null,null,null,null,null,"Fyll i egen siffra - frivilligt, t ex om du har tillgång till uppgift eller om du vill räkna med annat värde än schablon"]
["Justera ev värdet som står i gula celler. Grå text = inte aktuellt för dig eftersom du ännu inte registrerat något på den perioden alternativt inte på det foderslaget eller lagringssystemet.  ",null,null,null,null,null,null,null,"Resultat/uträkning"]
[null,null,null,null,null,null,null,null,"Schablonvärde"]
[{"$f":"\"Förluster i samband med uttag och utfodring sammanställs på bladet \" &'2.5. Kasserat foder och spill'!A1","v":"Förluster i samband med uttag och utfodring sammanställs på bladet 2.5. Kasserat foder och spill"},null,null,null,null,null,null,null,"Förklaringar till raden"]
[null,null,null,null,null,null,null,null,"Plats för egna kommentarer"]
[null,null,null,null,null,null,null,null,"Snabblänkar till bladen i verktyget:"]
["Bärgat grovfoder",null,null,null,null,null,null,null,"Instruktion"]
[{"$f":"\"Sammanställning från bladet \" & C_Odling_foder","v":"Sammanställning från bladet 2.1 Odling foder"},null,null,null,null,null,null,null,"Bakgrund"]
["Mängd inlagt i silo, balar och lador","Enhet",{"$f":"Bakgrund!R$7","v":"Period 1"},{"$f":"Bakgrund!S$7","v":"Period 2"},{"$f":"Bakgrund!T$7","v":"Period 3"},"Egen kommentar","Förklaring",null,"1 Intro djuren"]
["Plansilo","kg ts",{"$f":"SUMPRODUCT('2.1 Odling foder'!P41:P52,'2.1 Odling foder'!AQ41:AQ52)+SUMPRODUCT('2.1 Odling foder'!H25:H32,'2.1 Odling foder'!AQ25:AQ32)","v":0},{"$f":"SUMPRODUCT('2.1 Odling foder'!P104:P115,'2.1 Odling foder'!AQ104:AQ115)+SUMPRODUCT('2.1 Odling foder'!H88:H95,'2.1 Odling foder'!AQ88:AQ95)","v":0},{"$f":"SUMPRODUCT('2.1 Odling foder'!P169:P180,'2.1 Odling foder'!AQ169:AQ180)+SUMPRODUCT('2.1 Odling foder'!H153:H160,'2.1 Odling foder'!AQ153:AQ160)","v":0},null,null,null,"1.1 Kött"]
["Torn",null,{"$f":"SUMPRODUCT('2.1 Odling foder'!P41:P52,'2.1 Odling foder'!AR41:AR52)+SUMPRODUCT('2.1 Odling foder'!H25:H32,'2.1 Odling foder'!AR25:AR32)","v":0},{"$f":"SUMPRODUCT('2.1 Odling foder'!P104:P115,'2.1 Odling foder'!AR104:AR115)+SUMPRODUCT('2.1 Odling foder'!H88:H95,'2.1 Odling foder'!AR88:AR95)","v":0},{"$f":"SUMPRODUCT('2.1 Odling foder'!P169:P180,'2.1 Odling foder'!AR169:AR180)+SUMPRODUCT('2.1 Odling foder'!H153:H160,'2.1 Odling foder'!AR153:AR160)","v":0},null,null,null,"1.2 Tillväxt & förökning"]
["Storbalar (rund- och fyrkantsbalar)",null,{"$f":"SUMPRODUCT('2.1 Odling foder'!P41:P52,'2.1 Odling foder'!AS41:AS52)+SUMPRODUCT('2.1 Odling foder'!H25:H32,'2.1 Odling foder'!AS25:AS32)","v":0},{"$f":"SUMPRODUCT('2.1 Odling foder'!P104:P115,'2.1 Odling foder'!AS104:AS115)+SUMPRODUCT('2.1 Odling foder'!H88:H95,'2.1 Odling foder'!AS88:AS95)","v":0},{"$f":"SUMPRODUCT('2.1 Odling foder'!P169:P180,'2.1 Odling foder'!AS169:AS180)+SUMPRODUCT('2.1 Odling foder'!H153:H160,'2.1 Odling foder'!AS153:AS160)","v":0},null,null,null,"1.3 Hälsa & dödlighet"]
["Hö",null,{"$f":"SUMPRODUCT('2.1 Odling foder'!P41:P52,'2.1 Odling foder'!AT41:AT52)+SUMPRODUCT('2.1 Odling foder'!H25:H32,'2.1 Odling foder'!AT25:AT32)","v":0},{"$f":"SUMPRODUCT('2.1 Odling foder'!P104:P115,'2.1 Odling foder'!AT104:AT115)+SUMPRODUCT('2.1 Odling foder'!H88:H95,'2.1 Odling foder'!AT88:AT95)","v":0},{"$f":"SUMPRODUCT('2.1 Odling foder'!P169:P180,'2.1 Odling foder'!AT169:AT180)+SUMPRODUCT('2.1 Odling foder'!H153:H160,'2.1 Odling foder'!AT153:AT160)","v":0},null,null,null,"2 Intro foder"]
["Halm till foder",null,{"$f":"SUMPRODUCT('2.1 Odling foder'!P41:P52,'2.1 Odling foder'!AV41:AV52)+SUMPRODUCT('2.1 Odling foder'!H25:H32,'2.1 Odling foder'!AV25:AV32)","v":0},{"$f":"SUMPRODUCT('2.1 Odling foder'!P104:P115,'2.1 Odling foder'!AV104:AV115)+SUMPRODUCT('2.1 Odling foder'!H88:H95,'2.1 Odling foder'!AV88:AV95)","v":0},{"$f":"SUMPRODUCT('2.1 Odling foder'!P169:P180,'2.1 Odling foder'!AV169:AV180)+SUMPRODUCT('2.1 Odling foder'!H153:H160,'2.1 Odling foder'!AV153:AV160)","v":0},null,null,null,"2.1 Odling foder"]
["Totalt inlagt","kg ts",{"$f":"SUM(C13:C17)","v":0},{"$f":"SUM(D13:D17)","v":0},{"$f":"SUM(E13:E17)","v":0},null,"Total mängd grönmassa inlagt och direktutfodrat",null,"2.2 Förluster vid lagring"]
["Plansilo","MJ",{"$f":"SUMPRODUCT('2.1 Odling foder'!Q41:Q52,'2.1 Odling foder'!AQ41:AQ52)+SUMPRODUCT('2.1 Odling foder'!I25:I32,'2.1 Odling foder'!AQ25:AQ32)","v":0},{"$f":"SUMPRODUCT('2.1 Odling foder'!Q104:Q115,'2.1 Odling foder'!AQ104:AQ115)+SUMPRODUCT('2.1 Odling foder'!I88:I95,'2.1 Odling foder'!AQ88:AQ95)","v":0},{"$f":"SUMPRODUCT('2.1 Odling foder'!Q169:Q180,'2.1 Odling foder'!AQ169:AQ180)+SUMPRODUCT('2.1 Odling foder'!I153:I160,'2.1 Odling foder'!AQ153:AQ160)","v":0},null,null,null,"2.3 Inköpt foder (exkl mineral)"]
["Torn",null,{"$f":"SUMPRODUCT('2.1 Odling foder'!Q41:Q52,'2.1 Odling foder'!AR41:AR52)+SUMPRODUCT('2.1 Odling foder'!I25:I32,'2.1 Odling foder'!AR25:AR32)","v":0},{"$f":"SUMPRODUCT('2.1 Odling foder'!Q104:Q115,'2.1 Odling foder'!AR104:AR115)+SUMPRODUCT('2.1 Odling foder'!I88:I95,'2.1 Odling foder'!AR88:AR95)","v":0},{"$f":"SUMPRODUCT('2.1 Odling foder'!Q169:Q180,'2.1 Odling foder'!AR169:AR180)+SUMPRODUCT('2.1 Odling foder'!I153:I160,'2.1 Odling foder'!AR153:AR160)","v":0},null,null,null,"2.4 Utfodrat"]
["Storbalar (rund- och fyrkantsbalar)",null,{"$f":"SUMPRODUCT('2.1 Odling foder'!Q41:Q52,'2.1 Odling foder'!AS41:AS52)+SUMPRODUCT('2.1 Odling foder'!I25:I32,'2.1 Odling foder'!AS25:AS32)","v":0},{"$f":"SUMPRODUCT('2.1 Odling foder'!Q104:Q115,'2.1 Odling foder'!AS104:AS115)+SUMPRODUCT('2.1 Odling foder'!I88:I95,'2.1 Odling foder'!AS88:AS95)","v":0},{"$f":"SUMPRODUCT('2.1 Odling foder'!Q169:Q180,'2.1 Odling foder'!AS169:AS180)+SUMPRODUCT('2.1 Odling foder'!I153:I160,'2.1 Odling foder'!AS153:AS160)","v":0},null,null,null,"2.5. Kasserat foder och spill"]
["Hö",null,{"$f":"SUMPRODUCT('2.1 Odling foder'!Q41:Q52,'2.1 Odling foder'!AT41:AT52)+SUMPRODUCT('2.1 Odling foder'!I25:I32,'2.1 Odling foder'!AT25:AT32)","v":0},{"$f":"SUMPRODUCT('2.1 Odling foder'!Q104:Q115,'2.1 Odling foder'!AT104:AT115)+SUMPRODUCT('2.1 Odling foder'!I88:I95,'2.1 Odling foder'!AT88:AT95)","v":0},{"$f":"SUMPRODUCT('2.1 Odling foder'!Q169:Q180,'2.1 Odling foder'!AT169:AT180)+SUMPRODUCT('2.1 Odling foder'!I153:I160,'2.1 Odling foder'!AT153:AT160)","v":0},null,null,null,"2.6 Bete"]
["Halm till foder",null,{"$f":"SUMPRODUCT('2.1 Odling foder'!Q41:Q52,'2.1 Odling foder'!AV41:AV52)+SUMPRODUCT('2.1 Odling foder'!I25:I32,'2.1 Odling foder'!AV25:AV32)","v":0},{"$f":"SUMPRODUCT('2.1 Odling foder'!Q104:Q115,'2.1 Odling foder'!AV104:AV115)+SUMPRODUCT('2.1 Odling foder'!I88:I95,'2.1 Odling foder'!AV88:AV95)","v":0},{"$f":"SUMPRODUCT('2.1 Odling foder'!Q169:Q180,'2.1 Odling foder'!AV169:AV180)+SUMPRODUCT('2.1 Odling foder'!I153:I160,'2.1 Odling foder'!AV153:AV160)","v":0},null,null,null,"3 Växtnäringsutnyttjande (1)"]
["Totalt inlagt","MJ ",{"$f":"SUM(C19:C23)","v":0},{"$f":"SUM(D19:D23)","v":0},{"$f":"SUM(E19:E23)","v":0},null,"Total mängd grönmassa inlagt omräknat till MJ, fodervärdering idisslare",null,"3 Växtnäringsutnyttjande (2)"]
[null,null,null,null,null,null,null,null,"3 Växtnäringsutnyttjande (3)"]
[null,null,null,null,null,null,null,null,"4 Energi och bränsle"]
[null,null,null,null,null,null,null,null,"5 Vattenanvändning"]
["I tabellen nedan sammanställs förluster under lagring, d v s efter skörd och före uttag. Fyll i eget värde eller behåll befintligt i prickiga celler. Schabloner i tabellen till höger. ",null,null,null,null,null,null,null,"6 Resultat"]
["Förluster under lagring (andningsförluster)","Enhet",{"$f":"Bakgrund!R$7","v":"Period 1"},{"$f":"Bakgrund!S$7","v":"Period 2"},{"$f":"Bakgrund!T$7","v":"Period 3"},"Egen kommentar","Förklaring",null,null,"låg förlust","medel","hög förlust"]
["Plansilo","% av ts i inlagd grönmassa ",0.15,0.15,0.15,null,"Förlusterna är höga vid dålig packning",null,"Plansilo",0.13,0.15,0.2]
["Torn",null,0.1,0.1,0.1,null,null,null,"Torn, slang",0.08,0.1,0.15]
["Storbalar (rund- och fyrkantsbalar)",null,0.02,0.02,0.02,null,"Generellt låga förluster i storbalar under lagring",null,"Storbalar",0.01,0.02,0.05]
["Hö",null,0.01,0.01,0.01,null,"Generellt låga förluster under lagring av hö",null,"Hö",0.01,0.02,0.03]
["Halm till foder",null,0.02,0.02,0.02]
["Beräknade förluster under lagring "]
["Plansilo, förluster","kg ts",{"$f":"C30*C13","v":0},0,0]
["Torn, förluster",null,0,0,0]
["Storbalar, förluster",null,0,0,0]
["Hö, förluster",null,0,0,0]
["Halm till foder, förluster",null,{"$f":"C34*C17","v":0},{"$f":"D34*D17","v":0},{"$f":"E34*E17","v":0}]
["Totala förluster, ts","kg ts",{"$f":"ROUND(SUM(C36:C40),3-LEN(INT(SUM(C36:C40))))","v":0},{"$f":"ROUND(SUM(D36:D40),3-LEN(INT(SUM(D36:D40))))","v":0},{"$f":"ROUND(SUM(E36:E40),3-LEN(INT(SUM(E36:E40))))","v":0}]
["Totala förluster, MJ","MJ",{"$f":"ROUND(SUMPRODUCT(C19:C23,C30:C34),3-LEN(INT(SUMPRODUCT(C19:C23,C30:C34))))","v":0},{"$f":"ROUND(SUMPRODUCT(D19:D23,D30:D34),3-LEN(INT(SUMPRODUCT(D19:D23,D30:D34))))","v":0},{"$f":"ROUND(SUMPRODUCT(E19:E23,E30:E34),3-LEN(INT(SUMPRODUCT(E19:E23,E30:E34))))","v":0}]
["Totala förluster","% av ts i inlagd grönmassa ",{"$f":"IF(C41=0,0,C41/C18)","v":0},{"$f":"IF(D41=0,0,D41/D18)","v":0},{"$f":"IF(E41=0,0,E41/E18)","v":0}]
["Totalt kvar till uttag","kg ts",{"$f":"C18-C41","v":0},{"$f":"D18-D41","v":0},{"$f":"E18-E41","v":0}]
[]
[]
["Övrigt egenproducerat foder"]
["I tabellen nedan sammanställs förluster under lagring, d v s efter skörd och före uttag. Fyll i eget värde eller behåll befintligt i prickiga celler. Schabloner i tabellen till höger. "]
[null,"Enhet",{"$f":"Bakgrund!R$7","v":"Period 1"},{"$f":"Bakgrund!S$7","v":"Period 2"},{"$f":"Bakgrund!T$7","v":"Period 3"},"Egen kommentar","Förklaring"]
["Skördad mängd","kg ts",{"$f":"'2.1 Odling foder'!B69","v":0},{"$f":"'2.1 Odling foder'!B132","v":0},{"$f":"'2.1 Odling foder'!B197","v":0}]
["Förluster under lagring","%",0.02,0.02,0.02,null,"Behåll värde eller skriv över med eget!"]
["Totala förluster","kg ts",{"$f":"C50*C51","v":0},{"$f":"D50*D51","v":0},{"$f":"E50*E51","v":0}]
["Totalt kvar till uttag","kg ts",{"$f":"ROUND(C50-C52,3-LEN(INT(C50-C52)))","v":0},{"$f":"ROUND(D50-D52,3-LEN(INT(D50-D52)))","v":0},{"$f":"ROUND(E50-E52,3-LEN(INT(E50-E52)))","v":0}]
[]
[]
["Direktutfodrad grönmassa "]
[null,null,{"$f":"Bakgrund!R$7","v":"Period 1"},{"$f":"Bakgrund!S$7","v":"Period 2"},{"$f":"Bakgrund!T$7","v":"Period 3"},"Egen kommentar","Förklaring"]
["Direktutfodrad grönmassa","kg ts",{"$f":"SUMPRODUCT('2.1 Odling foder'!P41:P52,'2.1 Odling foder'!AU41:AU52)+SUMPRODUCT('2.1 Odling foder'!H25:H32,'2.1 Odling foder'!AU25:AU32)","v":0},{"$f":"SUMPRODUCT('2.1 Odling foder'!P104:P115,'2.1 Odling foder'!AU104:AU115)+SUMPRODUCT('2.1 Odling foder'!H88:H95,'2.1 Odling foder'!AU88:AU95)","v":0},{"$f":"SUMPRODUCT('2.1 Odling foder'!P169:P180,'2.1 Odling foder'!AU169:AU180)+SUMPRODUCT('2.1 Odling foder'!H153:H160,'2.1 Odling foder'!AU153:AU160)","v":0}]
[null,"MJ",{"$f":"SUMPRODUCT('2.1 Odling foder'!Q41:Q52,'2.1 Odling foder'!AU41:AU52)+SUMPRODUCT('2.1 Odling foder'!I25:I32,'2.1 Odling foder'!AU25:AU32)","v":0},{"$f":"SUMPRODUCT('2.1 Odling foder'!Q104:Q115,'2.1 Odling foder'!AU104:AU115)+SUMPRODUCT('2.1 Odling foder'!I88:I95,'2.1 Odling foder'!AU88:AU95)","v":0},{"$f":"SUMPRODUCT('2.1 Odling foder'!Q169:Q180,'2.1 Odling foder'!AU169:AU180)+SUMPRODUCT('2.1 Odling foder'!I153:I160,'2.1 Odling foder'!AU153:AU160)","v":0}]

{"sheet":"2.3 Inköpt foder (exkl mineral)","index":9,"n_rows":121,"n_cols":43,"rows_kept":121,"cut":false,"hidden":false,"merged":[[7,18,7,21],[8,18,8,21],[9,18,9,21],[10,18,10,21],[11,18,11,21],[6,18,6,21],[1,18,1,21],[2,18,2,21],[3,18,3,21],[4,18,4,21],[5,18,5,21]]}
["2.3 Inköpt foder (exkl mineral)",null,null,null,null,null,null,null,null,null,null,null,null,null,null,null,null,null,"Det här betyder färgerna:"]
[{"$f":"VLOOKUP('2 Intro foder'!B13,'Teknisk administration'!$G$4:$H$6,2,FALSE)","v":"Bladet är inte relevant för dig"},null,null,null,null,null,null,null,null,null,null,null,null,null,null,null,null,null,"Cell med värden hämtade från annan cell"]
["Här beräknas mängden ts och MJ i inköpt foder, exklusive mineralfoder, som förbrukats under perioden. Justera för ev överlagring!",null,null,null,null,null,null,null,null,null,null,null,null,null,null,null,null,null,"Beräkning"]
[{"$f":"\"Resultatet används sedan på bladet '\" &C_N_summering&\"' och för att beräkna energi- och ts-förluster vid utfodring. Mineralfoder tas inte upp eftersom de inte har något energiinnehåll\"","v":"Resultatet används sedan på bladet '2.4 Utfodrat' och för att beräkna energi- och ts-förluster vid utfodring. Mineralfoder tas inte upp eftersom de inte har något energiinnehåll"},null,null,null,null,null,null,null,null,null,null,null,null,null,null,null,null,null,"Fyll i din egen siffra",null,null,null,null,"Snabblänkar till bladen i verktyget:"]
[{"$f":"\"På detta blad kan du även beräkna mängden N, P och K i inköpt foder. Resultatet används sedan i växtnäringsberäkningarna på bladet '\" & D_vn_1 &\"'. Där läggs även mineralfodret till eftersom de innehåller P och K.\"","v":"På detta blad kan du även beräkna mängden N, P och K i inköpt foder. Resultatet används sedan i växtnäringsberäkningarna på bladet '3 Växtnäringsutnyttjande period 1, Period 1'. Där läggs även mineralfodret till eftersom de innehåller P och K."},null,null,null,null,null,null,null,null,null,null,null,null,null,null,null,null,null,"Fyll i egen siffra - frivilligt, t ex om du har tillgång till uppgift eller om du vill räkna med annat värde än det schablonvärde som visas i angränsande cell",null,null,null,null,"Instruktion"]
[null,null,null,null,null,null,null,null,null,null,null,null,null,null,null,null,null,null,"Egen uppgift, men välj värde ur rullista. ",null,null,null,null,"Bakgrund"]
["Dina svar på ja/nej-frågorna på Bakgrund styr vilka delar som visas. Grå text eller vita celler = inte relevant för dig.",null,null,null,null,null,null,null,null,null,null,null,null,null,null,null,null,null,"Resultat/uträkning",null,null,null,null,"1 Intro djuren"]
["Du kan antingen välja ett färdigt foder ur en lista (alternativ 1) eller namnge och beskriva foder med eget namn (alternativ 2) om du inte hittar lämpligt alternativ i listan. Du kan använda båda alternativen samma period",null,null,null,null,null,null,null,null,null,null,null,null,null,null,null,null,null,"Schablonvärde",null,null,null,null,"1.1 Kött"]
["Röd cell = välj alternativ ur listan eller fyll i ett värde så släcks varningen! Om cellen fortsätter att vara röd finns inte energiinnehållet i databasen, och du behöver fylla i ett värde för att MJ foder ska kunna beräknas. Varningen släcks när du fyllt i värde. ",null,null,null,null,null,null,null,null,null,null,null,null,null,null,null,null,null,"Förklaringar till raden",null,null,null,null,"1.2 Tillväxt & förökning"]
["Perioderna ligger under varandra",null,null,null,null,null,null,null,null,null,null,null,null,null,null,null,null,null,"Plats för egna kommentarer",null,null,null,null,"1.3 Hälsa & dödlighet"]
[null,null,null,null,null,null,null,null,null,null,null,null,null,null,null,null,null,null,"Glöm inte att fylla i värde! (Här krävs ett värde för att andra beräkningar ska fungera",null,null,null,null,"2 Intro foder"]
["Räcker inte raderna till? Ta bort bladets skrivskydd (Granska/Skydda), inget lösenord krävs. Högerklicka i tabellen och välj Infoga > Infoga rad ovanför",null,null,null,null,null,null,null,null,null,null,null,null,null,null,null,null,null,"grå text, ev vit bakgrund: Avsnittet är inte relevant för dig baserat på svaren på ja/nej-frågor på bladet Bakgrund",null,null,null,null,"2.1 Odling foder"]
["Perioderna ligger under varandra på detta blad",null,null,null,null,null,null,null,null,null,null,null,null,null,null,null,null,null,null,null,null,null,null,"2.2 Förluster vid lagring"]
[null,null,null,null,null,null,null,null,null,null,null,null,null,null,null,null,null,null,"Hjälptabeller för inköpt foder",null,null,null,null,"2.3 Inköpt foder (exkl mineral)"]
[{"$f":"\"Inköpt foder \" & Bakgrund!R7","v":"Inköpt foder Period 1"},null,null,null,null,null,null,null,null,null,null,null,null,null,null,null,null,null,"Energiinnehåll foder, exempel. Fyll i eget värde i tabellerna till vänster!",null,null,null,null,"2.4 Utfodrat"]
["Alternativ 1: Välj färdiga schablonfoder, grovfoder, råvaror eller namngivna kraftfoder ur lista.",null,null,null,null,null,null,null,null,null,null,null,null,null,null,null,null,null,"Typ","energiinnehåll (MJ per kg ts)","ts-halt",null,null,"2.5. Kasserat foder och spill"]
["Foder välj ur lista , eller använd hjälpfunktion till höger!","Enhet","Mängd","ts-halt (%)","Kväve","Fosfor","Kalium","MJ per kg ts, från tabell","MJ per kg ts, eget värde*","Egen kommentar","MJ/kg, använt","grovfoder","kraftfoder, spannmål etc.",null,null,null,null,null,"Spannmål","11-13",0.86,null,null,"2.6 Bete"]
[null,{"$f":"IF(ISTEXT(A18),IF(D18=1,\"kg ts\",\"kg\"),\"\")","v":""},null,{"$f":"AM18","v":0},{"$f":"AN18","v":0},{"$f":"AO18","v":0},{"$f":"AP18","v":0},{"$f":"AQ18","v":0},null,null,{"$f":"IF(AND(I18>0,I18<40),I18,AQ18)","v":0},{"$f":"IF(ISTEXT(A18),IF(VLOOKUP(A18,'tekn adm - produktlistor'!$AG$6:$AP$631,10,FALSE)=L$17,1,0),0)","v":0},{"$f":"IF(ISTEXT(A18),IF(VLOOKUP(A18,'tekn adm - produktlistor'!$AG$6:$AP$631,10,FALSE)=M$17,1,0),0)","v":0},null,null,null,null,null,"Koncentrat","12-13",0.88,null,null,"3 Växtnäringsutnyttjande (1)",null,null,null,null,null,null,null,null,null,null,null,null,null,null,{"$f":"IF(ISTEXT(A18),VLOOKUP(A18,'tekn adm - produktlistor'!$AG$6:$AM$632,7,FALSE),0)","v":0},{"$f":"IF(ISTEXT(A18),VLOOKUP(A18,'tekn adm - produktlistor'!$AG$6:$AM$632,3,FALSE)*C18,0)","v":0},{"$f":"IF(ISTEXT(A18),VLOOKUP($A18,'tekn adm - produktlistor'!$AG$6:$AM$632,4,FALSE)*$C18,0)","v":0},{"$f":"IF(ISTEXT(A18),VLOOKUP($A18,'tekn adm - produktlistor'!$AG$6:$AM$632,5,FALSE)*$C18,0)","v":0},{"$f":"IF(ISTEXT(A18),VLOOKUP($A18,'tekn adm - produktlistor'!$AG$6:$AO$632,9,FALSE),0)","v":0}]
[null,{"$f":"IF(ISTEXT(A19),IF(D19=1,\"kg ts\",\"kg\"),\"\")","v":""},null,0,{"$f":"AN19","v":0},{"$f":"AO19","v":0},{"$f":"AP19","v":0},{"$f":"AQ19","v":0},null,null,0,{"$f":"IF(ISTEXT(A19),IF(VLOOKUP(A19,'tekn adm - produktlistor'!$AG$6:$AP$631,10,FALSE)=L$17,1,0),0)","v":0},{"$f":"IF(ISTEXT(A19),IF(VLOOKUP(A19,'tekn adm - produktlistor'!$AG$6:$AP$631,10,FALSE)=M$17,1,0),0)","v":0},null,null,null,null,null,"Färdigfoder","12,7",0.88,null,null,"3 Växtnäringsutnyttjande (2)",null,null,null,null,null,null,null,null,null,null,null,null,null,null,{"$f":"IF(ISTEXT(A19),VLOOKUP(A19,'tekn adm - produktlistor'!$AG$6:$AM$632,7,FALSE),0)","v":0},{"$f":"IF(ISTEXT(A19),VLOOKUP(A19,'tekn adm - produktlistor'!$AG$6:$AM$632,3,FALSE)*C19,0)","v":0},{"$f":"IF(ISTEXT(A19),VLOOKUP($A19,'tekn adm - produktlistor'!$AG$6:$AM$632,4,FALSE)*$C19,0)","v":0},{"$f":"IF(ISTEXT(A19),VLOOKUP($A19,'tekn adm - produktlistor'!$AG$6:$AM$632,5,FALSE)*$C19,0)","v":0},{"$f":"IF(ISTEXT(A19),VLOOKUP($A19,'tekn adm - produktlistor'!$AG$6:$AO$632,9,FALSE),0)","v":0}]
[null,"",null,0,0,0,0,0,null,null,0,{"$f":"IF(ISTEXT(A20),IF(VLOOKUP(A20,'tekn adm - produktlistor'!$AG$6:$AP$631,10,FALSE)=L$17,1,0),0)","v":0},{"$f":"IF(ISTEXT(A20),IF(VLOOKUP(A20,'tekn adm - produktlistor'!$AG$6:$AP$631,10,FALSE)=M$17,1,0),0)","v":0},null,null,null,null,null,"Ensilage, blandvall, tidig skörd","11-12",1,null,null,"3 Växtnäringsutnyttjande (3)",null,null,null,null,null,null,null,null,null,null,null,null,null,null,{"$f":"IF(ISTEXT(A20),VLOOKUP(A20,'tekn adm - produktlistor'!$AG$6:$AM$632,7,FALSE),0)","v":0},{"$f":"IF(ISTEXT(A20),VLOOKUP(A20,'tekn adm - produktlistor'!$AG$6:$AM$632,3,FALSE)*C20,0)","v":0},{"$f":"IF(ISTEXT(A20),VLOOKUP($A20,'tekn adm - produktlistor'!$AG$6:$AM$632,4,FALSE)*$C20,0)","v":0},{"$f":"IF(ISTEXT(A20),VLOOKUP($A20,'tekn adm - produktlistor'!$AG$6:$AM$632,5,FALSE)*$C20,0)","v":0},{"$f":"IF(ISTEXT(A20),VLOOKUP($A20,'tekn adm - produktlistor'!$AG$6:$AO$632,9,FALSE),0)","v":0}]
[null,"",null,0,0,0,0,0,null,null,0,{"$f":"IF(ISTEXT(A21),IF(VLOOKUP(A21,'tekn adm - produktlistor'!$AG$6:$AP$631,10,FALSE)=L$17,1,0),0)","v":0},{"$f":"IF(ISTEXT(A21),IF(VLOOKUP(A21,'tekn adm - produktlistor'!$AG$6:$AP$631,10,FALSE)=M$17,1,0),0)","v":0},null,null,null,null,null,"Ensilage, blandvall, medeltidig skörd","10,2-10,6",1,null,null,"4 Energi och bränsle",null,null,null,null,null,null,null,null,null,null,null,null,null,null,{"$f":"IF(ISTEXT(A21),VLOOKUP(A21,'tekn adm - produktlistor'!$AG$6:$AM$632,7,FALSE),0)","v":0},{"$f":"IF(ISTEXT(A21),VLOOKUP(A21,'tekn adm - produktlistor'!$AG$6:$AM$632,3,FALSE)*C21,0)","v":0},{"$f":"IF(ISTEXT(A21),VLOOKUP($A21,'tekn adm - produktlistor'!$AG$6:$AM$632,4,FALSE)*$C21,0)","v":0},{"$f":"IF(ISTEXT(A21),VLOOKUP($A21,'tekn adm - produktlistor'!$AG$6:$AM$632,5,FALSE)*$C21,0)","v":0},{"$f":"IF(ISTEXT(A21),VLOOKUP($A21,'tekn adm - produktlistor'!$AG$6:$AO$632,9,FALSE),0)","v":0}]
[null,"",null,0,0,0,0,0,null,null,0,{"$f":"IF(ISTEXT(A22),IF(VLOOKUP(A22,'tekn adm - produktlistor'!$AG$6:$AP$631,10,FALSE)=L$17,1,0),0)","v":0},{"$f":"IF(ISTEXT(A22),IF(VLOOKUP(A22,'tekn adm - produktlistor'!$AG$6:$AP$631,10,FALSE)=M$17,1,0),0)","v":0},null,null,null,null,null,"Ensilage, blandvall, sen skörd","8,5-10",1,null,null,"5 Vattenanvändning",null,null,null,null,null,null,null,null,null,null,null,null,null,null,{"$f":"IF(ISTEXT(A22),VLOOKUP(A22,'tekn adm - produktlistor'!$AG$6:$AM$632,7,FALSE),0)","v":0},{"$f":"IF(ISTEXT(A22),VLOOKUP(A22,'tekn adm - produktlistor'!$AG$6:$AM$632,3,FALSE)*C22,0)","v":0},{"$f":"IF(ISTEXT(A22),VLOOKUP($A22,'tekn adm - produktlistor'!$AG$6:$AM$632,4,FALSE)*$C22,0)","v":0},{"$f":"IF(ISTEXT(A22),VLOOKUP($A22,'tekn adm - produktlistor'!$AG$6:$AM$632,5,FALSE)*$C22,0)","v":0},{"$f":"IF(ISTEXT(A22),VLOOKUP($A22,'tekn adm - produktlistor'!$AG$6:$AO$632,9,FALSE),0)","v":0}]
[null,"",null,0,0,0,0,0,null,null,0,{"$f":"IF(ISTEXT(A23),IF(VLOOKUP(A23,'tekn adm - produktlistor'!$AG$6:$AP$631,10,FALSE)=L$17,1,0),0)","v":0},{"$f":"IF(ISTEXT(A23),IF(VLOOKUP(A23,'tekn adm - produktlistor'!$AG$6:$AP$631,10,FALSE)=M$17,1,0),0)","v":0},null,null,null,null,null,"Ensilage, gräsvall, tidig skörd","11,0",1,null,null,"6 Resultat",null,null,null,null,null,null,null,null,null,null,null,null,null,null,{"$f":"IF(ISTEXT(A23),VLOOKUP(A23,'tekn adm - produktlistor'!$AG$6:$AM$632,7,FALSE),0)","v":0},{"$f":"IF(ISTEXT(A23),VLOOKUP(A23,'tekn adm - produktlistor'!$AG$6:$AM$632,3,FALSE)*C23,0)","v":0},{"$f":"IF(ISTEXT(A23),VLOOKUP($A23,'tekn adm - produktlistor'!$AG$6:$AM$632,4,FALSE)*$C23,0)","v":0},{"$f":"IF(ISTEXT(A23),VLOOKUP($A23,'tekn adm - produktlistor'!$AG$6:$AM$632,5,FALSE)*$C23,0)","v":0},{"$f":"IF(ISTEXT(A23),VLOOKUP($A23,'tekn adm - produktlistor'!$AG$6:$AO$632,9,FALSE),0)","v":0}]
[null,"",null,0,0,0,0,0,null,null,0,{"$f":"IF(ISTEXT(A24),IF(VLOOKUP(A24,'tekn adm - produktlistor'!$AG$6:$AP$631,10,FALSE)=L$17,1,0),0)","v":0},{"$f":"IF(ISTEXT(A24),IF(VLOOKUP(A24,'tekn adm - produktlistor'!$AG$6:$AP$631,10,FALSE)=M$17,1,0),0)","v":0},null,null,null,null,null,"Ensilage, gräsvall, medeltidig skörd","10,2-10,6",1,null,null,null,null,null,null,null,null,null,null,null,null,null,null,null,null,null,{"$f":"IF(ISTEXT(A24),VLOOKUP(A24,'tekn adm - produktlistor'!$AG$6:$AM$632,7,FALSE),0)","v":0},{"$f":"IF(ISTEXT(A24),VLOOKUP(A24,'tekn adm - produktlistor'!$AG$6:$AM$632,3,FALSE)*C24,0)","v":0},{"$f":"IF(ISTEXT(A24),VLOOKUP($A24,'tekn adm - produktlistor'!$AG$6:$AM$632,4,FALSE)*$C24,0)","v":0},{"$f":"IF(ISTEXT(A24),VLOOKUP($A24,'tekn adm - produktlistor'!$AG$6:$AM$632,5,FALSE)*$C24,0)","v":0},{"$f":"IF(ISTEXT(A24),VLOOKUP($A24,'tekn adm - produktlistor'!$AG$6:$AO$632,9,FALSE),0)","v":0}]
["Summa (kg ts, N, P, K resp MJ)",null,null,{"$f":"SUMPRODUCT(C18:C24,D18:D24)","v":0},{"$f":"SUM(E18:E24)","v":0},{"$f":"SUM(F18:F24)","v":0},{"$f":"SUM(G18:G24)","v":0},{"$f":"SUMPRODUCT(C18:C24,D18:D24,K18:K24)","v":0},null,null,null,null,null,null,null,null,null,null,"Ensilage, gräsvall, sen skörd","9,5-10",1,null,null,null,null,null,null,null,null,null,null,null,null,null,null,null,null,null,{"$f":"SUMPRODUCT(C18:C24,AM18:AM24)","v":0},{"$f":"SUM(AN18:AN24)","v":0},{"$f":"SUM(AO18:AO24)","v":0},{"$f":"SUM(AP18:AP24)","v":0},{"$f":"SUMPRODUCT(C18:C24,AM18:AM24,K18:K24)","v":0}]
["* Om cellen är röd finns inte energiinnehållet i databasen, och du behöver fylla i ett värde för att MJ foder ska kunna beräknas. Varningen släcks när du fyllt i värde. ",null,null,null,null,null,null,null,null,null,null,null,null,null,null,null,null,null,"Hö",9.3000000000000007,1]
["Om cellen är prickig innebär det att du kan skriva in eget värde, om du vill."]
[]
["Alternativ 2: Namnge och beskriv foder själv",null,null,null,null,null,null,null,null,null,null,null,null,null,null,null,null,null,"Hitta fodermedel (kraftfoder, spanmmål, protein etc.)"]
["Foder, fritext","Enhet","Mängd","ts-halt (%)*","Råprotein (g/kg ts)**","Fosfor \n(g/kg ts)**","Kalium \n(g/kg ts)**","Energi \n(MJ per kg ts)***","typ av foder - välj alternativ ur lista!","Egen kommentar","Kolumn1","grovfoder","kraftfoder, spannmål etc.",null,null,null,null,null,"skriv in ett helt ord (t ex \"havre\" eller \"galant\") eller en del av ett ord (t ex \"bland\") i fodret du letar efter i den gula cellen nedan. Tryck Enter!"]
[null,"kg",null,1,null,null,null,null,null,null,null,{"$f":"IF($I31=L$30,1,0)","v":0},{"$f":"IF(L31=0,1,0)","v":1},null,null,null,null,null,"Alla träffar i databasen visas i listan därunder. Kopiera rätt alternativ och klistra in orange cell i tabellen Fodermedel nöt. "]
[null,"kg",null,0.88,null,null,null,null,null,null,null,{"$f":"IF($I32=L$30,1,0)","v":0},{"$f":"IF(L32=0,1,0)","v":1},null,null,null,null,null,"Hittar du inte rätt? Testa ett annat ord! I databasen finns både foderåvaror (t ex havre)  och kraftfoder (t ex  L Galant Ordinär). Förkortning framför kraftfoder indikerar foderleverantör (L = Lantmännen)"]
[null,"kg",null,0.88,null,null,null,null,null,null,null,0,1,null,null,null,null,null,"fodermedelet som jag söker efter:"]
[null,"kg",null,0.88,null,null,null,null,null,null,null,0,1,null,null,null,null,null,"galant"]
[null,"kg",null,0.88,null,null,null,null,null,null,null,0,1]
[null,"kg",null,0.88,null,null,null,null,null,null,null,0,1,null,null,null,null,null,"Lista över fodermedel att välja på:"]
["Summa (kg ts, N, P, K resp MJ)",null,null,{"$f":"SUMPRODUCT(C31:C36,D31:D36)","v":0},{"$f":"SUMPRODUCT(C31:C36,D31:D36,E31:E36)/1000/6.25","v":0},{"$f":"SUMPRODUCT(F31:F36,$C31:$C36,$D31:$D36)/1000","v":0},{"$f":"SUMPRODUCT(G31:G36,$C31:$C36,$D31:$D36)/1000","v":0},{"$f":"SUMPRODUCT(C31:C36,D31:D36,H31:H36)","v":0},null,null,null,{"$f":"IF(SUMPRODUCT(C18:C24,AM18:AM24)+SUMPRODUCT(C31:C36,D31:D36)=0,0,(SUMPRODUCT(C18:C24,AM18:AM24,L18:L24)+SUMPRODUCT(C31:C36,D31:D36,L31:L36))/(SUMPRODUCT(C18:C24,AM18:AM24)+SUMPRODUCT(C31:C36,D31:D36)))","v":0},null,null,null,null,null,null,{"$f":"IF(ISTEXT(AH38),AH38,\"--Inga foder hittade, ändra sökningen---\")","v":"L Galant Grov"},null,null,null,null,null,null,null,null,null,null,null,null,null,null,null,"rad nr",null,null,null,{"$f":"SUMPRODUCT(C31:C36,D31:D36)","v":0},{"$f":"SUMPRODUCT(C31:C36,D31:D36,E31:E36)/1000/6.25","v":0},{"$f":"SUMPRODUCT(F31:F36,$C31:$C36,$D31:$D36)/1000","v":0},{"$f":"SUMPRODUCT(G31:G36,$C31:$C36,$D31:$D36)/1000","v":0},{"$f":"SUMPRODUCT(C31:C36,D31:D36,H31:H36)","v":0}]
["*Behåll ts-halten eller skriv över med eget värde",null,null,null,null,null,null,null,null,null,null,null,null,null,null,null,null,null,{"$f":"IF(AJ39=1,AH39,\"\")","v":"L Galant N"},null,null,null,null,null,null,null,null,null,null,null,null,null,null,{"$f":"INDEX('tekn adm - produktlistor'!AG6:AG631,MATCH(\"*\"&$S$34&\"*\",'tekn adm - produktlistor'!AG6:AG631,0))","v":"L Galant Grov"},{"$f":"VLOOKUP(AH38,'tekn adm - produktlistor'!$AG$6:$AL$631,6,FALSE)","v":243},1]
["** Ange råprotein, fosfor och kalium som g per kg ts . 1 kg råprotein = 0,16 kg N ",null,null,null,null,null,null,null,null,null,null,null,null,null,null,null,null,null,"L Galant Nära",null,null,null,null,null,null,null,null,null,null,null,null,null,null,{"$f":"INDEX(OFFSET('tekn adm - produktlistor'!$AG$6,AI38,0):'tekn adm - produktlistor'!$AG$631,MATCH(\"*\"&$S$34&\"*\",OFFSET('tekn adm - produktlistor'!$AG$6,AI38,0):'tekn adm - produktlistor'!$AG$631,0))","v":"L Galant N"},{"$f":"VLOOKUP(AH39,'tekn adm - produktlistor'!$AG$6:$AL$631,6,FALSE)","v":244},{"$f":"IF(ISNUMBER(AI39),IF(AND(AI39>AI38,AJ38=1),1,0),0)","v":1}]
["*** Se hjälptabell till höger!",null,null,null,null,null,null,null,null,null,null,null,null,null,null,null,null,null,"L Galant Ordinär",null,null,null,null,null,null,null,null,null,null,null,null,null,null,{"$f":"INDEX(OFFSET('tekn adm - produktlistor'!$AG$6,AI39,0):'tekn adm - produktlistor'!$AG$631,MATCH(\"*\"&$S$34&\"*\",OFFSET('tekn adm - produktlistor'!$AG$6,AI39,0):'tekn adm - produktlistor'!$AG$631,0))","v":"L Galant Nära"},{"$f":"VLOOKUP(AH40,'tekn adm - produktlistor'!$AG$6:$AL$631,6,FALSE)","v":245},1]
[null,null,null,null,null,null,null,null,null,null,null,null,null,null,null,null,null,null,"L Galant Snabb",null,null,null,null,null,null,null,null,null,null,null,null,null,null,{"$f":"INDEX(OFFSET('tekn adm - produktlistor'!$AG$6,AI40,0):'tekn adm - produktlistor'!$AG$631,MATCH(\"*\"&$S$34&\"*\",OFFSET('tekn adm - produktlistor'!$AG$6,AI40,0):'tekn adm - produktlistor'!$AG$631,0))","v":"L Galant Ordinär"},{"$f":"VLOOKUP(AH41,'tekn adm - produktlistor'!$AG$6:$AL$631,6,FALSE)","v":246},1]
[null,null,null,null,null,null,null,null,null,null,null,null,null,null,null,null,null,null,"L Galant Stabil",null,null,null,null,null,null,null,null,null,null,null,null,null,null,{"$f":"INDEX(OFFSET('tekn adm - produktlistor'!$AG$6,AI41,0):'tekn adm - produktlistor'!$AG$631,MATCH(\"*\"&$S$34&\"*\",OFFSET('tekn adm - produktlistor'!$AG$6,AI41,0):'tekn adm - produktlistor'!$AG$631,0))","v":"L Galant Snabb"},{"$f":"VLOOKUP(AH42,'tekn adm - produktlistor'!$AG$6:$AL$631,6,FALSE)","v":247},1]
[null,"kg ts","MJ",null,null,null,null,null,null,null,null,null,null,null,null,null,null,null,"",null,null,null,null,null,null,null,null,null,null,null,null,null,null,{"$f":"INDEX(OFFSET('tekn adm - produktlistor'!$AG$6,AI42,0):'tekn adm - produktlistor'!$AG$631,MATCH(\"*\"&$S$34&\"*\",OFFSET('tekn adm - produktlistor'!$AG$6,AI42,0):'tekn adm - produktlistor'!$AG$631,0))","v":"L Galant Stabil"},{"$f":"VLOOKUP(AH43,'tekn adm - produktlistor'!$AG$6:$AL$631,6,FALSE)","v":248},1]
[{"$f":"\"Totalt inköpt \" &period_1","v":"Totalt inköpt Period 1"},{"$f":"SUM(B45:B46)","v":0},{"$f":"SUM(C45:C46)","v":0},null,null,null,null,null,null,null,null,null,null,null,null,null,null,null,"",null,null,null,null,null,null,null,null,null,null,null,null,null,null,{"$f":"INDEX(OFFSET('tekn adm - produktlistor'!$AG$6,AI43,0):'tekn adm - produktlistor'!$AG$631,MATCH(\"*\"&$S$34&\"*\",OFFSET('tekn adm - produktlistor'!$AG$6,AI43,0):'tekn adm - produktlistor'!$AG$631,0))","v":{"$error":"#N/A"}},{"$f":"VLOOKUP(AH44,'tekn adm - produktlistor'!$AG$6:$AL$631,6,FALSE)","v":{"$error":"#N/A"}},0]
["grovfoder",{"$f":"SUMPRODUCT(C18:C24,AM18:AM24,L18:L24)+SUMPRODUCT(C31:C36,D31:D36,L31:L36)","v":0},{"$f":"SUMPRODUCT(C18:C24,AM18:AM24,K18:K24,L18:L24)+SUMPRODUCT(C31:C36,D31:D36,H31:H36,L31:L36)","v":0},null,null,null,null,null,null,null,null,null,null,null,null,null,null,null,"",null,null,null,null,null,null,null,null,null,null,null,null,null,null,{"$f":"INDEX(OFFSET('tekn adm - produktlistor'!$AG$6,AI44,0):'tekn adm - produktlistor'!$AG$631,MATCH(\"*\"&$S$34&\"*\",OFFSET('tekn adm - produktlistor'!$AG$6,AI44,0):'tekn adm - produktlistor'!$AG$631,0))","v":{"$error":"#N/A"}},{"$f":"VLOOKUP(AH45,'tekn adm - produktlistor'!$AG$6:$AL$631,6,FALSE)","v":{"$error":"#N/A"}},0]
["kraftfoder, spannmål etc.",{"$f":"SUMPRODUCT(C18:C24,AM18:AM24,M18:M24)+SUMPRODUCT(C31:C36,D31:D36,M31:M36)","v":0},{"$f":"SUMPRODUCT(C18:C24,AM18:AM24,K18:K24,M18:M24)+SUMPRODUCT(C31:C36,D31:D36,H31:H36,M31:M36)","v":0},null,null,null,null,null,null,null,null,null,null,null,null,null,null,null,"",null,null,null,null,null,null,null,null,null,null,null,null,null,null,{"$f":"INDEX(OFFSET('tekn adm - produktlistor'!$AG$6,AI45,0):'tekn adm - produktlistor'!$AG$631,MATCH(\"*\"&$S$34&\"*\",OFFSET('tekn adm - produktlistor'!$AG$6,AI45,0):'tekn adm - produktlistor'!$AG$631,0))","v":{"$error":"#N/A"}},{"$f":"VLOOKUP(AH46,'tekn adm - produktlistor'!$AG$6:$AL$631,6,FALSE)","v":{"$error":"#N/A"}},0]
[null,null,null,null,null,null,null,null,null,null,null,null,null,null,null,null,null,null,"",null,null,null,null,null,null,null,null,null,null,null,null,null,null,{"$f":"INDEX(OFFSET('tekn adm - produktlistor'!$AG$6,AI46,0):'tekn adm - produktlistor'!$AG$631,MATCH(\"*\"&$S$34&\"*\",OFFSET('tekn adm - produktlistor'!$AG$6,AI46,0):'tekn adm - produktlistor'!$AG$631,0))","v":{"$error":"#N/A"}},{"$f":"VLOOKUP(AH47,'tekn adm - produktlistor'!$AG$6:$AL$631,6,FALSE)","v":{"$error":"#N/A"}},0]
[null,null,null,null,null,null,null,null,null,null,null,null,null,null,null,null,null,null,"",null,null,null,null,null,null,null,null,null,null,null,null,null,null,{"$f":"INDEX(OFFSET('tekn adm - produktlistor'!$AG$6,AI47,0):'tekn adm - produktlistor'!$AG$631,MATCH(\"*\"&$S$34&\"*\",OFFSET('tekn adm - produktlistor'!$AG$6,AI47,0):'tekn adm - produktlistor'!$AG$631,0))","v":{"$error":"#N/A"}},{"$f":"VLOOKUP(AH48,'tekn adm - produktlistor'!$AG$6:$AL$631,6,FALSE)","v":{"$error":"#N/A"}},0]
[null,null,null,null,null,null,null,null,null,null,null,null,null,null,null,null,null,null,"",null,null,null,null,null,null,null,null,null,null,null,null,null,null,{"$f":"INDEX(OFFSET('tekn adm - produktlistor'!$AG$6,AI48,0):'tekn adm - produktlistor'!$AG$631,MATCH(\"*\"&$S$34&\"*\",OFFSET('tekn adm - produktlistor'!$AG$6,AI48,0):'tekn adm - produktlistor'!$AG$631,0))","v":{"$error":"#N/A"}},{"$f":"VLOOKUP(AH49,'tekn adm - produktlistor'!$AG$6:$AL$631,6,FALSE)","v":{"$error":"#N/A"}},0]
[null,null,null,null,null,null,null,null,null,null,null,null,null,null,null,null,null,null,"",null,null,null,null,null,null,null,null,null,null,null,null,null,null,{"$f":"INDEX(OFFSET('tekn adm - produktlistor'!$AG$6,AI49,0):'tekn adm - produktlistor'!$AG$631,MATCH(\"*\"&$S$34&\"*\",OFFSET('tekn adm - produktlistor'!$AG$6,AI49,0):'tekn adm - produktlistor'!$AG$631,0))","v":{"$error":"#N/A"}},{"$f":"VLOOKUP(AH50,'tekn adm - produktlistor'!$AG$6:$AL$631,6,FALSE)","v":{"$error":"#N/A"}},0]
[null,null,null,null,null,null,null,null,null,null,null,null,null,null,null,null,null,null,"",null,null,null,null,null,null,null,null,null,null,null,null,null,null,{"$f":"INDEX(OFFSET('tekn adm - produktlistor'!$AG$6,AI50,0):'tekn adm - produktlistor'!$AG$631,MATCH(\"*\"&$S$34&\"*\",OFFSET('tekn adm - produktlistor'!$AG$6,AI50,0):'tekn adm - produktlistor'!$AG$631,0))","v":{"$error":"#N/A"}},{"$f":"VLOOKUP(AH51,'tekn adm - produktlistor'!$AG$6:$AL$631,6,FALSE)","v":{"$error":"#N/A"}},0]
[null,null,null,null,null,null,null,null,null,null,null,null,null,null,null,null,null,null,"",null,null,null,null,null,null,null,null,null,null,null,null,null,null,{"$f":"INDEX(OFFSET('tekn adm - produktlistor'!$AG$6,AI51,0):'tekn adm - produktlistor'!$AG$631,MATCH(\"*\"&$S$34&\"*\",OFFSET('tekn adm - produktlistor'!$AG$6,AI51,0):'tekn adm - produktlistor'!$AG$631,0))","v":{"$error":"#N/A"}},{"$f":"VLOOKUP(AH52,'tekn adm - produktlistor'!$AG$6:$AL$631,6,FALSE)","v":{"$error":"#N/A"}},0]
[{"$f":"\"Inköpt foder \" & Bakgrund!S7","v":"Inköpt foder Period 2"},null,null,null,null,null,null,null,null,null,null,null,null,null,null,null,null,null,"",null,null,null,null,null,null,null,null,null,null,null,null,null,null,{"$f":"INDEX(OFFSET('tekn adm - produktlistor'!$AG$6,AI52,0):'tekn adm - produktlistor'!$AG$631,MATCH(\"*\"&$S$34&\"*\",OFFSET('tekn adm - produktlistor'!$AG$6,AI52,0):'tekn adm - produktlistor'!$AG$631,0))","v":{"$error":"#N/A"}},{"$f":"VLOOKUP(AH53,'tekn adm - produktlistor'!$AG$6:$AL$631,6,FALSE)","v":{"$error":"#N/A"}},0]
["Alternativ 1: Välj färdiga schablonfoder, grovfoder, råvaror eller namngivna kraftfoder ur lista.",null,null,null,null,null,null,null,null,null,null,null,null,null,null,null,null,null,"",null,null,null,null,null,null,null,null,null,null,null,null,null,null,{"$f":"INDEX(OFFSET('tekn adm - produktlistor'!$AG$6,AI53,0):'tekn adm - produktlistor'!$AG$631,MATCH(\"*\"&$S$34&\"*\",OFFSET('tekn adm - produktlistor'!$AG$6,AI53,0):'tekn adm - produktlistor'!$AG$631,0))","v":{"$error":"#N/A"}},{"$f":"VLOOKUP(AH54,'tekn adm - produktlistor'!$AG$6:$AL$631,6,FALSE)","v":{"$error":"#N/A"}},0]
["Foder välj ur lista , eller använd hjälpfunktion till höger!","Enhet","Mängd","ts-halt (%)","Kväve","Fosfor","Kalium","MJ per kg ts, från tabell","MJ per kg ts, eget värde*","Egen kommentar","MJ/kg, använt","grovfoder","kraftfoder, spannmål etc.",null,null,null,null,null,"",null,null,null,null,null,null,null,null,null,null,null,null,null,null,{"$f":"INDEX(OFFSET('tekn adm - produktlistor'!$AG$6,AI54,0):'tekn adm - produktlistor'!$AG$631,MATCH(\"*\"&$S$34&\"*\",OFFSET('tekn adm - produktlistor'!$AG$6,AI54,0):'tekn adm - produktlistor'!$AG$631,0))","v":{"$error":"#N/A"}},{"$f":"VLOOKUP(AH55,'tekn adm - produktlistor'!$AG$6:$AL$631,6,FALSE)","v":{"$error":"#N/A"}},0]
[null,{"$f":"IF(ISTEXT(A56),IF(D56=1,\"kg ts\",\"kg\"),\"\")","v":""},null,{"$f":"AM56","v":0},{"$f":"AN56","v":0},{"$f":"AO56","v":0},{"$f":"AP56","v":0},{"$f":"AQ56","v":0},null,null,{"$f":"IF(AND(I56>0,I56<40),I56,AQ56)","v":0},{"$f":"IF(ISTEXT(A56),IF(VLOOKUP(A56,'tekn adm - produktlistor'!$AG$6:$AP$631,10,FALSE)=L$17,1,0),0)","v":0},{"$f":"IF(ISTEXT(A56),IF(VLOOKUP(A56,'tekn adm - produktlistor'!$AG$6:$AP$631,10,FALSE)=M$17,1,0),0)","v":0},null,null,null,null,null,"",null,null,null,null,null,null,null,null,null,null,null,null,null,null,{"$f":"INDEX(OFFSET('tekn adm - produktlistor'!$AG$6,AI55,0):'tekn adm - produktlistor'!$AG$631,MATCH(\"*\"&$S$34&\"*\",OFFSET('tekn adm - produktlistor'!$AG$6,AI55,0):'tekn adm - produktlistor'!$AG$631,0))","v":{"$error":"#N/A"}},{"$f":"VLOOKUP(AH56,'tekn adm - produktlistor'!$AG$6:$AL$631,6,FALSE)","v":{"$error":"#N/A"}},0,null,null,{"$f":"IF(ISTEXT(A56),VLOOKUP(A56,'tekn adm - produktlistor'!$AG$6:$AM$632,7,FALSE),0)","v":0},{"$f":"IF(ISTEXT(A56),VLOOKUP(A56,'tekn adm - produktlistor'!$AG$6:$AM$632,3,FALSE)*C56,0)","v":0},{"$f":"IF(ISTEXT(A56),VLOOKUP($A56,'tekn adm - produktlistor'!$AG$6:$AM$632,4,FALSE)*$C56,0)","v":0},{"$f":"IF(ISTEXT(A56),VLOOKUP($A56,'tekn adm - produktlistor'!$AG$6:$AM$632,5,FALSE)*$C56,0)","v":0},{"$f":"IF(ISTEXT(A56),VLOOKUP($A56,'tekn adm - produktlistor'!$AG$6:$AO$632,9,FALSE),0)","v":0}]
[null,{"$f":"IF(ISTEXT(A57),IF(D57=1,\"kg ts\",\"kg\"),\"\")","v":""},null,{"$f":"AM57","v":0},{"$f":"AN57","v":0},{"$f":"AO57","v":0},{"$f":"AP57","v":0},{"$f":"AQ57","v":0},null,null,0,{"$f":"IF(ISTEXT(A57),IF(VLOOKUP(A57,'tekn adm - produktlistor'!$AG$6:$AP$631,10,FALSE)=L$17,1,0),0)","v":0},{"$f":"IF(ISTEXT(A57),IF(VLOOKUP(A57,'tekn adm - produktlistor'!$AG$6:$AP$631,10,FALSE)=M$17,1,0),0)","v":0},null,null,null,null,null,"",null,null,null,null,null,null,null,null,null,null,null,null,null,null,{"$f":"INDEX(OFFSET('tekn adm - produktlistor'!$AG$6,AI56,0):'tekn adm - produktlistor'!$AG$631,MATCH(\"*\"&$S$34&\"*\",OFFSET('tekn adm - produktlistor'!$AG$6,AI56,0):'tekn adm - produktlistor'!$AG$631,0))","v":{"$error":"#N/A"}},{"$f":"VLOOKUP(AH57,'tekn adm - produktlistor'!$AG$6:$AL$631,6,FALSE)","v":{"$error":"#N/A"}},0,null,null,{"$f":"IF(ISTEXT(A57),VLOOKUP(A57,'tekn adm - produktlistor'!$AG$6:$AM$632,7,FALSE),0)","v":0},{"$f":"IF(ISTEXT(A57),VLOOKUP(A57,'tekn adm - produktlistor'!$AG$6:$AM$632,3,FALSE)*C57,0)","v":0},{"$f":"IF(ISTEXT(A57),VLOOKUP($A57,'tekn adm - produktlistor'!$AG$6:$AM$632,4,FALSE)*$C57,0)","v":0},{"$f":"IF(ISTEXT(A57),VLOOKUP($A57,'tekn adm - produktlistor'!$AG$6:$AM$632,5,FALSE)*$C57,0)","v":0},{"$f":"IF(ISTEXT(A57),VLOOKUP($A57,'tekn adm - produktlistor'!$AG$6:$AO$632,9,FALSE),0)","v":0}]
[null,"",null,0,0,0,0,0,null,null,0,{"$f":"IF(ISTEXT(A58),IF(VLOOKUP(A58,'tekn adm - produktlistor'!$AG$6:$AP$631,10,FALSE)=L$17,1,0),0)","v":0},{"$f":"IF(ISTEXT(A58),IF(VLOOKUP(A58,'tekn adm - produktlistor'!$AG$6:$AP$631,10,FALSE)=M$17,1,0),0)","v":0},null,null,null,null,null,"",null,null,null,null,null,null,null,null,null,null,null,null,null,null,{"$f":"INDEX(OFFSET('tekn adm - produktlistor'!$AG$6,AI57,0):'tekn adm - produktlistor'!$AG$631,MATCH(\"*\"&$S$34&\"*\",OFFSET('tekn adm - produktlistor'!$AG$6,AI57,0):'tekn adm - produktlistor'!$AG$631,0))","v":{"$error":"#N/A"}},{"$f":"VLOOKUP(AH58,'tekn adm - produktlistor'!$AG$6:$AL$631,6,FALSE)","v":{"$error":"#N/A"}},0,null,null,{"$f":"IF(ISTEXT(A58),VLOOKUP(A58,'tekn adm - produktlistor'!$AG$6:$AM$632,7,FALSE),0)","v":0},{"$f":"IF(ISTEXT(A58),VLOOKUP(A58,'tekn adm - produktlistor'!$AG$6:$AM$632,3,FALSE)*C58,0)","v":0},{"$f":"IF(ISTEXT(A58),VLOOKUP($A58,'tekn adm - produktlistor'!$AG$6:$AM$632,4,FALSE)*$C58,0)","v":0},{"$f":"IF(ISTEXT(A58),VLOOKUP($A58,'tekn adm - produktlistor'!$AG$6:$AM$632,5,FALSE)*$C58,0)","v":0},{"$f":"IF(ISTEXT(A58),VLOOKUP($A58,'tekn adm - produktlistor'!$AG$6:$AO$632,9,FALSE),0)","v":0}]
[null,"",null,0,0,0,0,0,null,null,0,{"$f":"IF(ISTEXT(A59),IF(VLOOKUP(A59,'tekn adm - produktlistor'!$AG$6:$AP$631,10,FALSE)=L$17,1,0),0)","v":0},{"$f":"IF(ISTEXT(A59),IF(VLOOKUP(A59,'tekn adm - produktlistor'!$AG$6:$AP$631,10,FALSE)=M$17,1,0),0)","v":0},null,null,null,null,null,"",null,null,null,null,null,null,null,null,null,null,null,null,null,null,{"$f":"INDEX(OFFSET('tekn adm - produktlistor'!$AG$6,AI58,0):'tekn adm - produktlistor'!$AG$631,MATCH(\"*\"&$S$34&\"*\",OFFSET('tekn adm - produktlistor'!$AG$6,AI58,0):'tekn adm - produktlistor'!$AG$631,0))","v":{"$error":"#N/A"}},{"$f":"VLOOKUP(AH59,'tekn adm - produktlistor'!$AG$6:$AL$631,6,FALSE)","v":{"$error":"#N/A"}},0,null,null,{"$f":"IF(ISTEXT(A59),VLOOKUP(A59,'tekn adm - produktlistor'!$AG$6:$AM$632,7,FALSE),0)","v":0},{"$f":"IF(ISTEXT(A59),VLOOKUP(A59,'tekn adm - produktlistor'!$AG$6:$AM$632,3,FALSE)*C59,0)","v":0},{"$f":"IF(ISTEXT(A59),VLOOKUP($A59,'tekn adm - produktlistor'!$AG$6:$AM$632,4,FALSE)*$C59,0)","v":0},{"$f":"IF(ISTEXT(A59),VLOOKUP($A59,'tekn adm - produktlistor'!$AG$6:$AM$632,5,FALSE)*$C59,0)","v":0},{"$f":"IF(ISTEXT(A59),VLOOKUP($A59,'tekn adm - produktlistor'!$AG$6:$AO$632,9,FALSE),0)","v":0}]
[null,"",null,0,0,0,0,0,null,null,0,{"$f":"IF(ISTEXT(A60),IF(VLOOKUP(A60,'tekn adm - produktlistor'!$AG$6:$AP$631,10,FALSE)=L$17,1,0),0)","v":0},{"$f":"IF(ISTEXT(A60),IF(VLOOKUP(A60,'tekn adm - produktlistor'!$AG$6:$AP$631,10,FALSE)=M$17,1,0),0)","v":0},null,null,null,null,null,"",null,null,null,null,null,null,null,null,null,null,null,null,null,null,{"$f":"INDEX(OFFSET('tekn adm - produktlistor'!$AG$6,AI59,0):'tekn adm - produktlistor'!$AG$631,MATCH(\"*\"&$S$34&\"*\",OFFSET('tekn adm - produktlistor'!$AG$6,AI59,0):'tekn adm - produktlistor'!$AG$631,0))","v":{"$error":"#N/A"}},{"$f":"VLOOKUP(AH60,'tekn adm - produktlistor'!$AG$6:$AL$631,6,FALSE)","v":{"$error":"#N/A"}},0,null,null,{"$f":"IF(ISTEXT(A60),VLOOKUP(A60,'tekn adm - produktlistor'!$AG$6:$AM$632,7,FALSE),0)","v":0},{"$f":"IF(ISTEXT(A60),VLOOKUP(A60,'tekn adm - produktlistor'!$AG$6:$AM$632,3,FALSE)*C60,0)","v":0},{"$f":"IF(ISTEXT(A60),VLOOKUP($A60,'tekn adm - produktlistor'!$AG$6:$AM$632,4,FALSE)*$C60,0)","v":0},{"$f":"IF(ISTEXT(A60),VLOOKUP($A60,'tekn adm - produktlistor'!$AG$6:$AM$632,5,FALSE)*$C60,0)","v":0},{"$f":"IF(ISTEXT(A60),VLOOKUP($A60,'tekn adm - produktlistor'!$AG$6:$AO$632,9,FALSE),0)","v":0}]
[null,"",null,0,0,0,0,0,null,null,0,{"$f":"IF(ISTEXT(A61),IF(VLOOKUP(A61,'tekn adm - produktlistor'!$AG$6:$AP$631,10,FALSE)=L$17,1,0),0)","v":0},{"$f":"IF(ISTEXT(A61),IF(VLOOKUP(A61,'tekn adm - produktlistor'!$AG$6:$AP$631,10,FALSE)=M$17,1,0),0)","v":0},null,null,null,null,null,"",null,null,null,null,null,null,null,null,null,null,null,null,null,null,{"$f":"INDEX(OFFSET('tekn adm - produktlistor'!$AG$6,AI60,0):'tekn adm - produktlistor'!$AG$631,MATCH(\"*\"&$S$34&\"*\",OFFSET('tekn adm - produktlistor'!$AG$6,AI60,0):'tekn adm - produktlistor'!$AG$631,0))","v":{"$error":"#N/A"}},{"$f":"VLOOKUP(AH61,'tekn adm - produktlistor'!$AG$6:$AL$631,6,FALSE)","v":{"$error":"#N/A"}},0,null,null,{"$f":"IF(ISTEXT(A61),VLOOKUP(A61,'tekn adm - produktlistor'!$AG$6:$AM$632,7,FALSE),0)","v":0},{"$f":"IF(ISTEXT(A61),VLOOKUP(A61,'tekn adm - produktlistor'!$AG$6:$AM$632,3,FALSE)*C61,0)","v":0},{"$f":"IF(ISTEXT(A61),VLOOKUP($A61,'tekn adm - produktlistor'!$AG$6:$AM$632,4,FALSE)*$C61,0)","v":0},{"$f":"IF(ISTEXT(A61),VLOOKUP($A61,'tekn adm - produktlistor'!$AG$6:$AM$632,5,FALSE)*$C61,0)","v":0},{"$f":"IF(ISTEXT(A61),VLOOKUP($A61,'tekn adm - produktlistor'!$AG$6:$AO$632,9,FALSE),0)","v":0}]
[null,"",null,0,0,0,0,0,null,null,0,{"$f":"IF(ISTEXT(A62),IF(VLOOKUP(A62,'tekn adm - produktlistor'!$AG$6:$AP$631,10,FALSE)=L$17,1,0),0)","v":0},{"$f":"IF(ISTEXT(A62),IF(VLOOKUP(A62,'tekn adm - produktlistor'!$AG$6:$AP$631,10,FALSE)=M$17,1,0),0)","v":0},null,null,null,null,null,"",null,null,null,null,null,null,null,null,null,null,null,null,null,null,{"$f":"INDEX(OFFSET('tekn adm - produktlistor'!$AG$6,AI61,0):'tekn adm - produktlistor'!$AG$631,MATCH(\"*\"&$S$34&\"*\",OFFSET('tekn adm - produktlistor'!$AG$6,AI61,0):'tekn adm - produktlistor'!$AG$631,0))","v":{"$error":"#N/A"}},{"$f":"VLOOKUP(AH62,'tekn adm - produktlistor'!$AG$6:$AL$631,6,FALSE)","v":{"$error":"#N/A"}},0,null,null,{"$f":"IF(ISTEXT(A62),VLOOKUP(A62,'tekn adm - produktlistor'!$AG$6:$AM$632,7,FALSE),0)","v":0},{"$f":"IF(ISTEXT(A62),VLOOKUP(A62,'tekn adm - produktlistor'!$AG$6:$AM$632,3,FALSE)*C62,0)","v":0},{"$f":"IF(ISTEXT(A62),VLOOKUP($A62,'tekn adm - produktlistor'!$AG$6:$AM$632,4,FALSE)*$C62,0)","v":0},{"$f":"IF(ISTEXT(A62),VLOOKUP($A62,'tekn adm - produktlistor'!$AG$6:$AM$632,5,FALSE)*$C62,0)","v":0},{"$f":"IF(ISTEXT(A62),VLOOKUP($A62,'tekn adm - produktlistor'!$AG$6:$AO$632,9,FALSE),0)","v":0}]
["Summa (kg ts, N, P, K resp MJ)",null,null,{"$f":"SUMPRODUCT(C56:C62,D56:D62)","v":0},{"$f":"SUM(E56:E62)","v":0},{"$f":"SUM(F56:F62)","v":0},{"$f":"SUM(G56:G62)","v":0},{"$f":"SUMPRODUCT(C56:C62,D56:D62,K56:K62)","v":0},null,null,null,null,null,null,null,null,null,null,"",null,null,null,null,null,null,null,null,null,null,null,null,null,null,{"$f":"INDEX(OFFSET('tekn adm - produktlistor'!$AG$6,AI62,0):'tekn adm - produktlistor'!$AG$631,MATCH(\"*\"&$S$34&\"*\",OFFSET('tekn adm - produktlistor'!$AG$6,AI62,0):'tekn adm - produktlistor'!$AG$631,0))","v":{"$error":"#N/A"}},{"$f":"VLOOKUP(AH63,'tekn adm - produktlistor'!$AG$6:$AL$631,6,FALSE)","v":{"$error":"#N/A"}},0,null,null,{"$f":"SUMPRODUCT(C56:C62,AM56:AM62)","v":0},{"$f":"SUM(AN56:AN62)","v":0},{"$f":"SUM(AO56:AO62)","v":0},{"$f":"SUM(AP56:AP62)","v":0},{"$f":"SUMPRODUCT(C56:C62,AM56:AM62,K56:K62)","v":0}]
["* Om cellen är röd finns inte energiinnehållet i databasen, och du behöver fylla i ett värde för att MJ foder ska kunna beräknas. Varningen släcks när du fyllt i värde. ",null,null,null,null,null,null,null,null,null,null,null,null,null,null,null,null,null,"",null,null,null,null,null,null,null,null,null,null,null,null,null,null,{"$f":"INDEX(OFFSET('tekn adm - produktlistor'!$AG$6,AI63,0):'tekn adm - produktlistor'!$AG$631,MATCH(\"*\"&$S$34&\"*\",OFFSET('tekn adm - produktlistor'!$AG$6,AI63,0):'tekn adm - produktlistor'!$AG$631,0))","v":{"$error":"#N/A"}},{"$f":"VLOOKUP(AH64,'tekn adm - produktlistor'!$AG$6:$AL$631,6,FALSE)","v":{"$error":"#N/A"}},0]
["Om cellen är prickig innebär det att du kan skriva in eget värde, om du vill.",null,null,null,null,null,null,null,null,null,null,null,null,null,null,null,null,null,"",null,null,null,null,null,null,null,null,null,null,null,null,null,null,{"$f":"INDEX(OFFSET('tekn adm - produktlistor'!$AG$6,AI64,0):'tekn adm - produktlistor'!$AG$631,MATCH(\"*\"&$S$34&\"*\",OFFSET('tekn adm - produktlistor'!$AG$6,AI64,0):'tekn adm - produktlistor'!$AG$631,0))","v":{"$error":"#N/A"}},{"$f":"VLOOKUP(AH65,'tekn adm - produktlistor'!$AG$6:$AL$631,6,FALSE)","v":{"$error":"#N/A"}},0]
[null,null,null,null,null,null,null,null,null,null,null,null,null,null,null,null,null,null,"",null,null,null,null,null,null,null,null,null,null,null,null,null,null,{"$f":"INDEX(OFFSET('tekn adm - produktlistor'!$AG$6,AI65,0):'tekn adm - produktlistor'!$AG$631,MATCH(\"*\"&$S$34&\"*\",OFFSET('tekn adm - produktlistor'!$AG$6,AI65,0):'tekn adm - produktlistor'!$AG$631,0))","v":{"$error":"#N/A"}},{"$f":"VLOOKUP(AH66,'tekn adm - produktlistor'!$AG$6:$AL$631,6,FALSE)","v":{"$error":"#N/A"}},0]
["Alternativ 2: Namnge och beskriv eget foder",null,null,null,null,null,null,null,null,null,null,null,null,null,null,null,null,null,"",null,null,null,null,null,null,null,null,null,null,null,null,null,null,{"$f":"INDEX(OFFSET('tekn adm - produktlistor'!$AG$6,AI66,0):'tekn adm - produktlistor'!$AG$631,MATCH(\"*\"&$S$34&\"*\",OFFSET('tekn adm - produktlistor'!$AG$6,AI66,0):'tekn adm - produktlistor'!$AG$631,0))","v":{"$error":"#N/A"}},{"$f":"VLOOKUP(AH67,'tekn adm - produktlistor'!$AG$6:$AL$631,6,FALSE)","v":{"$error":"#N/A"}},0]
["typ av foder (fritext)","Enhet","Mängd","ts-halt (%)*","Råprotein (g/kg ts)**","Fosfor \n(g/kg ts)**","Kalium \n(g/kg ts)**","Energi \n(MJ per kg ts)***","typ av foder - välj alternativ ur lista!","Egen kommentar","Kolumn1","grovfoder","kraftfoder, spannmål etc.",null,null,null,null,null,{"$f":"IF(AJ68=1,\"--Förfina sökningen för att se fler alternativ--\",\"\")","v":""},null,null,null,null,null,null,null,null,null,null,null,null,null,null,{"$f":"INDEX(OFFSET('tekn adm - produktlistor'!$AG$6,AI67,0):'tekn adm - produktlistor'!$AG$631,MATCH(\"*\"&$S$34&\"*\",OFFSET('tekn adm - produktlistor'!$AG$6,AI67,0):'tekn adm - produktlistor'!$AG$631,0))","v":{"$error":"#N/A"}},{"$f":"VLOOKUP(AH68,'tekn adm - produktlistor'!$AG$6:$AL$631,6,FALSE)","v":{"$error":"#N/A"}},0]
[null,"kg",null,1,null,null,null,null,null,null,null,{"$f":"IF($I69=L$30,1,0)","v":0},{"$f":"IF(L69=0,1,0)","v":1},null,null,null,null,null,null,null,null,null,null,null,null,null,null,null,null,null,null,null,null,{"$f":"INDEX(OFFSET('tekn adm - produktlistor'!$AG$6,AI68,0):'tekn adm - produktlistor'!$AG$631,MATCH(\"*\"&$S$34&\"*\",OFFSET('tekn adm - produktlistor'!$AG$6,AI68,0):'tekn adm - produktlistor'!$AG$631,0))","v":{"$error":"#N/A"}},{"$f":"VLOOKUP(AH69,'tekn adm - produktlistor'!$AG$6:$AL$631,6,FALSE)","v":{"$error":"#N/A"}},0]
[null,"kg",null,0.88,null,null,null,null,null,null,null,{"$f":"IF($I70=L$30,1,0)","v":0},{"$f":"IF(L70=0,1,0)","v":1}]
[null,"kg",null,0.88,null,null,null,null,null,null,null,0,1]
[null,"kg",null,0.88,null,null,null,null,null,null,null,0,1]
[null,"kg",null,0.88,null,null,null,null,null,null,null,0,1]
[null,"kg",null,0.88,null,null,null,null,null,null,null,0,1]
["Summa (kg ts, N, P, K resp MJ)",null,null,{"$f":"SUMPRODUCT(C69:C74,D69:D74)","v":0},{"$f":"SUMPRODUCT(C69:C74,D69:D74,E69:E74)/1000/6.25","v":0},{"$f":"SUMPRODUCT(F69:F74,$C69:$C74,$D69:$D74)/1000","v":0},{"$f":"SUMPRODUCT(G69:G74,$C69:$C74,$D69:$D74)/1000","v":0},{"$f":"SUMPRODUCT(C69:C74,D69:D74,H69:H74)","v":0},null,null,null,{"$f":"IF(SUMPRODUCT(C56:C62,AM56:AM62)+SUMPRODUCT(C69:C74,D69:D74)=0,0,(SUMPRODUCT(C56:C62,AM56:AM62,L56:L62)+SUMPRODUCT(C69:C74,D69:D74,L69:L74))/(SUMPRODUCT(C56:C62,AM56:AM62)+SUMPRODUCT(C69:C74,D69:D74)))","v":0},null,null,null,null,null,null,null,null,null,null,null,null,null,null,null,null,null,null,null,null,null,null,null,null,null,null,{"$f":"SUMPRODUCT(C69:C74,D69:D74)","v":0},{"$f":"SUMPRODUCT(C69:C74,D69:D74,E69:E74)/1000/6.25","v":0},{"$f":"SUMPRODUCT(F69:F74,$C69:$C74,$D69:$D74)/1000","v":0},{"$f":"SUMPRODUCT(G69:G74,$C69:$C74,$D69:$D74)/1000","v":0},{"$f":"SUMPRODUCT(C69:C74,D69:D74,H69:H74)","v":0}]
["*Behåll ts-halten eller skriv över med eget värde"]
["** Ange råprotein, fosfor och kalium som g per kg ts . 1 kg råprotein = 0,16 kg N "]
["*** Se hjälptabell till höger!"]
[]
[]
[null,"kg ts","MJ"]
[{"$f":"\"Totalt inköpt \" &period_1","v":"Totalt inköpt Period 1"},{"$f":"SUM(B83:B84)","v":0},{"$f":"SUM(C83:C84)","v":0}]
["grovfoder",{"$f":"SUMPRODUCT(C56:C62,AM56:AM62,L56:L62)+SUMPRODUCT(C69:C74,D69:D74,L69:L74)","v":0},{"$f":"SUMPRODUCT(C56:C62,AM56:AM62,K56:K62,L56:L62)+SUMPRODUCT(C69:C74,D69:D74,H69:H74,L69:L74)","v":0}]
["kraftfoder, spannmål etc.",{"$f":"SUMPRODUCT(C56:C62,AM56:AM62,M56:M62)+SUMPRODUCT(C69:C74,D69:D74,M69:M74)","v":0},{"$f":"SUMPRODUCT(C56:C62,AM56:AM62,K56:K62,M56:M62)+SUMPRODUCT(C69:C74,D69:D74,H69:H74,M69:M74)","v":0}]
[]
[]
[]
[]
[]
[{"$f":"\"Inköpt foder \" & Bakgrund!T7","v":"Inköpt foder Period 3"}]
["Alternativ 1: Välj färdiga schablonfoder, grovfoder, råvaror eller namngivna kraftfoder ur lista."]
["Foder välj ur lista , eller använd hjälpfunktion till höger!","Enhet","Mängd","ts-halt (%)","Kväve","Fosfor","Kalium","MJ per kg ts, från tabell","MJ per kg ts, eget värde*","Egen kommentar","MJ/kg, använt","grovfoder","kraftfoder, spannmål etc."]
[null,{"$f":"IF(ISTEXT(A93),IF(D93=1,\"kg ts\",\"kg\"),\"\")","v":""},null,{"$f":"AM93","v":0},{"$f":"AN93","v":0},{"$f":"AO93","v":0},{"$f":"AP93","v":0},{"$f":"AQ93","v":0},null,null,{"$f":"IF(AND(I93>0,I93<40),I93,AQ93)","v":0},{"$f":"IF(ISTEXT(A93),IF(VLOOKUP(A93,'tekn adm - produktlistor'!$AG$6:$AP$631,10,FALSE)=L$17,1,0),0)","v":0},{"$f":"IF(ISTEXT(A93),IF(VLOOKUP(A93,'tekn adm - produktlistor'!$AG$6:$AP$631,10,FALSE)=M$17,1,0),0)","v":0},null,null,null,null,null,null,null,null,null,null,null,null,null,null,null,null,null,null,null,null,null,null,null,null,null,{"$f":"IF(ISTEXT(A93),VLOOKUP(A93,'tekn adm - produktlistor'!$AG$6:$AM$632,7,FALSE),0)","v":0},{"$f":"IF(ISTEXT(A93),VLOOKUP(A93,'tekn adm - produktlistor'!$AG$6:$AM$632,3,FALSE)*C93,0)","v":0},{"$f":"IF(ISTEXT(A93),VLOOKUP($A93,'tekn adm - produktlistor'!$AG$6:$AM$632,4,FALSE)*$C93,0)","v":0},{"$f":"IF(ISTEXT(A93),VLOOKUP($A93,'tekn adm - produktlistor'!$AG$6:$AM$632,5,FALSE)*$C93,0)","v":0},{"$f":"IF(ISTEXT(A93),VLOOKUP($A93,'tekn adm - produktlistor'!$AG$6:$AO$632,9,FALSE),0)","v":0}]
[null,{"$f":"IF(ISTEXT(A94),IF(D94=1,\"kg ts\",\"kg\"),\"\")","v":""},null,{"$f":"AM94","v":0},{"$f":"AN94","v":0},{"$f":"AO94","v":0},{"$f":"AP94","v":0},{"$f":"AQ94","v":0},null,null,0,{"$f":"IF(ISTEXT(A94),IF(VLOOKUP(A94,'tekn adm - produktlistor'!$AG$6:$AP$631,10,FALSE)=L$17,1,0),0)","v":0},{"$f":"IF(ISTEXT(A94),IF(VLOOKUP(A94,'tekn adm - produktlistor'!$AG$6:$AP$631,10,FALSE)=M$17,1,0),0)","v":0},null,null,null,null,null,null,null,null,null,null,null,null,null,null,null,null,null,null,null,null,null,null,null,null,null,{"$f":"IF(ISTEXT(A94),VLOOKUP(A94,'tekn adm - produktlistor'!$AG$6:$AM$632,7,FALSE),0)","v":0},{"$f":"IF(ISTEXT(A94),VLOOKUP(A94,'tekn adm - produktlistor'!$AG$6:$AM$632,3,FALSE)*C94,0)","v":0},{"$f":"IF(ISTEXT(A94),VLOOKUP($A94,'tekn adm - produktlistor'!$AG$6:$AM$632,4,FALSE)*$C94,0)","v":0},{"$f":"IF(ISTEXT(A94),VLOOKUP($A94,'tekn adm - produktlistor'!$AG$6:$AM$632,5,FALSE)*$C94,0)","v":0},{"$f":"IF(ISTEXT(A94),VLOOKUP($A94,'tekn adm - produktlistor'!$AG$6:$AO$632,9,FALSE),0)","v":0}]
[null,"",null,0,0,0,0,0,null,null,0,{"$f":"IF(ISTEXT(A95),IF(VLOOKUP(A95,'tekn adm - produktlistor'!$AG$6:$AP$631,10,FALSE)=L$17,1,0),0)","v":0},{"$f":"IF(ISTEXT(A95),IF(VLOOKUP(A95,'tekn adm - produktlistor'!$AG$6:$AP$631,10,FALSE)=M$17,1,0),0)","v":0},null,null,null,null,null,null,null,null,null,null,null,null,null,null,null,null,null,null,null,null,null,null,null,null,null,{"$f":"IF(ISTEXT(A95),VLOOKUP(A95,'tekn adm - produktlistor'!$AG$6:$AM$632,7,FALSE),0)","v":0},{"$f":"IF(ISTEXT(A95),VLOOKUP(A95,'tekn adm - produktlistor'!$AG$6:$AM$632,3,FALSE)*C95,0)","v":0},{"$f":"IF(ISTEXT(A95),VLOOKUP($A95,'tekn adm - produktlistor'!$AG$6:$AM$632,4,FALSE)*$C95,0)","v":0},{"$f":"IF(ISTEXT(A95),VLOOKUP($A95,'tekn adm - produktlistor'!$AG$6:$AM$632,5,FALSE)*$C95,0)","v":0},{"$f":"IF(ISTEXT(A95),VLOOKUP($A95,'tekn adm - produktlistor'!$AG$6:$AO$632,9,FALSE),0)","v":0}]
[null,"",null,0,0,0,0,0,null,null,0,{"$f":"IF(ISTEXT(A96),IF(VLOOKUP(A96,'tekn adm - produktlistor'!$AG$6:$AP$631,10,FALSE)=L$17,1,0),0)","v":0},{"$f":"IF(ISTEXT(A96),IF(VLOOKUP(A96,'tekn adm - produktlistor'!$AG$6:$AP$631,10,FALSE)=M$17,1,0),0)","v":0},null,null,null,null,null,null,null,null,null,null,null,null,null,null,null,null,null,null,null,null,null,null,null,null,null,{"$f":"IF(ISTEXT(A96),VLOOKUP(A96,'tekn adm - produktlistor'!$AG$6:$AM$632,7,FALSE),0)","v":0},{"$f":"IF(ISTEXT(A96),VLOOKUP(A96,'tekn adm - produktlistor'!$AG$6:$AM$632,3,FALSE)*C96,0)","v":0},{"$f":"IF(ISTEXT(A96),VLOOKUP($A96,'tekn adm - produktlistor'!$AG$6:$AM$632,4,FALSE)*$C96,0)","v":0},{"$f":"IF(ISTEXT(A96),VLOOKUP($A96,'tekn adm - produktlistor'!$AG$6:$AM$632,5,FALSE)*$C96,0)","v":0},{"$f":"IF(ISTEXT(A96),VLOOKUP($A96,'tekn adm - produktlistor'!$AG$6:$AO$632,9,FALSE),0)","v":0}]
[null,"",null,0,0,0,0,0,null,null,0,{"$f":"IF(ISTEXT(A97),IF(VLOOKUP(A97,'tekn adm - produktlistor'!$AG$6:$AP$631,10,FALSE)=L$17,1,0),0)","v":0},{"$f":"IF(ISTEXT(A97),IF(VLOOKUP(A97,'tekn adm - produktlistor'!$AG$6:$AP$631,10,FALSE)=M$17,1,0),0)","v":0},null,null,null,null,null,null,null,null,null,null,null,null,null,null,null,null,null,null,null,null,null,null,null,null,null,{"$f":"IF(ISTEXT(A97),VLOOKUP(A97,'tekn adm - produktlistor'!$AG$6:$AM$632,7,FALSE),0)","v":0},{"$f":"IF(ISTEXT(A97),VLOOKUP(A97,'tekn adm - produktlistor'!$AG$6:$AM$632,3,FALSE)*C97,0)","v":0},{"$f":"IF(ISTEXT(A97),VLOOKUP($A97,'tekn adm - produktlistor'!$AG$6:$AM$632,4,FALSE)*$C97,0)","v":0},{"$f":"IF(ISTEXT(A97),VLOOKUP($A97,'tekn adm - produktlistor'!$AG$6:$AM$632,5,FALSE)*$C97,0)","v":0},{"$f":"IF(ISTEXT(A97),VLOOKUP($A97,'tekn adm - produktlistor'!$AG$6:$AO$632,9,FALSE),0)","v":0}]
[null,"",null,0,0,0,0,0,null,null,0,{"$f":"IF(ISTEXT(A98),IF(VLOOKUP(A98,'tekn adm - produktlistor'!$AG$6:$AP$631,10,FALSE)=L$17,1,0),0)","v":0},{"$f":"IF(ISTEXT(A98),IF(VLOOKUP(A98,'tekn adm - produktlistor'!$AG$6:$AP$631,10,FALSE)=M$17,1,0),0)","v":0},null,null,null,null,null,null,null,null,null,null,null,null,null,null,null,null,null,null,null,null,null,null,null,null,null,{"$f":"IF(ISTEXT(A98),VLOOKUP(A98,'tekn adm - produktlistor'!$AG$6:$AM$632,7,FALSE),0)","v":0},{"$f":"IF(ISTEXT(A98),VLOOKUP(A98,'tekn adm - produktlistor'!$AG$6:$AM$632,3,FALSE)*C98,0)","v":0},{"$f":"IF(ISTEXT(A98),VLOOKUP($A98,'tekn adm - produktlistor'!$AG$6:$AM$632,4,FALSE)*$C98,0)","v":0},{"$f":"IF(ISTEXT(A98),VLOOKUP($A98,'tekn adm - produktlistor'!$AG$6:$AM$632,5,FALSE)*$C98,0)","v":0},{"$f":"IF(ISTEXT(A98),VLOOKUP($A98,'tekn adm - produktlistor'!$AG$6:$AO$632,9,FALSE),0)","v":0}]
[null,"",null,0,0,0,0,0,null,null,0,{"$f":"IF(ISTEXT(A99),IF(VLOOKUP(A99,'tekn adm - produktlistor'!$AG$6:$AP$631,10,FALSE)=L$17,1,0),0)","v":0},{"$f":"IF(ISTEXT(A99),IF(VLOOKUP(A99,'tekn adm - produktlistor'!$AG$6:$AP$631,10,FALSE)=M$17,1,0),0)","v":0},null,null,null,null,null,null,null,null,null,null,null,null,null,null,null,null,null,null,null,null,null,null,null,null,null,{"$f":"IF(ISTEXT(A99),VLOOKUP(A99,'tekn adm - produktlistor'!$AG$6:$AM$632,7,FALSE),0)","v":0},{"$f":"IF(ISTEXT(A99),VLOOKUP(A99,'tekn adm - produktlistor'!$AG$6:$AM$632,3,FALSE)*C99,0)","v":0},{"$f":"IF(ISTEXT(A99),VLOOKUP($A99,'tekn adm - produktlistor'!$AG$6:$AM$632,4,FALSE)*$C99,0)","v":0},{"$f":"IF(ISTEXT(A99),VLOOKUP($A99,'tekn adm - produktlistor'!$AG$6:$AM$632,5,FALSE)*$C99,0)","v":0},{"$f":"IF(ISTEXT(A99),VLOOKUP($A99,'tekn adm - produktlistor'!$AG$6:$AO$632,9,FALSE),0)","v":0}]
["Summa (kg ts, N, P, K resp MJ)",null,null,{"$f":"SUMPRODUCT(C93:C99,D93:D99)","v":0},{"$f":"SUM(E93:E99)","v":0},{"$f":"SUM(F93:F99)","v":0},{"$f":"SUM(G93:G99)","v":0},{"$f":"SUMPRODUCT(C93:C99,D93:D99,K93:K99)","v":0},null,null,null,null,null,null,null,null,null,null,null,null,null,null,null,null,null,null,null,null,null,null,null,null,null,null,null,null,null,null,{"$f":"SUMPRODUCT(C93:C99,AM93:AM99)","v":0},{"$f":"SUM(AN93:AN99)","v":0},{"$f":"SUM(AO93:AO99)","v":0},{"$f":"SUM(AP93:AP99)","v":0},{"$f":"SUMPRODUCT(C93:C99,AM93:AM99,K93:K99)","v":0}]
["* Om cellen är röd finns inte energiinnehållet i databasen, och du behöver fylla i ett värde för att MJ foder ska kunna beräknas. Varningen släcks när du fyllt i värde. "]
["Om cellen är prickig innebär det att du kan skriva in eget värde, om du vill."]
[]
["Alternativ 2: Namnge och beskriv eget foder"]
["typ av foder (fritext)","Enhet","Mängd","ts-halt (%)*","Råprotein (g/kg ts)**","Fosfor \n(g/kg ts)**","Kalium \n(g/kg ts)**","Energi \n(MJ per kg ts)***","typ av foder - välj alternativ ur lista!","Egen kommentar","Kolumn1","grovfoder","kraftfoder, spannmål etc."]
[null,"kg",null,0.88,null,null,null,null,null,null,null,{"$f":"IF($I106=L$30,1,0)","v":0},{"$f":"IF(L106=0,1,0)","v":1}]
[null,"kg",null,0.88,null,null,null,null,null,null,null,{"$f":"IF($I107=L$30,1,0)","v":0},{"$f":"IF(L107=0,1,0)","v":1}]
[null,"kg",null,0.88,null,null,null,null,null,null,null,0,1]
[null,"kg",null,0.88,null,null,null,null,null,null,null,0,1]
[null,"kg",null,0.88,null,null,null,null,null,null,null,0,1]
[null,"kg",null,0.88,null,null,null,null,null,null,null,0,1]
["Summa (kg ts, N, P, K resp MJ)",null,null,{"$f":"SUMPRODUCT(C106:C111,D106:D111)","v":0},{"$f":"SUMPRODUCT(C106:C111,D106:D111,E106:E111)/1000/6.25","v":0},{"$f":"SUMPRODUCT(F106:F111,$C106:$C111,$D106:$D111)/1000","v":0},{"$f":"SUMPRODUCT(G106:G111,$C106:$C111,$D106:$D111)/1000","v":0},{"$f":"SUMPRODUCT(C106:C111,D106:D111,H106:H111)","v":0},null,null,null,{"$f":"IF(SUMPRODUCT(C93:C99,AM93:AM99)+SUMPRODUCT(C106:C111,D106:D111)=0,0,(SUMPRODUCT(C93:C99,AM93:AM99,L93:L99)+SUMPRODUCT(C106:C111,D106:D111,L106:L111))/(SUMPRODUCT(C93:C99,AM93:AM99)+SUMPRODUCT(C106:C111,D106:D111)))","v":0},null,null,null,null,null,null,null,null,null,null,null,null,null,null,null,null,null,null,null,null,null,null,null,null,null,null,{"$f":"SUMPRODUCT(C106:C111,D106:D111)","v":0},{"$f":"SUMPRODUCT(C106:C111,D106:D111,E106:E111)/1000/6.25","v":0},{"$f":"SUMPRODUCT(F106:F111,$C106:$C111,$D106:$D111)/1000","v":0},{"$f":"SUMPRODUCT(G106:G111,$C106:$C111,$D106:$D111)/1000","v":0},{"$f":"SUMPRODUCT(C106:C111,D106:D111,H106:H111)","v":0}]
["*Behåll ts-halten eller skriv över med eget värde"]
["** Ange råprotein, fosfor och kalium som g per kg ts . 1 kg råprotein = 0,16 kg N "]
["*** Se hjälptabell till höger!"]
[]
[]
[null,"kg ts","MJ"]
[{"$f":"\"Totalt inköpt \" &period_1","v":"Totalt inköpt Period 1"},{"$f":"SUM(B120:B121)","v":0},{"$f":"SUM(C120:C121)","v":0}]
["grovfoder",{"$f":"SUMPRODUCT(C93:C99,AM93:AM99,L93:L99)+SUMPRODUCT(C106:C111,D106:D111,L106:L111)","v":0},{"$f":"SUMPRODUCT(C93:C99,AM93:AM99,K93:K99,L93:L99)+SUMPRODUCT(C106:C111,D106:D111,H106:H111,L106:L111)","v":0}]
["kraftfoder, spannmål etc.",{"$f":"SUMPRODUCT(C93:C99,AM93:AM99,M93:M99)+SUMPRODUCT(C106:C111,D106:D111,M106:M111)","v":0},{"$f":"SUMPRODUCT(C93:C99,AM93:AM99,K93:K99,M93:M99)+SUMPRODUCT(C106:C111,D106:D111,H106:H111,M106:M111)","v":0}]

{"sheet":"2.4 Utfodrat","index":10,"n_rows":108,"n_cols":48,"rows_kept":108,"cut":false,"hidden":false,"merged":[[46,9,46,10],[47,9,47,10],[48,9,48,10],[49,9,49,10],[32,9,32,10],[33,9,33,10],[34,9,34,10],[35,9,35,10],[36,9,36,10],[21,9,21,10],[26,9,26,10],[43,9,43,10],[44,9,44,10],[45,9,45,10],[27,9,27,10],[28,9,28,10],[29,9,29,10],[30,9,30,10],[31,9,31,10],[37,9,37,10],[39,9,39,10],[40,9,40,10],[41,9,41,10],[42,9,42,10],[20,9,20,10],[11,9,11,10],[12,9,12,10],[13,9,13,10],[14,9,14,10],[15,9,15,10],[16,9,16,10],[83,5,83,8],[71,5,71,8],[84,5,84,8],[85,5,86,8],[72,5,75,8],[79,5,79,8],[40,1,44,1],[81,5,81,8],[80,5,80,8],[46,5,50,8],[82,5,82,8],[72,1,75,1],[56,1,59,1],[61,1,64,1],[46,1,50,1],[61,5,64,8],[66,5,70,8],[67,1,70,1],[11,5,13,8],[14,5,14,8],[12,1,13,1],[15,1,16,1],[60,5,60,8],[15,5,16,8],[20,5,21,8],[27,5,31,8],[33,5,37,8],[39,5,44,8],[26,5,26,8],[45,5,45,8],[55,5,59,8],[32,5,32,8],[27,1,31,1],[33,1,37,1],[50,9,50,10],[55,9,55,10],[56,9,56,10],[57,9,57,10],[58,9,58,10],[59,9,59,10],[60,9,60,10],[61,9,61,10],[62,9,62,10],[63,9,63,10],[64,9,64,10],[66,9,66,10],[67,9,67,10],[68,9,68,10],[69,9,69,10],[70,9,70,10],[71,9,71,10],[72,9,72,10],[73,9,73,10],[74,9,74,10],[83,9,83,10],[84,9,84,10],[85,9,85,10],[86,9,86,10],[75,9,75,10],[79,9,79,10],[80,9,80,10],[81,9,81,10],[82,9,82,10]]}
["2.4 Utfodrat",null,null,null,null,null,null,null,null,null,null,null,"Det här betyder färgerna:"]
[{"$f":"VLOOKUP('2 Intro foder'!B14,'Teknisk administration'!$G$4:$H$6,2,FALSE)","v":"Obligatoriskt blad"},null,null,null,null,null,null,null,null,null,null,null,"Cell med värden hämtade från annan cell"]
["Här beräknar du hur mycket foder (MJ och kg ts eller kg) som gått åt under perioden. Bete beräknas på eget blad och tas inte med här. Resultaten presenteras som MJ per kg kött",null,null,null,null,null,null,null,null,null,null,null,"Beräkning"]
[{"$f":"IF(SUM(C40:E40,C67:E67)=0,\"\",\"Om du odlar foder visas uppgifter från bladet \"&C_Odling_foder&\", och du har här möjlighet att utgå från dem för att uppskatta mängden utfodrat aktuell period\")","v":""},null,null,null,null,null,null,null,null,null,null,null,"Fyll i din egen siffra"]
["Ljusgrå text = delen är inte relevant för dig eftersom du inte fyllt i uppgifter om perioden ännu eller du inte har köpt in eller odlat aktuellt foder.",null,null,null,null,null,null,null,null,null,null,null,"Fyll i egen siffra - frivilligt, t ex om du har tillgång till uppgift eller om du vill räkna med annat värde än det schablonvärde som visas i angränsande cell"]
[null,null,null,null,null,null,null,null,null,null,null,null,"Egen uppgift, men välj värde ur rullista. "]
[null,null,null,null,null,null,null,null,null,null,null,null,"Resultat/uträkning"]
[null,null,null,null,null,null,null,null,null,null,null,null,"Schablonvärde"]
["Mängd utfodrat foder ",null,null,null,null,null,null,null,null,null,null,null,"Förklaringar till raden"]
["Inköpt foder, exklusive mineraler - uppgifter hämtas från annat blad",null,null,null,null,null,null,null,null,null,null,null,"Plats för egna kommentarer"]
[null,"Enhet",{"$f":"Bakgrund!R$7","v":"Period 1"},{"$f":"Bakgrund!S$7","v":"Period 2"},{"$f":"Bakgrund!T$7","v":"Period 3"},"Förklaring",null,null,null,"Egen kommentar",null,null,"Glöm inte att fylla i värde! (Här krävs ett värde för att andra beräkningar ska fungera"]
["Total mängd inköpt foder","kg ts",{"$f":"'2.3 Inköpt foder (exkl mineral)'!B44","v":0},{"$f":"'2.3 Inköpt foder (exkl mineral)'!B82","v":0},{"$f":"'2.3 Inköpt foder (exkl mineral)'!B119","v":0},{"$f":"\"Foder som köpts in och förbrukats under perioden. Uppgifter hämtas från bladet \"  &'2.3 Inköpt foder (exkl mineral)'!A1 &\". Gå till det bladet om du vill justera uppgifterna!\"","v":"Foder som köpts in och förbrukats under perioden. Uppgifter hämtas från bladet 2.3 Inköpt foder (exkl mineral). Gå till det bladet om du vill justera uppgifterna!"},null,null,null,null,null,null,"grå text, ev vit bakgrund: Avsnittet är inte relevant för dig baserat på svaren på ja/nej-frågor på bladet Bakgrund"]
["grovfoder","kg ts",{"$f":"'2.3 Inköpt foder (exkl mineral)'!B45","v":0},{"$f":"'2.3 Inköpt foder (exkl mineral)'!B83","v":0},{"$f":"'2.3 Inköpt foder (exkl mineral)'!B120","v":0}]
["kraftfoder, spannmål etc.",null,{"$f":"'2.3 Inköpt foder (exkl mineral)'!B46","v":0},{"$f":"'2.3 Inköpt foder (exkl mineral)'!B84","v":0},{"$f":"'2.3 Inköpt foder (exkl mineral)'!B121","v":0}]
["Energi i inköpt foder","MJ ",{"$f":"'2.3 Inköpt foder (exkl mineral)'!C44","v":0},{"$f":"'2.3 Inköpt foder (exkl mineral)'!C82","v":0},{"$f":"'2.3 Inköpt foder (exkl mineral)'!C119","v":0},null,null,null,null,null,null,null,"Snabblänkar till bladen i verktyget:"]
["grovfoder","MJ/kg ts",{"$f":"IF('2.3 Inköpt foder (exkl mineral)'!B45=0,0,'2.3 Inköpt foder (exkl mineral)'!C45/'2.3 Inköpt foder (exkl mineral)'!B45)","v":0},{"$f":"IF('2.3 Inköpt foder (exkl mineral)'!B83=0,0,'2.3 Inköpt foder (exkl mineral)'!C83/'2.3 Inköpt foder (exkl mineral)'!B83)","v":0},{"$f":"IF('2.3 Inköpt foder (exkl mineral)'!B120=0,0,'2.3 Inköpt foder (exkl mineral)'!C120/'2.3 Inköpt foder (exkl mineral)'!B120)","v":0},"Genomsnittligt energiinnehåll i inköpt foder",null,null,null,null,null,null,"Instruktion"]
["kraftfoder, spannmål etc.",null,{"$f":"IF('2.3 Inköpt foder (exkl mineral)'!B46=0,0,'2.3 Inköpt foder (exkl mineral)'!C46/'2.3 Inköpt foder (exkl mineral)'!B46)","v":0},{"$f":"IF('2.3 Inköpt foder (exkl mineral)'!B84=0,0,'2.3 Inköpt foder (exkl mineral)'!C84/'2.3 Inköpt foder (exkl mineral)'!B84)","v":0},{"$f":"IF('2.3 Inköpt foder (exkl mineral)'!B121=0,0,'2.3 Inköpt foder (exkl mineral)'!C121/'2.3 Inköpt foder (exkl mineral)'!B121)","v":0},null,null,null,null,null,null,null,"Bakgrund"]
[null,null,null,null,null,null,null,null,null,null,null,null,"1 Intro djuren"]
["Direktutfodrad grönmassa - uppgifter hämtas från annat blad",null,null,null,null,null,null,null,null,null,null,null,"1.1 Kött"]
[null,"Enhet",{"$f":"Bakgrund!R$7","v":"Period 1"},{"$f":"Bakgrund!S$7","v":"Period 2"},{"$f":"Bakgrund!T$7","v":"Period 3"},"Förklaring",null,null,null,"Egen kommentar",null,null,"1.2 Tillväxt & förökning"]
["Mängd utfodrat","kg ts",{"$f":"SUMPRODUCT('2.1 Odling foder'!P41:P52,'2.1 Odling foder'!AU41:AU52)+SUMPRODUCT('2.1 Odling foder'!H25:H32,'2.1 Odling foder'!AU25:AU32)","v":0},{"$f":"SUMPRODUCT('2.1 Odling foder'!P104:P115,'2.1 Odling foder'!AU104:AU115)+SUMPRODUCT('2.1 Odling foder'!H88:H95,'2.1 Odling foder'!AU88:AU95)","v":0},{"$f":"SUMPRODUCT('2.1 Odling foder'!P169:P180,'2.1 Odling foder'!AU169:AU180)+SUMPRODUCT('2.1 Odling foder'!H153:H160,'2.1 Odling foder'!AU153:AU160)","v":0},{"$f":"\"Mängd direktutfodrad grönmassa. Uppgift hämtas från bladet \"&'2.1 Odling foder'!A1&\". Här antas att all direktufodrad grönmassa har utfodrats till djur som ingår i perioden.\"","v":"Mängd direktutfodrad grönmassa. Uppgift hämtas från bladet 2.1 Odling foder. Här antas att all direktufodrad grönmassa har utfodrats till djur som ingår i perioden."},null,null,null,null,null,null,"1.3 Hälsa & dödlighet"]
["Energi","MJ/kg ts",{"$f":"IF(C21=0,0,((SUMPRODUCT('2.1 Odling foder'!Q41:Q52,'2.1 Odling foder'!AU41:AU52)+SUMPRODUCT('2.1 Odling foder'!I25:I32,'2.1 Odling foder'!AU25:AU32))/C21))","v":0},{"$f":"IF(D21=0,0,(SUMPRODUCT('2.1 Odling foder'!Q104:Q115,'2.1 Odling foder'!AU104:AU115)+SUMPRODUCT('2.1 Odling foder'!I88:I95,'2.1 Odling foder'!AU88:AU95))/D21)","v":0},{"$f":"IF(E21=0,0,(SUMPRODUCT('2.1 Odling foder'!Q169:Q180,'2.1 Odling foder'!AU169:AU180)+SUMPRODUCT('2.1 Odling foder'!I153:I160,'2.1 Odling foder'!AU153:AU160))/E21)","v":0},null,null,null,null,null,null,null,"2 Intro foder"]
[null,null,null,null,null,null,null,null,null,null,null,null,"2.1 Odling foder"]
[null,null,null,null,null,null,null,null,null,null,null,null,"2.2 Förluster vid lagring"]
["Eget ensilage, hö, halm - fyll i egna uppgifter! Mängd bärgat foder visas i tabellen under.",null,null,null,null,null,null,null,null,null,null,null,"2.3 Inköpt foder (exkl mineral)"]
[null,"Enhet",{"$f":"Bakgrund!R$7","v":"Period 1"},{"$f":"Bakgrund!S$7","v":"Period 2"},{"$f":"Bakgrund!T$7","v":"Period 3"},"Förklaring",null,null,null,"Egen kommentar",null,null,"2.4 Utfodrat"]
["Total mängd utfodrat, varav ","kg ts",{"$f":"SUM(C28:C32)","v":0},{"$f":"SUM(D28:D32)","v":0},{"$f":"SUM(E28:E32)","v":0},"Summering av raderna nedan",null,null,null,null,null,null,"2.5. Kasserat foder och spill"]
["Plansilo","kg ts",null,null,null,"Här fyller du i mängd grovfoder (ensilage, hö, hösilage, halm till foder) som utfodrats aktuell period. Ta bara med eget grovfoder, eventuellt inköpt grovfoder sammanställs ovan. Du kan summera allt på en rad - uppdelningen är gjord för att du enklare ska kunna jämföra med vad som har odlats.\nTill din hjälp visas nedanför mängden grovfoder som bärgats aktuell period. Längst ner på sidan finns en hjälpsnurra för att beräkna mängden ts. ",null,null,null,null,null,null,"2.6 Bete"]
["Torn",null,null,null,null,null,null,null,null,null,null,null,"3 Växtnäringsutnyttjande (1)"]
["Storbalar (rund- och fyrkantsbalar)",null,null,null,null,null,null,null,null,null,null,null,"3 Växtnäringsutnyttjande (2)"]
["Hö",null,null,null,null,null,null,null,null,null,null,null,"3 Växtnäringsutnyttjande (3)"]
["Halm till foder",null,null,null,null,null,null,null,null,null,null,null,"4 Energi och bränsle"]
["Energi i utfodrat grovfoder","MJ ",{"$f":"IF(C27=0,0,ROUND(SUMPRODUCT(C28:C32,T34:T38),3-LEN(INT(SUMPRODUCT(C28:C32,T34:T38)))))","v":0},{"$f":"IF(D27=0,0,ROUND(SUMPRODUCT(D28:D32,U34:U38),3-LEN(INT(SUMPRODUCT(D28:D32,U34:U38)))))","v":0},{"$f":"IF(E27=0,0,ROUND(SUMPRODUCT(E28:E32,V34:V38),3-LEN(INT(SUMPRODUCT(E28:E32,V34:V38)))))","v":0},"Totalt energiinnehåll i fodret, summering av raderna nedan",null,null,null,null,null,null,"5 Vattenanvändning"]
["Plansilo","MJ/kg ts",null,null,null,"Genomsnittligt energiinnehåll i fodret. Fyll i eget värde, eller lämna tomt så används det genomsnittligt energiinnehåll i grovfodret som bärgades aktuell period (se nedan). Om du utfodrat med mycket foder från ifjol och/eller foderkvaliteten skiljer sig mycket mellan år är det bäst om du kan göra en egen uppskattning av fodrets energiinnehåll.",null,null,null,null,null,null,"6 Resultat",null,null,null,null,null,null,{"$f":"IF(C34+C47=0,'Teknisk administration'!$W390,IF(ISNUMBER(C34),C34,C47))","v":10.199999999999999},{"$f":"IF(D34+D47=0,'Teknisk administration'!$W390,IF(ISNUMBER(D34),D34,D47))","v":10.199999999999999},{"$f":"IF(E34+E47=0,'Teknisk administration'!$W390,IF(ISNUMBER(E34),E34,E47))","v":10.199999999999999}]
["Torn",null,null,null,null,null,null,null,null,null,null,null,null,null,null,null,null,null,null,{"$f":"IF(C35+C48=0,'Teknisk administration'!$W391,IF(ISNUMBER(C35),C35,C48))","v":10.199999999999999},{"$f":"IF(D35+D48=0,'Teknisk administration'!$W391,IF(ISNUMBER(D35),D35,D48))","v":10.199999999999999},{"$f":"IF(E35+E48=0,'Teknisk administration'!$W391,IF(ISNUMBER(E35),E35,E48))","v":10.199999999999999}]
["Storbalar (rund- och fyrkantsbalar)",null,null,null,null,null,null,null,null,null,null,null,null,null,null,null,null,null,null,{"$f":"IF(C36+C49=0,'Teknisk administration'!$W392,IF(ISNUMBER(C36),C36,C49))","v":10.199999999999999},{"$f":"IF(D36+D49=0,'Teknisk administration'!$W392,IF(ISNUMBER(D36),D36,D49))","v":10.199999999999999},{"$f":"IF(E36+E49=0,'Teknisk administration'!$W392,IF(ISNUMBER(E36),E36,E49))","v":10.199999999999999}]
["Hö",null,null,null,null,null,null,null,null,null,null,null,null,null,null,null,null,null,null,{"$f":"IF(C37+C50=0,'Teknisk administration'!$W393,IF(ISNUMBER(C37),C37,C50))","v":9.1},{"$f":"IF(D37+D50=0,'Teknisk administration'!$W393,IF(ISNUMBER(D37),D37,D50))","v":9.1},{"$f":"IF(E37+E50=0,'Teknisk administration'!$W393,IF(ISNUMBER(E37),E37,E50))","v":9.1}]
["Halm till foder",null,null,null,null,null,null,null,null,null,null,null,null,null,null,null,null,null,null,{"$f":"IF(C38+C51=0,'Teknisk administration'!$W394,IF(ISNUMBER(C38),C38,C51))","v":6.6},{"$f":"IF(D38+D51=0,'Teknisk administration'!$W394,IF(ISNUMBER(D38),D38,D51))","v":6.6},{"$f":"IF(E38+E51=0,'Teknisk administration'!$W394,IF(ISNUMBER(E38),E38,E51))","v":6.6}]
[]
["Total mängd bärgat grovfoder, varav","kg ts",{"$f":"SUM(C41:C45)","v":0},{"$f":"SUM(D41:D45)","v":0},{"$f":"SUM(E41:E45)","v":0},"Mängd ts i bärgat grovfoder (totalt och uppdelat) under perioden. Efter förluster under lagringen, men före kassationer och spill i samband med uttag. \nDessa uppgifter kan du använda för att uppskatta hur mycket som utfodrats under perioden. Tänk dock på att mängd bärgat och ufodrat kan skilja sig åt, särskilt om du räknar på ett kalenderår och om skörden föregående år avvek från det normala. \n "]
["Plansilo","kg ts",{"$f":"ROUND('2.2 Förluster vid lagring'!C13*(1-'2.2 Förluster vid lagring'!C30),3-LEN(INT('2.2 Förluster vid lagring'!C13*(1-'2.2 Förluster vid lagring'!C30))))","v":0},{"$f":"ROUND('2.2 Förluster vid lagring'!D13*(1-'2.2 Förluster vid lagring'!D30),3-LEN(INT('2.2 Förluster vid lagring'!D13*(1-'2.2 Förluster vid lagring'!D30))))","v":0},{"$f":"ROUND('2.2 Förluster vid lagring'!E13*(1-'2.2 Förluster vid lagring'!E30),3-LEN(INT('2.2 Förluster vid lagring'!E13*(1-'2.2 Förluster vid lagring'!E30))))","v":0}]
["Torn",null,{"$f":"ROUND('2.2 Förluster vid lagring'!C14*(1-'2.2 Förluster vid lagring'!C31),3-LEN(INT('2.2 Förluster vid lagring'!C14*(1-'2.2 Förluster vid lagring'!C31))))","v":0},{"$f":"ROUND('2.2 Förluster vid lagring'!D14*(1-'2.2 Förluster vid lagring'!D31),3-LEN(INT('2.2 Förluster vid lagring'!D14*(1-'2.2 Förluster vid lagring'!D31))))","v":0},{"$f":"ROUND('2.2 Förluster vid lagring'!E14*(1-'2.2 Förluster vid lagring'!E31),3-LEN(INT('2.2 Förluster vid lagring'!E14*(1-'2.2 Förluster vid lagring'!E31))))","v":0}]
["Storbalar (rund- och fyrkantsbalar)",null,{"$f":"ROUND('2.2 Förluster vid lagring'!C15*(1-'2.2 Förluster vid lagring'!C32),3-LEN(INT('2.2 Förluster vid lagring'!C15*(1-'2.2 Förluster vid lagring'!C32))))","v":0},{"$f":"ROUND('2.2 Förluster vid lagring'!D15*(1-'2.2 Förluster vid lagring'!D32),3-LEN(INT('2.2 Förluster vid lagring'!D15*(1-'2.2 Förluster vid lagring'!D32))))","v":0},{"$f":"ROUND('2.2 Förluster vid lagring'!E15*(1-'2.2 Förluster vid lagring'!E32),3-LEN(INT('2.2 Förluster vid lagring'!E15*(1-'2.2 Förluster vid lagring'!E32))))","v":0}]
["Hö",null,{"$f":"ROUND('2.2 Förluster vid lagring'!C16*(1-'2.2 Förluster vid lagring'!C33),3-LEN(INT('2.2 Förluster vid lagring'!C16*(1-'2.2 Förluster vid lagring'!C33))))","v":0},{"$f":"ROUND('2.2 Förluster vid lagring'!D16*(1-'2.2 Förluster vid lagring'!D33),3-LEN(INT('2.2 Förluster vid lagring'!D16*(1-'2.2 Förluster vid lagring'!D33))))","v":0},{"$f":"ROUND('2.2 Förluster vid lagring'!E16*(1-'2.2 Förluster vid lagring'!E33),3-LEN(INT('2.2 Förluster vid lagring'!E16*(1-'2.2 Förluster vid lagring'!E33))))","v":0}]
["Halm till foder",null,{"$f":"ROUND('2.2 Förluster vid lagring'!C17*(1-'2.2 Förluster vid lagring'!C34),3-LEN(INT('2.2 Förluster vid lagring'!C17*(1-'2.2 Förluster vid lagring'!C34))))","v":0},{"$f":"ROUND('2.2 Förluster vid lagring'!D17*(1-'2.2 Förluster vid lagring'!D34),3-LEN(INT('2.2 Förluster vid lagring'!D17*(1-'2.2 Förluster vid lagring'!D34))))","v":0},{"$f":"ROUND('2.2 Förluster vid lagring'!E17*(1-'2.2 Förluster vid lagring'!E34),3-LEN(INT('2.2 Förluster vid lagring'!E17*(1-'2.2 Förluster vid lagring'!E34))))","v":0}]
["Energi i bärgat grovfoder","MJ ",{"$f":"IF(C40=0,0,ROUND(SUMPRODUCT(C41:C45,C47:C51),3-LEN(INT(SUMPRODUCT(C41:C45,C47:C51)))))","v":0},{"$f":"IF(D40=0,0,ROUND(SUMPRODUCT(D41:D45,D47:D51),3-LEN(INT(SUMPRODUCT(D41:D45,D47:D51)))))","v":0},{"$f":"IF(E40=0,0,ROUND(SUMPRODUCT(E41:E45,E47:E51),3-LEN(INT(SUMPRODUCT(E41:E45,E47:E51)))))","v":0},"Totalt energiinnehåll i fodret"]
["Plansilo","MJ/kg ts",{"$f":"IF('2.2 Förluster vid lagring'!C13-'2.2 Förluster vid lagring'!C36=0,0,'2.2 Förluster vid lagring'!C19/'2.2 Förluster vid lagring'!C13)","v":0},{"$f":"IF('2.2 Förluster vid lagring'!D13-'2.2 Förluster vid lagring'!D36=0,0,'2.2 Förluster vid lagring'!D19/'2.2 Förluster vid lagring'!D13)","v":0},{"$f":"IF('2.2 Förluster vid lagring'!E13-'2.2 Förluster vid lagring'!E36=0,0,'2.2 Förluster vid lagring'!E19/'2.2 Förluster vid lagring'!E13)","v":0},"Genomsnittligt energiinnehåll i fodret som bärgats aktuell period"]
["Torn",null,{"$f":"IF('2.2 Förluster vid lagring'!C14-'2.2 Förluster vid lagring'!C37=0,0,'2.2 Förluster vid lagring'!C20/'2.2 Förluster vid lagring'!C14)","v":0},{"$f":"IF('2.2 Förluster vid lagring'!D14-'2.2 Förluster vid lagring'!D37=0,0,'2.2 Förluster vid lagring'!D20/'2.2 Förluster vid lagring'!D14)","v":0},{"$f":"IF('2.2 Förluster vid lagring'!E14-'2.2 Förluster vid lagring'!E37=0,0,'2.2 Förluster vid lagring'!E20/'2.2 Förluster vid lagring'!E14)","v":0}]
["Storbalar (rund- och fyrkantsbalar)",null,{"$f":"IF('2.2 Förluster vid lagring'!C15-'2.2 Förluster vid lagring'!C38=0,0,'2.2 Förluster vid lagring'!C21/'2.2 Förluster vid lagring'!C15)","v":0},{"$f":"IF('2.2 Förluster vid lagring'!D15-'2.2 Förluster vid lagring'!D38=0,0,'2.2 Förluster vid lagring'!D21/'2.2 Förluster vid lagring'!D15)","v":0},{"$f":"IF('2.2 Förluster vid lagring'!E15-'2.2 Förluster vid lagring'!E38=0,0,'2.2 Förluster vid lagring'!E21/'2.2 Förluster vid lagring'!E15)","v":0}]
["Hö",null,{"$f":"IF('2.2 Förluster vid lagring'!C16-'2.2 Förluster vid lagring'!C39=0,0,'2.2 Förluster vid lagring'!C22/'2.2 Förluster vid lagring'!C16)","v":0},{"$f":"IF('2.2 Förluster vid lagring'!D16-'2.2 Förluster vid lagring'!D39=0,0,'2.2 Förluster vid lagring'!D22/'2.2 Förluster vid lagring'!D16)","v":0},{"$f":"IF('2.2 Förluster vid lagring'!E16-'2.2 Förluster vid lagring'!E39=0,0,'2.2 Förluster vid lagring'!E22/'2.2 Förluster vid lagring'!E16)","v":0}]
["Halm till foder",null,{"$f":"IF('2.2 Förluster vid lagring'!C17-'2.2 Förluster vid lagring'!C40=0,0,'2.2 Förluster vid lagring'!C23/'2.2 Förluster vid lagring'!C17)","v":0},{"$f":"IF('2.2 Förluster vid lagring'!D17-'2.2 Förluster vid lagring'!D40=0,0,'2.2 Förluster vid lagring'!D23/'2.2 Förluster vid lagring'!D17)","v":0},{"$f":"IF('2.2 Förluster vid lagring'!E17-'2.2 Förluster vid lagring'!E40=0,0,'2.2 Förluster vid lagring'!E23/'2.2 Förluster vid lagring'!E17)","v":0}]
[]
[]
["Övrigt odlat foder - fyll i egna uppgifter!"]
[null,"Enhet",{"$f":"Bakgrund!R$7","v":"Period 1"},{"$f":"Bakgrund!S$7","v":"Period 2"},{"$f":"Bakgrund!T$7","v":"Period 3"},"Förklaring",null,null,null,"Egen kommentar"]
["Total mängd utfodrat, varav ","kg ts",{"$f":"SUM(C57:C60)","v":0},{"$f":"SUM(D57:D60)","v":0},{"$f":"SUM(E57:E60)","v":0},"Mängd övrigt egenproducerat foder som utfodrats under perioden, totalt och grupperat i typ av gröda (spannmål, trindsäd etc.). \nTill din hjälp visas nedanför mängden spannmål, trindsäd etc. som bärgats aktuell period."]
[{"$f":"'Teknisk administration'!K324","v":"Spannmål"},"kg ts"]
[{"$f":"'Teknisk administration'!K325","v":"Trindsäd"}]
[{"$f":"'Teknisk administration'!K326","v":"Oljeväxter"}]
[{"$f":"'Teknisk administration'!K327","v":"Rotfrukter"}]
["Energi i utfodrat övrigt foder","MJ ",{"$f":"ROUND(SUMPRODUCT(C57:C60,T62:T65),3-LEN(INT(SUMPRODUCT(C57:C60,T62:T65))))","v":0},{"$f":"ROUND(SUMPRODUCT(D57:D60,U62:U65),3-LEN(INT(SUMPRODUCT(D57:D60,U62:U65))))","v":0},{"$f":"ROUND(SUMPRODUCT(E57:E60,V62:V65),3-LEN(INT(SUMPRODUCT(E57:E60,V62:V65))))","v":0},"Totalt energiinnehåll i fodret"]
[{"$f":"'Teknisk administration'!K324","v":"Spannmål"},"MJ/kg ts",null,null,null,"Genomsnittligt energiinnehåll i fodret (MJ/kg ts). Fyll i eget värde, eller lämna tomt så används det genomsnittligt energiinnehåll i fodret som bärgades aktuell period (se nedan).",null,null,null,null,null,null,null,null,null,null,null,null,null,{"$f":"IF(C62+C73=0,'Teknisk administration'!$L324,IF(ISNUMBER(C62),C62,C73))","v":13.2},{"$f":"IF(D62+D73=0,'Teknisk administration'!$L324,IF(ISNUMBER(D62),D62,D73))","v":13.2},{"$f":"IF(E62+E73=0,'Teknisk administration'!$L324,IF(ISNUMBER(E62),E62,E73))","v":13.2}]
[{"$f":"'Teknisk administration'!K325","v":"Trindsäd"},null,null,null,null,null,null,null,null,null,null,null,null,null,null,null,null,null,null,{"$f":"IF(C63+C74=0,'Teknisk administration'!$L325,IF(ISNUMBER(C63),C63,C74))","v":13},{"$f":"IF(D63+D74=0,'Teknisk administration'!$L325,IF(ISNUMBER(D63),D63,D74))","v":13},{"$f":"IF(E63+E74=0,'Teknisk administration'!$L325,IF(ISNUMBER(E63),E63,E74))","v":13}]
[{"$f":"'Teknisk administration'!K326","v":"Oljeväxter"},null,null,null,null,null,null,null,null,null,null,null,null,null,null,null,null,null,null,{"$f":"IF(C64+C75=0,'Teknisk administration'!$L326,IF(ISNUMBER(C64),C64,C75))","v":22},{"$f":"IF(D64+D75=0,'Teknisk administration'!$L326,IF(ISNUMBER(D64),D64,D75))","v":22},{"$f":"IF(E64+E75=0,'Teknisk administration'!$L326,IF(ISNUMBER(E64),E64,E75))","v":22}]
[{"$f":"'Teknisk administration'!K327","v":"Rotfrukter"},null,null,null,null,null,null,null,null,null,null,null,null,null,null,null,null,null,null,{"$f":"IF(C65+C76=0,'Teknisk administration'!$L327,IF(ISNUMBER(C65),C65,C76))","v":13},{"$f":"IF(D65+D76=0,'Teknisk administration'!$L327,IF(ISNUMBER(D65),D65,D76))","v":13},{"$f":"IF(E65+E76=0,'Teknisk administration'!$L327,IF(ISNUMBER(E65),E65,E76))","v":13}]
[]
["Total mängd bärgat, varav","kg ts",{"$f":"SUM(C68:C71)","v":0},{"$f":"SUM(D68:D71)","v":0},{"$f":"SUM(E68:E71)","v":0},"Mängd övrigt foder skördat under perioden, totalt och grupperat i typ av gröda (spannmål, trindsäd etc.). Efter förluster under lagringen, men före kassationer och spill i samband med uttag. \nDessa uppgifter kan du använda för att uppskatta hur mycket som utfodrats under perioden. Tänk dock på att mängd bärgat och ufodrat kan skilja sig åt, särskilt om du räknar på ett kalenderår och om skörden föregående år avvek från det normala. "]
[{"$f":"'Teknisk administration'!K324","v":"Spannmål"},"kg ts",{"$f":"SUMPRODUCT('2.1 Odling foder'!B59:B68,'2.1 Odling foder'!R59:R68,'2.1 Odling foder'!X59:X68)","v":0},{"$f":"SUMPRODUCT('2.1 Odling foder'!B122:B131,'2.1 Odling foder'!R122:R131,'2.1 Odling foder'!X122:X131)","v":0},{"$f":"SUMPRODUCT('2.1 Odling foder'!B187:B196,'2.1 Odling foder'!R187:R196,'2.1 Odling foder'!X187:X196)","v":0}]
[{"$f":"'Teknisk administration'!K325","v":"Trindsäd"},null,{"$f":"SUMPRODUCT('2.1 Odling foder'!B59:B68,'2.1 Odling foder'!R59:R68,'2.1 Odling foder'!Y59:Y68)","v":0},{"$f":"SUMPRODUCT('2.1 Odling foder'!B122:B131,'2.1 Odling foder'!R122:R131,'2.1 Odling foder'!Y122:Y131)","v":0},{"$f":"SUMPRODUCT('2.1 Odling foder'!B187:B196,'2.1 Odling foder'!R187:R196,'2.1 Odling foder'!Y187:Y196)","v":0}]
[{"$f":"'Teknisk administration'!K326","v":"Oljeväxter"},null,{"$f":"SUMPRODUCT('2.1 Odling foder'!B59:B68,'2.1 Odling foder'!R59:R68,'2.1 Odling foder'!Z59:Z68)","v":0},{"$f":"SUMPRODUCT('2.1 Odling foder'!B122:B131,'2.1 Odling foder'!R122:R131,'2.1 Odling foder'!Z122:Z131)","v":0},{"$f":"SUMPRODUCT('2.1 Odling foder'!B187:B196,'2.1 Odling foder'!R187:R196,'2.1 Odling foder'!Z187:Z196)","v":0}]
[{"$f":"'Teknisk administration'!K327","v":"Rotfrukter"},null,{"$f":"SUMPRODUCT('2.1 Odling foder'!B59:B68,'2.1 Odling foder'!R59:R68,'2.1 Odling foder'!AA59:AA68)","v":0},{"$f":"SUMPRODUCT('2.1 Odling foder'!B122:B131,'2.1 Odling foder'!R122:R131,'2.1 Odling foder'!AA122:AA131)","v":0},{"$f":"SUMPRODUCT('2.1 Odling foder'!B187:B196,'2.1 Odling foder'!R187:R196,'2.1 Odling foder'!AA187:AA196)","v":0}]
["Energi i bärgat övrigt foder","MJ ",{"$f":"ROUND(SUMPRODUCT(C68:C71,C73:C76),3-LEN(INT(SUMPRODUCT(C68:C71,C73:C76))))","v":0},{"$f":"ROUND(SUMPRODUCT(D68:D71,D73:D76),3-LEN(INT(SUMPRODUCT(D68:D71,D73:D76))))","v":0},0,"Totalt energiinnehåll i fodret"]
[{"$f":"'Teknisk administration'!K324","v":"Spannmål"},"MJ/kg ts",{"$f":"IF(C68=0,0,X73/C68)","v":0},0,0,"Genomsnittligt energiinnehåll i fodret (MJ/kg ts)",null,null,null,null,null,null,null,null,null,null,null,null,null,null,null,null,null,{"$f":"SUMPRODUCT('2.1 Odling foder'!S59:S68,'2.1 Odling foder'!X59:X68)","v":0},{"$f":"SUMPRODUCT('2.1 Odling foder'!S122:S131,'2.1 Odling foder'!X122:X131)","v":0},{"$f":"SUMPRODUCT('2.1 Odling foder'!S187:S196,'2.1 Odling foder'!X187:X196)","v":0}]
[{"$f":"'Teknisk administration'!K325","v":"Trindsäd"},null,0,0,0,null,null,null,null,null,null,null,null,null,null,null,null,null,null,null,null,null,null,{"$f":"SUMPRODUCT('2.1 Odling foder'!S59:S68,'2.1 Odling foder'!Y59:Y68)","v":0},{"$f":"SUMPRODUCT('2.1 Odling foder'!S122:S131,'2.1 Odling foder'!Y122:Y131)","v":0},{"$f":"SUMPRODUCT('2.1 Odling foder'!S187:S196,'2.1 Odling foder'!Y187:Y196)","v":0}]
[{"$f":"'Teknisk administration'!K326","v":"Oljeväxter"},null,0,0,0,null,null,null,null,null,null,null,null,null,null,null,null,null,null,null,null,null,null,{"$f":"SUMPRODUCT('2.1 Odling foder'!S59:S68,'2.1 Odling foder'!Z59:Z68)","v":0},{"$f":"SUMPRODUCT('2.1 Odling foder'!S122:S131,'2.1 Odling foder'!Z122:Z131)","v":0},{"$f":"SUMPRODUCT('2.1 Odling foder'!S187:S196,'2.1 Odling foder'!Z187:Z196)","v":0}]
[{"$f":"'Teknisk administration'!K327","v":"Rotfrukter"},null,0,0,0,null,null,null,null,null,null,null,null,null,null,null,null,null,null,null,null,null,null,{"$f":"SUMPRODUCT('2.1 Odling foder'!S59:S68,'2.1 Odling foder'!AA59:AA68)","v":0},{"$f":"SUMPRODUCT('2.1 Odling foder'!S122:S131,'2.1 Odling foder'!AA122:AA131)","v":0},{"$f":"SUMPRODUCT('2.1 Odling foder'!S187:S196,'2.1 Odling foder'!AA187:AA196)","v":0}]
[]
[]
["Summering - mängd utfodrat","Enhet",{"$f":"Bakgrund!R$7","v":"Period 1"},{"$f":"Bakgrund!S$7","v":"Period 2"},{"$f":"Bakgrund!T$7","v":"Period 3"},"Förklaring",null,null,null,"Egen kommentar"]
["Totalt mängd, varav:","kg ts",{"$f":"SUM(C81:C82)","v":0},{"$f":"SUM(D81:D82)","v":0},0]
["Grovfoder","kg ts",{"$f":"SUM(C27,C21,C13)","v":0},{"$f":"SUM(D27,D21,D13)","v":0},{"$f":"SUM(E27,E21,E13)","v":0}]
["Kraftfoder, spannmål, etc. ","kg ts",{"$f":"C56+C14","v":0},{"$f":"D56+D14","v":0},{"$f":"E56+E14","v":0}]
["Total mängd energi, varav ","MJ",{"$f":"SUM(C84:C85)","v":0},{"$f":"SUM(D84:D85)","v":0},{"$f":"SUM(E84:E85)","v":0}]
["Grovfoder","MJ",{"$f":"C33+C22*C21+C13*C16","v":0},{"$f":"D33+D22*D21+D13*D16","v":0},{"$f":"E33+E22*E21+E13*E16","v":0}]
["Kraftfoder, spannmål, etc. ","MJ",{"$f":"C61+C14*C17","v":0},{"$f":"D61+D14*D17","v":0},{"$f":"E61+E14*E17","v":0}]
["Totalt mängd ts per kg kött","kg ts/kg kött",{"$f":"IF('6 Resultat'!R39=0,0,C80/'6 Resultat'!R39)","v":0},{"$f":"IF('6 Resultat'!S39=0,0,D80/'6 Resultat'!S39)","v":0},{"$f":"IF('6 Resultat'!T39=0,0,E80/'6 Resultat'!T39)","v":0},"Beräknad mängd foder, exklusive bete!, utfodrat per kg producerat kött. Om värdet är noll kan det bero på att du inte beräknat mängden kött ännu."]
["Totalt mängd energi per kg kött","MJ/kg kött",{"$f":"IF('6 Resultat'!R39=0,0,C83/'6 Resultat'!R39)","v":0},{"$f":"IF('6 Resultat'!S39=0,0,D83/'6 Resultat'!S39)","v":0},{"$f":"IF('6 Resultat'!T39=0,0,E83/'6 Resultat'!T39)","v":0}]
[]
[]
["Hjälptabell för att beräkna mängd ts i ensilage, hö, halm"]
["Börja med att välja system ur de orange cellerna så tänds de celler som du behöver fylla i. Resultatet visas i kolumn \"Mängd (kg ts)\". Överför resultatet maniellt till tabellen ovanför!"]
["Om det står \"Saknas!\" eller \"0\" under rubriken \"Beräknad mängd foder\" beror det på att någon uppgift saknas. Kontrollera då att du fyllt i alla gula celler på raden"]
[]
[null,null,"Energi - välj ur lista eller skriv eget värde",null,"TS-halt (%)",null,"Antal balar eller lass grönmassa","Mängd per lass grönmassa","Teknik - inläggning, pressning etc. ","Lagrets respektive balarnas storlek",null,null,null,"Beräknad mängd foder",null,null,null,null,null,null,null,null,null,{"$f":"'Teknisk administration'!$B$391","v":"Plansilo"},{"$f":"'Teknisk administration'!$B$392","v":"Torn"},{"$f":"'Teknisk administration'!$B$393","v":"Rundbalar"},{"$f":"'Teknisk administration'!$B$394","v":"Fyrkantsbalar_ensilage"},{"$f":"'Teknisk administration'!$B$397","v":"Hö"},{"$f":"'Teknisk administration'!$B$396","v":"Direktutfodrad_grönmassa"},{"$f":"'Teknisk administration'!$B$398","v":"Halm"},{"$f":"'Teknisk administration'!$B$395","v":"Fyrkantsbalar_hö"},{"$f":"'Teknisk administration'!$B$399","v":0},{"$f":"X94","v":"Plansilo"},"Torn","Rundbalar","Fyrkantsbalar_ensilage","Hö","Direktutfodrad_grönmassa","Halm","Fyrkantsbalar_hö",0,"MJ/kg ts","Plansilo","Torn","Storbalar (rund- och fyrkantsbalar)","Hö","Direktutfodrad","Halm till foder"]
["System - välj alternativ ur listan!","Egen kommentar","Välj ur lista","Eget värde (MJ/kg ts)","% ts","Förklaring","stycken","m3","välj ur listan i orange celler!","Höjd (m)","Bredd (m)","Längd (m)","Förklaring för volymberäkning","Volym (m3)","Volymvikt (kg ts/m3)","Mängd (kg ts)","Mängd (MJ)","Antal","Mängd per lass","Teknik","rätblock","cylinder","TS-halt","Plansilo","Torn","Rundbalar","Fyrkantsbalar","Hö","Grönfoder","Halm","Fyrkantsbalar_hö","tom","Plansilo3","Torn4","Rundbalar5","Fyrkantsbalar6","Hö7","Direktutfodrat","Kolumn1","Fyrkantsbalar_hö2","Visa ts?","MJ/kg ts","Plansilo12","Torn13","Storbalar (rund- och fyrkantsbalar)","Hö14","Direktutfodrad","Halm till foder"]
[null,null,null,null,null,{"$f":"IF(ISTEXT(A96),VLOOKUP(A96,Tabell203[],3,FALSE),\"\")","v":""},null,null,null,null,null,null,{"$f":"IF(ISTEXT(A96),VLOOKUP(A96,Tabell203[],10,FALSE),\"\")","v":""},{"$f":"IF(ISTEXT(A96),IF(U96=1,J96*K96*L96,IF(V96=1,J96*(K96/2)^2*PI(),1))*IF(R96=1,G96,1)*IF(S96=1,H96,1),0)","v":0},{"$f":"SUM(AG96:AN96)","v":0},{"$f":"N96*O96","v":0},{"$f":"P96*AP96","v":0},{"$f":"IF(ISTEXT(A96),VLOOKUP(A96,Tabell203[],4,FALSE),0)","v":0},{"$f":"IF(ISTEXT(A96),VLOOKUP(A96,Tabell203[],6,FALSE),0)","v":0},{"$f":"IF(ISTEXT(A96),VLOOKUP(A96,Tabell203[],5,FALSE),0)","v":0},{"$f":"IF(ISTEXT(A96),VLOOKUP(A96,Tabell203[],8,FALSE),0)","v":0},{"$f":"IF(ISTEXT(A96),VLOOKUP(A96,Tabell203[],9,FALSE),0)","v":0},{"$f":"IF(ISTEXT(A96),IF(E96>0.000001,E96,VLOOKUP(A96,Tabell203[],2,FALSE)),0)","v":0},{"$f":"IF($A96=X$94,1,0)","v":0},0,0,0,0,0,0,0,1,{"$f":"IF(X96=1,VLOOKUP(I96,Tabell220[],2,FALSE),0)","v":0},{"$f":"IF(Y96=1,IF(OR(W96<'Teknisk administration'!$P$262,W96>'Teknisk administration'!$P$263),'Teknisk administration'!$Q$262*J96^2+'Teknisk administration'!$R$262*J96+'Teknisk administration'!$S$262,'Teknisk administration'!$Q$263*J96^2+'Teknisk administration'!$R$263*J96+'Teknisk administration'!$S$263),0)","v":0},{"$f":"IF(Z96=1,VLOOKUP(I96,Tabell214[],2,FALSE)*W96+VLOOKUP(I96,Tabell214[],3,FALSE),0)","v":0},{"$f":"IF(AA96=1,VLOOKUP(I96,Tabell215[],2,FALSE)*W96+VLOOKUP(I96,Tabell215[],3,FALSE),0)","v":0},{"$f":"IF(AB96=1,VLOOKUP(I96,Tabell216[],2,FALSE)*W96,0)","v":0},{"$f":"IF(AC96=1,'Teknisk administration'!$AP$377,0)","v":0},{"$f":"IF(AD96=1,VLOOKUP($I96,Tabell217[],2,FALSE)*$W96,0)","v":0},{"$f":"IF(AE96=1,VLOOKUP($I96,Tabell29[],2,FALSE)*$W96,0)","v":0},{"$f":"IF(ISTEXT(A96),VLOOKUP(A96,Tabell203[],7,FALSE),0)","v":0},{"$f":"IF(AND(ISTEXT(A96),(OR(ISTEXT(C96),ISNUMBER(D96)))),IF(D96>0,D96,VLOOKUP(C96,INDIRECT(A96),2,FALSE)),0)","v":0},{"$f":"IF(ISTEXT($A96),VLOOKUP($A96,Tabell203[],11,FALSE),0)","v":0},{"$f":"IF(ISTEXT($A96),VLOOKUP($A96,Tabell203[],12,FALSE),0)","v":0},{"$f":"IF(ISTEXT($A96),VLOOKUP($A96,Tabell203[],13,FALSE),0)","v":0},{"$f":"IF(ISTEXT($A96),VLOOKUP($A96,Tabell203[],14,FALSE),0)","v":0},{"$f":"IF(ISTEXT($A96),VLOOKUP($A96,Tabell203[],15,FALSE),0)","v":0},{"$f":"IF(AND(ISTEXT($A96),AP96>0),VLOOKUP($A96,Tabell203[],16,FALSE),0)","v":0}]
[null,null,null,null,null,{"$f":"IF(ISTEXT(A97),VLOOKUP(A97,Tabell203[],3,FALSE),\"\")","v":""},null,null,null,null,null,null,{"$f":"IF(ISTEXT(A97),VLOOKUP(A97,Tabell203[],10,FALSE),\"\")","v":""},0,0,0,0,{"$f":"IF(ISTEXT(A97),VLOOKUP(A97,Tabell203[],4,FALSE),0)","v":0},{"$f":"IF(ISTEXT(A97),VLOOKUP(A97,Tabell203[],6,FALSE),0)","v":0},{"$f":"IF(ISTEXT(A97),VLOOKUP(A97,Tabell203[],5,FALSE),0)","v":0},{"$f":"IF(ISTEXT(A97),VLOOKUP(A97,Tabell203[],8,FALSE),0)","v":0},{"$f":"IF(ISTEXT(A97),VLOOKUP(A97,Tabell203[],9,FALSE),0)","v":0},{"$f":"IF(ISTEXT(A97),IF(E97>0.000001,E97,VLOOKUP(A97,Tabell203[],2,FALSE)),0)","v":0},0,0,0,0,0,0,0,0,1,{"$f":"IF(X97=1,VLOOKUP(I97,Tabell220[],2,FALSE),0)","v":0},{"$f":"IF(Y97=1,IF(OR(W97<'Teknisk administration'!$P$262,W97>'Teknisk administration'!$P$263),'Teknisk administration'!$Q$262*J97^2+'Teknisk administration'!$R$262*J97+'Teknisk administration'!$S$262,'Teknisk administration'!$Q$263*J97^2+'Teknisk administration'!$R$263*J97+'Teknisk administration'!$S$263),0)","v":0},{"$f":"IF(Z97=1,VLOOKUP(I97,Tabell214[],2,FALSE)*W97+VLOOKUP(I97,Tabell214[],3,FALSE),0)","v":0},{"$f":"IF(AA97=1,VLOOKUP(I97,Tabell215[],2,FALSE)*W97+VLOOKUP(I97,Tabell215[],3,FALSE),0)","v":0},{"$f":"IF(AB97=1,VLOOKUP(I97,Tabell216[],2,FALSE)*W97,0)","v":0},{"$f":"IF(AC97=1,'Teknisk administration'!$AP$377,0)","v":0},{"$f":"IF(AD97=1,VLOOKUP($I97,Tabell217[],2,FALSE)*$W97,0)","v":0},{"$f":"IF(AE97=1,VLOOKUP($I97,Tabell29[],2,FALSE)*$W97,0)","v":0},{"$f":"IF(ISTEXT(A97),VLOOKUP(A97,Tabell203[],7,FALSE),0)","v":0},0,{"$f":"IF(ISTEXT($A97),VLOOKUP($A97,Tabell203[],11,FALSE),0)","v":0},{"$f":"IF(ISTEXT($A97),VLOOKUP($A97,Tabell203[],12,FALSE),0)","v":0},{"$f":"IF(ISTEXT($A97),VLOOKUP($A97,Tabell203[],13,FALSE),0)","v":0},{"$f":"IF(ISTEXT($A97),VLOOKUP($A97,Tabell203[],14,FALSE),0)","v":0},{"$f":"IF(ISTEXT($A97),VLOOKUP($A97,Tabell203[],15,FALSE),0)","v":0},{"$f":"IF(AND(ISTEXT($A97),AP97>0),VLOOKUP($A97,Tabell203[],16,FALSE),0)","v":0}]
[null,null,null,null,null,{"$f":"IF(ISTEXT(A98),VLOOKUP(A98,Tabell203[],3,FALSE),\"\")","v":""},null,null,null,null,null,null,{"$f":"IF(ISTEXT(A98),VLOOKUP(A98,Tabell203[],10,FALSE),\"\")","v":""},0,0,0,0,{"$f":"IF(ISTEXT(A98),VLOOKUP(A98,Tabell203[],4,FALSE),0)","v":0},{"$f":"IF(ISTEXT(A98),VLOOKUP(A98,Tabell203[],6,FALSE),0)","v":0},{"$f":"IF(ISTEXT(A98),VLOOKUP(A98,Tabell203[],5,FALSE),0)","v":0},{"$f":"IF(ISTEXT(A98),VLOOKUP(A98,Tabell203[],8,FALSE),0)","v":0},{"$f":"IF(ISTEXT(A98),VLOOKUP(A98,Tabell203[],9,FALSE),0)","v":0},{"$f":"IF(ISTEXT(A98),IF(E98>0.000001,E98,VLOOKUP(A98,Tabell203[],2,FALSE)),0)","v":0},0,0,0,0,0,0,0,0,1,{"$f":"IF(X98=1,VLOOKUP(I98,Tabell220[],2,FALSE),0)","v":0},{"$f":"IF(Y98=1,IF(OR(W98<'Teknisk administration'!$P$262,W98>'Teknisk administration'!$P$263),'Teknisk administration'!$Q$262*J98^2+'Teknisk administration'!$R$262*J98+'Teknisk administration'!$S$262,'Teknisk administration'!$Q$263*J98^2+'Teknisk administration'!$R$263*J98+'Teknisk administration'!$S$263),0)","v":0},{"$f":"IF(Z98=1,VLOOKUP(I98,Tabell214[],2,FALSE)*W98+VLOOKUP(I98,Tabell214[],3,FALSE),0)","v":0},{"$f":"IF(AA98=1,VLOOKUP(I98,Tabell215[],2,FALSE)*W98+VLOOKUP(I98,Tabell215[],3,FALSE),0)","v":0},{"$f":"IF(AB98=1,VLOOKUP(I98,Tabell216[],2,FALSE)*W98,0)","v":0},{"$f":"IF(AC98=1,'Teknisk administration'!$AP$377,0)","v":0},{"$f":"IF(AD98=1,VLOOKUP($I98,Tabell217[],2,FALSE)*$W98,0)","v":0},{"$f":"IF(AE98=1,VLOOKUP($I98,Tabell29[],2,FALSE)*$W98,0)","v":0},{"$f":"IF(ISTEXT(A98),VLOOKUP(A98,Tabell203[],7,FALSE),0)","v":0},0,{"$f":"IF(ISTEXT($A98),VLOOKUP($A98,Tabell203[],11,FALSE),0)","v":0},{"$f":"IF(ISTEXT($A98),VLOOKUP($A98,Tabell203[],12,FALSE),0)","v":0},{"$f":"IF(ISTEXT($A98),VLOOKUP($A98,Tabell203[],13,FALSE),0)","v":0},{"$f":"IF(ISTEXT($A98),VLOOKUP($A98,Tabell203[],14,FALSE),0)","v":0},{"$f":"IF(ISTEXT($A98),VLOOKUP($A98,Tabell203[],15,FALSE),0)","v":0},{"$f":"IF(AND(ISTEXT($A98),AP98>0),VLOOKUP($A98,Tabell203[],16,FALSE),0)","v":0}]
[null,null,null,null,null,{"$f":"IF(ISTEXT(A99),VLOOKUP(A99,Tabell203[],3,FALSE),\"\")","v":""},null,null,null,null,null,null,{"$f":"IF(ISTEXT(A99),VLOOKUP(A99,Tabell203[],10,FALSE),\"\")","v":""},0,0,0,0,{"$f":"IF(ISTEXT(A99),VLOOKUP(A99,Tabell203[],4,FALSE),0)","v":0},{"$f":"IF(ISTEXT(A99),VLOOKUP(A99,Tabell203[],6,FALSE),0)","v":0},{"$f":"IF(ISTEXT(A99),VLOOKUP(A99,Tabell203[],5,FALSE),0)","v":0},{"$f":"IF(ISTEXT(A99),VLOOKUP(A99,Tabell203[],8,FALSE),0)","v":0},{"$f":"IF(ISTEXT(A99),VLOOKUP(A99,Tabell203[],9,FALSE),0)","v":0},{"$f":"IF(ISTEXT(A99),IF(E99>0.000001,E99,VLOOKUP(A99,Tabell203[],2,FALSE)),0)","v":0},0,0,0,0,0,0,0,0,1,{"$f":"IF(X99=1,VLOOKUP(I99,Tabell220[],2,FALSE),0)","v":0},{"$f":"IF(Y99=1,IF(OR(W99<'Teknisk administration'!$P$262,W99>'Teknisk administration'!$P$263),'Teknisk administration'!$Q$262*J99^2+'Teknisk administration'!$R$262*J99+'Teknisk administration'!$S$262,'Teknisk administration'!$Q$263*J99^2+'Teknisk administration'!$R$263*J99+'Teknisk administration'!$S$263),0)","v":0},{"$f":"IF(Z99=1,VLOOKUP(I99,Tabell214[],2,FALSE)*W99+VLOOKUP(I99,Tabell214[],3,FALSE),0)","v":0},{"$f":"IF(AA99=1,VLOOKUP(I99,Tabell215[],2,FALSE)*W99+VLOOKUP(I99,Tabell215[],3,FALSE),0)","v":0},{"$f":"IF(AB99=1,VLOOKUP(I99,Tabell216[],2,FALSE)*W99,0)","v":0},{"$f":"IF(AC99=1,'Teknisk administration'!$AP$377,0)","v":0},{"$f":"IF(AD99=1,VLOOKUP($I99,Tabell217[],2,FALSE)*$W99,0)","v":0},{"$f":"IF(AE99=1,VLOOKUP($I99,Tabell29[],2,FALSE)*$W99,0)","v":0},{"$f":"IF(ISTEXT(A99),VLOOKUP(A99,Tabell203[],7,FALSE),0)","v":0},0,{"$f":"IF(ISTEXT($A99),VLOOKUP($A99,Tabell203[],11,FALSE),0)","v":0},{"$f":"IF(ISTEXT($A99),VLOOKUP($A99,Tabell203[],12,FALSE),0)","v":0},{"$f":"IF(ISTEXT($A99),VLOOKUP($A99,Tabell203[],13,FALSE),0)","v":0},{"$f":"IF(ISTEXT($A99),VLOOKUP($A99,Tabell203[],14,FALSE),0)","v":0},{"$f":"IF(ISTEXT($A99),VLOOKUP($A99,Tabell203[],15,FALSE),0)","v":0},{"$f":"IF(AND(ISTEXT($A99),AP99>0),VLOOKUP($A99,Tabell203[],16,FALSE),0)","v":0}]
[null,null,null,null,null,{"$f":"IF(ISTEXT(A100),VLOOKUP(A100,Tabell203[],3,FALSE),\"\")","v":""},null,null,null,null,null,null,{"$f":"IF(ISTEXT(A100),VLOOKUP(A100,Tabell203[],10,FALSE),\"\")","v":""},0,0,0,0,{"$f":"IF(ISTEXT(A100),VLOOKUP(A100,Tabell203[],4,FALSE),0)","v":0},{"$f":"IF(ISTEXT(A100),VLOOKUP(A100,Tabell203[],6,FALSE),0)","v":0},{"$f":"IF(ISTEXT(A100),VLOOKUP(A100,Tabell203[],5,FALSE),0)","v":0},{"$f":"IF(ISTEXT(A100),VLOOKUP(A100,Tabell203[],8,FALSE),0)","v":0},{"$f":"IF(ISTEXT(A100),VLOOKUP(A100,Tabell203[],9,FALSE),0)","v":0},{"$f":"IF(ISTEXT(A100),IF(E100>0.000001,E100,VLOOKUP(A100,Tabell203[],2,FALSE)),0)","v":0},0,0,0,0,0,0,0,0,1,{"$f":"IF(X100=1,VLOOKUP(I100,Tabell220[],2,FALSE),0)","v":0},{"$f":"IF(Y100=1,IF(OR(W100<'Teknisk administration'!$P$262,W100>'Teknisk administration'!$P$263),'Teknisk administration'!$Q$262*J100^2+'Teknisk administration'!$R$262*J100+'Teknisk administration'!$S$262,'Teknisk administration'!$Q$263*J100^2+'Teknisk administration'!$R$263*J100+'Teknisk administration'!$S$263),0)","v":0},{"$f":"IF(Z100=1,VLOOKUP(I100,Tabell214[],2,FALSE)*W100+VLOOKUP(I100,Tabell214[],3,FALSE),0)","v":0},{"$f":"IF(AA100=1,VLOOKUP(I100,Tabell215[],2,FALSE)*W100+VLOOKUP(I100,Tabell215[],3,FALSE),0)","v":0},{"$f":"IF(AB100=1,VLOOKUP(I100,Tabell216[],2,FALSE)*W100,0)","v":0},{"$f":"IF(AC100=1,'Teknisk administration'!$AP$377,0)","v":0},{"$f":"IF(AD100=1,VLOOKUP($I100,Tabell217[],2,FALSE)*$W100,0)","v":0},{"$f":"IF(AE100=1,VLOOKUP($I100,Tabell29[],2,FALSE)*$W100,0)","v":0},{"$f":"IF(ISTEXT(A100),VLOOKUP(A100,Tabell203[],7,FALSE),0)","v":0},0,{"$f":"IF(ISTEXT($A100),VLOOKUP($A100,Tabell203[],11,FALSE),0)","v":0},{"$f":"IF(ISTEXT($A100),VLOOKUP($A100,Tabell203[],12,FALSE),0)","v":0},{"$f":"IF(ISTEXT($A100),VLOOKUP($A100,Tabell203[],13,FALSE),0)","v":0},{"$f":"IF(ISTEXT($A100),VLOOKUP($A100,Tabell203[],14,FALSE),0)","v":0},{"$f":"IF(ISTEXT($A100),VLOOKUP($A100,Tabell203[],15,FALSE),0)","v":0},{"$f":"IF(AND(ISTEXT($A100),AP100>0),VLOOKUP($A100,Tabell203[],16,FALSE),0)","v":0}]
[null,null,null,null,null,{"$f":"IF(ISTEXT(A101),VLOOKUP(A101,Tabell203[],3,FALSE),\"\")","v":""},null,null,null,null,null,null,{"$f":"IF(ISTEXT(A101),VLOOKUP(A101,Tabell203[],10,FALSE),\"\")","v":""},0,0,0,0,{"$f":"IF(ISTEXT(A101),VLOOKUP(A101,Tabell203[],4,FALSE),0)","v":0},{"$f":"IF(ISTEXT(A101),VLOOKUP(A101,Tabell203[],6,FALSE),0)","v":0},{"$f":"IF(ISTEXT(A101),VLOOKUP(A101,Tabell203[],5,FALSE),0)","v":0},{"$f":"IF(ISTEXT(A101),VLOOKUP(A101,Tabell203[],8,FALSE),0)","v":0},{"$f":"IF(ISTEXT(A101),VLOOKUP(A101,Tabell203[],9,FALSE),0)","v":0},{"$f":"IF(ISTEXT(A101),IF(E101>0.000001,E101,VLOOKUP(A101,Tabell203[],2,FALSE)),0)","v":0},0,0,0,0,0,0,0,0,1,{"$f":"IF(X101=1,VLOOKUP(I101,Tabell220[],2,FALSE),0)","v":0},{"$f":"IF(Y101=1,IF(OR(W101<'Teknisk administration'!$P$262,W101>'Teknisk administration'!$P$263),'Teknisk administration'!$Q$262*J101^2+'Teknisk administration'!$R$262*J101+'Teknisk administration'!$S$262,'Teknisk administration'!$Q$263*J101^2+'Teknisk administration'!$R$263*J101+'Teknisk administration'!$S$263),0)","v":0},{"$f":"IF(Z101=1,VLOOKUP(I101,Tabell214[],2,FALSE)*W101+VLOOKUP(I101,Tabell214[],3,FALSE),0)","v":0},{"$f":"IF(AA101=1,VLOOKUP(I101,Tabell215[],2,FALSE)*W101+VLOOKUP(I101,Tabell215[],3,FALSE),0)","v":0},{"$f":"IF(AB101=1,VLOOKUP(I101,Tabell216[],2,FALSE)*W101,0)","v":0},{"$f":"IF(AC101=1,'Teknisk administration'!$AP$377,0)","v":0},{"$f":"IF(AD101=1,VLOOKUP($I101,Tabell217[],2,FALSE)*$W101,0)","v":0},{"$f":"IF(AE101=1,VLOOKUP($I101,Tabell29[],2,FALSE)*$W101,0)","v":0},{"$f":"IF(ISTEXT(A101),VLOOKUP(A101,Tabell203[],7,FALSE),0)","v":0},0,{"$f":"IF(ISTEXT($A101),VLOOKUP($A101,Tabell203[],11,FALSE),0)","v":0},{"$f":"IF(ISTEXT($A101),VLOOKUP($A101,Tabell203[],12,FALSE),0)","v":0},{"$f":"IF(ISTEXT($A101),VLOOKUP($A101,Tabell203[],13,FALSE),0)","v":0},{"$f":"IF(ISTEXT($A101),VLOOKUP($A101,Tabell203[],14,FALSE),0)","v":0},{"$f":"IF(ISTEXT($A101),VLOOKUP($A101,Tabell203[],15,FALSE),0)","v":0},{"$f":"IF(AND(ISTEXT($A101),AP101>0),VLOOKUP($A101,Tabell203[],16,FALSE),0)","v":0}]
[null,null,null,null,null,{"$f":"IF(ISTEXT(A102),VLOOKUP(A102,Tabell203[],3,FALSE),\"\")","v":""},null,null,null,null,null,null,{"$f":"IF(ISTEXT(A102),VLOOKUP(A102,Tabell203[],10,FALSE),\"\")","v":""},0,0,0,0,{"$f":"IF(ISTEXT(A102),VLOOKUP(A102,Tabell203[],4,FALSE),0)","v":0},{"$f":"IF(ISTEXT(A102),VLOOKUP(A102,Tabell203[],6,FALSE),0)","v":0},{"$f":"IF(ISTEXT(A102),VLOOKUP(A102,Tabell203[],5,FALSE),0)","v":0},{"$f":"IF(ISTEXT(A102),VLOOKUP(A102,Tabell203[],8,FALSE),0)","v":0},{"$f":"IF(ISTEXT(A102),VLOOKUP(A102,Tabell203[],9,FALSE),0)","v":0},{"$f":"IF(ISTEXT(A102),IF(E102>0.000001,E102,VLOOKUP(A102,Tabell203[],2,FALSE)),0)","v":0},0,0,0,0,0,0,0,0,1,{"$f":"IF(X102=1,VLOOKUP(I102,Tabell220[],2,FALSE),0)","v":0},{"$f":"IF(Y102=1,IF(OR(W102<'Teknisk administration'!$P$262,W102>'Teknisk administration'!$P$263),'Teknisk administration'!$Q$262*J102^2+'Teknisk administration'!$R$262*J102+'Teknisk administration'!$S$262,'Teknisk administration'!$Q$263*J102^2+'Teknisk administration'!$R$263*J102+'Teknisk administration'!$S$263),0)","v":0},{"$f":"IF(Z102=1,VLOOKUP(I102,Tabell214[],2,FALSE)*W102+VLOOKUP(I102,Tabell214[],3,FALSE),0)","v":0},{"$f":"IF(AA102=1,VLOOKUP(I102,Tabell215[],2,FALSE)*W102+VLOOKUP(I102,Tabell215[],3,FALSE),0)","v":0},{"$f":"IF(AB102=1,VLOOKUP(I102,Tabell216[],2,FALSE)*W102,0)","v":0},{"$f":"IF(AC102=1,'Teknisk administration'!$AP$377,0)","v":0},{"$f":"IF(AD102=1,VLOOKUP($I102,Tabell217[],2,FALSE)*$W102,0)","v":0},{"$f":"IF(AE102=1,VLOOKUP($I102,Tabell29[],2,FALSE)*$W102,0)","v":0},{"$f":"IF(ISTEXT(A102),VLOOKUP(A102,Tabell203[],7,FALSE),0)","v":0},0,{"$f":"IF(ISTEXT($A102),VLOOKUP($A102,Tabell203[],11,FALSE),0)","v":0},{"$f":"IF(ISTEXT($A102),VLOOKUP($A102,Tabell203[],12,FALSE),0)","v":0},{"$f":"IF(ISTEXT($A102),VLOOKUP($A102,Tabell203[],13,FALSE),0)","v":0},{"$f":"IF(ISTEXT($A102),VLOOKUP($A102,Tabell203[],14,FALSE),0)","v":0},{"$f":"IF(ISTEXT($A102),VLOOKUP($A102,Tabell203[],15,FALSE),0)","v":0},{"$f":"IF(AND(ISTEXT($A102),AP102>0),VLOOKUP($A102,Tabell203[],16,FALSE),0)","v":0}]
[null,null,null,null,null,{"$f":"IF(ISTEXT(A103),VLOOKUP(A103,Tabell203[],3,FALSE),\"\")","v":""},null,null,null,null,null,null,{"$f":"IF(ISTEXT(A103),VLOOKUP(A103,Tabell203[],10,FALSE),\"\")","v":""},0,0,0,0,{"$f":"IF(ISTEXT(A103),VLOOKUP(A103,Tabell203[],4,FALSE),0)","v":0},{"$f":"IF(ISTEXT(A103),VLOOKUP(A103,Tabell203[],6,FALSE),0)","v":0},{"$f":"IF(ISTEXT(A103),VLOOKUP(A103,Tabell203[],5,FALSE),0)","v":0},{"$f":"IF(ISTEXT(A103),VLOOKUP(A103,Tabell203[],8,FALSE),0)","v":0},{"$f":"IF(ISTEXT(A103),VLOOKUP(A103,Tabell203[],9,FALSE),0)","v":0},{"$f":"IF(ISTEXT(A103),IF(E103>0.000001,E103,VLOOKUP(A103,Tabell203[],2,FALSE)),0)","v":0},0,0,0,0,0,0,0,0,1,{"$f":"IF(X103=1,VLOOKUP(I103,Tabell220[],2,FALSE),0)","v":0},{"$f":"IF(Y103=1,IF(OR(W103<'Teknisk administration'!$P$262,W103>'Teknisk administration'!$P$263),'Teknisk administration'!$Q$262*J103^2+'Teknisk administration'!$R$262*J103+'Teknisk administration'!$S$262,'Teknisk administration'!$Q$263*J103^2+'Teknisk administration'!$R$263*J103+'Teknisk administration'!$S$263),0)","v":0},{"$f":"IF(Z103=1,VLOOKUP(I103,Tabell214[],2,FALSE)*W103+VLOOKUP(I103,Tabell214[],3,FALSE),0)","v":0},{"$f":"IF(AA103=1,VLOOKUP(I103,Tabell215[],2,FALSE)*W103+VLOOKUP(I103,Tabell215[],3,FALSE),0)","v":0},{"$f":"IF(AB103=1,VLOOKUP(I103,Tabell216[],2,FALSE)*W103,0)","v":0},{"$f":"IF(AC103=1,'Teknisk administration'!$AP$377,0)","v":0},{"$f":"IF(AD103=1,VLOOKUP($I103,Tabell217[],2,FALSE)*$W103,0)","v":0},{"$f":"IF(AE103=1,VLOOKUP($I103,Tabell29[],2,FALSE)*$W103,0)","v":0},{"$f":"IF(ISTEXT(A103),VLOOKUP(A103,Tabell203[],7,FALSE),0)","v":0},0,{"$f":"IF(ISTEXT($A103),VLOOKUP($A103,Tabell203[],11,FALSE),0)","v":0},{"$f":"IF(ISTEXT($A103),VLOOKUP($A103,Tabell203[],12,FALSE),0)","v":0},{"$f":"IF(ISTEXT($A103),VLOOKUP($A103,Tabell203[],13,FALSE),0)","v":0},{"$f":"IF(ISTEXT($A103),VLOOKUP($A103,Tabell203[],14,FALSE),0)","v":0},{"$f":"IF(ISTEXT($A103),VLOOKUP($A103,Tabell203[],15,FALSE),0)","v":0},{"$f":"IF(AND(ISTEXT($A103),AP103>0),VLOOKUP($A103,Tabell203[],16,FALSE),0)","v":0}]
[null,null,null,null,null,{"$f":"IF(ISTEXT(A104),VLOOKUP(A104,Tabell203[],3,FALSE),\"\")","v":""},null,null,null,null,null,null,{"$f":"IF(ISTEXT(A104),VLOOKUP(A104,Tabell203[],10,FALSE),\"\")","v":""},0,0,0,0,{"$f":"IF(ISTEXT(A104),VLOOKUP(A104,Tabell203[],4,FALSE),0)","v":0},{"$f":"IF(ISTEXT(A104),VLOOKUP(A104,Tabell203[],6,FALSE),0)","v":0},{"$f":"IF(ISTEXT(A104),VLOOKUP(A104,Tabell203[],5,FALSE),0)","v":0},{"$f":"IF(ISTEXT(A104),VLOOKUP(A104,Tabell203[],8,FALSE),0)","v":0},{"$f":"IF(ISTEXT(A104),VLOOKUP(A104,Tabell203[],9,FALSE),0)","v":0},{"$f":"IF(ISTEXT(A104),IF(E104>0.000001,E104,VLOOKUP(A104,Tabell203[],2,FALSE)),0)","v":0},0,0,0,0,0,0,0,0,1,{"$f":"IF(X104=1,VLOOKUP(I104,Tabell220[],2,FALSE),0)","v":0},{"$f":"IF(Y104=1,IF(OR(W104<'Teknisk administration'!$P$262,W104>'Teknisk administration'!$P$263),'Teknisk administration'!$Q$262*J104^2+'Teknisk administration'!$R$262*J104+'Teknisk administration'!$S$262,'Teknisk administration'!$Q$263*J104^2+'Teknisk administration'!$R$263*J104+'Teknisk administration'!$S$263),0)","v":0},{"$f":"IF(Z104=1,VLOOKUP(I104,Tabell214[],2,FALSE)*W104+VLOOKUP(I104,Tabell214[],3,FALSE),0)","v":0},{"$f":"IF(AA104=1,VLOOKUP(I104,Tabell215[],2,FALSE)*W104+VLOOKUP(I104,Tabell215[],3,FALSE),0)","v":0},{"$f":"IF(AB104=1,VLOOKUP(I104,Tabell216[],2,FALSE)*W104,0)","v":0},{"$f":"IF(AC104=1,'Teknisk administration'!$AP$377,0)","v":0},{"$f":"IF(AD104=1,VLOOKUP($I104,Tabell217[],2,FALSE)*$W104,0)","v":0},{"$f":"IF(AE104=1,VLOOKUP($I104,Tabell29[],2,FALSE)*$W104,0)","v":0},{"$f":"IF(ISTEXT(A104),VLOOKUP(A104,Tabell203[],7,FALSE),0)","v":0},0,{"$f":"IF(ISTEXT($A104),VLOOKUP($A104,Tabell203[],11,FALSE),0)","v":0},{"$f":"IF(ISTEXT($A104),VLOOKUP($A104,Tabell203[],12,FALSE),0)","v":0},{"$f":"IF(ISTEXT($A104),VLOOKUP($A104,Tabell203[],13,FALSE),0)","v":0},{"$f":"IF(ISTEXT($A104),VLOOKUP($A104,Tabell203[],14,FALSE),0)","v":0},{"$f":"IF(ISTEXT($A104),VLOOKUP($A104,Tabell203[],15,FALSE),0)","v":0},{"$f":"IF(AND(ISTEXT($A104),AP104>0),VLOOKUP($A104,Tabell203[],16,FALSE),0)","v":0}]
[null,null,null,null,null,{"$f":"IF(ISTEXT(A105),VLOOKUP(A105,Tabell203[],3,FALSE),\"\")","v":""},null,null,null,null,null,null,{"$f":"IF(ISTEXT(A105),VLOOKUP(A105,Tabell203[],10,FALSE),\"\")","v":""},0,0,0,0,{"$f":"IF(ISTEXT(A105),VLOOKUP(A105,Tabell203[],4,FALSE),0)","v":0},{"$f":"IF(ISTEXT(A105),VLOOKUP(A105,Tabell203[],6,FALSE),0)","v":0},{"$f":"IF(ISTEXT(A105),VLOOKUP(A105,Tabell203[],5,FALSE),0)","v":0},{"$f":"IF(ISTEXT(A105),VLOOKUP(A105,Tabell203[],8,FALSE),0)","v":0},{"$f":"IF(ISTEXT(A105),VLOOKUP(A105,Tabell203[],9,FALSE),0)","v":0},{"$f":"IF(ISTEXT(A105),IF(E105>0.000001,E105,VLOOKUP(A105,Tabell203[],2,FALSE)),0)","v":0},0,0,0,0,0,0,0,0,1,{"$f":"IF(X105=1,VLOOKUP(I105,Tabell220[],2,FALSE),0)","v":0},{"$f":"IF(Y105=1,IF(OR(W105<'Teknisk administration'!$P$262,W105>'Teknisk administration'!$P$263),'Teknisk administration'!$Q$262*J105^2+'Teknisk administration'!$R$262*J105+'Teknisk administration'!$S$262,'Teknisk administration'!$Q$263*J105^2+'Teknisk administration'!$R$263*J105+'Teknisk administration'!$S$263),0)","v":0},{"$f":"IF(Z105=1,VLOOKUP(I105,Tabell214[],2,FALSE)*W105+VLOOKUP(I105,Tabell214[],3,FALSE),0)","v":0},{"$f":"IF(AA105=1,VLOOKUP(I105,Tabell215[],2,FALSE)*W105+VLOOKUP(I105,Tabell215[],3,FALSE),0)","v":0},{"$f":"IF(AB105=1,VLOOKUP(I105,Tabell216[],2,FALSE)*W105,0)","v":0},{"$f":"IF(AC105=1,'Teknisk administration'!$AP$377,0)","v":0},{"$f":"IF(AD105=1,VLOOKUP($I105,Tabell217[],2,FALSE)*$W105,0)","v":0},{"$f":"IF(AE105=1,VLOOKUP($I105,Tabell29[],2,FALSE)*$W105,0)","v":0},{"$f":"IF(ISTEXT(A105),VLOOKUP(A105,Tabell203[],7,FALSE),0)","v":0},0,{"$f":"IF(ISTEXT($A105),VLOOKUP($A105,Tabell203[],11,FALSE),0)","v":0},{"$f":"IF(ISTEXT($A105),VLOOKUP($A105,Tabell203[],12,FALSE),0)","v":0},{"$f":"IF(ISTEXT($A105),VLOOKUP($A105,Tabell203[],13,FALSE),0)","v":0},{"$f":"IF(ISTEXT($A105),VLOOKUP($A105,Tabell203[],14,FALSE),0)","v":0},{"$f":"IF(ISTEXT($A105),VLOOKUP($A105,Tabell203[],15,FALSE),0)","v":0},{"$f":"IF(AND(ISTEXT($A105),AP105>0),VLOOKUP($A105,Tabell203[],16,FALSE),0)","v":0}]
[null,null,null,null,null,{"$f":"IF(ISTEXT(A106),VLOOKUP(A106,Tabell203[],3,FALSE),\"\")","v":""},null,null,null,null,null,null,{"$f":"IF(ISTEXT(A106),VLOOKUP(A106,Tabell203[],10,FALSE),\"\")","v":""},0,0,0,0,{"$f":"IF(ISTEXT(A106),VLOOKUP(A106,Tabell203[],4,FALSE),0)","v":0},{"$f":"IF(ISTEXT(A106),VLOOKUP(A106,Tabell203[],6,FALSE),0)","v":0},{"$f":"IF(ISTEXT(A106),VLOOKUP(A106,Tabell203[],5,FALSE),0)","v":0},{"$f":"IF(ISTEXT(A106),VLOOKUP(A106,Tabell203[],8,FALSE),0)","v":0},{"$f":"IF(ISTEXT(A106),VLOOKUP(A106,Tabell203[],9,FALSE),0)","v":0},{"$f":"IF(ISTEXT(A106),IF(E106>0.000001,E106,VLOOKUP(A106,Tabell203[],2,FALSE)),0)","v":0},0,0,0,0,0,0,0,0,1,{"$f":"IF(X106=1,VLOOKUP(I106,Tabell220[],2,FALSE),0)","v":0},{"$f":"IF(Y106=1,IF(OR(W106<'Teknisk administration'!$P$262,W106>'Teknisk administration'!$P$263),'Teknisk administration'!$Q$262*J106^2+'Teknisk administration'!$R$262*J106+'Teknisk administration'!$S$262,'Teknisk administration'!$Q$263*J106^2+'Teknisk administration'!$R$263*J106+'Teknisk administration'!$S$263),0)","v":0},{"$f":"IF(Z106=1,VLOOKUP(I106,Tabell214[],2,FALSE)*W106+VLOOKUP(I106,Tabell214[],3,FALSE),0)","v":0},{"$f":"IF(AA106=1,VLOOKUP(I106,Tabell215[],2,FALSE)*W106+VLOOKUP(I106,Tabell215[],3,FALSE),0)","v":0},{"$f":"IF(AB106=1,VLOOKUP(I106,Tabell216[],2,FALSE)*W106,0)","v":0},{"$f":"IF(AC106=1,'Teknisk administration'!$AP$377,0)","v":0},{"$f":"IF(AD106=1,VLOOKUP($I106,Tabell217[],2,FALSE)*$W106,0)","v":0},{"$f":"IF(AE106=1,VLOOKUP($I106,Tabell29[],2,FALSE)*$W106,0)","v":0},{"$f":"IF(ISTEXT(A106),VLOOKUP(A106,Tabell203[],7,FALSE),0)","v":0},0,{"$f":"IF(ISTEXT($A106),VLOOKUP($A106,Tabell203[],11,FALSE),0)","v":0},{"$f":"IF(ISTEXT($A106),VLOOKUP($A106,Tabell203[],12,FALSE),0)","v":0},{"$f":"IF(ISTEXT($A106),VLOOKUP($A106,Tabell203[],13,FALSE),0)","v":0},{"$f":"IF(ISTEXT($A106),VLOOKUP($A106,Tabell203[],14,FALSE),0)","v":0},{"$f":"IF(ISTEXT($A106),VLOOKUP($A106,Tabell203[],15,FALSE),0)","v":0},{"$f":"IF(AND(ISTEXT($A106),AP106>0),VLOOKUP($A106,Tabell203[],16,FALSE),0)","v":0}]
[null,null,null,null,null,{"$f":"IF(ISTEXT(A107),VLOOKUP(A107,Tabell203[],3,FALSE),\"\")","v":""},null,null,null,null,null,null,{"$f":"IF(ISTEXT(A107),VLOOKUP(A107,Tabell203[],10,FALSE),\"\")","v":""},0,0,0,0,{"$f":"IF(ISTEXT(A107),VLOOKUP(A107,Tabell203[],4,FALSE),0)","v":0},{"$f":"IF(ISTEXT(A107),VLOOKUP(A107,Tabell203[],6,FALSE),0)","v":0},{"$f":"IF(ISTEXT(A107),VLOOKUP(A107,Tabell203[],5,FALSE),0)","v":0},{"$f":"IF(ISTEXT(A107),VLOOKUP(A107,Tabell203[],8,FALSE),0)","v":0},{"$f":"IF(ISTEXT(A107),VLOOKUP(A107,Tabell203[],9,FALSE),0)","v":0},{"$f":"IF(ISTEXT(A107),IF(E107>0.000001,E107,VLOOKUP(A107,Tabell203[],2,FALSE)),0)","v":0},0,0,0,0,0,0,0,0,1,{"$f":"IF(X107=1,VLOOKUP(I107,Tabell220[],2,FALSE),0)","v":0},{"$f":"IF(Y107=1,IF(OR(W107<'Teknisk administration'!$P$262,W107>'Teknisk administration'!$P$263),'Teknisk administration'!$Q$262*J107^2+'Teknisk administration'!$R$262*J107+'Teknisk administration'!$S$262,'Teknisk administration'!$Q$263*J107^2+'Teknisk administration'!$R$263*J107+'Teknisk administration'!$S$263),0)","v":0},{"$f":"IF(Z107=1,VLOOKUP(I107,Tabell214[],2,FALSE)*W107+VLOOKUP(I107,Tabell214[],3,FALSE),0)","v":0},{"$f":"IF(AA107=1,VLOOKUP(I107,Tabell215[],2,FALSE)*W107+VLOOKUP(I107,Tabell215[],3,FALSE),0)","v":0},{"$f":"IF(AB107=1,VLOOKUP(I107,Tabell216[],2,FALSE)*W107,0)","v":0},{"$f":"IF(AC107=1,'Teknisk administration'!$AP$377,0)","v":0},{"$f":"IF(AD107=1,VLOOKUP($I107,Tabell217[],2,FALSE)*$W107,0)","v":0},{"$f":"IF(AE107=1,VLOOKUP($I107,Tabell29[],2,FALSE)*$W107,0)","v":0},{"$f":"IF(ISTEXT(A107),VLOOKUP(A107,Tabell203[],7,FALSE),0)","v":0},0,{"$f":"IF(ISTEXT($A107),VLOOKUP($A107,Tabell203[],11,FALSE),0)","v":0},{"$f":"IF(ISTEXT($A107),VLOOKUP($A107,Tabell203[],12,FALSE),0)","v":0},{"$f":"IF(ISTEXT($A107),VLOOKUP($A107,Tabell203[],13,FALSE),0)","v":0},{"$f":"IF(ISTEXT($A107),VLOOKUP($A107,Tabell203[],14,FALSE),0)","v":0},{"$f":"IF(ISTEXT($A107),VLOOKUP($A107,Tabell203[],15,FALSE),0)","v":0},{"$f":"IF(AND(ISTEXT($A107),AP107>0),VLOOKUP($A107,Tabell203[],16,FALSE),0)","v":0}]
[null,null,null,null,null,null,null,null,null,null,null,null,"Totalt mängd ",null,null,{"$f":"SUM(P96:P107)","v":0},null,null,null,null,null,null,null,null,null,{"$f":"IF(SUMPRODUCT(Z96:Z107,$G96:$G107)=0,0,SUMPRODUCT($P96:$P107,Z96:Z107)/SUMPRODUCT(Z96:Z107,$G96:$G107))","v":0},{"$f":"IF(SUMPRODUCT(AA96:AA107,$G96:$G107)=0,0,SUMPRODUCT($P96:$P107,AA96:AA107)/SUMPRODUCT(AA96:AA107,$G96:$G107))","v":0}]

{"sheet":"2.5. Kasserat foder och spill","index":11,"n_rows":60,"n_cols":11,"rows_kept":60,"cut":false,"hidden":false,"merged":[[11,5,12,5],[13,5,14,5],[15,5,16,5],[1,8,1,10],[2,8,2,10],[3,8,3,10],[4,8,4,10],[5,8,5,10],[6,8,6,10],[7,8,7,10]]}
["2.5. Kasserat foder och spill",null,null,null,null,null,null,null,"Det här betyder färgerna:"]
[{"$f":"VLOOKUP('2 Intro foder'!B15,'Teknisk administration'!$G$4:$H$6,2,FALSE)","v":"Obligatoriskt blad"},null,null,null,null,null,null,null,"Cell med värden hämtade från annan cell"]
["Här beräknas hur mycket foder som kasserats under perioden i form av kasserade balar, mögligt ensilage etc. samt spill i samband med utfodring, t ex nedtrampat foder vid foderhäck eller ratat foder.",null,null,null,null,null,null,null,"Fyll i din egen siffra"]
[null,null,null,null,null,null,null,null,"Fyll i egen siffra - frivilligt, t ex om du har tillgång till uppgift eller om du vill räkna med annat värde än det schablonvärde som visas i angränsande cell"]
[null,null,null,null,null,null,null,null,"Resultat/uträkning"]
[null,null,null,null,null,null,null,null,"Schablonvärde"]
["Kasserat foder",null,null,null,null,null,null,null,"Förklaringar till raden"]
["Försök att uppskatta hur många balar som kasserats och hur många lass med dåligt foder som körts bort under hela perioden. Det behöver alltså inte vara kopplat till vad och hur mycket du odlat under perioden.",null,null,null,null,null,null,null,"Plats för egna kommentarer"]
["Fyll i tabellerna nedan. I den översta fyller du i antal kasserade storbalar (ensilage). De två nedersta kan du definiera och namnge själv."]
[null,null,null,null,null,null,null,null,null,null,"Snabblänkar till bladen i verktyget:"]
["Kasserade storbalar (ensilage)","Enhet",{"$f":"Bakgrund!R$7","v":"Period 1"},{"$f":"Bakgrund!S$7","v":"Period 2"},{"$f":"Bakgrund!T$7","v":"Period 3"},"Förklaring","Egen kommentar",null,null,null,"Instruktion"]
["Antal kasserade rundbalar","st per år",null,null,null,"Fyll i antal balar som kasserats under perioden",null,null,null,null,"Bakgrund"]
["Antal kasserade fyrkantsbalar","st per år",null,null,null,null,null,null,null,null,"1 Intro djuren"]
["Beräknad mängd ts per rundbalar","kg ts per bal",{"$f":"IF('2.1 Odling foder'!Z53=0,'Teknisk administration'!$C483,'2.1 Odling foder'!Z53)*(1-'2.2 Förluster vid lagring'!C$32)","v":366.38142364407275},{"$f":"IF('2.1 Odling foder'!Z116=0,'Teknisk administration'!$C483,'2.1 Odling foder'!Z116)*(1-'2.2 Förluster vid lagring'!D$32)","v":366.38142364407275},{"$f":"IF('2.1 Odling foder'!Z181=0,'Teknisk administration'!$C483,'2.1 Odling foder'!Z181)*(1-'2.2 Förluster vid lagring'!E$32)","v":366.38142364407275},{"$f":"\"Värde hämtat från bladet \" &C_Odling_foder&\" om du skördat storbalar under perioden och angett antal skördade balar, annars schablonvärde.\"","v":"Värde hämtat från bladet 2.1 Odling foder om du skördat storbalar under perioden och angett antal skördade balar, annars schablonvärde."},null,null,null,null,"1.1 Kött"]
["Beräknad mängd ts per fyrkantsbalar","kg ts per bal",{"$f":"IF('2.1 Odling foder'!AA53=0,'Teknisk administration'!$C484,'2.1 Odling foder'!AA53)*(1-'2.2 Förluster vid lagring'!C$32)","v":455.14332863999999},{"$f":"IF('2.1 Odling foder'!AA116=0,'Teknisk administration'!$C484,'2.1 Odling foder'!AA116)*(1-'2.2 Förluster vid lagring'!D$32)","v":455.14332863999999},{"$f":"IF('2.1 Odling foder'!AA181=0,'Teknisk administration'!$C484,'2.1 Odling foder'!AA181)*(1-'2.2 Förluster vid lagring'!E$32)","v":455.14332863999999},null,null,null,null,null,"1.2 Tillväxt & förökning"]
["Eget värde, mängd ts per rundbal","kg ts per bal",null,null,null,"Här kan du fylla i eget värde om du inte vill använda den beräknade mängden ts per bal enligt ovan",null,null,null,null,"1.3 Hälsa & dödlighet"]
["Eget värde, mängd ts per fyrkantsbal","kg ts per bal",null,null,null,null,null,null,null,null,"2 Intro foder"]
["Total mängd ts i kasserade storbalar","kg ts",{"$f":"C12*IF(ISNUMBER(C16),C16,C14)+C13*IF(ISNUMBER(C17),C17,C15)","v":0},{"$f":"D12*IF(ISNUMBER(D16),D16,D14)+D13*IF(ISNUMBER(D17),D17,D15)","v":0},{"$f":"E12*IF(ISNUMBER(E16),E16,E14)+E13*IF(ISNUMBER(E17),E17,E15)","v":0},null,null,null,null,null,"2.1 Odling foder"]
[null,null,null,null,null,null,null,null,null,null,"2.2 Förluster vid lagring"]
["Dåligt ensilage från plan- och tornsilo",null,null,null,null,null,null,null,null,null,"2.3 Inköpt foder (exkl mineral)"]
["Antal lass som körs iväg med dåligt grovfoder från plan- och tornsilo","st",null,null,null,"Antal lass med foder som kasserats foder pga skador, mögel, angrepp osv.",null,null,null,null,"2.4 Utfodrat"]
["Mängd per lass","m3",null,null,null,"Volymen (m3) bortforslat grovfoder per lass",null,null,null,null,"2.5. Kasserat foder och spill"]
["ts i kasserat foder","kg ts per m3",175,175,175,"Fyll i eget värde eller behåll befintligt. Brukar vara 150-200 kg ts per m3 vid ts-halter mellan 23-45 %",null,null,null,null,"2.6 Bete"]
["Dåligt grovfoder från plan- och tornsilo","kg ts",{"$f":"C22*C21*C23","v":0},{"$f":"D22*D21*D23","v":0},{"$f":"E22*E21*E23","v":0},"Beräknas som Antal lass*m2 per lass*kg ts per m3",null,null,null,null,"3 Växtnäringsutnyttjande (1)"]
[null,null,null,null,null,null,null,null,null,null,"3 Växtnäringsutnyttjande (2)"]
["Övrigt kasserat foder",null,null,null,null,null,null,"Volymvikter","ref: agriwise",null,"3 Växtnäringsutnyttjande (3)"]
["Antal kärror som körs iväg med dåligt övrigt foder","st",null,null,null,"Kasserat foder pga skador, mögel, angrepp osv",null,"Typ av foder","kg ts per m3",null,"4 Energi och bränsle"]
["Mängd per lass","m3",null,null,null,"Volymen (m3) bortforslat foder per lass",null,"kraftfoder, pellets",530,null,"5 Vattenanvändning"]
["ts i kasserat foder","kg ts per m3",500,500,500,"Fyll i eget värde eller behåll befintligt, se tabell till höger",null,"vete, råg",650,null,"6 Resultat"]
["Övrigt kasserat foder","kg ts",{"$f":"C28*C27*C29","v":0},{"$f":"D28*D27*D29","v":0},{"$f":"E28*E27*E29","v":0},"Beräknas som Antal lass*m2 per lass*kg ts per m3",null,"korn",570]
[null,null,null,null,null,null,null,"havre",500]
["Eget namn/definition",null,null,null,null,null,null,"trindsäd",700]
["Antal lass","st",null,null,null,null,null,"potatis, foderbetor etc",150]
["mängd per lass etc.","m3",null,null,null,"Volymen (m3) bortforslat foder per lass",null,"hö",60]
["ts i kasserat foder","kg ts per m3",null,null,null,"Se tabell till höger!",null,"halm",50]
["summa","kg ts",{"$f":"C34*C33*C35","v":0},{"$f":"D34*D33*D35","v":0},{"$f":"E34*E33*E35","v":0},"Beräknas som Antal lass*m2 per lass*kg ts per m3"]
[]
["Eget namn/definition"]
["Antal lass","st"]
["mängd per lass etc.","m3",null,null,null,"Volymen (m3) bortforslat foder per lass"]
["ts i kasserat foder","kg ts per m3",null,null,null,"Se tabell till höger!"]
["summa","kg ts",{"$f":"C40*C39*C41","v":0},{"$f":"D40*D39*D41","v":0},{"$f":"E40*E39*E41","v":0},"Beräknas som Antal lass*m2 per lass*kg ts per m3"]
[]
["Totalt kasserat","kg ts",{"$f":"C18+C24+C30+C36+C42","v":0},{"$f":"D18+D24+D30+D36+D42","v":0},{"$f":"E18+E24+E30+E36+E42","v":0},"Summering av tabellerna ovan"]
[]
[]
[]
[]
["Spill vid utfodring"]
["Här beräknar du mängden foder som inte äts av djuren. Skriv gärna ner hur ofta utfordring sker, och om det varit några problem. "]
[null,"Enhet",{"$f":"Bakgrund!R$7","v":"Period 1"},{"$f":"Bakgrund!S$7","v":"Period 2"},{"$f":"Bakgrund!T$7","v":"Period 3"},"Förklaring","Egen kommentar",null,"Förluster vid utfodring, några exempel"]
["Utfodring av grovfoder","%",0.1,0.1,0.1,"Fyll i eget värde eller behåll befinligt. Schabloner till höger! Ofta höga förluster om ohackat foder",null,null,"Rundbalshäck, ohackat foder",0.3]
["Övrigt foder","%",0.02,0.02,0.02,"Fyll i eget värde eller behåll befinligt. Schabloner till höger! ",null,null,"Rundbalshäck, hackat foder",0.1]
["Totala förluster vid utfodring",null,null,null,null,null,null,null,"Utfodring foderbord",0.05]
["grovfoder","kg ts",{"$f":"'2.4 Utfodrat'!C81*C52","v":0},{"$f":"'2.4 Utfodrat'!D81*D52","v":0},{"$f":"'2.4 Utfodrat'!E81*E52","v":0},null,null,null,"Kraftfoder",0.02]
["grovfoder","MJ",{"$f":"'2.4 Utfodrat'!C84*C52","v":0},{"$f":"'2.4 Utfodrat'!D84*D52","v":0},{"$f":"'2.4 Utfodrat'!E84*E52","v":0},null," "]
[" övrigt foder","kg ts",{"$f":"'2.4 Utfodrat'!C82*C53","v":0},{"$f":"'2.4 Utfodrat'!D82*D53","v":0},{"$f":"'2.4 Utfodrat'!E82*E53","v":0}]
[" övrigt foder","MJ",{"$f":"'2.4 Utfodrat'!C85*C53","v":0},{"$f":"'2.4 Utfodrat'!D85*D53","v":0},{"$f":"'2.4 Utfodrat'!E85*E53","v":0}]
["Totala förluster vid utfodring","kg ts",{"$f":"C55+C57","v":0},0,0]
["Totala förluster vid utfodring","MJ",0,0,0]

{"sheet":"2.6 Bete","index":12,"n_rows":64,"n_cols":34,"rows_kept":64,"cut":false,"hidden":false,"merged":[[42,5,45,10],[46,5,49,10]]}
["2.6 Bete",null,null,null,null,null,null,null,null,null,null,null,null,null,null,null,null,null,null,null,null,null,null,null,null,null,null,null,null,null,null,null,null,"Det här betyder färgerna:"]
[{"$f":"VLOOKUP('2 Intro foder'!B16,'Teknisk administration'!$G$4:$H$6,2,FALSE)","v":"Bladet är frivilligt att fylla i"},null,null,null,null,null,null,null,null,null,null,null,null,null,null,null,null,null,null,null,null,null,null,null,null,null,null,null,null,null,null,null,null,"Fyll i din egen siffra"]
["Här beräknas djurens tillväxt (för kalvar/ungnöt) samt mängden ts bete som djuren konsumerat. Mängden bete beräknas utifrån djurens energibehov baserat på dina uppgifter om djurantal och hur de växer. ",null,null,null,null,null,null,null,null,null,null,null,null,null,null,null,null,null,null,null,null,null,null,null,null,null,null,null,null,null,null,null,null,"Egen uppgift, men välj värde ur rullista. "]
["Fyll i tabellerna nedan för betande djur. Obs! Ett tabellavsnitt per period, tabellerna ligger under varandra.",null,null,null,null,null,null,null,null,null,null,null,null,null,null,null,null,null,null,null,null,null,null,null,null,null,null,null,null,null,null,null,null,"Resultat/uträkning"]
["Du kan även lägga in andras djur som du tar emot för att beta, om du är intresserad av få fram den totala mängden bete (kg ts konsumerat) ",null,null,null,null,null,null,null,null,null,null,null,null,null,null,null,null,null,null,null,null,null,null,null,null,null,null,null,null,null,null,null,null,"Förklaringar till raden"]
["Fyll i ett skifte per rad eller lägg ihop flera skiften på samma rad. Det är även möjligt att lägga in ett skifte på flera rader och på så sätt dela upp betesperioden i olika omgångar. ",null,null,null,null,null,null,null,null,null,null,null,null,null,null,null,null,{"$f":"'Teknisk administration'!A428","v":"Åker_enbart_bete"},null,null,null,null,null,null,null,null,null,null,null,null,null,null,null,"Plats för egna kommentarer"]
["Fyll i gula celler på raden - lämna bara tomt om en djurkategori saknas (t ex efter avskiljning). Välj lämpligt alternativ i alla orange celler på raden - om du lämnar tomt  beräknas inte mängden ts/ha",null,null,null,null,null,null,null,null,null,null,null,null,null,null,null,null,{"$f":"'Teknisk administration'!A429","v":"Återväxt_efter_vallskörd"},null,null,null,null,null,null,null,null,null,null,null,null,null,null,null,"Glöm inte att fylla i värde! (Här krävs ett värde för att andra beräkningar ska fungera"]
[null,null,null,null,null,null,null,null,null,null,null,null,null,null,null,null,null,{"$f":"'Teknisk administration'!A430","v":"Naturbete"}]
["Räcker inte raderna till? Ta bort bladets skrivskydd (Granska/Skydda), inget lösenord krävs. Högerklicka i tabellen och välj Infoga > Infoga rad ovanför",null,null,null,null,null,null,null,null,null,null,null,null,null,null,null,null,null,null,null,null,null,null,null,null,null,null,null,null,null,null,null,null,"Snabblänkar till bladen i verktyget:"]
["Perioderna ligger under varandra på detta blad",null,null,null,null,null,null,null,null,null,null,null,null,null,null,null,null,null,null,null,null,null,null,null,null,null,null,null,null,null,null,null,null,"Instruktion"]
[null,null,null,null,null,null,null,null,null,null,null,null,null,null,null,null,null,null,null,null,null,null,null,null,null,null,null,null,null,null,null,null,null,"Bakgrund"]
[null,null,null,null,null,null,null,null,null,null,null,null,null,null,null,null,null,null,null,null,null,null,null,null,null,null,null,null,null,null,null,null,null,"1 Intro djuren"]
[null,null,null,null,null,null,null,null,null,null,null,null,null,null,null,null,null,null,null,null,null,null,null,null,null,null,null,null,null,null,null,null,null,"1.1 Kött"]
[null,null,null,null,null,null,"Kor på bete",null,"Kalvar/ungdjur på bete",null,null,null,null,null,null,null,null,null,null,null,null,null,null,null,null,null,null,null,null,null,null,null,null,"1.2 Tillväxt & förökning"]
["Typ av betesmark","Areal","Första dag på bete","Sista dag på bete","Antal dagar","Värderförhållanden","Antal","Vikt, genomsnitt","Totalt antal","Vikt vid betessläpp","Vikt vid betes-periodens slut","Tillväxt","Energibehov kor****","Energibehov ungnöt****","Energiinnehåll i betet","Konsumerat bete",null,"1 = ja, 0 = nej",null,null,"MJ/kg ts",null,null,null,null,null,null,null,null,null,null,null,null,"1.3 Hälsa & dödlighet"]
["Du måste välja ett alternativ ur lista för att kg ts per hektar ska beräknas!*     ","hektar","datum**","datum***","dagar","Välj lämpligt alternativ ur listan så gör tillägg för extra energibehov vid dåligt väder*","st","kg","st ","kg ","kg  ","g/dag","MJ/djur och dygn","MJ/djur och dygn ","Du måste välja ett alternativ ur listan för att kg ts ska beräknas!*","kg ts/hektar",null,"Åker_enbart_bete","Återväxt_efter_vallskörd","Naturbete","Åker2","Återväxt3","Naturbete4",null,null,null,null,null,null,null,null,null,null,"2 Intro foder"]
[{"$f":"Bakgrund!R7","v":"Period 1"},null,null,null,null,null,null,null,null,null,null,null,null,null,null,null,"Egen kommentar",null,null,null,null,null,null,null,null,null,null,null,null,null,null,null,null,"2.1 Odling foder"]
["välj_ur_lista",null,null,null,{"$f":"_xlfn.DAYS(D18,C18)","v":0},"--- välj ur lista! ---",null,null,null,null,null,{"$f":"IF(E18=0,0,(K18-J18)/E18*1000)","v":0},{"$f":"IF(G18=0,0,('Teknisk administration'!$C$122*H18^0.75*(1+'Teknisk administration'!$C$127)*(1+VLOOKUP(F18,'Teknisk administration'!$B$133:$C$138,2,FALSE))+'Teknisk administration'!$G$117))","v":0},{"$f":"IF(I18=0,0,('Teknisk administration'!$C$124*AVERAGE(J18:K18)^0.75)*(1+'Teknisk administration'!$C$127)+(L18/1000*('Teknisk administration'!$D$124+'Teknisk administration'!$E$124*(AVERAGE(J18:K18)))/((1-0.3*L18/1000)*'Teknisk administration'!$G$124))*(1+(VLOOKUP(F18,'Teknisk administration'!$B$133:$C$138,2,FALSE))))","v":0},"Välj först typ av bete längst till vänster!",{"$f":"IF((SUM(U18:W18)=0),0,IF(B18=0,0,(M18*G18+I18*N18)*E18/SUM(U18:W18)/B18))","v":0},null,{"$f":"IF($A18=R$16,1,0)","v":0},0,0,{"$f":"IF(AND(ISTEXT(O18),R18=1),VLOOKUP(O18,åker_tabell,3,FALSE),0)","v":0},{"$f":"IF(AND(ISTEXT(O18),S18=1),VLOOKUP(O18,återväxt_tabell,3,FALSE),0)","v":0},{"$f":"IF(AND(ISTEXT(O18),T18=1),VLOOKUP(O18,naturbete_tabell,3,FALSE),0)","v":0},{"$f":"(K18-J18)*I18","v":0},null,null,null,null,null,null,null,null,null,"2.2 Förluster vid lagring"]
[null,null,null,null,0,null,null,null,null,null,null,0,{"$f":"IF(G19=0,0,('Teknisk administration'!$C$122*H19^0.75*(1+'Teknisk administration'!$C$127)*(1+VLOOKUP(F19,'Teknisk administration'!$B$133:$C$138,2,FALSE))+'Teknisk administration'!$G$117))","v":0},{"$f":"IF(I19=0,0,('Teknisk administration'!$C$124*AVERAGE(J19:K19)^0.75)*(1+'Teknisk administration'!$C$127)+(L19/1000*('Teknisk administration'!$D$124+'Teknisk administration'!$E$124*(AVERAGE(J19:K19)))/((1-0.3*L19/1000)*'Teknisk administration'!$G$124))*(1+(VLOOKUP(F19,'Teknisk administration'!$B$133:$C$138,2,FALSE))))","v":0},null,{"$f":"IF((SUM(U19:W19)=0),0,IF(B19=0,0,(M19*G19+I19*N19)*E19/SUM(U19:W19)/B19))","v":0},null,0,0,0,0,0,0,{"$f":"(K19-J19)*I19","v":0},null,null,null,null,null,null,null,null,null,"2.3 Inköpt foder (exkl mineral)"]
[null,null,null,null,0,null,null,null,null,null,null,0,{"$f":"IF(G20=0,0,('Teknisk administration'!$C$122*H20^0.75*(1+'Teknisk administration'!$C$127)*(1+VLOOKUP(F20,'Teknisk administration'!$B$133:$C$138,2,FALSE))+'Teknisk administration'!$G$117))","v":0},{"$f":"IF(I20=0,0,('Teknisk administration'!$C$124*AVERAGE(J20:K20)^0.75)*(1+'Teknisk administration'!$C$127)+(L20/1000*('Teknisk administration'!$D$124+'Teknisk administration'!$E$124*(AVERAGE(J20:K20)))/((1-0.3*L20/1000)*'Teknisk administration'!$G$124))*(1+(VLOOKUP(F20,'Teknisk administration'!$B$133:$C$138,2,FALSE))))","v":0},null,0,null,0,0,0,0,0,0,0,null,null,null,null,null,null,null,null,null,"2.4 Utfodrat"]
[null,null,null,null,0,null,null,null,null,null,null,0,{"$f":"IF(G21=0,0,('Teknisk administration'!$C$122*H21^0.75*(1+'Teknisk administration'!$C$127)*(1+VLOOKUP(F21,'Teknisk administration'!$B$133:$C$138,2,FALSE))+'Teknisk administration'!$G$117))","v":0},{"$f":"IF(I21=0,0,('Teknisk administration'!$C$124*AVERAGE(J21:K21)^0.75)*(1+'Teknisk administration'!$C$127)+(L21/1000*('Teknisk administration'!$D$124+'Teknisk administration'!$E$124*(AVERAGE(J21:K21)))/((1-0.3*L21/1000)*'Teknisk administration'!$G$124))*(1+(VLOOKUP(F21,'Teknisk administration'!$B$133:$C$138,2,FALSE))))","v":0},null,0,null,0,0,0,0,0,0,0,null,null,null,null,null,null,null,null,null,"2.5. Kasserat foder och spill"]
[null,null,null,null,0,null,null,null,null,null,null,0,{"$f":"IF(G22=0,0,('Teknisk administration'!$C$122*H22^0.75*(1+'Teknisk administration'!$C$127)*(1+VLOOKUP(F22,'Teknisk administration'!$B$133:$C$138,2,FALSE))+'Teknisk administration'!$G$117))","v":0},{"$f":"IF(I22=0,0,('Teknisk administration'!$C$124*AVERAGE(J22:K22)^0.75)*(1+'Teknisk administration'!$C$127)+(L22/1000*('Teknisk administration'!$D$124+'Teknisk administration'!$E$124*(AVERAGE(J22:K22)))/((1-0.3*L22/1000)*'Teknisk administration'!$G$124))*(1+(VLOOKUP(F22,'Teknisk administration'!$B$133:$C$138,2,FALSE))))","v":0},null,0,null,0,0,0,0,0,0,0,null,null,null,null,null,null,null,null,null,"2.6 Bete"]
[{"$f":"Bakgrund!S7","v":"Period 2"},null,null,null,null,null,null,null,null,null,null,null,null,null,null,null,null,null,null,null,null,null,null,null,null,null,null,null,null,null,null,null,null,"3 Växtnäringsutnyttjande (1)"]
["välj_ur_lista",null,null,null,{"$f":"_xlfn.DAYS(D24,C24)","v":0},"--- välj ur lista! ---",null,null,null,null,null,{"$f":"IF(E24=0,0,(K24-J24)/E24*1000)","v":0},{"$f":"IF(G24=0,0,('Teknisk administration'!$C$122*H24^0.75*(1+'Teknisk administration'!$C$127)*(1+VLOOKUP(F24,'Teknisk administration'!$B$133:$C$138,2,FALSE))+'Teknisk administration'!$G$117))","v":0},{"$f":"IF(I24=0,0,('Teknisk administration'!$C$124*AVERAGE(J24:K24)^0.75)*(1+'Teknisk administration'!$C$127)+(L24/1000*('Teknisk administration'!$D$124+'Teknisk administration'!$E$124*(AVERAGE(J24:K24)))/((1-0.3*L24/1000)*'Teknisk administration'!$G$124))*(1+(VLOOKUP(F24,'Teknisk administration'!$B$133:$C$138,2,FALSE))))","v":0},"Välj först typ av bete längst till vänster!",{"$f":"IF((SUM(U24:W24)=0),0,IF(B24=0,0,(M24*G24+I24*N24)*E24/SUM(U24:W24)/B24))","v":0},null,{"$f":"IF($A24=R$16,1,0)","v":0},0,0,{"$f":"IF(AND(ISTEXT(O24),R24=1),VLOOKUP(O24,åker_tabell,3,FALSE),0)","v":0},{"$f":"IF(AND(ISTEXT(O24),S24=1),VLOOKUP(O24,återväxt_tabell,3,FALSE),0)","v":0},{"$f":"IF(AND(ISTEXT(O24),T24=1),VLOOKUP(O24,naturbete_tabell,3,FALSE),0)","v":0},{"$f":"(K24-J24)*I24","v":0},null,null,null,null,null,null,null,null,null,"3 Växtnäringsutnyttjande (2)"]
[null,null,null,null,0,null,null,null,null,null,null,0,{"$f":"IF(G25=0,0,('Teknisk administration'!$C$122*H25^0.75*(1+'Teknisk administration'!$C$127)*(1+VLOOKUP(F25,'Teknisk administration'!$B$133:$C$138,2,FALSE))+'Teknisk administration'!$G$117))","v":0},{"$f":"IF(I25=0,0,('Teknisk administration'!$C$124*AVERAGE(J25:K25)^0.75)*(1+'Teknisk administration'!$C$127)+(L25/1000*('Teknisk administration'!$D$124+'Teknisk administration'!$E$124*(AVERAGE(J25:K25)))/((1-0.3*L25/1000)*'Teknisk administration'!$G$124))*(1+(VLOOKUP(F25,'Teknisk administration'!$B$133:$C$138,2,FALSE))))","v":0},null,0,null,0,0,0,0,0,0,0,null,null,null,null,null,null,null,null,null,"3 Växtnäringsutnyttjande (3)"]
[null,null,null,null,0,null,null,null,null,null,null,0,{"$f":"IF(G26=0,0,('Teknisk administration'!$C$122*H26^0.75*(1+'Teknisk administration'!$C$127)*(1+VLOOKUP(F26,'Teknisk administration'!$B$133:$C$138,2,FALSE))+'Teknisk administration'!$G$117))","v":0},{"$f":"IF(I26=0,0,('Teknisk administration'!$C$124*AVERAGE(J26:K26)^0.75)*(1+'Teknisk administration'!$C$127)+(L26/1000*('Teknisk administration'!$D$124+'Teknisk administration'!$E$124*(AVERAGE(J26:K26)))/((1-0.3*L26/1000)*'Teknisk administration'!$G$124))*(1+(VLOOKUP(F26,'Teknisk administration'!$B$133:$C$138,2,FALSE))))","v":0},null,0,null,0,0,0,0,0,0,0,null,null,null,null,null,null,null,null,null,"4 Energi och bränsle"]
[null,null,null,null,0,null,null,null,null,null,null,0,{"$f":"IF(G27=0,0,('Teknisk administration'!$C$122*H27^0.75*(1+'Teknisk administration'!$C$127)*(1+VLOOKUP(F27,'Teknisk administration'!$B$133:$C$138,2,FALSE))+'Teknisk administration'!$G$117))","v":0},{"$f":"IF(I27=0,0,('Teknisk administration'!$C$124*AVERAGE(J27:K27)^0.75)*(1+'Teknisk administration'!$C$127)+(L27/1000*('Teknisk administration'!$D$124+'Teknisk administration'!$E$124*(AVERAGE(J27:K27)))/((1-0.3*L27/1000)*'Teknisk administration'!$G$124))*(1+(VLOOKUP(F27,'Teknisk administration'!$B$133:$C$138,2,FALSE))))","v":0},null,0,null,0,0,0,0,0,0,0,null,null,null,null,null,null,null,null,null,"5 Vattenanvändning"]
[null,null,null,null,0,null,null,null,null,null,null,0,{"$f":"IF(G28=0,0,('Teknisk administration'!$C$122*H28^0.75*(1+'Teknisk administration'!$C$127)*(1+VLOOKUP(F28,'Teknisk administration'!$B$133:$C$138,2,FALSE))+'Teknisk administration'!$G$117))","v":0},{"$f":"IF(I28=0,0,('Teknisk administration'!$C$124*AVERAGE(J28:K28)^0.75)*(1+'Teknisk administration'!$C$127)+(L28/1000*('Teknisk administration'!$D$124+'Teknisk administration'!$E$124*(AVERAGE(J28:K28)))/((1-0.3*L28/1000)*'Teknisk administration'!$G$124))*(1+(VLOOKUP(F28,'Teknisk administration'!$B$133:$C$138,2,FALSE))))","v":0},null,0,null,0,0,0,0,0,0,0,null,null,null,null,null,null,null,null,null,"6 Resultat"]
[{"$f":"Bakgrund!T7","v":"Period 3"}]
["välj_ur_lista",null,null,null,{"$f":"_xlfn.DAYS(D30,C30)","v":0},"--- välj ur lista! ---",null,null,null,null,null,{"$f":"IF(E30=0,0,(K30-J30)/E30*1000)","v":0},{"$f":"IF(G30=0,0,('Teknisk administration'!$C$122*H30^0.75*(1+'Teknisk administration'!$C$127)*(1+VLOOKUP(F30,'Teknisk administration'!$B$133:$C$138,2,FALSE))+'Teknisk administration'!$G$117))","v":0},{"$f":"IF(I30=0,0,('Teknisk administration'!$C$124*AVERAGE(J30:K30)^0.75)*(1+'Teknisk administration'!$C$127)+(L30/1000*('Teknisk administration'!$D$124+'Teknisk administration'!$E$124*(AVERAGE(J30:K30)))/((1-0.3*L30/1000)*'Teknisk administration'!$G$124))*(1+(VLOOKUP(F30,'Teknisk administration'!$B$133:$C$138,2,FALSE))))","v":0},"Välj först typ av bete längst till vänster!",{"$f":"IF((SUM(U30:W30)=0),0,IF(B30=0,0,(M30*G30+I30*N30)*E30/SUM(U30:W30)/B30))","v":0},null,{"$f":"IF($A30=R$16,1,0)","v":0},0,0,{"$f":"IF(AND(ISTEXT(O30),R30=1),VLOOKUP(O30,åker_tabell,3,FALSE),0)","v":0},{"$f":"IF(AND(ISTEXT(O30),S30=1),VLOOKUP(O30,återväxt_tabell,3,FALSE),0)","v":0},{"$f":"IF(AND(ISTEXT(O30),T30=1),VLOOKUP(O30,naturbete_tabell,3,FALSE),0)","v":0},{"$f":"(K30-J30)*I30","v":0}]
[null,null,null,null,0,null,null,null,null,null,null,0,{"$f":"IF(G31=0,0,('Teknisk administration'!$C$122*H31^0.75*(1+'Teknisk administration'!$C$127)*(1+VLOOKUP(F31,'Teknisk administration'!$B$133:$C$138,2,FALSE))+'Teknisk administration'!$G$117))","v":0},{"$f":"IF(I31=0,0,('Teknisk administration'!$C$124*AVERAGE(J31:K31)^0.75)*(1+'Teknisk administration'!$C$127)+(L31/1000*('Teknisk administration'!$D$124+'Teknisk administration'!$E$124*(AVERAGE(J31:K31)))/((1-0.3*L31/1000)*'Teknisk administration'!$G$124))*(1+(VLOOKUP(F31,'Teknisk administration'!$B$133:$C$138,2,FALSE))))","v":0},null,0,null,0,0,0,0,0,0,0]
[null,null,null,null,{"$f":"_xlfn.DAYS(D32,C32)","v":0},null,null,null,null,null,null,{"$f":"IF(E32=0,0,(K32-J32)/E32*1000)","v":0},{"$f":"IF(G32=0,0,('Teknisk administration'!$C$122*H32^0.75*(1+'Teknisk administration'!$C$127)*(1+VLOOKUP(F32,'Teknisk administration'!$B$133:$C$138,2,FALSE))+'Teknisk administration'!$G$117))","v":0},{"$f":"IF(I32=0,0,('Teknisk administration'!$C$124*AVERAGE(J32:K32)^0.75)*(1+'Teknisk administration'!$C$127)+(L32/1000*('Teknisk administration'!$D$124+'Teknisk administration'!$E$124*(AVERAGE(J32:K32)))/((1-0.3*L32/1000)*'Teknisk administration'!$G$124))*(1+(VLOOKUP(F32,'Teknisk administration'!$B$133:$C$138,2,FALSE))))","v":0},null,0,null,0,0,0,0,0,0,0]
[null,null,null,null,{"$f":"_xlfn.DAYS(D33,C33)","v":0},null,null,null,null,null,null,{"$f":"IF(E33=0,0,(K33-J33)/E33*1000)","v":0},{"$f":"IF(G33=0,0,('Teknisk administration'!$C$122*H33^0.75*(1+'Teknisk administration'!$C$127)*(1+VLOOKUP(F33,'Teknisk administration'!$B$133:$C$138,2,FALSE))+'Teknisk administration'!$G$117))","v":0},{"$f":"IF(I33=0,0,('Teknisk administration'!$C$124*AVERAGE(J33:K33)^0.75)*(1+'Teknisk administration'!$C$127)+(L33/1000*('Teknisk administration'!$D$124+'Teknisk administration'!$E$124*(AVERAGE(J33:K33)))/((1-0.3*L33/1000)*'Teknisk administration'!$G$124))*(1+(VLOOKUP(F33,'Teknisk administration'!$B$133:$C$138,2,FALSE))))","v":0},null,0,null,0,0,0,0,0,0,0]
[null,null,null,null,{"$f":"_xlfn.DAYS(D34,C34)","v":0},null,null,null,null,null,null,{"$f":"IF(E34=0,0,(K34-J34)/E34*1000)","v":0},{"$f":"IF(G34=0,0,('Teknisk administration'!$C$122*H34^0.75*(1+'Teknisk administration'!$C$127)*(1+VLOOKUP(F34,'Teknisk administration'!$B$133:$C$138,2,FALSE))+'Teknisk administration'!$G$117))","v":0},{"$f":"IF(I34=0,0,('Teknisk administration'!$C$124*AVERAGE(J34:K34)^0.75)*(1+'Teknisk administration'!$C$127)+(L34/1000*('Teknisk administration'!$D$124+'Teknisk administration'!$E$124*(AVERAGE(J34:K34)))/((1-0.3*L34/1000)*'Teknisk administration'!$G$124))*(1+(VLOOKUP(F34,'Teknisk administration'!$B$133:$C$138,2,FALSE))))","v":0},null,0,null,0,0,0,0,0,0,0]
[null,null,null,null,{"$f":"_xlfn.DAYS(D35,C35)","v":0},null,null,null,null,null,null,{"$f":"IF(E35=0,0,(K35-J35)/E35*1000)","v":0},{"$f":"IF(G35=0,0,('Teknisk administration'!$C$122*H35^0.75*(1+'Teknisk administration'!$C$127)*(1+VLOOKUP(F35,'Teknisk administration'!$B$133:$C$138,2,FALSE))+'Teknisk administration'!$G$117))","v":0},{"$f":"IF(I35=0,0,('Teknisk administration'!$C$124*AVERAGE(J35:K35)^0.75)*(1+'Teknisk administration'!$C$127)+(L35/1000*('Teknisk administration'!$D$124+'Teknisk administration'!$E$124*(AVERAGE(J35:K35)))/((1-0.3*L35/1000)*'Teknisk administration'!$G$124))*(1+(VLOOKUP(F35,'Teknisk administration'!$B$133:$C$138,2,FALSE))))","v":0},null,0,null,0,0,0,0,0,0,0]
["* Välj ett alternativ ur listan genom att: 1) Klicka i en orange cell. 2) Klicka på den grå rutan med pil som dyker upp till höger om cellen. 3. Välj lämpligt alternativ ur listan som visas"]
["** Datum kan skrivas som \"2021-08-01\", \"1 augusti\", \"1 aug\" eller \"1/8\", visas som \"1 aug\""]
["*** Varning tänds (cellen blir röd) om datumet för Sista dag på bete infaller före första dagen på betet. Justera något av datumen så släcks varningen!"]
["**** Beräknat energibehov utifrån norm. För kor utifrån vikt och med tillägg för energibehov för att producera mjölk, inget tillägg för dräktighet. För undjur utifrån tillväxt (g/dag) och vikt (genomsnitt). Tillägg görs för att djuren rör sig mer på betet (+17 % på underhållsbehovet). Tillägg kan även göras för vädersituation (välj alternativ ur lista) med 0-22 % på underhållsbehovet. "]
[]
["Sammanställning mängd bete, nöt"]
[null,"Enhet",{"$f":"Bakgrund!R7","v":"Period 1"},{"$f":"Bakgrund!S7","v":"Period 2"},{"$f":"Bakgrund!T7","v":"Period 3"},"Förklaring"]
["Totalt, varav…","hektar",{"$f":"SUM(C44:C46)","v":0},{"$f":"SUM(D44:D46)","v":0},0,{"$f":"\"Summering av arealen som du angett ovan. Om det blir fler hektar än betesarealen enligt '\"&'2 Intro foder'!A1 &\"' visas betesarealen enligt '\"&'2 Intro foder'!A1 &\"'. Det händer om du delat upp betesperioden i omgångar och samma skifte därmed kommer med på flera rader. \nOm du glömt att fylla i betesareal på \" &'2 Intro foder'!A1 & \" blir cellen röd och texten vit. Fyll då i areal på \" &'2 Intro foder'!A1 & \" så släcks varningen och nyckeltalen beräknas.\"","v":"Summering av arealen som du angett ovan. Om det blir fler hektar än betesarealen enligt '2 Intro foder' visas betesarealen enligt '2 Intro foder'. Det händer om du delat upp betesperioden i omgångar och samma skifte därmed kommer med på flera rader. \nOm du glömt att fylla i betesareal på 2 Intro foder blir cellen röd och texten vit. Fyll då i areal på 2 Intro foder så släcks varningen och nyckeltalen beräknas."}]
["Åker","hektar",{"$f":"IF(R44>'2 Intro foder'!C33,'2 Intro foder'!C33,'2.6 Bete'!R44)","v":0},{"$f":"IF(S44>'2 Intro foder'!D33,'2 Intro foder'!D33,'2.6 Bete'!S44)","v":0},{"$f":"IF(T44>'2 Intro foder'!E33,'2 Intro foder'!E33,'2.6 Bete'!T44)","v":0},null,null,null,null,null,null,null,null,null,null,null,null,{"$f":"SUMPRODUCT(B18:B22,Tabell39[Kolumn18])","v":0},{"$f":"SUMPRODUCT($B$24:$B$28,R24:R28)","v":0},{"$f":"SUMPRODUCT($B$30:$B$35,R30:R35)","v":0}]
["Återväxt","hektar",{"$f":"IF(R45>'2 Intro foder'!C34,'2 Intro foder'!C34,'2.6 Bete'!R45)","v":0},{"$f":"IF(S45>'2 Intro foder'!D34,'2 Intro foder'!D34,'2.6 Bete'!S45)","v":0},{"$f":"IF(T45>'2 Intro foder'!E34,'2 Intro foder'!E34,'2.6 Bete'!T45)","v":0},null,null,null,null,null,null,null,null,null,null,null,null,{"$f":"SUMPRODUCT(B18:B22,Tabell39[Kolumn19])","v":0},{"$f":"SUMPRODUCT($B$24:$B$28,S24:S28)","v":0},{"$f":"SUMPRODUCT($B$30:$B$35,S30:S35)","v":0}]
["Naturbete","hektar",{"$f":"IF(R46>'2 Intro foder'!C36,'2 Intro foder'!C36,'2.6 Bete'!R46)","v":0},{"$f":"IF(S46>'2 Intro foder'!D36,'2 Intro foder'!D36,'2.6 Bete'!S46)","v":0},{"$f":"IF(T46>'2 Intro foder'!E36,'2 Intro foder'!E36,'2.6 Bete'!T46)","v":0},null,null,null,null,null,null,null,null,null,null,null,null,{"$f":"SUMPRODUCT(B18:B22,Tabell39[Kolumn20])","v":0},{"$f":"SUMPRODUCT($B$24:$B$28,T24:T28)","v":0},{"$f":"SUMPRODUCT($B$30:$B$35,T30:T35)","v":0}]
["Beräknad avkastning på bete, totalt","kg ts",{"$f":"SUMPRODUCT(P18:P22,B18:B22)","v":0},{"$f":"SUMPRODUCT(P24:P28,B24:B28)","v":0},{"$f":"SUMPRODUCT(P30:P35,B30:B35)","v":0},"Mängd bete som konsumerats av djuren, dels totalt och dels som genomsnitt per hektar. Nedtrampning, rator etc. gör att mängden per hektar kan vara relativt låg, kanske 50-70 % av den biologiska skörden"]
["Åker","kg ts/ha",{"$f":"IF(C44=0,0,ROUND(R48/C44,3-LEN(INT(R48/C44))))","v":0},0,0,null,null,null,null,null,null,null,null,null,null,null,null,{"$f":"SUMPRODUCT(B18:B22,Tabell39[Kolumn18],Tabell39[Kolumn16])","v":0},{"$f":"SUMPRODUCT($B$24:$B$28,R24:R28,Tabell395[[#All],[Kolumn13]])","v":0},{"$f":"SUMPRODUCT($B$30:$B$35,R30:R35,Tabell39536[[#All],[Kolumn13]])","v":0}]
["Återväxt","kg ts/ha",0,0,0,null,null,null,null,null,null,null,null,null,null,null,null,{"$f":"SUMPRODUCT(B18:B22,Tabell39[Kolumn19],Tabell39[Kolumn16])","v":0},{"$f":"SUMPRODUCT($B$24:$B$28,S24:S28,Tabell395[[#All],[Kolumn13]])","v":0},{"$f":"SUMPRODUCT($B$30:$B$35,S30:S35,Tabell39536[[#All],[Kolumn13]])","v":0}]
["Naturbete","kg ts/ha",0,0,0,null,null,null,null,null,null,null,null,null,null,null,null,{"$f":"SUMPRODUCT(B18:B22,Tabell39[Kolumn20],Tabell39[Kolumn16])","v":0},{"$f":"SUMPRODUCT($B$24:$B$28,T24:T28,Tabell395[[#All],[Kolumn13]])","v":0},{"$f":"SUMPRODUCT($B$30:$B$35,T30:T35,Tabell39536[[#All],[Kolumn13]])","v":0}]
[]
[]
[]
[null,null,null,null,null,null,null,null,null,null,null,null,null,null,null,null,null,"kg tillväxt"]
[]
[null,null,null,null,null,null,null,null,null,null,null,null,null,null,null,null,null,{"$f":"SUMPRODUCT($X$18:$X$22,R18:R22)","v":0},{"$f":"SUMPRODUCT($X$24:$X$28,R24:R28)","v":0},{"$f":"SUMPRODUCT($X$30:$X$35,R30:R35)","v":0}]
[null,null,null,null,null,null,null,null,null,null,null,null,null,null,null,null,null,{"$f":"SUMPRODUCT($X$18:$X$22,S18:S22)","v":0},{"$f":"SUMPRODUCT($X$24:$X$28,S24:S28)","v":0},{"$f":"SUMPRODUCT($X$30:$X$35,S30:S35)","v":0}]
[null,null,null,null,null,null,null,null,null,null,null,null,null,null,null,null,null,{"$f":"SUMPRODUCT($X$18:$X$22,T18:T22)","v":0},{"$f":"SUMPRODUCT($X$24:$X$28,T24:T28)","v":0},{"$f":"SUMPRODUCT($X$30:$X$35,T30:T35)","v":0}]
[]
[]
[null,null,null,null,null,null,null,null,null,null,null,null,null,null,null,null,null,"kg tillväxt per hektar"]
[null,null,null,null,null,null,null,null,null,null,null,null,null,null,null,null,null,{"$f":"IF(C44=0,0,R56/C44)","v":0},{"$f":"IF(D44=0,0,S56/D44)","v":0},0]
[null,null,null,null,null,null,null,null,null,null,null,null,null,null,null,null,null,{"$f":"IF(C45=0,0,R57/C45)","v":0},{"$f":"IF(D45=0,0,S57/D45)","v":0},{"$f":"IF(E45=0,0,T57/E45)","v":0}]
[null,null,null,null,null,null,null,null,null,null,null,null,null,null,null,null,null,0,0,0]

{"sheet":"3 Växtnäringsutnyttjande (1)","index":13,"n_rows":115,"n_cols":13,"rows_kept":115,"cut":false,"hidden":false,"merged":[[114,5,114,6],[105,5,105,6],[106,5,106,6],[108,5,108,6],[111,5,111,6],[112,5,112,6],[113,5,113,6],[104,5,104,6],[6,12,6,15],[7,12,7,15],[8,12,8,15],[9,12,9,15],[10,12,10,15],[11,12,11,15],[38,5,38,6],[39,5,39,6],[40,5,40,6],[41,5,41,6],[42,5,42,6],[5,12,5,15],[1,0,1,11],[1,12,1,15],[2,12,2,15],[3,12,3,15],[4,12,4,15]]}
[{"$f":"\"3 Växtnäringsutnyttjande period 1, \" &period_1","v":"3 Växtnäringsutnyttjande period 1, Period 1"},null,null,null,null,null,null,null,null,null,null,null,"Det här betyder färgerna:"]
[{"$f":"IF(Bakgrund!BI37=0,'Teknisk administration'!H6,'Teknisk administration'!H5)","v":"Bladet är inte relevant för dig"},null,null,null,null,null,null,null,null,null,null,null,"Cell med värden hämtade från annan cell"]
["Här beräknar du växtnäringsutnyttjandet, d v s hur många kg inköpt kväve, fosfor och kalium som gått åt för att producera köttet. ",null,null,null,null,null,null,null,null,null,null,null,"Beräkning"]
["Om du säljer grödor kommer du först få göra avräkning för inköpt växtnäring som använts i odlingen av dessa grödor.",null,null,null,null,null,null,null,null,null,null,null,"Fyll i din egen siffra"]
["Det finns två alternativ för att beräkna växtnäringsinsatsen:",null,null,null,null,null,null,null,null,null,null,null,"Fyll i egen siffra - frivilligt, t ex om du har tillgång till uppgift eller om du vill räkna med annat värde än det schablonvärde som visas i angränsande cell"]
["       1) Mata in färdiga resultat, t ex från växtnäringsbalans gjord inom Greppa Näringen. Detta alternativ visas om du redan har en växtnäringsbalans för perioden",null,null,null,null,null,null,null,null,null,null,null,"Egen uppgift, men välj värde ur rullista. "]
["      2) Beräkna mängden växtnäring i inköpta produkter samt sålda grödor. Visas om du inte har en aktuell växtnäringsbalans",null,null,null,null,null,null,null,null,null,null,null,"Resultat/uträkning"]
["Ljusgrå text och vita rutor = avsnittet är inte relevant för dig.",null,null,null,null,null,null,null,null,null,null,null,"Schablonvärde"]
[null,null,null,null,null,null,null,null,null,null,null,null,"Förklaringar till raden"]
[{"$f":"IF(Bakgrund!S13=1,\"\",\"Obs! Perioden är inte ett helt år, och vissa indata behöver anpassas. Instruktioner ges vid aktuella tabeller. Tolkningen av resultaten kan också påverkas, t ex om perioden inte täcker hela växtodlingssäsongen.\")","v":"Obs! Perioden är inte ett helt år, och vissa indata behöver anpassas. Instruktioner ges vid aktuella tabeller. Tolkningen av resultaten kan också påverkas, t ex om perioden inte täcker hela växtodlingssäsongen."},null,null,null,null,null,null,null,null,null,null,null,"Plats för egna kommentarer"]
["Räcker inte raderna till? Ta bort bladets skrivskydd (Granska/Skydda), inget lösenord krävs. Högerklicka i tabellen och välj Infoga > Infoga rad ovanför",null,null,null,null,null,null,null,null,null,null,null,"Glöm inte att fylla i värde! (Här krävs ett värde för att andra beräkningar ska fungera"]
[null,null,null,null,null,null,null,null,null,null,null,null,"grå text, ev vit bakgrund: Avsnittet är inte relevant för dig baserat på svaren på ja/nej-frågor på bladet Bakgrund"]
[]
[null,null,null,null,null,null,null,null,null,null,null,null,"Snabblänkar till bladen i verktyget:"]
[null,null,null,null,null,null,null,null,null,null,null,null,"Instruktion"]
[{"$f":"\"Sålda grödor \"& Bakgrund!R7","v":"Sålda grödor Period 1"},null,null,null,null,null,null,null,null,null,null,null,"Bakgrund"]
[{"$f":"IF(Bakgrund!$AT$37=0,\"Du har på bladet Bakgrund svarat att du inte säljer några grödor. Detta avsnitt är därmed inte relevant att fylla i för dig\", \"Här fyller du mängden grödor som du sålt/kommer att sälja av det du odlat aktuell period.\")","v":"Här fyller du mängden grödor som du sålt/kommer att sälja av det du odlat aktuell period."},null,null,null,null,null,null,null,null,null,null,null,"1 Intro djuren"]
[{"$f":"IF(Bakgrund!$AT$37=0,\"\",\"Uppgifterna används för att beräkna växtnäringsinsatsen för de sålda grödorna. Denna växtnäring räknas sedan av från övrig växtnäring som tagit in under perioden så att växtnäringsinsatsen för köttet kan beräknas.\")","v":"Uppgifterna används för att beräkna växtnäringsinsatsen för de sålda grödorna. Denna växtnäring räknas sedan av från övrig växtnäring som tagit in under perioden så att växtnäringsinsatsen för köttet kan beräknas."},null,null,null,null,null,null,null,null,null,null,null,"1.1 Kött"]
[{"$f":"IF(Bakgrund!$AT$37=0,\"\",\"Här antas att växtnäringsinsatsen är 1 kg P och 1 kg K per kg P respektive K i grödan. För N justeras växtnäringsinsatsen utifrån grödans kväveeffektivitet och ev kvävefixering\")","v":"Här antas att växtnäringsinsatsen är 1 kg P och 1 kg K per kg P respektive K i grödan. För N justeras växtnäringsinsatsen utifrån grödans kväveeffektivitet och ev kvävefixering"},null,null,null,null,null,null,null,null,null,null,null,"1.2 Tillväxt & förökning"]
[null,null,null,null,null,null,null,null,null,null,null,null,"1.3 Hälsa & dödlighet"]
[{"$f":"IF(Bakgrund!S13=1,\"\",\"Perioden är inte ett helt år: Justera mängden sålda grödor så att det motsvarar genomsnitt över ett år. Så om perioden är 180 dagar och du på ett helår sålt 20 000 kg korn ska du fylla i 20 000*180/360 = 10 000 kg\")","v":"Perioden är inte ett helt år: Justera mängden sålda grödor så att det motsvarar genomsnitt över ett år. Så om perioden är 180 dagar och du på ett helår sålt 20 000 kg korn ska du fylla i 20 000*180/360 = 10 000 kg"},null,null,null,null,null,null,null,null,null,null,null,"2 Intro foder"]
[null,null,null,"Växtnäringsinsats (kg per gröda)",null,null,null,null,null,null,null,null,"2.1 Odling foder"]
["Gröda","Enhet","Mängd","Kväve","Fosfor","Kalium"," ","N-effektivitet","Kolumn1","Kolumn2","Kolumn3",null,"2.2 Förluster vid lagring"]
[null,{"$f":"IF(ISTEXT(A24),VLOOKUP(A24,'tekn adm - produktlistor'!$X$6:$AB$31,2,FALSE),\"\")","v":""},null,{"$f":"I24","v":0},0,0,null,{"$f":"IF(ISTEXT(A24),VLOOKUP(A24,'tekn adm - produktlistor'!$X$6:$AC$31,6,FALSE),0)","v":0},{"$f":"IF(ISTEXT(A24),VLOOKUP(A24,'tekn adm - produktlistor'!$X$6:$AB$31,3,FALSE)*C24,0)*H24","v":0},{"$f":"IF(ISTEXT(A24),VLOOKUP(A24,'tekn adm - produktlistor'!$X$6:$AB$31,4,FALSE)*C24,0)","v":0},{"$f":"IF(ISTEXT(A24),VLOOKUP(A24,'tekn adm - produktlistor'!$X$6:$AB$31,5,FALSE)*C24,0)","v":0},null,"2.3 Inköpt foder (exkl mineral)"]
[null,{"$f":"IF(ISTEXT(A25),VLOOKUP(A25,'tekn adm - produktlistor'!$X$6:$AB$31,2,FALSE),\"\")","v":""},null,0,0,0,null,{"$f":"IF(ISTEXT(A25),VLOOKUP(A25,'tekn adm - produktlistor'!$X$6:$AC$31,6,FALSE),0)","v":0},{"$f":"IF(ISTEXT(A25),VLOOKUP(A25,'tekn adm - produktlistor'!$X$6:$AB$31,3,FALSE)*C25,0)*H25","v":0},{"$f":"IF(ISTEXT(A25),VLOOKUP(A25,'tekn adm - produktlistor'!$X$6:$AB$31,4,FALSE)*C25,0)","v":0},{"$f":"IF(ISTEXT(A25),VLOOKUP(A25,'tekn adm - produktlistor'!$X$6:$AB$31,5,FALSE)*C25,0)","v":0},null,"2.4 Utfodrat"]
[null,{"$f":"IF(ISTEXT(A26),VLOOKUP(A26,'tekn adm - produktlistor'!$X$6:$AB$31,2,FALSE),\"\")","v":""},null,0,0,0,null,{"$f":"IF(ISTEXT(A26),VLOOKUP(A26,'tekn adm - produktlistor'!$X$6:$AC$31,6,FALSE),0)","v":0},{"$f":"IF(ISTEXT(A26),VLOOKUP(A26,'tekn adm - produktlistor'!$X$6:$AB$31,3,FALSE)*C26,0)*H26","v":0},{"$f":"IF(ISTEXT(A26),VLOOKUP(A26,'tekn adm - produktlistor'!$X$6:$AB$31,4,FALSE)*C26,0)","v":0},{"$f":"IF(ISTEXT(A26),VLOOKUP(A26,'tekn adm - produktlistor'!$X$6:$AB$31,5,FALSE)*C26,0)","v":0},null,"2.5. Kasserat foder och spill"]
[null,{"$f":"IF(ISTEXT(A27),VLOOKUP(A27,'tekn adm - produktlistor'!$X$6:$AB$31,2,FALSE),\"\")","v":""},null,0,0,0,null,{"$f":"IF(ISTEXT(A27),VLOOKUP(A27,'tekn adm - produktlistor'!$X$6:$AC$31,6,FALSE),0)","v":0},{"$f":"IF(ISTEXT(A27),VLOOKUP(A27,'tekn adm - produktlistor'!$X$6:$AB$31,3,FALSE)*C27,0)*H27","v":0},{"$f":"IF(ISTEXT(A27),VLOOKUP(A27,'tekn adm - produktlistor'!$X$6:$AB$31,4,FALSE)*C27,0)","v":0},{"$f":"IF(ISTEXT(A27),VLOOKUP(A27,'tekn adm - produktlistor'!$X$6:$AB$31,5,FALSE)*C27,0)","v":0},null,"2.6 Bete"]
[null,{"$f":"IF(ISTEXT(A28),VLOOKUP(A28,'tekn adm - produktlistor'!$X$6:$AB$31,2,FALSE),\"\")","v":""},null,0,0,0,null,{"$f":"IF(ISTEXT(A28),VLOOKUP(A28,'tekn adm - produktlistor'!$X$6:$AC$31,6,FALSE),0)","v":0},{"$f":"IF(ISTEXT(A28),VLOOKUP(A28,'tekn adm - produktlistor'!$X$6:$AB$31,3,FALSE)*C28,0)*H28","v":0},{"$f":"IF(ISTEXT(A28),VLOOKUP(A28,'tekn adm - produktlistor'!$X$6:$AB$31,4,FALSE)*C28,0)","v":0},{"$f":"IF(ISTEXT(A28),VLOOKUP(A28,'tekn adm - produktlistor'!$X$6:$AB$31,5,FALSE)*C28,0)","v":0},null,"3 Växtnäringsutnyttjande (1)"]
["Summa",null,null,{"$f":"I29","v":0},0,0,null,null,{"$f":"SUBTOTAL(109,'3 Växtnäringsutnyttjande (2)'!$I$24:$I$28)","v":0},{"$f":"SUBTOTAL(109,'3 Växtnäringsutnyttjande (2)'!$J$24:$J$28)","v":0},{"$f":"SUBTOTAL(109,'3 Växtnäringsutnyttjande (2)'!$K$24:$K$28)","v":0},null,"3 Växtnäringsutnyttjande (2)"]
[null,null,null,null,null,null,null,null,null,null,null,null,"3 Växtnäringsutnyttjande (3)"]
[null,null,null,null,null,null,null,null,null,null,null,null,"4 Energi och bränsle"]
[null,null,null,null,null,null,null,null,null,null,null,null,"5 Vattenanvändning"]
[null,null,null,null,null,null,null,null,null,null,null,null,"6 Resultat"]
[{"$f":"\"Inköpta produkter \" & Bakgrund!R7","v":"Inköpta produkter Period 1"}]
["Alternativ 1. Färdigt resultat"]
[]
["Totalt för gården, kg per period. Fyll i uppgifter från växtnäringsbalansen"]
[null,"Kväve","Fosfor","Kalium","Egen kommentar","Förklaring"]
["Tillförsel",null,null,null,null,"växtnäring i inköpta produkter samt kväve från kvävenedfall och ev kvävefixering"]
["Varav:  kvävenedfall"]
["kvävefixering"]
["Bortförsel",null,null,null,null,"bortfört via sålt kött, mjölk, grödor och stallgödsel"]
["Differens:",{"$f":"B39-ABS(B42)","v":0},{"$f":"C39-ABS(C42)","v":0},{"$f":"D39-ABS(D42)","v":0},null,"Positivt värde = överskott. Negativt värde = mer växtnäring bortförs än tillförs via inköpta produkter"]
[]
[]
[]
[]
["Alternativ 2. Beräkna mängden växtnäring själv"]
["Här fyller  du i mängd inköpta produkter som förbrukats under perioden. Justera för ev överlagring av foder, gödsel etc.! "]
[]
["Inköpt foder, exkl mineraler."]
[{"$f":"\"Uppgifterna hämtas från bladet \"&C_N_inköpt&\". Gå tillbaks till det bladet om du vill kontrollera uppgifterna.\"","v":"Uppgifterna hämtas från bladet 2.3 Inköpt foder (exkl mineral). Gå tillbaks till det bladet om du vill kontrollera uppgifterna."}]
[]
["Inköpt foder","Enhet","ts","Kväve","Fosfor","Kalium","Egen kommentar"]
["Totalt","kg",{"$f":"'2.3 Inköpt foder (exkl mineral)'!AM25+'2.3 Inköpt foder (exkl mineral)'!AM37","v":0},{"$f":"'2.3 Inköpt foder (exkl mineral)'!AN25+'2.3 Inköpt foder (exkl mineral)'!AN37","v":0},{"$f":"'2.3 Inköpt foder (exkl mineral)'!AO25+'2.3 Inköpt foder (exkl mineral)'!AO37","v":0},{"$f":"'2.3 Inköpt foder (exkl mineral)'!AP25+'2.3 Inköpt foder (exkl mineral)'!AP37","v":0},null,null,{"$f":"'2.3 Inköpt foder (exkl mineral)'!AN25+'2.3 Inköpt foder (exkl mineral)'!AN37","v":0},{"$f":"'2.3 Inköpt foder (exkl mineral)'!AO25+'2.3 Inköpt foder (exkl mineral)'!AO37","v":0},{"$f":"'2.3 Inköpt foder (exkl mineral)'!AP25+'2.3 Inköpt foder (exkl mineral)'!AP37","v":0}]
[]
[]
["Mineralfoder - lägg till inköpt mineralfoder. De innehåller bl a en del fosfor"]
["Mineralfoder","Enhet","Mängd","Kväve","Fosfor","Kalium","Egen kommentar","Kolumn1","Kolumn2","Kolumn3","Kolumn4"]
[null,{"$f":"IF(ISTEXT(A60),VLOOKUP(A60,'tekn adm - produktlistor'!$Q$6:$U$259,2,FALSE),\"\")","v":""},null,{"$f":"Tabell1423395811022[[#This Row],[Kolumn2]]","v":0},{"$f":"Tabell1423395811022[[#This Row],[Kolumn3]]","v":0},{"$f":"Tabell1423395811022[[#This Row],[Kolumn4]]","v":0},null,null,{"$f":"IF(ISTEXT(A60),VLOOKUP(A60,'tekn adm - produktlistor'!$Q$6:$U$259,3,FALSE)*C60,0)","v":0},{"$f":"IF(ISTEXT(A60),VLOOKUP(A60,'tekn adm - produktlistor'!$Q$6:$U$259,4,FALSE)*C60,0)","v":0},{"$f":"IF(ISTEXT(A60),VLOOKUP(A60,'tekn adm - produktlistor'!$Q$6:$U$259,5,FALSE)*C60,0)","v":0}]
[null,{"$f":"IF(ISTEXT(A61),VLOOKUP(A61,'tekn adm - produktlistor'!$Q$6:$U$259,2,FALSE),\"\")","v":""},null,{"$f":"Tabell1423395811022[[#This Row],[Kolumn2]]","v":0},{"$f":"Tabell1423395811022[[#This Row],[Kolumn3]]","v":0},{"$f":"Tabell1423395811022[[#This Row],[Kolumn4]]","v":0},null,null,{"$f":"IF(ISTEXT(A61),VLOOKUP(A61,'tekn adm - produktlistor'!$Q$6:$U$259,3,FALSE)*C61,0)","v":0},{"$f":"IF(ISTEXT(A61),VLOOKUP(A61,'tekn adm - produktlistor'!$Q$6:$U$259,4,FALSE)*C61,0)","v":0},{"$f":"IF(ISTEXT(A61),VLOOKUP(A61,'tekn adm - produktlistor'!$Q$6:$U$259,5,FALSE)*C61,0)","v":0}]
[null,{"$f":"IF(ISTEXT(A62),VLOOKUP(A62,'tekn adm - produktlistor'!$Q$6:$U$259,2,FALSE),\"\")","v":""},null,{"$f":"Tabell1423395811022[[#This Row],[Kolumn2]]","v":0},{"$f":"Tabell1423395811022[[#This Row],[Kolumn3]]","v":0},{"$f":"Tabell1423395811022[[#This Row],[Kolumn4]]","v":0},null,null,{"$f":"IF(ISTEXT(A62),VLOOKUP(A62,'tekn adm - produktlistor'!$Q$6:$U$259,3,FALSE)*C62,0)","v":0},{"$f":"IF(ISTEXT(A62),VLOOKUP(A62,'tekn adm - produktlistor'!$Q$6:$U$259,4,FALSE)*C62,0)","v":0},{"$f":"IF(ISTEXT(A62),VLOOKUP(A62,'tekn adm - produktlistor'!$Q$6:$U$259,5,FALSE)*C62,0)","v":0}]
[null,{"$f":"IF(ISTEXT(A63),VLOOKUP(A63,'tekn adm - produktlistor'!$Q$6:$U$259,2,FALSE),\"\")","v":""},null,{"$f":"Tabell1423395811022[[#This Row],[Kolumn2]]","v":0},{"$f":"Tabell1423395811022[[#This Row],[Kolumn3]]","v":0},{"$f":"Tabell1423395811022[[#This Row],[Kolumn4]]","v":0},null,null,{"$f":"IF(ISTEXT(A63),VLOOKUP(A63,'tekn adm - produktlistor'!$Q$6:$U$259,3,FALSE)*C63,0)","v":0},{"$f":"IF(ISTEXT(A63),VLOOKUP(A63,'tekn adm - produktlistor'!$Q$6:$U$259,4,FALSE)*C63,0)","v":0},{"$f":"IF(ISTEXT(A63),VLOOKUP(A63,'tekn adm - produktlistor'!$Q$6:$U$259,5,FALSE)*C63,0)","v":0}]
[null,{"$f":"IF(ISTEXT(A64),VLOOKUP(A64,'tekn adm - produktlistor'!$Q$6:$U$259,2,FALSE),\"\")","v":""},null,{"$f":"Tabell1423395811022[[#This Row],[Kolumn2]]","v":0},{"$f":"Tabell1423395811022[[#This Row],[Kolumn3]]","v":0},{"$f":"Tabell1423395811022[[#This Row],[Kolumn4]]","v":0},null,null,{"$f":"IF(ISTEXT(A64),VLOOKUP(A64,'tekn adm - produktlistor'!$Q$6:$U$259,3,FALSE)*C64,0)","v":0},{"$f":"IF(ISTEXT(A64),VLOOKUP(A64,'tekn adm - produktlistor'!$Q$6:$U$259,4,FALSE)*C64,0)","v":0},{"$f":"IF(ISTEXT(A64),VLOOKUP(A64,'tekn adm - produktlistor'!$Q$6:$U$259,5,FALSE)*C64,0)","v":0}]
["Summa",null,null,{"$f":"SUBTOTAL(109,Tabell1423395811022[Kväve])","v":0},{"$f":"SUBTOTAL(109,Tabell1423395811022[Fosfor])","v":0},{"$f":"SUBTOTAL(109,Tabell1423395811022[Kalium])","v":0},null,null,{"$f":"SUBTOTAL(109,Tabell1423395811022[Kväve])","v":0},{"$f":"SUBTOTAL(109,Tabell1423395811022[Fosfor])","v":0},{"$f":"SUBTOTAL(109,Tabell1423395811022[Kalium])","v":0}]
[]
[]
[{"$f":"IF(Bakgrund!S13=1,\"\",\"Perioden är inte ett helt år: Justera mängden mineralgödsel så att det motsvarar ett genomsnitt över året. Om t ex perioden är 180 dagar och du använt 10 000 kg Axan under hela år, ska du fylla i 10 000*180/360 = 5 000 kg\")","v":"Perioden är inte ett helt år: Justera mängden mineralgödsel så att det motsvarar ett genomsnitt över året. Om t ex perioden är 180 dagar och du använt 10 000 kg Axan under hela år, ska du fylla i 10 000*180/360 = 5 000 kg"}]
["Mineralgödsel","Enhet","Mängd","Kväve","Fosfor","Kalium","Egen kommentar","Kolumn2","Kolumn3","Kolumn4","Kolumn5"]
[null,{"$f":"IF(ISTEXT(A70),VLOOKUP(A70,'tekn adm - produktlistor'!$B$6:$F$150,2,FALSE),\"\")","v":""},null,{"$f":"I70","v":0},0,0,null,null,{"$f":"IF(ISTEXT(A70),VLOOKUP(A70,'tekn adm - produktlistor'!$B$6:$F$150,3,FALSE)*C70,0)","v":0},{"$f":"IF(ISTEXT(A70),VLOOKUP(A70,'tekn adm - produktlistor'!$B$6:$F$150,4,FALSE)*C70,0)","v":0},{"$f":"IF(ISTEXT(A70),VLOOKUP(A70,'tekn adm - produktlistor'!$B$6:$F$150,5,FALSE)*C70,0)","v":0}]
[null,{"$f":"IF(ISTEXT(A71),VLOOKUP(A71,'tekn adm - produktlistor'!$B$6:$F$150,2,FALSE),\"\")","v":""},null,0,0,0,null,null,{"$f":"IF(ISTEXT(A71),VLOOKUP(A71,'tekn adm - produktlistor'!$B$6:$F$150,3,FALSE)*C71,0)","v":0},{"$f":"IF(ISTEXT(A71),VLOOKUP(A71,'tekn adm - produktlistor'!$B$6:$F$150,4,FALSE)*C71,0)","v":0},{"$f":"IF(ISTEXT(A71),VLOOKUP(A71,'tekn adm - produktlistor'!$B$6:$F$150,5,FALSE)*C71,0)","v":0}]
[null,{"$f":"IF(ISTEXT(A72),VLOOKUP(A72,'tekn adm - produktlistor'!$B$6:$F$150,2,FALSE),\"\")","v":""},null,0,0,0,null,null,{"$f":"IF(ISTEXT(A72),VLOOKUP(A72,'tekn adm - produktlistor'!$B$6:$F$150,3,FALSE)*C72,0)","v":0},{"$f":"IF(ISTEXT(A72),VLOOKUP(A72,'tekn adm - produktlistor'!$B$6:$F$150,4,FALSE)*C72,0)","v":0},{"$f":"IF(ISTEXT(A72),VLOOKUP(A72,'tekn adm - produktlistor'!$B$6:$F$150,5,FALSE)*C72,0)","v":0}]
[null,{"$f":"IF(ISTEXT(A73),VLOOKUP(A73,'tekn adm - produktlistor'!$B$6:$F$150,2,FALSE),\"\")","v":""},null,0,0,0,null,null,{"$f":"IF(ISTEXT(A73),VLOOKUP(A73,'tekn adm - produktlistor'!$B$6:$F$150,3,FALSE)*C73,0)","v":0},{"$f":"IF(ISTEXT(A73),VLOOKUP(A73,'tekn adm - produktlistor'!$B$6:$F$150,4,FALSE)*C73,0)","v":0},{"$f":"IF(ISTEXT(A73),VLOOKUP(A73,'tekn adm - produktlistor'!$B$6:$F$150,5,FALSE)*C73,0)","v":0}]
[null,{"$f":"IF(ISTEXT(A74),VLOOKUP(A74,'tekn adm - produktlistor'!$B$6:$F$150,2,FALSE),\"\")","v":""},null,0,0,0,null,null,{"$f":"IF(ISTEXT(A74),VLOOKUP(A74,'tekn adm - produktlistor'!$B$6:$F$150,3,FALSE)*C74,0)","v":0},{"$f":"IF(ISTEXT(A74),VLOOKUP(A74,'tekn adm - produktlistor'!$B$6:$F$150,4,FALSE)*C74,0)","v":0},{"$f":"IF(ISTEXT(A74),VLOOKUP(A74,'tekn adm - produktlistor'!$B$6:$F$150,5,FALSE)*C74,0)","v":0}]
["Summa",null,null,{"$f":"SUBTOTAL(109,Tabell9193510418[Kväve])","v":0},{"$f":"SUBTOTAL(109,Tabell9193510418[Fosfor])","v":0},{"$f":"SUBTOTAL(109,Tabell9193510418[Kalium])","v":0},null,null,{"$f":"SUBTOTAL(109,Tabell9193510418[Kväve])","v":0},{"$f":"SUBTOTAL(109,Tabell9193510418[Fosfor])","v":0},{"$f":"SUBTOTAL(109,Tabell9193510418[Kalium])","v":0}]
[]
[]
[{"$f":"IF(Bakgrund!S13=1,\"\",\"Perioden är inte ett helt år: Justera mängden införd organisk gödsel så att det motsvarar ett genomsnitt över året. Om t ex perioden är 180 dagar och du använt 10 000 kg hönsgödsel under hela år, ska du fylla i 10 000*180/360 = 5 000 kg\")","v":"Perioden är inte ett helt år: Justera mängden införd organisk gödsel så att det motsvarar ett genomsnitt över året. Om t ex perioden är 180 dagar och du använt 10 000 kg hönsgödsel under hela år, ska du fylla i 10 000*180/360 = 5 000 kg"}]
["Enbart införd organisk gödsel, d v s ta inte med egen stallgödsel!"]
["Införd organisk gödsel","Enhet","Mängd","Kväve","Fosfor","Kalium","Egen kommentar","Kolumn2","Kolumn3","Kolumn4","Kolumn5"]
[null,{"$f":"IF(ISTEXT(A81),VLOOKUP(A81,'tekn adm - produktlistor'!$J$6:$N$97,2,FALSE),\"\")","v":""},null,{"$f":"I81","v":0},0,0,null,null,{"$f":"IF(ISTEXT(A81),VLOOKUP(A81,'tekn adm - produktlistor'!$J$6:$N$97,3,FALSE)*C81,0)","v":0},{"$f":"IF(ISTEXT(A81),VLOOKUP(A81,'tekn adm - produktlistor'!$J$6:$N$97,4,FALSE)*C81,0)","v":0},{"$f":"IF(ISTEXT(A81),VLOOKUP(A81,'tekn adm - produktlistor'!$J$6:$N$97,3,FALSE)*C81,0)","v":0}]
[null,{"$f":"IF(ISTEXT(A82),VLOOKUP(A82,'tekn adm - produktlistor'!$J$6:$N$97,2,FALSE),\"\")","v":""},null,0,0,0,null,null,{"$f":"IF(ISTEXT(A82),VLOOKUP(A82,'tekn adm - produktlistor'!$J$6:$N$97,3,FALSE)*C82,0)","v":0},{"$f":"IF(ISTEXT(A82),VLOOKUP(A82,'tekn adm - produktlistor'!$J$6:$N$97,4,FALSE)*C82,0)","v":0},{"$f":"IF(ISTEXT(A82),VLOOKUP(A82,'tekn adm - produktlistor'!$J$6:$N$97,3,FALSE)*C82,0)","v":0}]
[null,{"$f":"IF(ISTEXT(A83),VLOOKUP(A83,'tekn adm - produktlistor'!$J$6:$N$97,2,FALSE),\"\")","v":""},null,0,0,0,null,null,{"$f":"IF(ISTEXT(A83),VLOOKUP(A83,'tekn adm - produktlistor'!$J$6:$N$97,3,FALSE)*C83,0)","v":0},{"$f":"IF(ISTEXT(A83),VLOOKUP(A83,'tekn adm - produktlistor'!$J$6:$N$97,4,FALSE)*C83,0)","v":0},{"$f":"IF(ISTEXT(A83),VLOOKUP(A83,'tekn adm - produktlistor'!$J$6:$N$97,3,FALSE)*C83,0)","v":0}]
[null,{"$f":"IF(ISTEXT(A84),VLOOKUP(A84,'tekn adm - produktlistor'!$J$6:$N$97,2,FALSE),\"\")","v":""},null,0,0,0,null,null,{"$f":"IF(ISTEXT(A84),VLOOKUP(A84,'tekn adm - produktlistor'!$J$6:$N$97,3,FALSE)*C84,0)","v":0},{"$f":"IF(ISTEXT(A84),VLOOKUP(A84,'tekn adm - produktlistor'!$J$6:$N$97,4,FALSE)*C84,0)","v":0},{"$f":"IF(ISTEXT(A84),VLOOKUP(A84,'tekn adm - produktlistor'!$J$6:$N$97,3,FALSE)*C84,0)","v":0}]
[null,{"$f":"IF(ISTEXT(A85),VLOOKUP(A85,'tekn adm - produktlistor'!$J$6:$N$97,2,FALSE),\"\")","v":""},null,0,0,0,null,null,{"$f":"IF(ISTEXT(A85),VLOOKUP(A85,'tekn adm - produktlistor'!$J$6:$N$97,3,FALSE)*C85,0)","v":0},{"$f":"IF(ISTEXT(A85),VLOOKUP(A85,'tekn adm - produktlistor'!$J$6:$N$97,4,FALSE)*C85,0)","v":0},{"$f":"IF(ISTEXT(A85),VLOOKUP(A85,'tekn adm - produktlistor'!$J$6:$N$97,3,FALSE)*C85,0)","v":0}]
["Summa",null,null,{"$f":"SUBTOTAL(109,Tabell11213710519[Kväve])","v":0},{"$f":"SUBTOTAL(109,Tabell11213710519[Fosfor])","v":0},{"$f":"SUBTOTAL(109,Tabell11213710519[Kalium])","v":0},null,null,{"$f":"SUBTOTAL(109,Tabell11213710519[Kväve])","v":0},{"$f":"SUBTOTAL(109,Tabell11213710519[Fosfor])","v":0},{"$f":"SUBTOTAL(109,Tabell11213710519[Kalium])","v":0}]
[]
[]
[]
["Utsäde och inköpt strö","Enhet","Mängd","Kväve","Fosfor","Kalium","Egen kommentar","Kolumn2","Kolumn3","Kolumn4","Kolumn5"]
[null,{"$f":"IF(ISTEXT(A91),VLOOKUP(A91,'tekn adm - produktlistor'!$BO$6:$BS$18,2,FALSE),\"\")","v":""},null,{"$f":"I91","v":0},0,0,null,null,{"$f":"IF(ISTEXT(A91),VLOOKUP(A91,'tekn adm - produktlistor'!$BO$6:$BS$18,3,FALSE)*C91,0)","v":0},{"$f":"IF(ISTEXT(A91),VLOOKUP(A91,'tekn adm - produktlistor'!$BO$6:$BS$18,4,FALSE)*C91,0)","v":0},{"$f":"IF(ISTEXT(A91),VLOOKUP(A91,'tekn adm - produktlistor'!$BO$6:$BS$18,5,FALSE)*C91,0)","v":0}]
[null,{"$f":"IF(ISTEXT(A92),VLOOKUP(A92,'tekn adm - produktlistor'!$BO$6:$BS$18,2,FALSE),\"\")","v":""},null,0,0,0,null,null,{"$f":"IF(ISTEXT(A92),VLOOKUP(A92,'tekn adm - produktlistor'!$BO$6:$BS$18,3,FALSE)*C92,0)","v":0},{"$f":"IF(ISTEXT(A92),VLOOKUP(A92,'tekn adm - produktlistor'!$BO$6:$BS$18,4,FALSE)*C92,0)","v":0},{"$f":"IF(ISTEXT(A92),VLOOKUP(A92,'tekn adm - produktlistor'!$BO$6:$BS$18,5,FALSE)*C92,0)","v":0}]
[null,{"$f":"IF(ISTEXT(A93),VLOOKUP(A93,'tekn adm - produktlistor'!$BO$6:$BS$18,2,FALSE),\"\")","v":""},null,0,0,0,null,null,{"$f":"IF(ISTEXT(A93),VLOOKUP(A93,'tekn adm - produktlistor'!$BO$6:$BS$18,3,FALSE)*C93,0)","v":0},{"$f":"IF(ISTEXT(A93),VLOOKUP(A93,'tekn adm - produktlistor'!$BO$6:$BS$18,4,FALSE)*C93,0)","v":0},{"$f":"IF(ISTEXT(A93),VLOOKUP(A93,'tekn adm - produktlistor'!$BO$6:$BS$18,5,FALSE)*C93,0)","v":0}]
[null,{"$f":"IF(ISTEXT(A94),VLOOKUP(A94,'tekn adm - produktlistor'!$BO$6:$BS$18,2,FALSE),\"\")","v":""},null,0,0,0,null,null,{"$f":"IF(ISTEXT(A94),VLOOKUP(A94,'tekn adm - produktlistor'!$BO$6:$BS$18,3,FALSE)*C94,0)","v":0},{"$f":"IF(ISTEXT(A94),VLOOKUP(A94,'tekn adm - produktlistor'!$BO$6:$BS$18,4,FALSE)*C94,0)","v":0},{"$f":"IF(ISTEXT(A94),VLOOKUP(A94,'tekn adm - produktlistor'!$BO$6:$BS$18,5,FALSE)*C94,0)","v":0}]
[null,{"$f":"IF(ISTEXT(A95),VLOOKUP(A95,'tekn adm - produktlistor'!$BO$6:$BS$18,2,FALSE),\"\")","v":""},null,0,0,0,null,null,{"$f":"IF(ISTEXT(A95),VLOOKUP(A95,'tekn adm - produktlistor'!$BO$6:$BS$18,3,FALSE)*C95,0)","v":0},{"$f":"IF(ISTEXT(A95),VLOOKUP(A95,'tekn adm - produktlistor'!$BO$6:$BS$18,4,FALSE)*C95,0)","v":0},{"$f":"IF(ISTEXT(A95),VLOOKUP(A95,'tekn adm - produktlistor'!$BO$6:$BS$18,5,FALSE)*C95,0)","v":0}]
["Summa",null,null,{"$f":"SUBTOTAL(109,Tabell12223810621[Kväve])","v":0},{"$f":"SUBTOTAL(109,Tabell12223810621[Fosfor])","v":0},{"$f":"SUBTOTAL(109,Tabell12223810621[Kalium])","v":0},null,null,{"$f":"SUBTOTAL(109,Tabell12223810621[Kväve])","v":0},{"$f":"SUBTOTAL(109,Tabell12223810621[Fosfor])","v":0},{"$f":"SUBTOTAL(109,Tabell12223810621[Kalium])","v":0}]
[]
[]
[]
[]
[]
["Nyckeltal Växtnäringsutnyttjande per kg kött"]
[]
["Totalt för gården","Enhet","Kväve","Fosfor","Kalium","Förklaring"]
["Tillfört via inköp","kg hela gården",{"$f":"I105","v":0},{"$f":"J105","v":0},0,null,null,null,{"$f":"IF(Bakgrund!$AU$37>0,B39-B40-B41,I65+I75+I86+I96+I55)","v":0},{"$f":"IF(Bakgrund!$AU$37>0,C39-C40-C41,J65+J75+J86+J96+J55)","v":0},{"$f":"IF(Bakgrund!$AU$37>0,D39-D40-D41,K65+K75+K86+K96+K55)","v":0}]
["Varav använt till avsalugrödor","kg hela gården",{"$f":"I106","v":0},0,0,null,null,null,{"$f":"I29","v":0},{"$f":"J29","v":0},{"$f":"K29","v":0}]
["Differens, till djuren","kg hela gården",0,0,0,"Tillfört minus växtnäring som använts till avsalugrödor. Stor mängd sålda grödor och/eller liten mängd inköpta varor ger lågt värde. Värdena kan t o m bli negativa om stor mängd grödor säljs. Lågt/negativt värde på kväve kan bero på omfattande odling av kvävefixerande grödor - detta kväve är inte inköpt och ingår därför inte i balansen. ",null,null,{"$f":"I105-I106","v":0},{"$f":"J105-J106","v":0},0]
[]
["Växtnäringsinsats","g växtnäring per kg kött",0,0,0,"Avdrag har gjorts för inköpt växtnäring som går till ev sålda grödor. Lågt värde innebär att det gått åt lite inköpta resurser i form av växtnäring för att producera köttet",null,{"$f":"'6 Resultat'!R39","v":0},{"$f":"IF($H109=0,0,I107/$H109)*1000","v":0},{"$f":"IF($H109=0,0,J107/$H109)*1000","v":0},{"$f":"IF($H109=0,0,K107/$H109)*1000","v":0}]
[]
[]
["Mängd producerat kött","kg",0,null,null,"Hämtat från 1.1 Kött",null,null,{"$f":"'1.1 Kött'!E56","v":0}]
[]
["Växtnäringsinnehåll i köttet","kg",{"$f":"I114","v":0},0,0,"Mängd växtnäring i producerat kött",null,"Nöt",{"$f":"VLOOKUP($H114,'tekn adm - produktlistor'!$BU$6:$BY$11,3,FALSE)*$H109","v":0},{"$f":"VLOOKUP($H114,'tekn adm - produktlistor'!$BU$6:$BY$11,4,FALSE)*$H109","v":0},{"$f":"VLOOKUP($H114,'tekn adm - produktlistor'!$BU$6:$BY$11,5,FALSE)*$H109","v":0}]
["Växtnäringsinsats/växtnäringsinnehåll i köttet","%",0,0,0,"Ju lägre tal, desto mer kött har producerats per kg inköpt växtnäring. Obs, i Kväve ingår inte N-fixering, så omfattande odling av kvävefixerande grödor kan ge ett mycket lågt tal.",null,null,{"$f":"IF(I114=0,0,I107/I114)","v":0},{"$f":"IF(J114=0,0,J107/J114)","v":0},0]

{"sheet":"3 Växtnäringsutnyttjande (2)","index":14,"n_rows":115,"n_cols":13,"rows_kept":115,"cut":false,"hidden":false,"merged":[[1,0,1,11],[38,5,38,6],[39,5,39,6],[40,5,40,6],[111,5,111,6],[108,5,108,6],[42,5,42,6],[104,5,104,6],[105,5,105,6],[106,5,106,6],[41,5,41,6],[1,12,1,15],[2,12,2,15],[3,12,3,15],[4,12,4,15],[5,12,5,15],[112,5,112,6],[113,5,113,6],[114,5,114,6],[11,12,11,15],[6,12,6,15],[7,12,7,15],[8,12,8,15],[9,12,9,15],[10,12,10,15]]}
[{"$f":"\"3 Växtnäringsutnyttjande period 2, \" &period_2","v":"3 Växtnäringsutnyttjande period 2, Period 2"},null,null,null,null,null,null,null,null,null,null,null,"Det här betyder färgerna:"]
[{"$f":"IF(Bakgrund!BI37=0,'Teknisk administration'!H6,'Teknisk administration'!H5)","v":"Bladet är inte relevant för dig"},null,null,null,null,null,null,null,null,null,null,null,"Cell med värden hämtade från annan cell"]
["Här beräknar du växtnäringsutnyttjandet, d v s hur många kg inköpt kväve, fosfor och kalium som gått åt för att producera köttet. ",null,null,null,null,null,null,null,null,null,null,null,"Beräkning"]
["Om du säljer grödor kommer du först få göra avräkning för inköpt växtnäring som använts i odlingen av dessa grödor.",null,null,null,null,null,null,null,null,null,null,null,"Fyll i din egen siffra"]
["Det finns två alternativ för att beräkna växtnäringsinsatsen:",null,null,null,null,null,null,null,null,null,null,null,"Fyll i egen siffra - frivilligt, t ex om du har tillgång till uppgift eller om du vill räkna med annat värde än det schablonvärde som visas i angränsande cell"]
["       1) Mata in färdiga resultat, t ex från växtnäringsbalans gjord inom Greppa Näringen. Detta alternativ visas om du redan har en växtnäringsbalans för perioden",null,null,null,null,null,null,null,null,null,null,null,"Egen uppgift, men välj värde ur rullista. "]
["      2) Beräkna mängden växtnäring i inköpta produkter samt sålda grödor. Visas om du inte har en aktuell växtnäringsbalans",null,null,null,null,null,null,null,null,null,null,null,"Resultat/uträkning"]
["Ljusgrå text och vita rutor = avsnittet är inte relevant för dig.",null,null,null,null,null,null,null,null,null,null,null,"Schablonvärde"]
[null,null,null,null,null,null,null,null,null,null,null,null,"Förklaringar till raden"]
[{"$f":"IF(Bakgrund!S13=1,\"\",\"Obs! Perioden är inte ett helt år, och vissa indata behöver anpassas. Instruktioner ges vid aktuella tabeller. Tolkningen av resultaten kan också påverkas, t ex om perioden inte täcker hela växtodlingssäsongen.\")","v":"Obs! Perioden är inte ett helt år, och vissa indata behöver anpassas. Instruktioner ges vid aktuella tabeller. Tolkningen av resultaten kan också påverkas, t ex om perioden inte täcker hela växtodlingssäsongen."},null,null,null,null,null,null,null,null,null,null,null,"Plats för egna kommentarer"]
["Räcker inte raderna till? Ta bort bladets skrivskydd (Granska/Skydda), inget lösenord krävs. Högerklicka i tabellen och välj Infoga > Infoga rad ovanför",null,null,null,null,null,null,null,null,null,null,null,"Glöm inte att fylla i värde! (Här krävs ett värde för att andra beräkningar ska fungera"]
[null,null,null,null,null,null,null,null,null,null,null,null,"grå text, ev vit bakgrund: Avsnittet är inte relevant för dig baserat på svaren på ja/nej-frågor på bladet Bakgrund"]
[]
[null,null,null,null,null,null,null,null,null,null,null,null,"Snabblänkar till bladen i verktyget:"]
[null,null,null,null,null,null,null,null,null,null,null,null,"Instruktion"]
[{"$f":"\"Sålda grödor \"& Bakgrund!S7","v":"Sålda grödor Period 2"},null,null,null,null,null,null,null,null,null,null,null,"Bakgrund"]
[{"$f":"IF(Bakgrund!$AT$37=0,\"Du har på bladet Bakgrund svarat att du inte säljer några grödor. Detta avsnitt är därmed inte relevant att fylla i för dig\", \"Här fyller du mängden grödor som du sålt/kommer att sälja av det du odlat aktuell period.\")","v":"Här fyller du mängden grödor som du sålt/kommer att sälja av det du odlat aktuell period."},null,null,null,null,null,null,null,null,null,null,null,"1 Intro djuren"]
[{"$f":"IF(Bakgrund!$AT$37=0,\"\",\"Uppgifterna används för att beräkna växtnäringsinsatsen för de sålda grödorna. Denna växtnäring räknas sedan av från övrig växtnäring som tagit in under perioden så att växtnäringsinsatsen för köttet kan beräknas.\")","v":"Uppgifterna används för att beräkna växtnäringsinsatsen för de sålda grödorna. Denna växtnäring räknas sedan av från övrig växtnäring som tagit in under perioden så att växtnäringsinsatsen för köttet kan beräknas."},null,null,null,null,null,null,null,null,null,null,null,"1.1 Kött"]
[{"$f":"IF(Bakgrund!$AT$37=0,\"\",\"Här antas att växtnäringsinsatsen är 1 kg P och 1 kg K per kg P respektive K i grödan. För N justeras växtnäringsinsatsen utifrån grödans kväveeffektivitet och ev kvävefixering\")","v":"Här antas att växtnäringsinsatsen är 1 kg P och 1 kg K per kg P respektive K i grödan. För N justeras växtnäringsinsatsen utifrån grödans kväveeffektivitet och ev kvävefixering"},null,null,null,null,null,null,null,null,null,null,null,"1.2 Tillväxt & förökning"]
[null,null,null,null,null,null,null,null,null,null,null,null,"1.3 Hälsa & dödlighet"]
[{"$f":"IF(Bakgrund!S13=1,\"\",\"Perioden är inte ett helt år: Justera mängden sålda grödor så att det motsvarar genomsnitt över ett år. Så om perioden är 180 dagar och du på ett helår sålt 20 000 kg korn ska du fylla i 20 000*180/360 = 10 000 kg\")","v":"Perioden är inte ett helt år: Justera mängden sålda grödor så att det motsvarar genomsnitt över ett år. Så om perioden är 180 dagar och du på ett helår sålt 20 000 kg korn ska du fylla i 20 000*180/360 = 10 000 kg"},null,null,null,null,null,null,null,null,null,null,null,"2 Intro foder"]
[null,null,null,"Växtnäringsinsats (kg per gröda)",null,null,null,null,null,null,null,null,"2.1 Odling foder"]
["Gröda","Enhet","Mängd","Kväve","Fosfor","Kalium"," ","N-effektivitet","Kolumn1","Kolumn2","Kolumn3",null,"2.2 Förluster vid lagring"]
[null,{"$f":"IF(ISTEXT(A24),VLOOKUP(A24,'tekn adm - produktlistor'!$X$6:$AB$31,2,FALSE),\"\")","v":""},null,{"$f":"I24","v":0},{"$f":"J24","v":0},{"$f":"K24","v":0},null,{"$f":"IF(ISTEXT(A24),VLOOKUP(A24,'tekn adm - produktlistor'!$X$6:$AC$31,6,FALSE),0)","v":0},{"$f":"IF(ISTEXT(A24),VLOOKUP(A24,'tekn adm - produktlistor'!$X$6:$AB$31,3,FALSE)*C24,0)*H24","v":0},{"$f":"IF(ISTEXT(A24),VLOOKUP(A24,'tekn adm - produktlistor'!$X$6:$AB$31,4,FALSE)*C24,0)","v":0},{"$f":"IF(ISTEXT(A24),VLOOKUP(A24,'tekn adm - produktlistor'!$X$6:$AB$31,5,FALSE)*C24,0)","v":0},null,"2.3 Inköpt foder (exkl mineral)"]
[null,{"$f":"IF(ISTEXT(A25),VLOOKUP(A25,'tekn adm - produktlistor'!$X$6:$AB$31,2,FALSE),\"\")","v":""},null,{"$f":"I25","v":0},{"$f":"J25","v":0},{"$f":"K25","v":0},null,{"$f":"IF(ISTEXT(A25),VLOOKUP(A25,'tekn adm - produktlistor'!$X$6:$AC$31,6,FALSE),0)","v":0},{"$f":"IF(ISTEXT(A25),VLOOKUP(A25,'tekn adm - produktlistor'!$X$6:$AB$31,3,FALSE)*C25,0)*H25","v":0},{"$f":"IF(ISTEXT(A25),VLOOKUP(A25,'tekn adm - produktlistor'!$X$6:$AB$31,4,FALSE)*C25,0)","v":0},{"$f":"IF(ISTEXT(A25),VLOOKUP(A25,'tekn adm - produktlistor'!$X$6:$AB$31,5,FALSE)*C25,0)","v":0},null,"2.4 Utfodrat"]
[null,{"$f":"IF(ISTEXT(A26),VLOOKUP(A26,'tekn adm - produktlistor'!$X$6:$AB$31,2,FALSE),\"\")","v":""},null,0,0,0,null,{"$f":"IF(ISTEXT(A26),VLOOKUP(A26,'tekn adm - produktlistor'!$X$6:$AC$31,6,FALSE),0)","v":0},{"$f":"IF(ISTEXT(A26),VLOOKUP(A26,'tekn adm - produktlistor'!$X$6:$AB$31,3,FALSE)*C26,0)*H26","v":0},{"$f":"IF(ISTEXT(A26),VLOOKUP(A26,'tekn adm - produktlistor'!$X$6:$AB$31,4,FALSE)*C26,0)","v":0},{"$f":"IF(ISTEXT(A26),VLOOKUP(A26,'tekn adm - produktlistor'!$X$6:$AB$31,5,FALSE)*C26,0)","v":0},null,"2.5. Kasserat foder och spill"]
[null,{"$f":"IF(ISTEXT(A27),VLOOKUP(A27,'tekn adm - produktlistor'!$X$6:$AB$31,2,FALSE),\"\")","v":""},null,0,0,0,null,{"$f":"IF(ISTEXT(A27),VLOOKUP(A27,'tekn adm - produktlistor'!$X$6:$AC$31,6,FALSE),0)","v":0},{"$f":"IF(ISTEXT(A27),VLOOKUP(A27,'tekn adm - produktlistor'!$X$6:$AB$31,3,FALSE)*C27,0)*H27","v":0},{"$f":"IF(ISTEXT(A27),VLOOKUP(A27,'tekn adm - produktlistor'!$X$6:$AB$31,4,FALSE)*C27,0)","v":0},{"$f":"IF(ISTEXT(A27),VLOOKUP(A27,'tekn adm - produktlistor'!$X$6:$AB$31,5,FALSE)*C27,0)","v":0},null,"2.6 Bete"]
[null,{"$f":"IF(ISTEXT(A28),VLOOKUP(A28,'tekn adm - produktlistor'!$X$6:$AB$31,2,FALSE),\"\")","v":""},null,0,0,0,null,{"$f":"IF(ISTEXT(A28),VLOOKUP(A28,'tekn adm - produktlistor'!$X$6:$AC$31,6,FALSE),0)","v":0},{"$f":"IF(ISTEXT(A28),VLOOKUP(A28,'tekn adm - produktlistor'!$X$6:$AB$31,3,FALSE)*C28,0)*H28","v":0},{"$f":"IF(ISTEXT(A28),VLOOKUP(A28,'tekn adm - produktlistor'!$X$6:$AB$31,4,FALSE)*C28,0)","v":0},{"$f":"IF(ISTEXT(A28),VLOOKUP(A28,'tekn adm - produktlistor'!$X$6:$AB$31,5,FALSE)*C28,0)","v":0},null,"3 Växtnäringsutnyttjande (1)"]
["Summa",null,null,0,0,0,null,null,{"$f":"SUBTOTAL(109,'3 Växtnäringsutnyttjande (2)'!$I$24:$I$28)","v":0},{"$f":"SUBTOTAL(109,'3 Växtnäringsutnyttjande (2)'!$J$24:$J$28)","v":0},{"$f":"SUBTOTAL(109,'3 Växtnäringsutnyttjande (2)'!$K$24:$K$28)","v":0},null,"3 Växtnäringsutnyttjande (2)"]
[null,null,null,null,null,null,null,null,null,null,null,null,"3 Växtnäringsutnyttjande (3)"]
[null,null,null,null,null,null,null,null,null,null,null,null,"4 Energi och bränsle"]
[null,null,null,null,null,null,null,null,null,null,null,null,"5 Vattenanvändning"]
[null,null,null,null,null,null,null,null,null,null,null,null,"6 Resultat"]
[{"$f":"\"Inköpta produkter \" & Bakgrund!S7","v":"Inköpta produkter Period 2"}]
["Alternativ 1. Färdigt resultat"]
[]
["Totalt för gården, kg per period. Fyll i uppgifter från växtnäringsbalansen"]
[null,"Kväve","Fosfor","Kalium","Egen kommentar","Förklaring"]
["Tillförsel",null,null,null,null,"växtnäring i inköpta produkter samt kväve från kvävenedfall och ev kvävefixering"]
["Varav:  kvävenedfall"]
["kvävefixering"]
["Bortförsel",null,null,null,null,"bortfört via sålt kött, mjölk, grödor och stallgödsel"]
["Differens:",{"$f":"B39-ABS(B42)","v":0},{"$f":"C39-ABS(C42)","v":0},{"$f":"D39-ABS(D42)","v":0},null,"Positivt värde = överskott. Negativt värde = mer växtnäring bortförs än tillförs via inköpta produkter"]
[]
[]
[]
[]
["Alternativ 2. Beräkna mängden växtnäring själv"]
["Här fyller  du i mängd inköpta produkter som förbrukats under perioden. Justera för ev överlagring av foder, gödsel etc.! "]
[]
["Inköpt foder, exkl mineraler."]
[{"$f":"\"Uppgifterna hämtas från bladet \"&C_N_inköpt&\". Gå tillbaks till det bladet om du vill kontrollera uppgifterna.\"","v":"Uppgifterna hämtas från bladet 2.3 Inköpt foder (exkl mineral). Gå tillbaks till det bladet om du vill kontrollera uppgifterna."}]
[]
["Inköpt foder","Enhet","ts","Kväve","Fosfor","Kalium","Egen kommentar"]
["Totalt","kg",{"$f":"'2.3 Inköpt foder (exkl mineral)'!AM63+'2.3 Inköpt foder (exkl mineral)'!AM75","v":0},{"$f":"'2.3 Inköpt foder (exkl mineral)'!AN63+'2.3 Inköpt foder (exkl mineral)'!AN75","v":0},{"$f":"'2.3 Inköpt foder (exkl mineral)'!AO63+'2.3 Inköpt foder (exkl mineral)'!AO75","v":0},{"$f":"'2.3 Inköpt foder (exkl mineral)'!AP63+'2.3 Inköpt foder (exkl mineral)'!AP75","v":0},null,null,{"$f":"'2.3 Inköpt foder (exkl mineral)'!AN63+'2.3 Inköpt foder (exkl mineral)'!AN75","v":0},{"$f":"'2.3 Inköpt foder (exkl mineral)'!AO63+'2.3 Inköpt foder (exkl mineral)'!AO75","v":0},{"$f":"'2.3 Inköpt foder (exkl mineral)'!AP63+'2.3 Inköpt foder (exkl mineral)'!AP75","v":0}]
[]
[]
["Mineralfoder - lägg till inköpt mineralfoder. De innehåller bl a en del fosfor"]
["Mineralfoder","Enhet","Mängd","Kväve","Fosfor","Kalium","Egen kommentar","Kolumn1","Kolumn2","Kolumn3","Kolumn4"]
[null,{"$f":"IF(ISTEXT(A60),VLOOKUP(A60,'tekn adm - produktlistor'!$Q$6:$U$259,2,FALSE),\"\")","v":""},null,{"$f":"Tabell14233958110[[#This Row],[Kolumn2]]","v":0},{"$f":"Tabell14233958110[[#This Row],[Kolumn3]]","v":0},{"$f":"Tabell14233958110[[#This Row],[Kolumn4]]","v":0},null,null,{"$f":"IF(ISTEXT(A60),VLOOKUP(A60,'tekn adm - produktlistor'!$Q$6:$U$259,3,FALSE)*C60,0)","v":0},{"$f":"IF(ISTEXT(A60),VLOOKUP(A60,'tekn adm - produktlistor'!$Q$6:$U$259,4,FALSE)*C60,0)","v":0},{"$f":"IF(ISTEXT(A60),VLOOKUP(A60,'tekn adm - produktlistor'!$Q$6:$U$259,5,FALSE)*C60,0)","v":0}]
[null,{"$f":"IF(ISTEXT(A61),VLOOKUP(A61,'tekn adm - produktlistor'!$Q$6:$U$259,2,FALSE),\"\")","v":""},null,{"$f":"Tabell14233958110[[#This Row],[Kolumn2]]","v":0},{"$f":"Tabell14233958110[[#This Row],[Kolumn3]]","v":0},{"$f":"Tabell14233958110[[#This Row],[Kolumn4]]","v":0},null,null,{"$f":"IF(ISTEXT(A61),VLOOKUP(A61,'tekn adm - produktlistor'!$Q$6:$U$259,3,FALSE)*C61,0)","v":0},{"$f":"IF(ISTEXT(A61),VLOOKUP(A61,'tekn adm - produktlistor'!$Q$6:$U$259,4,FALSE)*C61,0)","v":0},{"$f":"IF(ISTEXT(A61),VLOOKUP(A61,'tekn adm - produktlistor'!$Q$6:$U$259,5,FALSE)*C61,0)","v":0}]
[null,{"$f":"IF(ISTEXT(A62),VLOOKUP(A62,'tekn adm - produktlistor'!$Q$6:$U$259,2,FALSE),\"\")","v":""},null,{"$f":"Tabell14233958110[[#This Row],[Kolumn2]]","v":0},{"$f":"Tabell14233958110[[#This Row],[Kolumn3]]","v":0},{"$f":"Tabell14233958110[[#This Row],[Kolumn4]]","v":0},null,null,{"$f":"IF(ISTEXT(A62),VLOOKUP(A62,'tekn adm - produktlistor'!$Q$6:$U$259,3,FALSE)*C62,0)","v":0},{"$f":"IF(ISTEXT(A62),VLOOKUP(A62,'tekn adm - produktlistor'!$Q$6:$U$259,4,FALSE)*C62,0)","v":0},{"$f":"IF(ISTEXT(A62),VLOOKUP(A62,'tekn adm - produktlistor'!$Q$6:$U$259,5,FALSE)*C62,0)","v":0}]
[null,{"$f":"IF(ISTEXT(A63),VLOOKUP(A63,'tekn adm - produktlistor'!$Q$6:$U$259,2,FALSE),\"\")","v":""},null,{"$f":"Tabell14233958110[[#This Row],[Kolumn2]]","v":0},{"$f":"Tabell14233958110[[#This Row],[Kolumn3]]","v":0},{"$f":"Tabell14233958110[[#This Row],[Kolumn4]]","v":0},null,null,{"$f":"IF(ISTEXT(A63),VLOOKUP(A63,'tekn adm - produktlistor'!$Q$6:$U$259,3,FALSE)*C63,0)","v":0},{"$f":"IF(ISTEXT(A63),VLOOKUP(A63,'tekn adm - produktlistor'!$Q$6:$U$259,4,FALSE)*C63,0)","v":0},{"$f":"IF(ISTEXT(A63),VLOOKUP(A63,'tekn adm - produktlistor'!$Q$6:$U$259,5,FALSE)*C63,0)","v":0}]
[null,{"$f":"IF(ISTEXT(A64),VLOOKUP(A64,'tekn adm - produktlistor'!$Q$6:$U$259,2,FALSE),\"\")","v":""},null,{"$f":"Tabell14233958110[[#This Row],[Kolumn2]]","v":0},{"$f":"Tabell14233958110[[#This Row],[Kolumn3]]","v":0},{"$f":"Tabell14233958110[[#This Row],[Kolumn4]]","v":0},null,null,{"$f":"IF(ISTEXT(A64),VLOOKUP(A64,'tekn adm - produktlistor'!$Q$6:$U$259,3,FALSE)*C64,0)","v":0},{"$f":"IF(ISTEXT(A64),VLOOKUP(A64,'tekn adm - produktlistor'!$Q$6:$U$259,4,FALSE)*C64,0)","v":0},{"$f":"IF(ISTEXT(A64),VLOOKUP(A64,'tekn adm - produktlistor'!$Q$6:$U$259,5,FALSE)*C64,0)","v":0}]
["Summa",null,null,{"$f":"SUBTOTAL(109,Tabell14233958110[Kväve])","v":0},{"$f":"SUBTOTAL(109,Tabell14233958110[Fosfor])","v":0},{"$f":"SUBTOTAL(109,Tabell14233958110[Kalium])","v":0},null,null,{"$f":"SUBTOTAL(109,Tabell14233958110[Kväve])","v":0},{"$f":"SUBTOTAL(109,Tabell14233958110[Fosfor])","v":0},{"$f":"SUBTOTAL(109,Tabell14233958110[Kalium])","v":0}]
[]
[]
[{"$f":"IF(Bakgrund!S13=1,\"\",\"Perioden är inte ett helt år: Justera mängden mineralgödsel så att det motsvarar ett genomsnitt över året. Om t ex perioden är 180 dagar och du använt 10 000 kg Axan under hela år, ska du fylla i 10 000*180/360 = 5 000 kg\")","v":"Perioden är inte ett helt år: Justera mängden mineralgödsel så att det motsvarar ett genomsnitt över året. Om t ex perioden är 180 dagar och du använt 10 000 kg Axan under hela år, ska du fylla i 10 000*180/360 = 5 000 kg"}]
["Mineralgödsel","Enhet","Mängd","Kväve","Fosfor","Kalium","Egen kommentar","Kolumn2","Kolumn3","Kolumn4","Kolumn5"]
[null,{"$f":"IF(ISTEXT(A70),VLOOKUP(A70,'tekn adm - produktlistor'!$B$6:$F$150,2,FALSE),\"\")","v":""},null,{"$f":"I70","v":0},{"$f":"J70","v":0},{"$f":"K70","v":0},null,null,{"$f":"IF(ISTEXT(A70),VLOOKUP(A70,'tekn adm - produktlistor'!$B$6:$F$150,3,FALSE)*C70,0)","v":0},{"$f":"IF(ISTEXT(A70),VLOOKUP(A70,'tekn adm - produktlistor'!$B$6:$F$150,4,FALSE)*C70,0)","v":0},{"$f":"IF(ISTEXT(A70),VLOOKUP(A70,'tekn adm - produktlistor'!$B$6:$F$150,5,FALSE)*C70,0)","v":0}]
[null,{"$f":"IF(ISTEXT(A71),VLOOKUP(A71,'tekn adm - produktlistor'!$B$6:$F$150,2,FALSE),\"\")","v":""},null,0,0,0,null,null,{"$f":"IF(ISTEXT(A71),VLOOKUP(A71,'tekn adm - produktlistor'!$B$6:$F$150,3,FALSE)*C71,0)","v":0},{"$f":"IF(ISTEXT(A71),VLOOKUP(A71,'tekn adm - produktlistor'!$B$6:$F$150,4,FALSE)*C71,0)","v":0},{"$f":"IF(ISTEXT(A71),VLOOKUP(A71,'tekn adm - produktlistor'!$B$6:$F$150,5,FALSE)*C71,0)","v":0}]
[null,{"$f":"IF(ISTEXT(A72),VLOOKUP(A72,'tekn adm - produktlistor'!$B$6:$F$150,2,FALSE),\"\")","v":""},null,0,0,0,null,null,{"$f":"IF(ISTEXT(A72),VLOOKUP(A72,'tekn adm - produktlistor'!$B$6:$F$150,3,FALSE)*C72,0)","v":0},{"$f":"IF(ISTEXT(A72),VLOOKUP(A72,'tekn adm - produktlistor'!$B$6:$F$150,4,FALSE)*C72,0)","v":0},{"$f":"IF(ISTEXT(A72),VLOOKUP(A72,'tekn adm - produktlistor'!$B$6:$F$150,5,FALSE)*C72,0)","v":0}]
[null,{"$f":"IF(ISTEXT(A73),VLOOKUP(A73,'tekn adm - produktlistor'!$B$6:$F$150,2,FALSE),\"\")","v":""},null,0,0,0,null,null,{"$f":"IF(ISTEXT(A73),VLOOKUP(A73,'tekn adm - produktlistor'!$B$6:$F$150,3,FALSE)*C73,0)","v":0},{"$f":"IF(ISTEXT(A73),VLOOKUP(A73,'tekn adm - produktlistor'!$B$6:$F$150,4,FALSE)*C73,0)","v":0},{"$f":"IF(ISTEXT(A73),VLOOKUP(A73,'tekn adm - produktlistor'!$B$6:$F$150,5,FALSE)*C73,0)","v":0}]
[null,{"$f":"IF(ISTEXT(A74),VLOOKUP(A74,'tekn adm - produktlistor'!$B$6:$F$150,2,FALSE),\"\")","v":""},null,0,0,0,null,null,{"$f":"IF(ISTEXT(A74),VLOOKUP(A74,'tekn adm - produktlistor'!$B$6:$F$150,3,FALSE)*C74,0)","v":0},{"$f":"IF(ISTEXT(A74),VLOOKUP(A74,'tekn adm - produktlistor'!$B$6:$F$150,4,FALSE)*C74,0)","v":0},{"$f":"IF(ISTEXT(A74),VLOOKUP(A74,'tekn adm - produktlistor'!$B$6:$F$150,5,FALSE)*C74,0)","v":0}]
["Summa",null,null,{"$f":"SUBTOTAL(109,Tabell91935104[Kväve])","v":0},{"$f":"SUBTOTAL(109,Tabell91935104[Fosfor])","v":0},{"$f":"SUBTOTAL(109,Tabell91935104[Kalium])","v":0},null,null,{"$f":"SUBTOTAL(109,Tabell91935104[Kväve])","v":0},{"$f":"SUBTOTAL(109,Tabell91935104[Fosfor])","v":0},{"$f":"SUBTOTAL(109,Tabell91935104[Kalium])","v":0}]
[]
[]
[{"$f":"IF(Bakgrund!S13=1,\"\",\"Perioden är inte ett helt år: Justera mängden införd organisk gödsel så att det motsvarar ett genomsnitt över året. Om t ex perioden är 180 dagar och du använt 10 000 kg hönsgödsel under hela år, ska du fylla i 10 000*180/360 = 5 000 kg\")","v":"Perioden är inte ett helt år: Justera mängden införd organisk gödsel så att det motsvarar ett genomsnitt över året. Om t ex perioden är 180 dagar och du använt 10 000 kg hönsgödsel under hela år, ska du fylla i 10 000*180/360 = 5 000 kg"}]
["Enbart införd organisk gödsel, d v s ta inte med egen stallgödsel!"]
["Införd organisk gödsel","Enhet","Mängd","Kväve","Fosfor","Kalium","Egen kommentar","Kolumn2","Kolumn3","Kolumn4","Kolumn5"]
[null,{"$f":"IF(ISTEXT(A81),VLOOKUP(A81,'tekn adm - produktlistor'!$J$6:$N$97,2,FALSE),\"\")","v":""},null,{"$f":"I81","v":0},{"$f":"J81","v":0},{"$f":"K81","v":0},null,null,{"$f":"IF(ISTEXT(A81),VLOOKUP(A81,'tekn adm - produktlistor'!$J$6:$N$97,3,FALSE)*C81,0)","v":0},{"$f":"IF(ISTEXT(A81),VLOOKUP(A81,'tekn adm - produktlistor'!$J$6:$N$97,4,FALSE)*C81,0)","v":0},{"$f":"IF(ISTEXT(A81),VLOOKUP(A81,'tekn adm - produktlistor'!$J$6:$N$97,3,FALSE)*C81,0)","v":0}]
[null,{"$f":"IF(ISTEXT(A82),VLOOKUP(A82,'tekn adm - produktlistor'!$J$6:$N$97,2,FALSE),\"\")","v":""},null,0,0,0,null,null,{"$f":"IF(ISTEXT(A82),VLOOKUP(A82,'tekn adm - produktlistor'!$J$6:$N$97,3,FALSE)*C82,0)","v":0},{"$f":"IF(ISTEXT(A82),VLOOKUP(A82,'tekn adm - produktlistor'!$J$6:$N$97,4,FALSE)*C82,0)","v":0},{"$f":"IF(ISTEXT(A82),VLOOKUP(A82,'tekn adm - produktlistor'!$J$6:$N$97,3,FALSE)*C82,0)","v":0}]
[null,{"$f":"IF(ISTEXT(A83),VLOOKUP(A83,'tekn adm - produktlistor'!$J$6:$N$97,2,FALSE),\"\")","v":""},null,0,0,0,null,null,{"$f":"IF(ISTEXT(A83),VLOOKUP(A83,'tekn adm - produktlistor'!$J$6:$N$97,3,FALSE)*C83,0)","v":0},{"$f":"IF(ISTEXT(A83),VLOOKUP(A83,'tekn adm - produktlistor'!$J$6:$N$97,4,FALSE)*C83,0)","v":0},{"$f":"IF(ISTEXT(A83),VLOOKUP(A83,'tekn adm - produktlistor'!$J$6:$N$97,3,FALSE)*C83,0)","v":0}]
[null,{"$f":"IF(ISTEXT(A84),VLOOKUP(A84,'tekn adm - produktlistor'!$J$6:$N$97,2,FALSE),\"\")","v":""},null,0,0,0,null,null,{"$f":"IF(ISTEXT(A84),VLOOKUP(A84,'tekn adm - produktlistor'!$J$6:$N$97,3,FALSE)*C84,0)","v":0},{"$f":"IF(ISTEXT(A84),VLOOKUP(A84,'tekn adm - produktlistor'!$J$6:$N$97,4,FALSE)*C84,0)","v":0},{"$f":"IF(ISTEXT(A84),VLOOKUP(A84,'tekn adm - produktlistor'!$J$6:$N$97,3,FALSE)*C84,0)","v":0}]
[null,{"$f":"IF(ISTEXT(A85),VLOOKUP(A85,'tekn adm - produktlistor'!$J$6:$N$97,2,FALSE),\"\")","v":""},null,0,0,0,null,null,{"$f":"IF(ISTEXT(A85),VLOOKUP(A85,'tekn adm - produktlistor'!$J$6:$N$97,3,FALSE)*C85,0)","v":0},{"$f":"IF(ISTEXT(A85),VLOOKUP(A85,'tekn adm - produktlistor'!$J$6:$N$97,4,FALSE)*C85,0)","v":0},{"$f":"IF(ISTEXT(A85),VLOOKUP(A85,'tekn adm - produktlistor'!$J$6:$N$97,3,FALSE)*C85,0)","v":0}]
["Summa",null,null,{"$f":"SUBTOTAL(109,Tabell112137105[Kväve])","v":0},{"$f":"SUBTOTAL(109,Tabell112137105[Fosfor])","v":0},{"$f":"SUBTOTAL(109,Tabell112137105[Kalium])","v":0},null,null,{"$f":"SUBTOTAL(109,Tabell112137105[Kväve])","v":0},{"$f":"SUBTOTAL(109,Tabell112137105[Fosfor])","v":0},{"$f":"SUBTOTAL(109,Tabell112137105[Kalium])","v":0}]
[]
[]
[]
["Utsäde och inköpt strö","Enhet","Mängd","Kväve","Fosfor","Kalium","Egen kommentar","Kolumn2","Kolumn3","Kolumn4","Kolumn5"]
[null,{"$f":"IF(ISTEXT(A91),VLOOKUP(A91,'tekn adm - produktlistor'!$BO$6:$BS$18,2,FALSE),\"\")","v":""},null,{"$f":"I91","v":0},{"$f":"J91","v":0},{"$f":"K91","v":0},null,null,{"$f":"IF(ISTEXT(A91),VLOOKUP(A91,'tekn adm - produktlistor'!$BO$6:$BS$18,3,FALSE)*C91,0)","v":0},{"$f":"IF(ISTEXT(A91),VLOOKUP(A91,'tekn adm - produktlistor'!$BO$6:$BS$18,4,FALSE)*C91,0)","v":0},{"$f":"IF(ISTEXT(A91),VLOOKUP(A91,'tekn adm - produktlistor'!$BO$6:$BS$18,5,FALSE)*C91,0)","v":0}]
[null,{"$f":"IF(ISTEXT(A92),VLOOKUP(A92,'tekn adm - produktlistor'!$BO$6:$BS$18,2,FALSE),\"\")","v":""},null,0,0,0,null,null,{"$f":"IF(ISTEXT(A92),VLOOKUP(A92,'tekn adm - produktlistor'!$BO$6:$BS$18,3,FALSE)*C92,0)","v":0},{"$f":"IF(ISTEXT(A92),VLOOKUP(A92,'tekn adm - produktlistor'!$BO$6:$BS$18,4,FALSE)*C92,0)","v":0},{"$f":"IF(ISTEXT(A92),VLOOKUP(A92,'tekn adm - produktlistor'!$BO$6:$BS$18,5,FALSE)*C92,0)","v":0}]
[null,{"$f":"IF(ISTEXT(A93),VLOOKUP(A93,'tekn adm - produktlistor'!$BO$6:$BS$18,2,FALSE),\"\")","v":""},null,0,0,0,null,null,{"$f":"IF(ISTEXT(A93),VLOOKUP(A93,'tekn adm - produktlistor'!$BO$6:$BS$18,3,FALSE)*C93,0)","v":0},{"$f":"IF(ISTEXT(A93),VLOOKUP(A93,'tekn adm - produktlistor'!$BO$6:$BS$18,4,FALSE)*C93,0)","v":0},{"$f":"IF(ISTEXT(A93),VLOOKUP(A93,'tekn adm - produktlistor'!$BO$6:$BS$18,5,FALSE)*C93,0)","v":0}]
[null,{"$f":"IF(ISTEXT(A94),VLOOKUP(A94,'tekn adm - produktlistor'!$BO$6:$BS$18,2,FALSE),\"\")","v":""},null,0,0,0,null,null,{"$f":"IF(ISTEXT(A94),VLOOKUP(A94,'tekn adm - produktlistor'!$BO$6:$BS$18,3,FALSE)*C94,0)","v":0},{"$f":"IF(ISTEXT(A94),VLOOKUP(A94,'tekn adm - produktlistor'!$BO$6:$BS$18,4,FALSE)*C94,0)","v":0},{"$f":"IF(ISTEXT(A94),VLOOKUP(A94,'tekn adm - produktlistor'!$BO$6:$BS$18,5,FALSE)*C94,0)","v":0}]
[null,{"$f":"IF(ISTEXT(A95),VLOOKUP(A95,'tekn adm - produktlistor'!$BO$6:$BS$18,2,FALSE),\"\")","v":""},null,0,0,0,null,null,{"$f":"IF(ISTEXT(A95),VLOOKUP(A95,'tekn adm - produktlistor'!$BO$6:$BS$18,3,FALSE)*C95,0)","v":0},{"$f":"IF(ISTEXT(A95),VLOOKUP(A95,'tekn adm - produktlistor'!$BO$6:$BS$18,4,FALSE)*C95,0)","v":0},{"$f":"IF(ISTEXT(A95),VLOOKUP(A95,'tekn adm - produktlistor'!$BO$6:$BS$18,5,FALSE)*C95,0)","v":0}]
["Summa",null,null,{"$f":"SUBTOTAL(109,Tabell122238106[Kväve])","v":0},{"$f":"SUBTOTAL(109,Tabell122238106[Fosfor])","v":0},{"$f":"SUBTOTAL(109,Tabell122238106[Kalium])","v":0},null,null,{"$f":"SUBTOTAL(109,Tabell122238106[Kväve])","v":0},{"$f":"SUBTOTAL(109,Tabell122238106[Fosfor])","v":0},{"$f":"SUBTOTAL(109,Tabell122238106[Kalium])","v":0}]
[]
[]
[]
[]
[]
["Nyckeltal Växtnäringsutnyttjande per kg kött"]
[]
["Totalt för gården","Enhet","Kväve","Fosfor","Kalium","Förklaring"]
["Tillfört via inköp","kg hela gården",{"$f":"I105","v":0},{"$f":"J105","v":0},0,null,null,null,{"$f":"IF(Bakgrund!$AU$37>0,B39-B40-B41,I65+I75+I86+I96+I55)","v":0},{"$f":"IF(Bakgrund!$AU$37>0,C39-C40-C41,J65+J75+J86+J96+J55)","v":0},{"$f":"IF(Bakgrund!$AU$37>0,D39-D40-D41,K65+K75+K86+K96+K55)","v":0}]
["Varav använt till avsalugrödor","kg hela gården",{"$f":"I106","v":0},{"$f":"J106","v":0},{"$f":"K106","v":0},null,null,null,{"$f":"I29","v":0},{"$f":"J29","v":0},{"$f":"K29","v":0}]
["Differens, till djuren","kg hela gården",0,0,0,"Tillfört minus växtnäring som använts till avsalugrödor. Stor mängd sålda grödor och/eller liten mängd inköpta varor ger lågt värde. Värdena kan t o m bli negativa om stor mängd grödor säljs. Lågt/negativt värde på kväve kan bero på omfattande odling av kvävefixerande grödor - detta kväve är inte inköpt och ingår därför inte i balansen. ",null,null,{"$f":"I105-I106","v":0},{"$f":"J105-J106","v":0},0]
[]
["Växtnäringsinsats","g växtnäring per kg kött",0,{"$f":"J109","v":0},{"$f":"K109","v":0},"Avdrag har gjorts för inköpt växtnäring som går till ev sålda grödor. Lågt värde innebär att det gått åt lite inköpta resurser i form av växtnäring för att producera köttet",null,{"$f":"'6 Resultat'!S39","v":0},{"$f":"IF($H109=0,0,I107/$H109)*1000","v":0},{"$f":"IF($H109=0,0,J107/$H109)*1000","v":0},{"$f":"IF($H109=0,0,K107/$H109)*1000","v":0}]
[]
[]
["Mängd producerat kött","kg",0,null,null,"Hämtat från 1.1 Kött",null,null,{"$f":"'1.1 Kött'!E108","v":0}]
[]
["Växtnäringsinnehåll i köttet","kg",0,0,0,"Mängd växtnäring i producerat kött",null,"Nöt",{"$f":"VLOOKUP($H114,'tekn adm - produktlistor'!$BU$6:$BY$11,3,FALSE)*$H109","v":0},{"$f":"VLOOKUP($H114,'tekn adm - produktlistor'!$BU$6:$BY$11,4,FALSE)*$H109","v":0},{"$f":"VLOOKUP($H114,'tekn adm - produktlistor'!$BU$6:$BY$11,5,FALSE)*$H109","v":0}]
["Växtnäringsinsats/växtnäringsinnehåll i köttet","%",0,0,0,"Ju lägre tal, desto mer kött har producerats per kg inköpt växtnäring. Obs, i Kväve ingår inte N-fixering, så omfattande odling av kvävefixerande grödor kan ge ett mycket lågt tal.",null,null,{"$f":"IF(I114=0,0,I107/I114)","v":0},{"$f":"IF(J114=0,0,J107/J114)","v":0},0]

{"sheet":"3 Växtnäringsutnyttjande (3)","index":15,"n_rows":115,"n_cols":13,"rows_kept":115,"cut":false,"hidden":false,"merged":[[1,0,1,11],[38,5,38,6],[39,5,39,6],[40,5,40,6],[111,5,111,6],[108,5,108,6],[42,5,42,6],[104,5,104,6],[105,5,105,6],[106,5,106,6],[41,5,41,6],[1,12,1,15],[2,12,2,15],[3,12,3,15],[4,12,4,15],[5,12,5,15],[112,5,112,6],[113,5,113,6],[114,5,114,6],[11,12,11,15],[6,12,6,15],[7,12,7,15],[8,12,8,15],[9,12,9,15],[10,12,10,15]]}
[{"$f":"\"3 Växtnäringsutnyttjande period 3, \" &period_3","v":"3 Växtnäringsutnyttjande period 3, Period 3"},null,null,null,null,null,null,null,null,null,null,null,"Det här betyder färgerna:"]
[{"$f":"IF(Bakgrund!BI37=0,'Teknisk administration'!H6,'Teknisk administration'!H5)","v":"Bladet är inte relevant för dig"},null,null,null,null,null,null,null,null,null,null,null,"Cell med värden hämtade från annan cell"]
["Här beräknar du växtnäringsutnyttjandet, d v s hur många kg inköpt kväve, fosfor och kalium som gått åt för att producera köttet. ",null,null,null,null,null,null,null,null,null,null,null,"Beräkning"]
["Om du säljer grödor kommer du först få göra avräkning för inköpt växtnäring som använts i odlingen av dessa grödor.",null,null,null,null,null,null,null,null,null,null,null,"Fyll i din egen siffra"]
["Det finns två alternativ för att beräkna växtnäringsinsatsen:",null,null,null,null,null,null,null,null,null,null,null,"Fyll i egen siffra - frivilligt, t ex om du har tillgång till uppgift eller om du vill räkna med annat värde än det schablonvärde som visas i angränsande cell"]
["       1) Mata in färdiga resultat, t ex från växtnäringsbalans gjord inom Greppa Näringen. Detta alternativ visas om du redan har en växtnäringsbalans för perioden",null,null,null,null,null,null,null,null,null,null,null,"Egen uppgift, men välj värde ur rullista. "]
["      2) Beräkna mängden växtnäring i inköpta produkter samt sålda grödor. Visas om du inte har en aktuell växtnäringsbalans",null,null,null,null,null,null,null,null,null,null,null,"Resultat/uträkning"]
["Ljusgrå text och vita rutor = avsnittet är inte relevant för dig.",null,null,null,null,null,null,null,null,null,null,null,"Schablonvärde"]
[null,null,null,null,null,null,null,null,null,null,null,null,"Förklaringar till raden"]
[{"$f":"IF(Bakgrund!T13=1,\"\",\"Obs! Perioden är inte ett helt år, och vissa indata behöver anpassas. Instruktioner ges vid aktuella tabeller. Tolkningen av resultaten kan också påverkas, t ex om perioden inte täcker hela växtodlingssäsongen.\")","v":"Obs! Perioden är inte ett helt år, och vissa indata behöver anpassas. Instruktioner ges vid aktuella tabeller. Tolkningen av resultaten kan också påverkas, t ex om perioden inte täcker hela växtodlingssäsongen."},null,null,null,null,null,null,null,null,null,null,null,"Plats för egna kommentarer"]
["Räcker inte raderna till? Ta bort bladets skrivskydd (Granska/Skydda), inget lösenord krävs. Högerklicka i tabellen och välj Infoga > Infoga rad ovanför",null,null,null,null,null,null,null,null,null,null,null,"Glöm inte att fylla i värde! (Här krävs ett värde för att andra beräkningar ska fungera"]
[null,null,null,null,null,null,null,null,null,null,null,null,"grå text, ev vit bakgrund: Avsnittet är inte relevant för dig baserat på svaren på ja/nej-frågor på bladet Bakgrund"]
[]
[null,null,null,null,null,null,null,null,null,null,null,null,"Snabblänkar till bladen i verktyget:"]
[null,null,null,null,null,null,null,null,null,null,null,null,"Instruktion"]
[{"$f":"\"Sålda grödor \"& Bakgrund!T7","v":"Sålda grödor Period 3"},null,null,null,null,null,null,null,null,null,null,null,"Bakgrund"]
[{"$f":"IF(Bakgrund!$AT$37=0,\"Du har på bladet Bakgrund svarat att du inte säljer några grödor. Detta avsnitt är därmed inte relevant att fylla i för dig\", \"Här fyller du mängden grödor som du sålt/kommer att sälja av det du odlat aktuell period.\")","v":"Här fyller du mängden grödor som du sålt/kommer att sälja av det du odlat aktuell period."},null,null,null,null,null,null,null,null,null,null,null,"1 Intro djuren"]
[{"$f":"IF(Bakgrund!$AT$37=0,\"\",\"Uppgifterna används för att beräkna växtnäringsinsatsen för de sålda grödorna. Denna växtnäring räknas sedan av från övrig växtnäring som tagit in under perioden så att växtnäringsinsatsen för köttet kan beräknas.\")","v":"Uppgifterna används för att beräkna växtnäringsinsatsen för de sålda grödorna. Denna växtnäring räknas sedan av från övrig växtnäring som tagit in under perioden så att växtnäringsinsatsen för köttet kan beräknas."},null,null,null,null,null,null,null,null,null,null,null,"1.1 Kött"]
[{"$f":"IF(Bakgrund!$AT$37=0,\"\",\"Här antas att växtnäringsinsatsen är 1 kg P och 1 kg K per kg P respektive K i grödan. För N justeras växtnäringsinsatsen utifrån grödans kväveeffektivitet och ev kvävefixering\")","v":"Här antas att växtnäringsinsatsen är 1 kg P och 1 kg K per kg P respektive K i grödan. För N justeras växtnäringsinsatsen utifrån grödans kväveeffektivitet och ev kvävefixering"},null,null,null,null,null,null,null,null,null,null,null,"1.2 Tillväxt & förökning"]
[null,null,null,null,null,null,null,null,null,null,null,null,"1.3 Hälsa & dödlighet"]
[{"$f":"IF(Bakgrund!T13=1,\"\",\"Perioden är inte ett helt år: Justera mängden sålda grödor så att det motsvarar genomsnitt över ett år. Så om perioden är 180 dagar och du på ett helår sålt 20 000 kg korn ska du fylla i 20 000*180/360 = 10 000 kg\")","v":"Perioden är inte ett helt år: Justera mängden sålda grödor så att det motsvarar genomsnitt över ett år. Så om perioden är 180 dagar och du på ett helår sålt 20 000 kg korn ska du fylla i 20 000*180/360 = 10 000 kg"},null,null,null,null,null,null,null,null,null,null,null,"2 Intro foder"]
[null,null,null,"Växtnäringsinsats (kg per gröda)",null,null,null,null,null,null,null,null,"2.1 Odling foder"]
["Gröda","Enhet","Mängd","Kväve","Fosfor","Kalium"," ","N-effektivitet","Kolumn1","Kolumn2","Kolumn3",null,"2.2 Förluster vid lagring"]
[null,{"$f":"IF(ISTEXT(A24),VLOOKUP(A24,'tekn adm - produktlistor'!$X$6:$AB$31,2,FALSE),\"\")","v":""},null,{"$f":"I24","v":0},{"$f":"J24","v":0},{"$f":"K24","v":0},null,{"$f":"IF(ISTEXT(A24),VLOOKUP(A24,'tekn adm - produktlistor'!$X$6:$AC$31,6,FALSE),0)","v":0},{"$f":"IF(ISTEXT(A24),VLOOKUP(A24,'tekn adm - produktlistor'!$X$6:$AB$31,3,FALSE)*C24,0)*H24","v":0},{"$f":"IF(ISTEXT(A24),VLOOKUP(A24,'tekn adm - produktlistor'!$X$6:$AB$31,4,FALSE)*C24,0)","v":0},{"$f":"IF(ISTEXT(A24),VLOOKUP(A24,'tekn adm - produktlistor'!$X$6:$AB$31,5,FALSE)*C24,0)","v":0},null,"2.3 Inköpt foder (exkl mineral)"]
[null,{"$f":"IF(ISTEXT(A25),VLOOKUP(A25,'tekn adm - produktlistor'!$X$6:$AB$31,2,FALSE),\"\")","v":""},null,0,0,0,null,{"$f":"IF(ISTEXT(A25),VLOOKUP(A25,'tekn adm - produktlistor'!$X$6:$AC$31,6,FALSE),0)","v":0},{"$f":"IF(ISTEXT(A25),VLOOKUP(A25,'tekn adm - produktlistor'!$X$6:$AB$31,3,FALSE)*C25,0)*H25","v":0},{"$f":"IF(ISTEXT(A25),VLOOKUP(A25,'tekn adm - produktlistor'!$X$6:$AB$31,4,FALSE)*C25,0)","v":0},{"$f":"IF(ISTEXT(A25),VLOOKUP(A25,'tekn adm - produktlistor'!$X$6:$AB$31,5,FALSE)*C25,0)","v":0},null,"2.4 Utfodrat"]
[null,{"$f":"IF(ISTEXT(A26),VLOOKUP(A26,'tekn adm - produktlistor'!$X$6:$AB$31,2,FALSE),\"\")","v":""},null,0,0,0,null,{"$f":"IF(ISTEXT(A26),VLOOKUP(A26,'tekn adm - produktlistor'!$X$6:$AC$31,6,FALSE),0)","v":0},{"$f":"IF(ISTEXT(A26),VLOOKUP(A26,'tekn adm - produktlistor'!$X$6:$AB$31,3,FALSE)*C26,0)*H26","v":0},{"$f":"IF(ISTEXT(A26),VLOOKUP(A26,'tekn adm - produktlistor'!$X$6:$AB$31,4,FALSE)*C26,0)","v":0},{"$f":"IF(ISTEXT(A26),VLOOKUP(A26,'tekn adm - produktlistor'!$X$6:$AB$31,5,FALSE)*C26,0)","v":0},null,"2.5. Kasserat foder och spill"]
[null,{"$f":"IF(ISTEXT(A27),VLOOKUP(A27,'tekn adm - produktlistor'!$X$6:$AB$31,2,FALSE),\"\")","v":""},null,0,0,0,null,{"$f":"IF(ISTEXT(A27),VLOOKUP(A27,'tekn adm - produktlistor'!$X$6:$AC$31,6,FALSE),0)","v":0},{"$f":"IF(ISTEXT(A27),VLOOKUP(A27,'tekn adm - produktlistor'!$X$6:$AB$31,3,FALSE)*C27,0)*H27","v":0},{"$f":"IF(ISTEXT(A27),VLOOKUP(A27,'tekn adm - produktlistor'!$X$6:$AB$31,4,FALSE)*C27,0)","v":0},{"$f":"IF(ISTEXT(A27),VLOOKUP(A27,'tekn adm - produktlistor'!$X$6:$AB$31,5,FALSE)*C27,0)","v":0},null,"2.6 Bete"]
[null,{"$f":"IF(ISTEXT(A28),VLOOKUP(A28,'tekn adm - produktlistor'!$X$6:$AB$31,2,FALSE),\"\")","v":""},null,0,0,0,null,{"$f":"IF(ISTEXT(A28),VLOOKUP(A28,'tekn adm - produktlistor'!$X$6:$AC$31,6,FALSE),0)","v":0},{"$f":"IF(ISTEXT(A28),VLOOKUP(A28,'tekn adm - produktlistor'!$X$6:$AB$31,3,FALSE)*C28,0)*H28","v":0},{"$f":"IF(ISTEXT(A28),VLOOKUP(A28,'tekn adm - produktlistor'!$X$6:$AB$31,4,FALSE)*C28,0)","v":0},{"$f":"IF(ISTEXT(A28),VLOOKUP(A28,'tekn adm - produktlistor'!$X$6:$AB$31,5,FALSE)*C28,0)","v":0},null,"3 Växtnäringsutnyttjande (1)"]
["Summa",null,null,0,0,{"$f":"K29","v":0},null,null,{"$f":"SUBTOTAL(109,'3 Växtnäringsutnyttjande (3)'!$I$24:$I$28)","v":0},{"$f":"SUBTOTAL(109,'3 Växtnäringsutnyttjande (3)'!$J$24:$J$28)","v":0},{"$f":"SUBTOTAL(109,'3 Växtnäringsutnyttjande (3)'!$K$24:$K$28)","v":0},null,"3 Växtnäringsutnyttjande (2)"]
[null,null,null,null,null,null,null,null,null,null,null,null,"3 Växtnäringsutnyttjande (3)"]
[null,null,null,null,null,null,null,null,null,null,null,null,"4 Energi och bränsle"]
[null,null,null,null,null,null,null,null,null,null,null,null,"5 Vattenanvändning"]
[null,null,null,null,null,null,null,null,null,null,null,null,"6 Resultat"]
[{"$f":"\"Inköpta produkter \" & Bakgrund!S7","v":"Inköpta produkter Period 2"}]
["Alternativ 1. Färdigt resultat"]
[]
["Totalt för gården, kg per period. Fyll i uppgifter från växtnäringsbalansen"]
[null,"Kväve","Fosfor","Kalium","Egen kommentar","Förklaring"]
["Tillförsel",null,null,null,null,"växtnäring i inköpta produkter samt kväve från kvävenedfall och ev kvävefixering"]
["Varav:  kvävenedfall"]
["kvävefixering"]
["Bortförsel",null,null,null,null," bortfört via sålt kött, mjölk, grödor och stallgödsel"]
["Differens:",{"$f":"B39-ABS(B42)","v":0},{"$f":"C39-ABS(C42)","v":0},{"$f":"D39-ABS(D42)","v":0},null,"Positivt värde = överskott. Negativt värde = mer växtnäring bortförs än tillförs via inköpta produkter"]
[]
[]
[]
[]
["Alternativ 2. Beräkna mängden växtnäring själv"]
["Här fyller  du i mängd inköpta produkter som förbrukats under perioden. Justera för ev överlagring av foder, gödsel etc.! "]
[]
[]
["Inköpt foder, exkl mineraler."]
[{"$f":"\"Uppgifterna hämtas från bladet \"&C_N_inköpt&\". Gå tillbaks till det bladet om du vill kontrollera uppgifterna.\"","v":"Uppgifterna hämtas från bladet 2.3 Inköpt foder (exkl mineral). Gå tillbaks till det bladet om du vill kontrollera uppgifterna."}]
["Inköpt foder","Enhet","ts","Kväve","Fosfor","Kalium","Egen kommentar"]
["Totalt","kg",{"$f":"'2.3 Inköpt foder (exkl mineral)'!AM100+'2.3 Inköpt foder (exkl mineral)'!AM112","v":0},{"$f":"'2.3 Inköpt foder (exkl mineral)'!AN100+'2.3 Inköpt foder (exkl mineral)'!AN112","v":0},{"$f":"'2.3 Inköpt foder (exkl mineral)'!AO100+'2.3 Inköpt foder (exkl mineral)'!AO112","v":0},{"$f":"'2.3 Inköpt foder (exkl mineral)'!AP100+'2.3 Inköpt foder (exkl mineral)'!AP112","v":0},null,null,{"$f":"'2.3 Inköpt foder (exkl mineral)'!AN100+'2.3 Inköpt foder (exkl mineral)'!AN112","v":0},{"$f":"'2.3 Inköpt foder (exkl mineral)'!AO100+'2.3 Inköpt foder (exkl mineral)'!AO112","v":0},{"$f":"'2.3 Inköpt foder (exkl mineral)'!AP100+'2.3 Inköpt foder (exkl mineral)'!AP112","v":0}]
[]
[]
["Mineralfoder - lägg till inköpt mineralfoder. De innehåller bl a en del fosfor"]
["Mineralfoder","Enhet","Mängd","Kväve","Fosfor","Kalium","Egen kommentar","Kolumn1","Kolumn2","Kolumn3","Kolumn4"]
[null,{"$f":"IF(ISTEXT(A60),VLOOKUP(A60,'tekn adm - produktlistor'!$Q$6:$U$259,2,FALSE),\"\")","v":""},null,{"$f":"I60","v":0},{"$f":"J60","v":0},{"$f":"K60","v":0},null,null,{"$f":"IF(ISTEXT(A60),VLOOKUP(A60,'tekn adm - produktlistor'!$Q$6:$U$259,3,FALSE)*C60,0)","v":0},{"$f":"IF(ISTEXT(A60),VLOOKUP(A60,'tekn adm - produktlistor'!$Q$6:$U$259,4,FALSE)*C60,0)","v":0},{"$f":"IF(ISTEXT(A60),VLOOKUP(A60,'tekn adm - produktlistor'!$Q$6:$U$259,5,FALSE)*C60,0)","v":0}]
[null,{"$f":"IF(ISTEXT(A61),VLOOKUP(A61,'tekn adm - produktlistor'!$Q$6:$U$259,2,FALSE),\"\")","v":""},null,{"$f":"I61","v":0},{"$f":"J61","v":0},{"$f":"K61","v":0},null,null,{"$f":"IF(ISTEXT(A61),VLOOKUP(A61,'tekn adm - produktlistor'!$Q$6:$U$259,3,FALSE)*C61,0)","v":0},{"$f":"IF(ISTEXT(A61),VLOOKUP(A61,'tekn adm - produktlistor'!$Q$6:$U$259,4,FALSE)*C61,0)","v":0},{"$f":"IF(ISTEXT(A61),VLOOKUP(A61,'tekn adm - produktlistor'!$Q$6:$U$259,5,FALSE)*C61,0)","v":0}]
[null,{"$f":"IF(ISTEXT(A62),VLOOKUP(A62,'tekn adm - produktlistor'!$Q$6:$U$259,2,FALSE),\"\")","v":""},null,0,0,0,null,null,{"$f":"IF(ISTEXT(A62),VLOOKUP(A62,'tekn adm - produktlistor'!$Q$6:$U$259,3,FALSE)*C62,0)","v":0},{"$f":"IF(ISTEXT(A62),VLOOKUP(A62,'tekn adm - produktlistor'!$Q$6:$U$259,4,FALSE)*C62,0)","v":0},{"$f":"IF(ISTEXT(A62),VLOOKUP(A62,'tekn adm - produktlistor'!$Q$6:$U$259,5,FALSE)*C62,0)","v":0}]
[null,{"$f":"IF(ISTEXT(A63),VLOOKUP(A63,'tekn adm - produktlistor'!$Q$6:$U$259,2,FALSE),\"\")","v":""},null,0,0,0,null,null,{"$f":"IF(ISTEXT(A63),VLOOKUP(A63,'tekn adm - produktlistor'!$Q$6:$U$259,3,FALSE)*C63,0)","v":0},{"$f":"IF(ISTEXT(A63),VLOOKUP(A63,'tekn adm - produktlistor'!$Q$6:$U$259,4,FALSE)*C63,0)","v":0},{"$f":"IF(ISTEXT(A63),VLOOKUP(A63,'tekn adm - produktlistor'!$Q$6:$U$259,5,FALSE)*C63,0)","v":0}]
[null,{"$f":"IF(ISTEXT(A64),VLOOKUP(A64,'tekn adm - produktlistor'!$Q$6:$U$259,2,FALSE),\"\")","v":""},null,0,0,0,null,null,{"$f":"IF(ISTEXT(A64),VLOOKUP(A64,'tekn adm - produktlistor'!$Q$6:$U$259,3,FALSE)*C64,0)","v":0},{"$f":"IF(ISTEXT(A64),VLOOKUP(A64,'tekn adm - produktlistor'!$Q$6:$U$259,4,FALSE)*C64,0)","v":0},{"$f":"IF(ISTEXT(A64),VLOOKUP(A64,'tekn adm - produktlistor'!$Q$6:$U$259,5,FALSE)*C64,0)","v":0}]
["Summa",null,null,{"$f":"SUM(D60:D64)","v":0},{"$f":"SUM(E60:E64)","v":0},0,null,null,{"$f":"SUBTOTAL(109,Tabell14233958110121[Kväve])","v":0},{"$f":"SUBTOTAL(109,Tabell14233958110121[Fosfor])","v":0},{"$f":"SUBTOTAL(109,Tabell14233958110121[Kalium])","v":0}]
[]
[]
[{"$f":"IF(Bakgrund!T13=1,\"\",\"Perioden är inte ett helt år: Justera mängden mineralgödsel så att det motsvarar ett genomsnitt över året. Om t ex perioden är 180 dagar och du använt 10 000 kg Axan under hela år, ska du fylla i 10 000*180/360 = 5 000 kg\")","v":"Perioden är inte ett helt år: Justera mängden mineralgödsel så att det motsvarar ett genomsnitt över året. Om t ex perioden är 180 dagar och du använt 10 000 kg Axan under hela år, ska du fylla i 10 000*180/360 = 5 000 kg"}]
["Mineralgödsel","Enhet","Mängd","Kväve","Fosfor","Kalium","Egen kommentar","Kolumn2","Kolumn3","Kolumn4","Kolumn5"]
[null,{"$f":"IF(ISTEXT(A70),VLOOKUP(A70,'tekn adm - produktlistor'!$B$6:$F$150,2,FALSE),\"\")","v":""},null,{"$f":"I70","v":0},{"$f":"J70","v":0},{"$f":"K70","v":0},null,null,{"$f":"IF(ISTEXT(A70),VLOOKUP(A70,'tekn adm - produktlistor'!$B$6:$F$150,3,FALSE)*C70,0)","v":0},{"$f":"IF(ISTEXT(A70),VLOOKUP(A70,'tekn adm - produktlistor'!$B$6:$F$150,4,FALSE)*C70,0)","v":0},{"$f":"IF(ISTEXT(A70),VLOOKUP(A70,'tekn adm - produktlistor'!$B$6:$F$150,5,FALSE)*C70,0)","v":0}]
[null,{"$f":"IF(ISTEXT(A71),VLOOKUP(A71,'tekn adm - produktlistor'!$B$6:$F$150,2,FALSE),\"\")","v":""},null,0,0,0,null,null,{"$f":"IF(ISTEXT(A71),VLOOKUP(A71,'tekn adm - produktlistor'!$B$6:$F$150,3,FALSE)*C71,0)","v":0},{"$f":"IF(ISTEXT(A71),VLOOKUP(A71,'tekn adm - produktlistor'!$B$6:$F$150,4,FALSE)*C71,0)","v":0},{"$f":"IF(ISTEXT(A71),VLOOKUP(A71,'tekn adm - produktlistor'!$B$6:$F$150,5,FALSE)*C71,0)","v":0}]
[null,{"$f":"IF(ISTEXT(A72),VLOOKUP(A72,'tekn adm - produktlistor'!$B$6:$F$150,2,FALSE),\"\")","v":""},null,0,0,0,null,null,{"$f":"IF(ISTEXT(A72),VLOOKUP(A72,'tekn adm - produktlistor'!$B$6:$F$150,3,FALSE)*C72,0)","v":0},{"$f":"IF(ISTEXT(A72),VLOOKUP(A72,'tekn adm - produktlistor'!$B$6:$F$150,4,FALSE)*C72,0)","v":0},{"$f":"IF(ISTEXT(A72),VLOOKUP(A72,'tekn adm - produktlistor'!$B$6:$F$150,5,FALSE)*C72,0)","v":0}]
[null,{"$f":"IF(ISTEXT(A73),VLOOKUP(A73,'tekn adm - produktlistor'!$B$6:$F$150,2,FALSE),\"\")","v":""},null,0,0,0,null,null,{"$f":"IF(ISTEXT(A73),VLOOKUP(A73,'tekn adm - produktlistor'!$B$6:$F$150,3,FALSE)*C73,0)","v":0},{"$f":"IF(ISTEXT(A73),VLOOKUP(A73,'tekn adm - produktlistor'!$B$6:$F$150,4,FALSE)*C73,0)","v":0},{"$f":"IF(ISTEXT(A73),VLOOKUP(A73,'tekn adm - produktlistor'!$B$6:$F$150,5,FALSE)*C73,0)","v":0}]
[null,{"$f":"IF(ISTEXT(A74),VLOOKUP(A74,'tekn adm - produktlistor'!$B$6:$F$150,2,FALSE),\"\")","v":""},null,0,0,0,null,null,{"$f":"IF(ISTEXT(A74),VLOOKUP(A74,'tekn adm - produktlistor'!$B$6:$F$150,3,FALSE)*C74,0)","v":0},{"$f":"IF(ISTEXT(A74),VLOOKUP(A74,'tekn adm - produktlistor'!$B$6:$F$150,4,FALSE)*C74,0)","v":0},{"$f":"IF(ISTEXT(A74),VLOOKUP(A74,'tekn adm - produktlistor'!$B$6:$F$150,5,FALSE)*C74,0)","v":0}]
["Summa",null,null,{"$f":"SUM(D70:D74)","v":0},{"$f":"SUM(E70:E74)","v":0},{"$f":"SUM(F70:F74)","v":0},null,null,{"$f":"SUBTOTAL(109,Tabell91935104114[Kväve])","v":0},{"$f":"SUBTOTAL(109,Tabell91935104114[Fosfor])","v":0},{"$f":"SUBTOTAL(109,Tabell91935104114[Kalium])","v":0}]
[]
[]
[{"$f":"IF(Bakgrund!T13=1,\"\",\"Perioden är inte ett helt år: Justera mängden införd organisk gödsel så att det motsvarar ett genomsnitt över året. Om t ex perioden är 180 dagar och du använt 10 000 kg hönsgödsel under hela år, ska du fylla i 10 000*180/360 = 5 000 kg\")","v":"Perioden är inte ett helt år: Justera mängden införd organisk gödsel så att det motsvarar ett genomsnitt över året. Om t ex perioden är 180 dagar och du använt 10 000 kg hönsgödsel under hela år, ska du fylla i 10 000*180/360 = 5 000 kg"}]
["Enbart införd organisk gödsel, d v s ta inte med egen stallgödsel!"]
["Införd organisk gödsel","Enhet","Mängd","Kväve","Fosfor","Kalium","Egen kommentar","Kolumn2","Kolumn3","Kolumn4","Kolumn5"]
[null,{"$f":"IF(ISTEXT(A81),VLOOKUP(A81,'tekn adm - produktlistor'!$J$6:$N$97,2,FALSE),\"\")","v":""},null,{"$f":"I81","v":0},{"$f":"J81","v":0},{"$f":"K81","v":0},null,null,{"$f":"IF(ISTEXT(A81),VLOOKUP(A81,'tekn adm - produktlistor'!$J$6:$N$97,3,FALSE)*C81,0)","v":0},{"$f":"IF(ISTEXT(A81),VLOOKUP(A81,'tekn adm - produktlistor'!$J$6:$N$97,4,FALSE)*C81,0)","v":0},{"$f":"IF(ISTEXT(A81),VLOOKUP(A81,'tekn adm - produktlistor'!$J$6:$N$97,3,FALSE)*C81,0)","v":0}]
[null,{"$f":"IF(ISTEXT(A82),VLOOKUP(A82,'tekn adm - produktlistor'!$J$6:$N$97,2,FALSE),\"\")","v":""},null,0,0,0,null,null,{"$f":"IF(ISTEXT(A82),VLOOKUP(A82,'tekn adm - produktlistor'!$J$6:$N$97,3,FALSE)*C82,0)","v":0},{"$f":"IF(ISTEXT(A82),VLOOKUP(A82,'tekn adm - produktlistor'!$J$6:$N$97,4,FALSE)*C82,0)","v":0},{"$f":"IF(ISTEXT(A82),VLOOKUP(A82,'tekn adm - produktlistor'!$J$6:$N$97,3,FALSE)*C82,0)","v":0}]
[null,{"$f":"IF(ISTEXT(A83),VLOOKUP(A83,'tekn adm - produktlistor'!$J$6:$N$97,2,FALSE),\"\")","v":""},null,0,0,0,null,null,{"$f":"IF(ISTEXT(A83),VLOOKUP(A83,'tekn adm - produktlistor'!$J$6:$N$97,3,FALSE)*C83,0)","v":0},{"$f":"IF(ISTEXT(A83),VLOOKUP(A83,'tekn adm - produktlistor'!$J$6:$N$97,4,FALSE)*C83,0)","v":0},{"$f":"IF(ISTEXT(A83),VLOOKUP(A83,'tekn adm - produktlistor'!$J$6:$N$97,3,FALSE)*C83,0)","v":0}]
[null,{"$f":"IF(ISTEXT(A84),VLOOKUP(A84,'tekn adm - produktlistor'!$J$6:$N$97,2,FALSE),\"\")","v":""},null,0,0,0,null,null,{"$f":"IF(ISTEXT(A84),VLOOKUP(A84,'tekn adm - produktlistor'!$J$6:$N$97,3,FALSE)*C84,0)","v":0},{"$f":"IF(ISTEXT(A84),VLOOKUP(A84,'tekn adm - produktlistor'!$J$6:$N$97,4,FALSE)*C84,0)","v":0},{"$f":"IF(ISTEXT(A84),VLOOKUP(A84,'tekn adm - produktlistor'!$J$6:$N$97,3,FALSE)*C84,0)","v":0}]
[null,{"$f":"IF(ISTEXT(A85),VLOOKUP(A85,'tekn adm - produktlistor'!$J$6:$N$97,2,FALSE),\"\")","v":""},null,0,0,0,null,null,{"$f":"IF(ISTEXT(A85),VLOOKUP(A85,'tekn adm - produktlistor'!$J$6:$N$97,3,FALSE)*C85,0)","v":0},{"$f":"IF(ISTEXT(A85),VLOOKUP(A85,'tekn adm - produktlistor'!$J$6:$N$97,4,FALSE)*C85,0)","v":0},{"$f":"IF(ISTEXT(A85),VLOOKUP(A85,'tekn adm - produktlistor'!$J$6:$N$97,3,FALSE)*C85,0)","v":0}]
["Summa",null,null,{"$f":"SUM(D81:D85)","v":0},{"$f":"SUM(E81:E85)","v":0},0,null,null,{"$f":"SUBTOTAL(109,Tabell112137105115[Kväve])","v":0},{"$f":"SUBTOTAL(109,Tabell112137105115[Fosfor])","v":0},{"$f":"SUBTOTAL(109,Tabell112137105115[Kalium])","v":0}]
[]
[]
[]
["Utsäde och inköpt strö","Enhet","Mängd","Kväve","Fosfor","Kalium","Egen kommentar","Kolumn2","Kolumn3","Kolumn4","Kolumn5"]
[null,{"$f":"IF(ISTEXT(A91),VLOOKUP(A91,'tekn adm - produktlistor'!$BO$6:$BS$18,2,FALSE),\"\")","v":""},null,{"$f":"I91","v":0},{"$f":"J91","v":0},{"$f":"K91","v":0},null,null,{"$f":"IF(ISTEXT(A91),VLOOKUP(A91,'tekn adm - produktlistor'!$BO$6:$BS$18,3,FALSE)*C91,0)","v":0},{"$f":"IF(ISTEXT(A91),VLOOKUP(A91,'tekn adm - produktlistor'!$BO$6:$BS$18,4,FALSE)*C91,0)","v":0},{"$f":"IF(ISTEXT(A91),VLOOKUP(A91,'tekn adm - produktlistor'!$BO$6:$BS$18,5,FALSE)*C91,0)","v":0}]
[null,{"$f":"IF(ISTEXT(A92),VLOOKUP(A92,'tekn adm - produktlistor'!$BO$6:$BS$18,2,FALSE),\"\")","v":""},null,0,0,0,null,null,{"$f":"IF(ISTEXT(A92),VLOOKUP(A92,'tekn adm - produktlistor'!$BO$6:$BS$18,3,FALSE)*C92,0)","v":0},{"$f":"IF(ISTEXT(A92),VLOOKUP(A92,'tekn adm - produktlistor'!$BO$6:$BS$18,4,FALSE)*C92,0)","v":0},{"$f":"IF(ISTEXT(A92),VLOOKUP(A92,'tekn adm - produktlistor'!$BO$6:$BS$18,5,FALSE)*C92,0)","v":0}]
[null,{"$f":"IF(ISTEXT(A93),VLOOKUP(A93,'tekn adm - produktlistor'!$BO$6:$BS$18,2,FALSE),\"\")","v":""},null,0,0,0,null,null,{"$f":"IF(ISTEXT(A93),VLOOKUP(A93,'tekn adm - produktlistor'!$BO$6:$BS$18,3,FALSE)*C93,0)","v":0},{"$f":"IF(ISTEXT(A93),VLOOKUP(A93,'tekn adm - produktlistor'!$BO$6:$BS$18,4,FALSE)*C93,0)","v":0},{"$f":"IF(ISTEXT(A93),VLOOKUP(A93,'tekn adm - produktlistor'!$BO$6:$BS$18,5,FALSE)*C93,0)","v":0}]
[null,{"$f":"IF(ISTEXT(A94),VLOOKUP(A94,'tekn adm - produktlistor'!$BO$6:$BS$18,2,FALSE),\"\")","v":""},null,0,0,0,null,null,{"$f":"IF(ISTEXT(A94),VLOOKUP(A94,'tekn adm - produktlistor'!$BO$6:$BS$18,3,FALSE)*C94,0)","v":0},{"$f":"IF(ISTEXT(A94),VLOOKUP(A94,'tekn adm - produktlistor'!$BO$6:$BS$18,4,FALSE)*C94,0)","v":0},{"$f":"IF(ISTEXT(A94),VLOOKUP(A94,'tekn adm - produktlistor'!$BO$6:$BS$18,5,FALSE)*C94,0)","v":0}]
[null,{"$f":"IF(ISTEXT(A95),VLOOKUP(A95,'tekn adm - produktlistor'!$BO$6:$BS$18,2,FALSE),\"\")","v":""},null,0,0,0,null,null,{"$f":"IF(ISTEXT(A95),VLOOKUP(A95,'tekn adm - produktlistor'!$BO$6:$BS$18,3,FALSE)*C95,0)","v":0},{"$f":"IF(ISTEXT(A95),VLOOKUP(A95,'tekn adm - produktlistor'!$BO$6:$BS$18,4,FALSE)*C95,0)","v":0},{"$f":"IF(ISTEXT(A95),VLOOKUP(A95,'tekn adm - produktlistor'!$BO$6:$BS$18,5,FALSE)*C95,0)","v":0}]
["Summa",null,null,{"$f":"SUM(D91:D95)","v":0},{"$f":"SUM(E91:E95)","v":0},0,null,null,{"$f":"SUBTOTAL(109,Tabell122238106116[Kväve])","v":0},{"$f":"SUBTOTAL(109,Tabell122238106116[Fosfor])","v":0},{"$f":"SUBTOTAL(109,Tabell122238106116[Kalium])","v":0}]
[]
[]
[]
[]
[]
["Nyckeltal Växtnäringsutnyttjande per kg kött"]
[]
["Totalt för gården","Enhet","Kväve","Fosfor","Kalium","Förklaring"]
["Tillfört via inköp","kg hela gården",{"$f":"I105","v":0},{"$f":"J105","v":0},0,null,null,null,{"$f":"IF(Bakgrund!$AU$37>0,B39-B40-B41,I65+I75+I86+I96+I55)","v":0},{"$f":"IF(Bakgrund!$AU$37>0,C39-C40-C41,J65+J75+J86+J96+J55)","v":0},{"$f":"IF(Bakgrund!$AU$37>0,D39-D40-D41,K65+K75+K86+K96+K55)","v":0}]
["Varav använt till avsalugrödor","kg hela gården",{"$f":"I106","v":0},0,0,null,null,null,{"$f":"I29","v":0},{"$f":"J29","v":0},{"$f":"K29","v":0}]
["Differens, till djuren","kg hela gården",0,0,0,"Tillfört minus växtnäring som använts till avsalugrödor. Stor mängd sålda grödor och/eller liten mängd inköpta varor ger lågt värde. Värdena kan t o m bli negativa om stor mängd grödor säljs. Lågt/negativt värde på kväve kan bero på omfattande odling av kvävefixerande grödor - detta kväve är inte inköpt och ingår därför inte i balansen. ",null,null,{"$f":"I105-I106","v":0},{"$f":"J105-J106","v":0},0]
[]
["Växtnäringsinsats","g växtnäring per kg kött",0,{"$f":"J109","v":0},{"$f":"K109","v":0},"Avdrag har gjorts för inköpt växtnäring som går till ev sålda grödor. Lågt värde innebär att det gått åt lite inköpta resurser i form av växtnäring för att producera köttet",null,{"$f":"'6 Resultat'!T39","v":0},{"$f":"IF($H109=0,0,I107/$H109)*1000","v":0},{"$f":"IF($H109=0,0,J107/$H109)*1000","v":0},{"$f":"IF($H109=0,0,K107/$H109)*1000","v":0}]
[]
[]
["Mängd producerat kött","kg",0,null,null,"Hämtat från 1.1 Kött",null,null,{"$f":"'1.1 Kött'!E158","v":0}]
[]
["Växtnäringsinnehåll i köttet","kg",0,0,0,"Mängd växtnäring i producerat kött",null,"Nöt",{"$f":"VLOOKUP($H114,'tekn adm - produktlistor'!$BU$6:$BY$11,3,FALSE)*$H109","v":0},{"$f":"VLOOKUP($H114,'tekn adm - produktlistor'!$BU$6:$BY$11,4,FALSE)*$H109","v":0},{"$f":"VLOOKUP($H114,'tekn adm - produktlistor'!$BU$6:$BY$11,5,FALSE)*$H109","v":0}]
["Växtnäringsinsats/växtnäringsinnehåll i köttet","%",0,0,0,"Ju lägre tal, desto mer kött har producerats per kg inköpt växtnäring. Obs, i Kväve ingår inte N-fixering, så omfattande odling av kvävefixerande grödor kan ge ett mycket lågt tal.",null,null,{"$f":"IF(I114=0,0,I107/I114)","v":0},{"$f":"IF(J114=0,0,J107/J114)","v":0},0]

{"sheet":"4 Energi och bränsle","index":16,"n_rows":183,"n_cols":13,"rows_kept":183,"cut":false,"hidden":false,"merged":[[34,9,34,10],[35,9,35,10],[36,9,36,10],[7,9,7,10],[8,9,8,10],[15,9,15,10],[16,9,16,10],[17,9,17,10],[14,9,14,10],[2,9,2,10],[3,9,3,10],[4,9,4,10],[5,9,5,10],[6,9,6,10],[75,0,75,7],[76,0,76,7],[73,0,73,7],[43,0,43,1],[51,0,51,1],[44,5,44,7],[45,5,45,7],[46,5,46,7],[47,5,47,7],[52,5,52,7],[43,5,43,7],[53,5,53,7],[54,5,54,7],[55,5,55,7],[51,5,51,7],[61,5,61,7],[72,0,72,7],[74,0,74,7],[58,5,58,7],[62,5,62,7],[63,5,63,7],[64,5,64,7],[65,5,65,7],[37,9,37,10],[30,9,30,10],[13,2,13,4],[13,5,13,7],[71,0,71,7],[23,9,23,10],[24,9,24,10],[25,9,25,10],[18,9,18,10],[19,9,19,10],[20,9,20,10],[21,9,21,10],[22,9,22,10],[31,9,31,10],[32,9,32,10],[33,9,33,10]]}
["4 Energi och bränsle"]
[{"$f":"VLOOKUP('6 Resultat'!E21,'Teknisk administration'!$G$4:$H$6,2,FALSE)","v":"Bladet är frivilligt att fylla i"},null,null,null,null,null,null,null,null,"Det här betyder färgerna:"]
["Här samlar du uppgifter om energi (el, drivmedel, bränslen för uppvärmning och inköpta tjänster) som används i djurhållningen och växtodlingen, både inköpt och egenproducerat. ",null,null,null,null,null,null,null,null,"Cell med värden hämtade från annan cell",null,null,"Snabblänkar till bladen i verktyget:"]
[null,null,null,null,null,null,null,null,null,"Fyll i din egen siffra",null,null,"Instruktion"]
["Gör avdrag för privat användning och annan verksamhet (t ex entreprenad).  ",null,null,null,null,null,null,null,null,"Egen uppgift, men välj värde ur rullista. ",null,null,"Bakgrund"]
["Justera också för eventuell överlagring (t ex diesel)!",null,null,null,null,null,null,null,null,"Resultat/uträkning",null,null,"1 Intro djuren"]
["Användningen räknas om till kWh för att kunna summeras. ",null,null,null,null,null,null,null,null,"Schablonvärde",null,null,"1.1 Kött"]
[null,null,null,null,null,null,null,null,null,"Förklaringar till raden",null,null,"1.2 Tillväxt & förökning"]
[null,null,null,null,null,null,null,null,null,"Plats för egna kommentarer",null,null,"1.3 Hälsa & dödlighet"]
[null,null,null,null,null,null,null,null,null,null,null,null,"2 Intro foder"]
[null,null,null,null,null,null,null,null,null,null,null,null,"2.1 Odling foder"]
[null,null,null,null,null,null,null,null,null,null,null,null,"2.2 Förluster vid lagring"]
[null,null,null,null,null,null,null,null,null,null,null,null,"2.3 Inköpt foder (exkl mineral)"]
[null,null,"Period",null,null,"Nyckeltal",null,null,null,null,null,null,"2.4 Utfodrat"]
["Inköpt energi som använts under året. Justera för eventuell överlagring!","Enhet",{"$f":"Bakgrund!R$7","v":"Period 1"},{"$f":"Bakgrund!S$7","v":"Period 2"},{"$f":"Bakgrund!T$7","v":"Period 3"},{"$f":"\"Motsvarar i kWh år \"&C15","v":"Motsvarar i kWh år Period 1"},{"$f":"\"Motsvarar i kWh år \"&D15","v":"Motsvarar i kWh år Period 2"},"Motsvarar i kWh år Period 3","Egen kommentar","Förklaring",null,null,"2.5. Kasserat foder och spill"]
["El","kWh",null,null,null,{"$f":"C16*'Teknisk administration'!$L$15","v":0},{"$f":"D16*'Teknisk administration'!$L$15","v":0},{"$f":"E16*'Teknisk administration'!$L$15","v":0},null,null,null,null,"2.6 Bete"]
["Diesel","liter",null,null,null,{"$f":"C17*'Teknisk administration'!$L$16","v":0},{"$f":"D17*'Teknisk administration'!$L$16","v":0},{"$f":"E17*'Teknisk administration'!$L$16","v":0},null,"1 l diesel = 9,8 kWh",null,null,"3 Växtnäringsutnyttjande (1)"]
["Bensin","liter",null,null,null,{"$f":"C18*'Teknisk administration'!$L$17","v":0},{"$f":"D18*'Teknisk administration'!$L$17","v":0},{"$f":"E18*'Teknisk administration'!$L$17","v":0},null,"1 l bensin = 9,1 kWh",null,null,"3 Växtnäringsutnyttjande (2)"]
["Fordonsgas","m3",null,null,null,{"$f":"C19*'Teknisk administration'!$L$18","v":0},{"$f":"D19*'Teknisk administration'!$L$18","v":0},{"$f":"E19*'Teknisk administration'!$L$18","v":0},null,"Naturgas eller uppgraderad biogas 1 m3 = 9,7 kWh. \n1 kg fordonsgas = 1,5 m3 fordonsgas",null,null,"3 Växtnäringsutnyttjande (3)"]
["Eldningsolja","liter",null,null,null,{"$f":"C20*'Teknisk administration'!$L19","v":0},{"$f":"D20*'Teknisk administration'!$L19","v":0},{"$f":"E20*'Teknisk administration'!$L19","v":0},null,"1 l eldningsolja = 9,95 kWh",null,null,"4 Energi och bränsle"]
["Flis","m3s",null,null,null,{"$f":"C21*'Teknisk administration'!$L20","v":0},{"$f":"D21*'Teknisk administration'!$L20","v":0},{"$f":"E21*'Teknisk administration'!$L20","v":0},null,"kubikmeter stjälpt mått. 1m3s = 750 kWh ",null,null,"5 Vattenanvändning"]
["Pellets","ton",null,null,null,{"$f":"C22*'Teknisk administration'!$L21","v":0},{"$f":"D22*'Teknisk administration'!$L21","v":0},{"$f":"E22*'Teknisk administration'!$L21","v":0},null,"1 ton pellets = 4 900 kWh",null,null,"6 Resultat"]
["Ved","m3tr",null,null,null,{"$f":"C23*'Teknisk administration'!$L22","v":0},{"$f":"D23*'Teknisk administration'!$L22","v":0},{"$f":"E23*'Teknisk administration'!$L22","v":0},null,"1 m3 travat mått brännved = 1240 kWh"]
["Övriga bränslen","kWh",null,null,null,{"$f":"C24*'Teknisk administration'!$L23","v":0},{"$f":"D24*'Teknisk administration'!$L23","v":0},{"$f":"E24*'Teknisk administration'!$L23","v":0},null,"1 kbmf ved björk = 2500 kWh"]
["Inhyrda tjänster, dieselåtgången är känd*","liter diesel",null,null,null,{"$f":"C25*'Teknisk administration'!$L24","v":0},{"$f":"D25*'Teknisk administration'!$L24","v":0},{"$f":"E25*'Teknisk administration'!$L24","v":0},null,"* t ex rundbalning, utgödsling. Fyll i denna rad om drivmedelsåtgången (liter) framgår av fakturan. "]
["Inhyrda tjänster, saknar uppgift om dieselåtgång*","liter diesel",{"$f":"E97","v":0},{"$f":"E119","v":0},{"$f":"E139","v":0},{"$f":"C26*'Teknisk administration'!$L25","v":0},{"$f":"D26*'Teknisk administration'!$L25","v":0},{"$f":"E26*'Teknisk administration'!$L25","v":0},null,"* Fyll i hjälptabellen längre ner om du inte vet hur stor drivmedelsförbrukningen var! Obs! En tabell per år. Resultatet överförs automatisk till denna rad."]
["Summa: Inköpt mängd energi","kWh",null,null,null,{"$f":"SUM(F16:F26)","v":0},{"$f":"SUM(G16:G26)","v":0},0]
[]
[]
[]
["Egen produktion för egen användning, justera för eventuell överlagring","Enhet",{"$f":"Bakgrund!R7","v":"Period 1"},{"$f":"Bakgrund!S7","v":"Period 2"},{"$f":"Bakgrund!T7","v":"Period 3"},{"$f":"\"Motsvarar i kWh år \"&C31","v":"Motsvarar i kWh år Period 1"},{"$f":"\"Motsvarar i kWh år \"&D31","v":"Motsvarar i kWh år Period 2"},{"$f":"\"Motsvarar i kWh år \"&E31","v":"Motsvarar i kWh år Period 3"},"Egen kommentar","Förklaring"]
["El","kWh",null,null,null,{"$f":"C32*'Teknisk administration'!$L31","v":0},{"$f":"D32*'Teknisk administration'!$L31","v":0},{"$f":"E32*'Teknisk administration'!$L31","v":0},null,"T ex egen solel, vindkraft"]
["Biogas","m3",null,null,null,{"$f":"C33*'Teknisk administration'!$L32","v":0},{"$f":"D33*'Teknisk administration'!$L32","v":0},{"$f":"E33*'Teknisk administration'!$L32","v":0},null,"Avser rågas. 1 m3 biogas = 5,8 kWh"]
["Flis","m3s",null,null,null,{"$f":"C34*'Teknisk administration'!$L33","v":0},{"$f":"D34*'Teknisk administration'!$L33","v":0},{"$f":"E34*'Teknisk administration'!$L33","v":0},null,"m3s=stjälpt mått, t ex yttermåtten av en flishög. 1m3s = 750 kWh "]
["Pellets","ton",null,null,null,{"$f":"C35*'Teknisk administration'!$L34","v":0},{"$f":"D35*'Teknisk administration'!$L34","v":0},{"$f":"E35*'Teknisk administration'!$L34","v":0},null,"1 ton pellets = 4 900 kWh"]
["Ved","m3tr",null,null,null,{"$f":"C36*'Teknisk administration'!$L35","v":0},{"$f":"D36*'Teknisk administration'!$L35","v":0},{"$f":"E36*'Teknisk administration'!$L35","v":0},null,"m3tr= travat mått brännved\n1 m3tr = 1240 kWh"]
["Halm","ton",null,null,null,{"$f":"C37*'Teknisk administration'!$L36","v":0},{"$f":"D37*'Teknisk administration'!$L36","v":0},{"$f":"E37*'Teknisk administration'!$L36","v":0},null,"1 ton halm = 4000kWh"]
["Övrigt","kWh",null,null,null,{"$f":"C38*'Teknisk administration'!$L37","v":0},{"$f":"D38*'Teknisk administration'!$L37","v":0},{"$f":"E38*'Teknisk administration'!$L37","v":0},null,"T ex 1 kg fordonsgas = 13 kWh, 1 kbmf ved björk = 2500 kWh"]
["Summa: egenproducerad energi","kWh",null,null,null,{"$f":"SUM(F32:F38)","v":0},{"$f":"SUM(G32:G38)","v":0},0]
[]
[]
[]
[]
["Total mängd använd energi (inköpt + egenproducerad), uttryck som kWh",null,{"$f":"Bakgrund!R7","v":"Period 1"},{"$f":"Bakgrund!S7","v":"Period 2"},{"$f":"Bakgrund!T7","v":"Period 3"},"Egen kommentar",null,null,"Förklaring"]
["Totalt, varav...","kWh",{"$f":"F27+F39","v":0},{"$f":"G27+G39","v":0},{"$f":"H27+H39","v":0}]
["...el","kWh",{"$f":"SUMPRODUCT(C16:C38,'Teknisk administration'!$B$14:$B$36,'Teknisk administration'!$L$15:$L$37)","v":0},{"$f":"SUMPRODUCT(D16:D38,'Teknisk administration'!$B$14:$B$36,'Teknisk administration'!$L$15:$L$37)","v":0},{"$f":"SUMPRODUCT(E16:E38,'Teknisk administration'!$B$14:$B$36,'Teknisk administration'!$L$15:$L$37)","v":0}]
["...drivmedel (diesel, bensin)","kWh",{"$f":"SUMPRODUCT(C16:C38,'Teknisk administration'!$C$14:$C$36,'Teknisk administration'!$L$15:$L$37)","v":0},{"$f":"SUMPRODUCT(D16:D38,'Teknisk administration'!$C$14:$C$36,'Teknisk administration'!$L$15:$L$37)","v":0},{"$f":"SUMPRODUCT(E16:E38,'Teknisk administration'!C14:C36,'Teknisk administration'!$L$15:$L$37)","v":0}]
["...bränslen för värme (eldningsolja, flis, halm etc.)","kWh",{"$f":"SUMPRODUCT(C16:C38,'Teknisk administration'!$D$14:$D$36,'Teknisk administration'!$L$15:$L$37)","v":0},{"$f":"SUMPRODUCT(D16:D38,'Teknisk administration'!$D$14:$D$36,'Teknisk administration'!$L$15:$L$37)","v":0},{"$f":"SUMPRODUCT(E16:E38,'Teknisk administration'!$D$14:$D$36,'Teknisk administration'!$L$15:$L$37)","v":0}]
[]
[]
[]
["Total mängd använd energi (inköpt + egenproducerad), som % av total mängd använd energi",null,{"$f":"Bakgrund!R7","v":"Period 1"},{"$f":"Bakgrund!S7","v":"Period 2"},{"$f":"Bakgrund!T7","v":"Period 3"},"Egen kommentar",null,null,"Förklaring"]
["Totalt, varav...","%",{"$f":"SUM(C54:C56)","v":0},{"$f":"SUM(D54:D56)","v":0},0]
["...el","% av totalt",{"$f":"C46/IF(C$45=0,1,C$45)","v":0},0,0]
["...drivmedel (diesel, bensin)","% av totalt",0,0,0]
["...bränslen för värme (eldningsolja, flis, halm etc.)","% av totalt",0,0,0]
[]
[]
["Mängd producerat kött","kg kött per år",{"$f":"'6 Resultat'!R38","v":0},{"$f":"'6 Resultat'!S38","v":0},{"$f":"'6 Resultat'!T38","v":0}]
[]
[]
["Nyckeltal: Använd mängd energi per kg kött:",null,{"$f":"Bakgrund!R7","v":"Period 1"},{"$f":"Bakgrund!S7","v":"Period 2"},{"$f":"Bakgrund!T7","v":"Period 3"},"Egen kommentar",null,null,"Förklaring",null,"Några nyckeltal om energianvändning inomgårds (uttag foder, stall, utgödsling etc.) (Jordbruksverket. 2010. Rapport 2010:16)"]
["Totalt, varav...","kWh/kg kött",{"$f":"IF(C$59>0,C45/C$59,0)","v":0},{"$f":"IF(D$59>0,D45/D$59,0)","v":0},0,null,null,null,"Se nyckeltal till höger!",null,null,"Nyckeltal","Min-Max"]
["...el","kWh/kg kött",0,0,0,null,null,null,"Eldriven utgödsling, utfordring etc. ger generellt lägre energiförbrukning",null,"Nöt, köttdjur (kWh/kg kött)",7.75,"2,06-11,77"]
["...drivmedel (diesel, bensin)","kWh/kg kött",0,0,0,null,null,null,"Oftast det mesta från fältarbeten"]
["...bränslen för värme (eldningsolja, flis, halm etc.)","kWh/kg kött",0,0,0,null,null,null,"Generellt fler kWh för uppvärmning med bränslen än med el/värmepump"]
[]
[]
[]
[]
["Hjälptabeller för att beräkna dieselåtgång för inköpta tjänster"]
["Använd tabellerna nedan för att beräkna hur mycket diesel som gått åt för inköpta tjänser, om du inte kan få fram dieselförbrukningen från fakturan"]
["Välj arbetsmoment (t ex pressning halm, sprutning, rundbalspress) alternativt traktorns storlek (t ex 120 kW (163 hk)) ur rullistan och fyll sedan i antalet timmar eller hektar:"]
["* Listan innehåller några exempel dieselåtgång på arbetsmoment. Enheten är liter per HEKTAR. För upprepade arbetsmoment (t ex vallskörd) eller moment där det kan behövas flera överfarter (t ex vältning) ska detta beaktas. Så om man t ex lejer in sprutning 2 gånger till 10 hektar ska värdet vara 2*10 = 20  "]
["* Traktorerna är indelade i motorstorlekar. Ju större traktor och effekt, desto högre dieselåtgång. Enheten är liter per TIMME. Schablonvärdet gäller blandat arbete, exklusive jordbearbetning. Om det är ett tungt arbete, t ex plöjning, välj då en storlek större på traktorn  så beaktas det extra effektbehovet. Vid lätt arbete kan en storlek mindre väljas. "]
["* I listan finns det några rubriker (t ex \"---Skörd vall---\") för att underlätta orienteringen och som saknar schablonvärden för dieselåtgång. Välj därför ett mer specifikt alternativ."]
[]
["Det finns en tabell per år, och resultatet överförs automatiskt till sammanställningen ovan."]
[]
[]
[{"$f":"\"Inhyrda tjänster år \"&Bakgrund!R7","v":"Inhyrda tjänster år Period 1"}]
["Arbetsmoment eller traktorns storlek - välj alternativ ur lista!","Arbete, timmar eller hektar","Enhet","Egen kommentar","tot dieselåtgång (liter)","Dieselåtgång","Enhet","Förklaring"]
[null,null,{"$f":"IF(ISTEXT($A83),VLOOKUP($A83,'Teknisk administration'!$A$66:$E$99,4,FALSE),\"\")","v":""},null,{"$f":"IF(ISNUMBER(F83),F83,0)*B83","v":0},{"$f":"IF(ISTEXT($A83),VLOOKUP($A83,'Teknisk administration'!$A$66:$E$99,2,FALSE),\"\")","v":""},{"$f":"IF(ISTEXT($A83),VLOOKUP($A83,'Teknisk administration'!$A$66:$D$99,3,FALSE),\"\")","v":""},{"$f":"IF(ISTEXT($A83),VLOOKUP($A83,'Teknisk administration'!$A$66:$E$99,5,FALSE),\"\")","v":""}]
[null,null,{"$f":"IF(ISTEXT($A84),VLOOKUP($A84,'Teknisk administration'!$A$66:$E$99,4,FALSE),\"\")","v":""},null,0,{"$f":"IF(ISTEXT($A84),VLOOKUP($A84,'Teknisk administration'!$A$66:$D$99,2,FALSE),\"\")","v":""},{"$f":"IF(ISTEXT($A84),VLOOKUP($A84,'Teknisk administration'!$A$66:$D$99,3,FALSE),\"\")","v":""},{"$f":"IF(ISTEXT($A84),VLOOKUP($A84,'Teknisk administration'!$A$66:$E$99,5,FALSE),\"\")","v":""}]
[null,null,{"$f":"IF(ISTEXT($A85),VLOOKUP($A85,'Teknisk administration'!$A$66:$E$99,4,FALSE),\"\")","v":""},null,0,{"$f":"IF(ISTEXT($A85),VLOOKUP($A85,'Teknisk administration'!$A$66:$D$99,2,FALSE),\"\")","v":""},{"$f":"IF(ISTEXT($A85),VLOOKUP($A85,'Teknisk administration'!$A$66:$D$99,3,FALSE),\"\")","v":""},{"$f":"IF(ISTEXT($A85),VLOOKUP($A85,'Teknisk administration'!$A$66:$E$99,5,FALSE),\"\")","v":""}]
[null,null,{"$f":"IF(ISTEXT($A86),VLOOKUP($A86,'Teknisk administration'!$A$66:$E$99,4,FALSE),\"\")","v":""},null,0,{"$f":"IF(ISTEXT($A86),VLOOKUP($A86,'Teknisk administration'!$A$66:$D$99,2,FALSE),\"\")","v":""},{"$f":"IF(ISTEXT($A86),VLOOKUP($A86,'Teknisk administration'!$A$66:$D$99,3,FALSE),\"\")","v":""},{"$f":"IF(ISTEXT($A86),VLOOKUP($A86,'Teknisk administration'!$A$66:$E$99,5,FALSE),\"\")","v":""}]
[null,null,{"$f":"IF(ISTEXT($A87),VLOOKUP($A87,'Teknisk administration'!$A$66:$E$99,4,FALSE),\"\")","v":""},null,0,{"$f":"IF(ISTEXT($A87),VLOOKUP($A87,'Teknisk administration'!$A$66:$D$99,2,FALSE),\"\")","v":""},{"$f":"IF(ISTEXT($A87),VLOOKUP($A87,'Teknisk administration'!$A$66:$D$99,3,FALSE),\"\")","v":""},{"$f":"IF(ISTEXT($A87),VLOOKUP($A87,'Teknisk administration'!$A$66:$E$99,5,FALSE),\"\")","v":""}]
[null,null,{"$f":"IF(ISTEXT($A88),VLOOKUP($A88,'Teknisk administration'!$A$66:$E$99,4,FALSE),\"\")","v":""},null,0,{"$f":"IF(ISTEXT($A88),VLOOKUP($A88,'Teknisk administration'!$A$66:$D$99,2,FALSE),\"\")","v":""},{"$f":"IF(ISTEXT($A88),VLOOKUP($A88,'Teknisk administration'!$A$66:$D$99,3,FALSE),\"\")","v":""},{"$f":"IF(ISTEXT($A88),VLOOKUP($A88,'Teknisk administration'!$A$66:$E$99,5,FALSE),\"\")","v":""}]
[null,null,{"$f":"IF(ISTEXT($A89),VLOOKUP($A89,'Teknisk administration'!$A$66:$E$99,4,FALSE),\"\")","v":""},null,0,{"$f":"IF(ISTEXT($A89),VLOOKUP($A89,'Teknisk administration'!$A$66:$D$99,2,FALSE),\"\")","v":""},{"$f":"IF(ISTEXT($A89),VLOOKUP($A89,'Teknisk administration'!$A$66:$D$99,3,FALSE),\"\")","v":""},{"$f":"IF(ISTEXT($A89),VLOOKUP($A89,'Teknisk administration'!$A$66:$E$99,5,FALSE),\"\")","v":""}]
[null,null,{"$f":"IF(ISTEXT($A90),VLOOKUP($A90,'Teknisk administration'!$A$66:$E$99,4,FALSE),\"\")","v":""},null,0,{"$f":"IF(ISTEXT($A90),VLOOKUP($A90,'Teknisk administration'!$A$66:$D$99,2,FALSE),\"\")","v":""},{"$f":"IF(ISTEXT($A90),VLOOKUP($A90,'Teknisk administration'!$A$66:$D$99,3,FALSE),\"\")","v":""},{"$f":"IF(ISTEXT($A90),VLOOKUP($A90,'Teknisk administration'!$A$66:$E$99,5,FALSE),\"\")","v":""}]
[null,null,{"$f":"IF(ISTEXT($A91),VLOOKUP($A91,'Teknisk administration'!$A$66:$E$99,4,FALSE),\"\")","v":""},null,0,{"$f":"IF(ISTEXT($A91),VLOOKUP($A91,'Teknisk administration'!$A$66:$D$99,2,FALSE),\"\")","v":""},{"$f":"IF(ISTEXT($A91),VLOOKUP($A91,'Teknisk administration'!$A$66:$D$99,3,FALSE),\"\")","v":""},{"$f":"IF(ISTEXT($A91),VLOOKUP($A91,'Teknisk administration'!$A$66:$E$99,5,FALSE),\"\")","v":""}]
[null,null,{"$f":"IF(ISTEXT($A92),VLOOKUP($A92,'Teknisk administration'!$A$66:$E$99,4,FALSE),\"\")","v":""},null,0,{"$f":"IF(ISTEXT($A92),VLOOKUP($A92,'Teknisk administration'!$A$66:$D$99,2,FALSE),\"\")","v":""},{"$f":"IF(ISTEXT($A92),VLOOKUP($A92,'Teknisk administration'!$A$66:$D$99,3,FALSE),\"\")","v":""},{"$f":"IF(ISTEXT($A92),VLOOKUP($A92,'Teknisk administration'!$A$66:$E$99,5,FALSE),\"\")","v":""}]
[null,null,{"$f":"IF(ISTEXT($A93),VLOOKUP($A93,'Teknisk administration'!$A$66:$E$99,4,FALSE),\"\")","v":""},null,0,{"$f":"IF(ISTEXT($A93),VLOOKUP($A93,'Teknisk administration'!$A$66:$D$99,2,FALSE),\"\")","v":""},{"$f":"IF(ISTEXT($A93),VLOOKUP($A93,'Teknisk administration'!$A$66:$D$99,3,FALSE),\"\")","v":""},{"$f":"IF(ISTEXT($A93),VLOOKUP($A93,'Teknisk administration'!$A$66:$E$99,5,FALSE),\"\")","v":""}]
[null,null,{"$f":"IF(ISTEXT($A94),VLOOKUP($A94,'Teknisk administration'!$A$66:$E$99,4,FALSE),\"\")","v":""},null,0,{"$f":"IF(ISTEXT($A94),VLOOKUP($A94,'Teknisk administration'!$A$66:$D$99,2,FALSE),\"\")","v":""},{"$f":"IF(ISTEXT($A94),VLOOKUP($A94,'Teknisk administration'!$A$66:$D$99,3,FALSE),\"\")","v":""},{"$f":"IF(ISTEXT($A94),VLOOKUP($A94,'Teknisk administration'!$A$66:$E$99,5,FALSE),\"\")","v":""}]
[null,null,{"$f":"IF(ISTEXT($A95),VLOOKUP($A95,'Teknisk administration'!$A$66:$E$99,4,FALSE),\"\")","v":""},null,0,{"$f":"IF(ISTEXT($A95),VLOOKUP($A95,'Teknisk administration'!$A$66:$D$99,2,FALSE),\"\")","v":""},{"$f":"IF(ISTEXT($A95),VLOOKUP($A95,'Teknisk administration'!$A$66:$D$99,3,FALSE),\"\")","v":""},{"$f":"IF(ISTEXT($A95),VLOOKUP($A95,'Teknisk administration'!$A$66:$E$99,5,FALSE),\"\")","v":""}]
[null,null,{"$f":"IF(ISTEXT($A96),VLOOKUP($A96,'Teknisk administration'!$A$66:$E$99,4,FALSE),\"\")","v":""},null,0,{"$f":"IF(ISTEXT($A96),VLOOKUP($A96,'Teknisk administration'!$A$66:$D$99,2,FALSE),\"\")","v":""},{"$f":"IF(ISTEXT($A96),VLOOKUP($A96,'Teknisk administration'!$A$66:$D$99,3,FALSE),\"\")","v":""},{"$f":"IF(ISTEXT($A96),VLOOKUP($A96,'Teknisk administration'!$A$66:$E$99,5,FALSE),\"\")","v":""}]
[{"$f":"\"Totalt år \"&Bakgrund!R7&\" (liter)\"","v":"Totalt år Period 1 (liter)"},null,null,null,{"$f":"SUM(E83:E96)","v":0},"liter"]
[{"$f":"\"Totalt år \"&Bakgrund!R7&\" (kWh)\"","v":"Totalt år Period 1 (kWh)"},null,null,null,{"$f":"E97*'Teknisk administration'!$L$25","v":0},"kWh"]
[]
[]
[]
[]
[{"$f":"\"Inhyrda tjänster år \"&Bakgrund!S7","v":"Inhyrda tjänster år Period 2"}]
["Arbetsmoment eller traktorns storlek - välj alternativ ur lista!","Arbete, timmar eller hektar","Enhet","Egen kommentar","tot dieselåtgång (liter)","Dieselåtgång","Enhet","Förklaring"]
[null,null,{"$f":"IF(ISTEXT($A105),VLOOKUP($A105,'Teknisk administration'!$A$66:$E$99,4,FALSE),\"\")","v":""},null,{"$f":"IF(ISNUMBER(F105),F105,0)*B105","v":0},{"$f":"IF(ISTEXT($A105),VLOOKUP($A105,'Teknisk administration'!$A$66:$E$99,2,FALSE),\"\")","v":""},{"$f":"IF(ISTEXT($A105),VLOOKUP($A105,'Teknisk administration'!$A$66:$D$99,3,FALSE),\"\")","v":""},{"$f":"IF(ISTEXT($A105),VLOOKUP($A105,'Teknisk administration'!$A$66:$E$99,5,FALSE),\"\")","v":""}]
[null,null,{"$f":"IF(ISTEXT($A106),VLOOKUP($A106,'Teknisk administration'!$A$66:$E$99,4,FALSE),\"\")","v":""},null,0,{"$f":"IF(ISTEXT($A106),VLOOKUP($A106,'Teknisk administration'!$A$66:$D$99,2,FALSE),\"\")","v":""},{"$f":"IF(ISTEXT($A106),VLOOKUP($A106,'Teknisk administration'!$A$66:$D$99,3,FALSE),\"\")","v":""},{"$f":"IF(ISTEXT($A106),VLOOKUP($A106,'Teknisk administration'!$A$66:$E$99,5,FALSE),\"\")","v":""}]
[null,null,{"$f":"IF(ISTEXT($A107),VLOOKUP($A107,'Teknisk administration'!$A$66:$E$99,4,FALSE),\"\")","v":""},null,0,{"$f":"IF(ISTEXT($A107),VLOOKUP($A107,'Teknisk administration'!$A$66:$D$99,2,FALSE),\"\")","v":""},{"$f":"IF(ISTEXT($A107),VLOOKUP($A107,'Teknisk administration'!$A$66:$D$99,3,FALSE),\"\")","v":""},{"$f":"IF(ISTEXT($A107),VLOOKUP($A107,'Teknisk administration'!$A$66:$E$99,5,FALSE),\"\")","v":""}]
[null,null,{"$f":"IF(ISTEXT($A108),VLOOKUP($A108,'Teknisk administration'!$A$66:$E$99,4,FALSE),\"\")","v":""},null,0,{"$f":"IF(ISTEXT($A108),VLOOKUP($A108,'Teknisk administration'!$A$66:$D$99,2,FALSE),\"\")","v":""},{"$f":"IF(ISTEXT($A108),VLOOKUP($A108,'Teknisk administration'!$A$66:$D$99,3,FALSE),\"\")","v":""},{"$f":"IF(ISTEXT($A108),VLOOKUP($A108,'Teknisk administration'!$A$66:$E$99,5,FALSE),\"\")","v":""}]
[null,null,{"$f":"IF(ISTEXT($A109),VLOOKUP($A109,'Teknisk administration'!$A$66:$E$99,4,FALSE),\"\")","v":""},null,0,{"$f":"IF(ISTEXT($A109),VLOOKUP($A109,'Teknisk administration'!$A$66:$D$99,2,FALSE),\"\")","v":""},{"$f":"IF(ISTEXT($A109),VLOOKUP($A109,'Teknisk administration'!$A$66:$D$99,3,FALSE),\"\")","v":""},{"$f":"IF(ISTEXT($A109),VLOOKUP($A109,'Teknisk administration'!$A$66:$E$99,5,FALSE),\"\")","v":""}]
[null,null,{"$f":"IF(ISTEXT($A110),VLOOKUP($A110,'Teknisk administration'!$A$66:$E$99,4,FALSE),\"\")","v":""},null,0,{"$f":"IF(ISTEXT($A110),VLOOKUP($A110,'Teknisk administration'!$A$66:$D$99,2,FALSE),\"\")","v":""},{"$f":"IF(ISTEXT($A110),VLOOKUP($A110,'Teknisk administration'!$A$66:$D$99,3,FALSE),\"\")","v":""},{"$f":"IF(ISTEXT($A110),VLOOKUP($A110,'Teknisk administration'!$A$66:$E$99,5,FALSE),\"\")","v":""}]
[null,null,{"$f":"IF(ISTEXT($A111),VLOOKUP($A111,'Teknisk administration'!$A$66:$E$99,4,FALSE),\"\")","v":""},null,0,{"$f":"IF(ISTEXT($A111),VLOOKUP($A111,'Teknisk administration'!$A$66:$D$99,2,FALSE),\"\")","v":""},{"$f":"IF(ISTEXT($A111),VLOOKUP($A111,'Teknisk administration'!$A$66:$D$99,3,FALSE),\"\")","v":""},{"$f":"IF(ISTEXT($A111),VLOOKUP($A111,'Teknisk administration'!$A$66:$E$99,5,FALSE),\"\")","v":""}]
[null,null,{"$f":"IF(ISTEXT($A112),VLOOKUP($A112,'Teknisk administration'!$A$66:$E$99,4,FALSE),\"\")","v":""},null,0,{"$f":"IF(ISTEXT($A112),VLOOKUP($A112,'Teknisk administration'!$A$66:$D$99,2,FALSE),\"\")","v":""},{"$f":"IF(ISTEXT($A112),VLOOKUP($A112,'Teknisk administration'!$A$66:$D$99,3,FALSE),\"\")","v":""},{"$f":"IF(ISTEXT($A112),VLOOKUP($A112,'Teknisk administration'!$A$66:$E$99,5,FALSE),\"\")","v":""}]
[null,null,{"$f":"IF(ISTEXT($A113),VLOOKUP($A113,'Teknisk administration'!$A$66:$E$99,4,FALSE),\"\")","v":""},null,0,{"$f":"IF(ISTEXT($A113),VLOOKUP($A113,'Teknisk administration'!$A$66:$D$99,2,FALSE),\"\")","v":""},{"$f":"IF(ISTEXT($A113),VLOOKUP($A113,'Teknisk administration'!$A$66:$D$99,3,FALSE),\"\")","v":""},{"$f":"IF(ISTEXT($A113),VLOOKUP($A113,'Teknisk administration'!$A$66:$E$99,5,FALSE),\"\")","v":""}]
[null,null,{"$f":"IF(ISTEXT($A114),VLOOKUP($A114,'Teknisk administration'!$A$66:$E$99,4,FALSE),\"\")","v":""},null,0,{"$f":"IF(ISTEXT($A114),VLOOKUP($A114,'Teknisk administration'!$A$66:$D$99,2,FALSE),\"\")","v":""},{"$f":"IF(ISTEXT($A114),VLOOKUP($A114,'Teknisk administration'!$A$66:$D$99,3,FALSE),\"\")","v":""},{"$f":"IF(ISTEXT($A114),VLOOKUP($A114,'Teknisk administration'!$A$66:$E$99,5,FALSE),\"\")","v":""}]
[null,null,{"$f":"IF(ISTEXT($A115),VLOOKUP($A115,'Teknisk administration'!$A$66:$E$99,4,FALSE),\"\")","v":""},null,0,{"$f":"IF(ISTEXT($A115),VLOOKUP($A115,'Teknisk administration'!$A$66:$D$99,2,FALSE),\"\")","v":""},{"$f":"IF(ISTEXT($A115),VLOOKUP($A115,'Teknisk administration'!$A$66:$D$99,3,FALSE),\"\")","v":""},{"$f":"IF(ISTEXT($A115),VLOOKUP($A115,'Teknisk administration'!$A$66:$E$99,5,FALSE),\"\")","v":""}]
[null,null,{"$f":"IF(ISTEXT($A116),VLOOKUP($A116,'Teknisk administration'!$A$66:$E$99,4,FALSE),\"\")","v":""},null,0,{"$f":"IF(ISTEXT($A116),VLOOKUP($A116,'Teknisk administration'!$A$66:$D$99,2,FALSE),\"\")","v":""},{"$f":"IF(ISTEXT($A116),VLOOKUP($A116,'Teknisk administration'!$A$66:$D$99,3,FALSE),\"\")","v":""},{"$f":"IF(ISTEXT($A116),VLOOKUP($A116,'Teknisk administration'!$A$66:$E$99,5,FALSE),\"\")","v":""}]
[null,null,{"$f":"IF(ISTEXT($A117),VLOOKUP($A117,'Teknisk administration'!$A$66:$E$99,4,FALSE),\"\")","v":""},null,0,{"$f":"IF(ISTEXT($A117),VLOOKUP($A117,'Teknisk administration'!$A$66:$D$99,2,FALSE),\"\")","v":""},{"$f":"IF(ISTEXT($A117),VLOOKUP($A117,'Teknisk administration'!$A$66:$D$99,3,FALSE),\"\")","v":""},{"$f":"IF(ISTEXT($A117),VLOOKUP($A117,'Teknisk administration'!$A$66:$E$99,5,FALSE),\"\")","v":""}]
[null,null,{"$f":"IF(ISTEXT($A118),VLOOKUP($A118,'Teknisk administration'!$A$66:$E$99,4,FALSE),\"\")","v":""},null,0,{"$f":"IF(ISTEXT($A118),VLOOKUP($A118,'Teknisk administration'!$A$66:$D$99,2,FALSE),\"\")","v":""},{"$f":"IF(ISTEXT($A118),VLOOKUP($A118,'Teknisk administration'!$A$66:$D$99,3,FALSE),\"\")","v":""},{"$f":"IF(ISTEXT($A118),VLOOKUP($A118,'Teknisk administration'!$A$66:$E$99,5,FALSE),\"\")","v":""}]
[{"$f":"\"Totalt år \"&Bakgrund!S$7&\" (liter)\"","v":"Totalt år Period 2 (liter)"},null,null,null,{"$f":"SUM(E105:E118)","v":0},"liter"]
[{"$f":"\"Totalt år \"&Bakgrund!S$7&\" (kWh)\"","v":"Totalt år Period 2 (kWh)"},null,null,null,{"$f":"E119*'Teknisk administration'!$L$25","v":0},"kWh"]
[]
[]
[{"$f":"\"Inhyrda tjänster år \"&Bakgrund!T7","v":"Inhyrda tjänster år Period 3"}]
["Arbetsmoment eller traktorns storlek - välj alternativ ur lista!","Arbete, timmar eller hektar","Enhet","Egen kommentar","tot dieselåtgång (liter)","Dieselåtgång","Enhet","Förklaring"]
[null,null,{"$f":"IF(ISTEXT($A125),VLOOKUP($A125,'Teknisk administration'!$A$66:$E$99,4,FALSE),\"\")","v":""},null,{"$f":"IF(ISNUMBER(F125),F125,0)*B125","v":0},{"$f":"IF(ISTEXT($A125),VLOOKUP($A125,'Teknisk administration'!$A$66:$E$99,2,FALSE),\"\")","v":""},{"$f":"IF(ISTEXT($A125),VLOOKUP($A125,'Teknisk administration'!$A$66:$D$99,3,FALSE),\"\")","v":""},{"$f":"IF(ISTEXT($A125),VLOOKUP($A125,'Teknisk administration'!$A$66:$E$99,5,FALSE),\"\")","v":""}]
[null,null,{"$f":"IF(ISTEXT($A126),VLOOKUP($A126,'Teknisk administration'!$A$66:$E$99,4,FALSE),\"\")","v":""},null,0,{"$f":"IF(ISTEXT($A126),VLOOKUP($A126,'Teknisk administration'!$A$66:$D$99,2,FALSE),\"\")","v":""},{"$f":"IF(ISTEXT($A126),VLOOKUP($A126,'Teknisk administration'!$A$66:$D$99,3,FALSE),\"\")","v":""},{"$f":"IF(ISTEXT($A126),VLOOKUP($A126,'Teknisk administration'!$A$66:$E$99,5,FALSE),\"\")","v":""}]
[null,null,{"$f":"IF(ISTEXT($A127),VLOOKUP($A127,'Teknisk administration'!$A$66:$E$99,4,FALSE),\"\")","v":""},null,0,{"$f":"IF(ISTEXT($A127),VLOOKUP($A127,'Teknisk administration'!$A$66:$D$99,2,FALSE),\"\")","v":""},{"$f":"IF(ISTEXT($A127),VLOOKUP($A127,'Teknisk administration'!$A$66:$D$99,3,FALSE),\"\")","v":""},{"$f":"IF(ISTEXT($A127),VLOOKUP($A127,'Teknisk administration'!$A$66:$E$99,5,FALSE),\"\")","v":""}]
[null,null,{"$f":"IF(ISTEXT($A128),VLOOKUP($A128,'Teknisk administration'!$A$66:$E$99,4,FALSE),\"\")","v":""},null,0,{"$f":"IF(ISTEXT($A128),VLOOKUP($A128,'Teknisk administration'!$A$66:$D$99,2,FALSE),\"\")","v":""},{"$f":"IF(ISTEXT($A128),VLOOKUP($A128,'Teknisk administration'!$A$66:$D$99,3,FALSE),\"\")","v":""},{"$f":"IF(ISTEXT($A128),VLOOKUP($A128,'Teknisk administration'!$A$66:$E$99,5,FALSE),\"\")","v":""}]
[null,null,{"$f":"IF(ISTEXT($A129),VLOOKUP($A129,'Teknisk administration'!$A$66:$E$99,4,FALSE),\"\")","v":""},null,0,{"$f":"IF(ISTEXT($A129),VLOOKUP($A129,'Teknisk administration'!$A$66:$D$99,2,FALSE),\"\")","v":""},{"$f":"IF(ISTEXT($A129),VLOOKUP($A129,'Teknisk administration'!$A$66:$D$99,3,FALSE),\"\")","v":""},{"$f":"IF(ISTEXT($A129),VLOOKUP($A129,'Teknisk administration'!$A$66:$E$99,5,FALSE),\"\")","v":""}]
[null,null,{"$f":"IF(ISTEXT($A130),VLOOKUP($A130,'Teknisk administration'!$A$66:$E$99,4,FALSE),\"\")","v":""},null,0,{"$f":"IF(ISTEXT($A130),VLOOKUP($A130,'Teknisk administration'!$A$66:$D$99,2,FALSE),\"\")","v":""},{"$f":"IF(ISTEXT($A130),VLOOKUP($A130,'Teknisk administration'!$A$66:$D$99,3,FALSE),\"\")","v":""},{"$f":"IF(ISTEXT($A130),VLOOKUP($A130,'Teknisk administration'!$A$66:$E$99,5,FALSE),\"\")","v":""}]
[null,null,{"$f":"IF(ISTEXT($A131),VLOOKUP($A131,'Teknisk administration'!$A$66:$E$99,4,FALSE),\"\")","v":""},null,0,{"$f":"IF(ISTEXT($A131),VLOOKUP($A131,'Teknisk administration'!$A$66:$D$99,2,FALSE),\"\")","v":""},{"$f":"IF(ISTEXT($A131),VLOOKUP($A131,'Teknisk administration'!$A$66:$D$99,3,FALSE),\"\")","v":""},{"$f":"IF(ISTEXT($A131),VLOOKUP($A131,'Teknisk administration'!$A$66:$E$99,5,FALSE),\"\")","v":""}]
[null,null,{"$f":"IF(ISTEXT($A132),VLOOKUP($A132,'Teknisk administration'!$A$66:$E$99,4,FALSE),\"\")","v":""},null,0,{"$f":"IF(ISTEXT($A132),VLOOKUP($A132,'Teknisk administration'!$A$66:$D$99,2,FALSE),\"\")","v":""},{"$f":"IF(ISTEXT($A132),VLOOKUP($A132,'Teknisk administration'!$A$66:$D$99,3,FALSE),\"\")","v":""},{"$f":"IF(ISTEXT($A132),VLOOKUP($A132,'Teknisk administration'!$A$66:$E$99,5,FALSE),\"\")","v":""}]
[null,null,{"$f":"IF(ISTEXT($A133),VLOOKUP($A133,'Teknisk administration'!$A$66:$E$99,4,FALSE),\"\")","v":""},null,0,{"$f":"IF(ISTEXT($A133),VLOOKUP($A133,'Teknisk administration'!$A$66:$D$99,2,FALSE),\"\")","v":""},{"$f":"IF(ISTEXT($A133),VLOOKUP($A133,'Teknisk administration'!$A$66:$D$99,3,FALSE),\"\")","v":""},{"$f":"IF(ISTEXT($A133),VLOOKUP($A133,'Teknisk administration'!$A$66:$E$99,5,FALSE),\"\")","v":""}]
[null,null,{"$f":"IF(ISTEXT($A134),VLOOKUP($A134,'Teknisk administration'!$A$66:$E$99,4,FALSE),\"\")","v":""},null,0,{"$f":"IF(ISTEXT($A134),VLOOKUP($A134,'Teknisk administration'!$A$66:$D$99,2,FALSE),\"\")","v":""},{"$f":"IF(ISTEXT($A134),VLOOKUP($A134,'Teknisk administration'!$A$66:$D$99,3,FALSE),\"\")","v":""},{"$f":"IF(ISTEXT($A134),VLOOKUP($A134,'Teknisk administration'!$A$66:$E$99,5,FALSE),\"\")","v":""}]
[null,null,{"$f":"IF(ISTEXT($A135),VLOOKUP($A135,'Teknisk administration'!$A$66:$E$99,4,FALSE),\"\")","v":""},null,0,{"$f":"IF(ISTEXT($A135),VLOOKUP($A135,'Teknisk administration'!$A$66:$D$99,2,FALSE),\"\")","v":""},{"$f":"IF(ISTEXT($A135),VLOOKUP($A135,'Teknisk administration'!$A$66:$D$99,3,FALSE),\"\")","v":""},{"$f":"IF(ISTEXT($A135),VLOOKUP($A135,'Teknisk administration'!$A$66:$E$99,5,FALSE),\"\")","v":""}]
[null,null,{"$f":"IF(ISTEXT($A136),VLOOKUP($A136,'Teknisk administration'!$A$66:$E$99,4,FALSE),\"\")","v":""},null,0,{"$f":"IF(ISTEXT($A136),VLOOKUP($A136,'Teknisk administration'!$A$66:$D$99,2,FALSE),\"\")","v":""},{"$f":"IF(ISTEXT($A136),VLOOKUP($A136,'Teknisk administration'!$A$66:$D$99,3,FALSE),\"\")","v":""},{"$f":"IF(ISTEXT($A136),VLOOKUP($A136,'Teknisk administration'!$A$66:$E$99,5,FALSE),\"\")","v":""}]
[null,null,{"$f":"IF(ISTEXT($A137),VLOOKUP($A137,'Teknisk administration'!$A$66:$E$99,4,FALSE),\"\")","v":""},null,0,{"$f":"IF(ISTEXT($A137),VLOOKUP($A137,'Teknisk administration'!$A$66:$D$99,2,FALSE),\"\")","v":""},{"$f":"IF(ISTEXT($A137),VLOOKUP($A137,'Teknisk administration'!$A$66:$D$99,3,FALSE),\"\")","v":""},{"$f":"IF(ISTEXT($A137),VLOOKUP($A137,'Teknisk administration'!$A$66:$E$99,5,FALSE),\"\")","v":""}]
[null,null,{"$f":"IF(ISTEXT($A138),VLOOKUP($A138,'Teknisk administration'!$A$66:$E$99,4,FALSE),\"\")","v":""},null,0,{"$f":"IF(ISTEXT($A138),VLOOKUP($A138,'Teknisk administration'!$A$66:$D$99,2,FALSE),\"\")","v":""},{"$f":"IF(ISTEXT($A138),VLOOKUP($A138,'Teknisk administration'!$A$66:$D$99,3,FALSE),\"\")","v":""},{"$f":"IF(ISTEXT($A138),VLOOKUP($A138,'Teknisk administration'!$A$66:$E$99,5,FALSE),\"\")","v":""}]
[{"$f":"\"Totalt år \"&Bakgrund!T$7&\" (liter)\"","v":"Totalt år Period 3 (liter)"},null,null,null,{"$f":"SUM(E125:E138)","v":0},"liter"]
[{"$f":"\"Totalt år \"&Bakgrund!T$7&\" (kWh)\"","v":"Totalt år Period 3 (kWh)"},null,null,null,{"$f":"E139*'Teknisk administration'!$L$25","v":0},"kWh"]
[]
[]
[]
[]
["Tycker du att det är intressant med energi? Fortsätt i så fall med en stor energikartläggning! Kontakta din rådgivare!"]
[]
[]
["Mer detaljer om energi och bränsle"]
["Vill du veta var energin går åt? Dela upp den på de olika posterna för att få en mer detaljerad översikt och hitta flaskhalsarna. Här kan du även lägga in och jämföra med privat och annan användning"]
["Använd omräkningsfaktorerna i den blå tabellen ovan för att omvandla till kWh"]
[]
["Djurhållning och växtodling","Enhet",{"$f":"Bakgrund!R7","v":"Period 1"},{"$f":"Bakgrund!S7","v":"Period 2"},{"$f":"Bakgrund!T7","v":"Period 3"},"Egen kommentar","Förklaring"]
["total energianvändning, varav","kWh",{"$f":"C45","v":0},{"$f":"D45","v":0},0]
["...el","kWh",{"$f":"C46","v":0},0,0]
["...drivmedel (diesel, bensin)","kWh",0,0,0]
["...bränslen för värme (eldningsolja, flis, halm etc.)","kWh",0,0,0]
["Djurhållningen"]
["Belysning","kWh"]
["Utfodring","kWh"]
["Utgödsling","kWh"]
["Ventilation","kWh"]
["Uppvärmning","kWh"]
["Övrigt","kWh",null,null,null,null,"T ex stalltvätt, disk, elstängsel"]
["Inhyrda tjänster ","kWh",{"$f":"SUM(F25:F26)","v":0},{"$f":"SUM(G25:G26)","v":0},0,null,"Ex inhyrd utgödsling av stallet där bränsle ombesörjs av entreprenören"]
[]
["Växtodling","kWh"]
["Snöröjning och vägunderhåll","kWh"]
["Skogen","kWh"]
[]
["Privat användning"]
["Företagsbilen","kWh",null,null,null,null,"Fördela gärna användningen på djurdel och övrigt om du har uppgifter om detta"]
["Verkstad","kWh"]
["El","kWh"]
["Ytterbelysning","kWh"]
["Övrigt","kWh",null,null,null,null,"T ex transporter, växtodling, torkanläggning"]
[]
["Körslor åt andra","kWh"]
["Elåtgång åt andra","kWh"]
[]
["Summa använd energi","kWh"]
[]
[]
["Såld energi ",null,null,null,null,null,"Här kan du skriva upp hur mycket energi som du har sålt till andra. Kan vara i form av t ex ved, biogas eller värme. "]

{"sheet":"5 Vattenanvändning","index":17,"n_rows":78,"n_cols":9,"rows_kept":78,"cut":false,"hidden":false,"merged":[[6,2,6,4],[24,2,24,4],[40,5,40,6],[41,5,41,6],[34,6,34,8],[36,6,36,8],[35,6,35,8],[33,6,33,8],[45,5,45,6],[46,5,46,6],[47,5,47,6],[48,5,48,6],[49,5,49,6],[50,5,50,6],[51,5,51,6],[52,5,52,6],[53,5,53,6],[54,5,54,6],[55,5,55,6],[56,5,56,6],[57,5,57,6],[58,5,58,6],[59,5,59,6],[60,5,60,6],[61,5,61,6],[62,5,62,6],[63,5,63,6],[64,5,64,6],[65,5,65,6],[66,5,66,6],[67,5,67,6],[68,5,68,6],[69,5,69,6],[76,5,76,6],[77,5,77,6],[70,5,70,6],[71,5,71,6],[72,5,72,6],[74,5,74,6],[75,5,75,6]]}
["5 Vattenanvändning",null,null,null,null,null,null,null,"Det här betyder färgerna:"]
[{"$f":"VLOOKUP('6 Resultat'!E22,'Teknisk administration'!$G$4:$H$6,2,FALSE)","v":"Bladet är frivilligt att fylla i"},null,null,null,null,null,null,null,"Cell med värden hämtade från annan cell"]
[null,null,null,null,null,null,null,null,"Beräkning"]
[null,null,null,null,null,null,null,null,"Fyll i din egen siffra"]
[null,null,null,null,null,null,null,null,"Fyll i egen siffra - frivilligt, t ex om du har tillgång till uppgift eller om du vill räkna med annat värde än det schablonvärde som visas i angränsande cell"]
[null,null,null,null,null,null,null,null,"Egen uppgift, men välj värde ur rullista. "]
[null,null,"Period",null,null,null,null,null,"Resultat/uträkning"]
["Vattenförbrukning i djurproduktionen","Enhet",{"$f":"Bakgrund!R$7","v":"Period 1"},{"$f":"Bakgrund!S$7","v":"Period 2"},{"$f":"Bakgrund!T$7","v":"Period 3"},"Egen kommentar","Förklaring",null,"Förklaringar till raden"]
["Antal djur i besättningen","antal",{"$f":"'1 Intro djuren'!O25","v":0},{"$f":"'1 Intro djuren'!P25","v":0},{"$f":"'1 Intro djuren'!Q25","v":0},null,"Hämtas från bladet 1 Intro djuren",null,"Plats för egna kommentarer"]
["Kg kött producerat","kg",{"$f":"'6 Resultat'!R38","v":0},{"$f":"'6 Resultat'!S38","v":0},{"$f":"'6 Resultat'!T38","v":0},null,"Hämtas från bladet 1.1 Kött"]
["Dricksvatten till djuren","liter"]
["Vattenförbrukning till tvätt av stallar","liter",null,null,null,null,null,null,"Snabblänkar till bladen i verktyget:"]
["Övrig vattenförbrukning","liter",null,null,null,null,null,null,"Instruktion"]
["Total vattenförbrukning i djurproduktionen","liter",{"$f":"SUM(C11:C13)","v":0},{"$f":"SUM(D11:D13)","v":0},0,null,"Summa av vattenförbrukningen. (Om du bara vet din totalkonsumtion av vatten skriv den här.)",null,"Bakgrund"]
[null,null,null,null,null,null,null,null,"1 Intro djuren"]
["Vattenförbrukning per djur","liter/djur",{"$f":"IF(C14=0,0,C14/C9)","v":0},{"$f":"IF(D14=0,0,D14/D9)","v":0},0,null,"Om nyckeltalet är högt kan det tyda på en vattenläcka. Nyckeltalet bör inte heller vara för lågt, snarare inom ett intervall. Allt för låg vattenförbrukning kan ju indikera att djuren dricker för dåligt, t ex pga dåligt flöde i vattenkoppar.",null,"1.1 Kött"]
["Vattenförbrukning per kg kött","liter/kg kött",{"$f":"IF(C10=0,0,C14/C10)","v":0},{"$f":"IF(D10=0,0,D14/D10)","v":0},0,null,null,null,"1.2 Tillväxt & förökning"]
["...varav dricksvatten till djuren","liter/kg kött",{"$f":"IF(C10=0,0,C11/C10)","v":0},{"$f":"IF(D10=0,0,D11/D10)","v":0},0,null,null,null,"1.3 Hälsa & dödlighet"]
["…varav vatten till tvätt av stallar + övrig förbrukning","liter/kg kött",{"$f":"IF(C10=0,0,(C12+C13)/C10)","v":0},{"$f":"IF(D10=0,0,(D12+D13)/D10)","v":0},0,null,null,null,"2 Intro foder"]
[null,null,null,null,null,null,null,null,"2.1 Odling foder"]
[null,null,null,null,null,null,null,null,"2.2 Förluster vid lagring"]
[null,null,null,null,null,null,null,null,"2.3 Inköpt foder (exkl mineral)"]
["Mer detaljer om vattenanvändning",null,null,null,null,null,null,null,"2.4 Utfodrat"]
["Tycker du att det är intressant med vattenförbrukning? Här kan du gå in på mer detaljer:",null,null,null,null,null,null,null,"2.5. Kasserat foder och spill"]
[null,null,"Period",null,null,null,null,null,"2.6 Bete"]
["Dricksvatten","Enhet",{"$f":"Bakgrund!R$7","v":"Period 1"},{"$f":"Bakgrund!S$7","v":"Period 2"},{"$f":"Bakgrund!T$7","v":"Period 3"},"Egen kommentar","Förklaring",null,"3 Växtnäringsutnyttjande (1)"]
["Egen bostad","liter",null,null,null,null,null,null,"3 Växtnäringsutnyttjande (2)"]
["Uthyrda bostäder","liter",null,null,null,null,null,null,"3 Växtnäringsutnyttjande (3)"]
["Annan verksamhet","liter",null,null,null,null,null,null,"4 Energi och bränsle"]
["Total dricksvattenförbrukning","liter",{"$f":"SUM(C27:C29)","v":0},{"$f":"SUM(D27:D29)","v":0},{"$f":"SUM(E27:E29)","v":0},null,null,null,"5 Vattenanvändning"]
[null,null,null,null,null,null,null,null,"6 Resultat"]
[]
["Vattentäkt"]
["Total årsförbrukning från vattentäkt","liter"]
["Total årsförbrukning från alternativ vattenkälla","liter",null,null,null,null,"Vatten som tas från en annan vattentäkt än den som primärt används till djurproduktionen, t ex en annan brunn, damm eller regnvatten."]
["Total årsförbrukning vatten ","liter",{"$f":"SUM(C34:C35)","v":0},{"$f":"SUM(D34:D35)","v":0},0]
["Möjligt uttag ur primär vattentäkt","liter",null,null,null,null,"Egen uppfattning eller uppmätt kapacitet. Data över grundvattenmagasin finns också på https://sgu.se/grundvatten/. Om fler utnyttjar vattenmagasinet bör det beaktas. "]
[]
[]
["Vattenkvalitet",{"$f":"Bakgrund!R$7","v":"Period 1"},{"$f":"Bakgrund!S$7","v":"Period 2"},{"$f":"Bakgrund!T$7","v":"Period 3"},"Egen kommentar","Förklaring"]
["Tjänligt med anmärkning",null,null,null,null,"Välj i rullistan de parametrar som är markerade som tjänligt med anmärkning. Du kan välja flera alternativ."]
["Otjänligt",null,null,null,null,"Välj i rullistan de parametrar som är markerade som otjänligt"]
[]
["Om otjänligt/med anmärkning fyll i analysvärden på respektve parameter för att se förändringar"]
[null,null,null,null,null,"Tolkningshjälp, vad de olika analysresultaten kan bero på och/eller ge för effekter"]
["- Kemisk analys -","Resultat prov 1","Resultat prov 2","Resultat prov 3","Egen kommentar","Kan indikera ett för högt vattenuttag ur vattentäkten, förorening från gödsel eller industri, eller orsaka problem med ledningar och annan utrustning. Kan också påverka hälsan hos både människor och djur. Var observant på förändringar"]
["Kemisk syreförbrukning (COD-Mn)",null,null,null,null,"Hög halt kan tyda på påverkan av ytligt markvatten eller föroreningar"]
["Ammonium-kväve",null,null,null,null,"Kan tyda på föroreningar från avlopp eller liknande, men förekommer också naturligt i områden med mycket järn eller humus. Risk för nitritbildning"]
["Nitrat-kväve",null,null,null,null,"Indikerar påverkan från avlopp, gödsling eller andra föroreningskällor"]
["Alkalinitet",null,null,null,null,"Lågt värde kan orsaka angrepp på metall i t ex ledningar"]
["Nitrit-nitrogen, NO2-N",null,null,null,null,"Indikerar påverkan från avlopp, gödsling eller andra föroreningskällor"]
["Fluorid",null,null,null,null,"Vatten med för hög fluoridhalt  innebär risk för osteofluoros (fluorinlagring i benvävnad). Fluorid har nästan alltid geologiskt ursprung"]
["Sulfat",null,null,null,null,"Risk för korrosion ökar. Kan ge smakförändringar samt övergående diarré hos barn"]
["Fosfatfosfor",null,null,null,null,"Indikerar föroreningar från avlopp eller gödsel, men kan också ha naturligt geologiskt ursprung"]
["Färg (410 nm)",null,null,null,null,"orsakas vanligen av multnande växtdelar, humusämnen"]
["Konduktivitet",null,null,null,null,"Konduktivitet är ett mått på vattnets elektriska ledningsförmåga och stiger med ökad salthalt, som kan vara ett tecken på överuttag i vattentäkten"]
["Lukt vid 20°C",null,null,null,null,"Kan indikera påverkan från främmande ämnen och göra vattnet osmakligt"]
["pH",null,null,null,null,"Ett pH-värdet under 6,5 kan ge korrosionsskador på rörledningar av metall. Vid lågt pH är det viktigt att spola ur ledningarna på morgonen, då ledningssystemets metaller kan ha lösts ut i vattnet. Vid pH-värde över 10,5 ska vattnet inte användas då det innebär risk för skador på ögon och slemhinnor"]
["Turbiditet",null,null,null,null,"Är ett mått på vattnets grumlighet och indikerar påverkan från ytligt vatten, dvs att brunnen är otät. Onormalt ökad turbiditet innebär ökad risk för vattenburen smitta och mikrobiologisk tillväxt"]
["Kalcium",null,null,null,null,"Lagom halt minskat risken för korrosion, för hög ger risk för utfällningar i ledningar och kärl"]
["Koppar",null,null,null,null,"Kan orsakas av korrosion på kopparledningar, och kan leda till diarré hos barn"]
[" Järn",null,null,null,null,"Risk för missfärgning av tvätt och sanitetsporslin, samt slambildning och igensättning av ledningar och dålig lukt"]
["Kalium",null,null,null,null,"Indikerar påverkan från förorening som t.ex. konstgödsel, men kan också ha ett naturligt geologiskt ursprung"]
["Magnesium",null,null,null,null,"Kan ge smakförändringar i vattnet"]
["Mangan",null,null,null,null,"Risk för utfällningar som när de lossnar missfärgar vattnet"]
["Natrium",null,null,null,null,"Risk för smakförändringar i vattnet"]
["Total hårdhet dH°",null,null,null,null,"hög hårdhetsgrad ger risk för utfällningar i ledningar och kärl"]
["Nitrit NO2",null,null,null,null,"Indikerar påverkan från avlopp, gödsling, mm. Vid halt över 50mg/l kan vattnet vara hälsovådligt för barn och unga djur p.g.a. risk för försämrad syreupptagning i blodet"]
["Nitrat NO3 ",null,null,null,null,"Indikerar påverkan från avlopp, gödsling eller andra föroreningskällor"]
["NO3/50 + NO2/0,5",null,null,null,null,"Indikerar påverkan från avlopp, gödsling eller andra föroreningskällor"]
["Fosfat PO4 ",null,null,null,null,"Tyder på föroreningar från avlopp eller gödsling, men kan också ha geologiskt ursprung"]
["Ammonium NH4 ",null,null,null,null,"Kan tyda på föroreningar från avlopp eller liknande, men förekommer också naturligt i områden med mycket järn eller humus. Risk för nitritbildning"]
["Klorid",null,null,null,null,"Orsakas av saltpåverkat grundvatten och kan bero på överuttag i vattentäkten"]
[]
["- Mikrobiologisk analys -",null,null,null,null,"Om vattnet är otjänligt eller har anmärkning ur mikrobiologisk synpunkt bör orsaken alltid undersökas. Kan påverka hälsan hos både människor och djur"]
["E.coli",null,null,null,null,"Tyder på påverkan från avlopp, gödsel eller liknande, men kan också bero på direkt påverkan (t.ex. att smådjur har fallit ner i brunnen)"]
["Koliforma bakterier",null,null,null,null,"Indikerar att ytvatten påverkar brunnen"]
["Odlingsbara mikroorganismer vid 22°C i 3 dygn",null,null,null,null,"Indikerar att ytvatten påverkar brunnen"]

{"sheet":"6 Resultat","index":18,"n_rows":386,"n_cols":20,"rows_kept":386,"cut":false,"hidden":false,"merged":[[210,6,212,6],[213,6,214,6],[159,6,161,6],[172,6,177,6],[203,6,204,6],[170,6,171,6],[181,6,182,6],[178,6,179,6],[205,6,206,6],[38,0,38,1],[39,0,39,1],[50,0,50,1],[47,0,47,1],[199,6,200,6],[220,6,221,6],[215,6,217,6],[222,6,223,6],[36,0,36,1],[43,0,43,1],[44,0,44,1],[42,0,42,1],[52,0,52,1],[49,0,49,1],[51,0,51,1],[48,0,48,1],[110,6,111,6],[112,6,113,6],[43,6,44,6],[37,6,39,6],[37,0,37,1],[266,7,269,7],[270,7,273,7],[279,7,281,7],[279,1,281,1],[279,6,281,6],[270,6,273,6],[266,6,269,6]]}
[{"$f":"MID(CELL(\"filnamn\",B1),FIND(\"]\",CELL(\"filnamn\",B1))+1,255)","v":"6 Resultat"},null,null,null,null,null,null,"Det här betyder färgerna:"]
[null,null,null,null,null,null,null,"Cell med värden hämtade från annan cell"]
[null,null,null,null,null,null,null,"Fyll i din egen siffra"]
[null,null,null,null,null,null,null,"Fyll i egen siffra - frivilligt, t ex om du har tillgång till uppgift eller om du vill räkna med annat värde än det schablonvärde som visas i angränsande cell"]
["Delar i verktyget - vilka blad är obligatoriska att fylla i, och har jag fyllt i dem?",null,null,null,null,null,null,"Egen uppgift, men välj värde ur rullista. "]
[null,"Period 1","Period 2","Period 3",null,null,null,"Resultat/uträkning"]
[null,{"$f":"period_1","v":"Period 1"},{"$f":"period_2","v":"Period 2"},{"$f":"period_3","v":"Period 3"},null,null,null,"Schablonvärde"]
[{"$f":"A_Bakgrund","v":"Bakgrund"},{"$f":"IF(AND(NOT(period_1=0),Bakgrund!R17>1),'Teknisk administration'!$G$9,'Teknisk administration'!$G$10)","v":"Inte ifylld"},{"$f":"IF(AND(NOT(period_1=0),Bakgrund!S17>1),'Teknisk administration'!$G$9,'Teknisk administration'!$G$10)","v":"Inte ifylld"},{"$f":"IF(AND(NOT(period_1=0),Bakgrund!T17>1),'Teknisk administration'!$G$9,'Teknisk administration'!$G$10)","v":"Inte ifylld"},{"$f":"'Teknisk administration'!G4","v":"obligatoriskt"},null,null,"Förklaringar till raden"]
[{"$f":"B_N_Intro_djur","v":"1 Intro djuren"},{"$f":"IF('1 Intro djuren'!O25>0,'Teknisk administration'!$G$13,'Teknisk administration'!$G$14)","v":"Inte ifylld"},{"$f":"IF('1 Intro djuren'!P25>0,'Teknisk administration'!$G$13,'Teknisk administration'!$G$14)","v":"Inte ifylld"},{"$f":"IF('1 Intro djuren'!Q25>0,'Teknisk administration'!$G$13,'Teknisk administration'!$G$14)","v":"Inte ifylld"},{"$f":"'1 Intro djuren'!B8","v":"obligatoriskt"},null,null,"Plats för egna kommentarer"]
[{"$f":"B_N_Tillvaxt","v":"1.2 Tillväxt & förökning"},{"$f":"IF('1.2 Tillväxt & förökning'!C132+'1.2 Tillväxt & förökning'!C110+'1.2 Tillväxt & förökning'!C120+'1.2 Tillväxt & förökning'!C47+'1.2 Tillväxt & förökning'!C24+'1.2 Tillväxt & förökning'!C33>0,'Teknisk administration'!$G$13,'Teknisk administration'!$G$14)","v":"Inte ifylld"},{"$f":"IF('1.2 Tillväxt & förökning'!D132>0,'Teknisk administration'!$G$13,'Teknisk administration'!$G$14)","v":"Inte ifylld"},{"$f":"IF('1.2 Tillväxt & förökning'!E132>0,'Teknisk administration'!$G$13,'Teknisk administration'!$G$14)","v":"Inte ifylld"},{"$f":"'1 Intro djuren'!B10","v":"frivilligt"},null,null,"grå text, ev vit bakgrund: Avsnittet är inte relevant för dig baserat på svaren på ja/nej-frågor på bladet Bakgrund"]
[{"$f":"B_N_Halsa","v":"1.3 Hälsa & dödlighet"},{"$f":"IF('1.3 Hälsa & dödlighet'!C14>0,'Teknisk administration'!$G$13,'Teknisk administration'!$G$14)","v":"Inte ifylld"},{"$f":"IF('1.3 Hälsa & dödlighet'!D14>0,'Teknisk administration'!$G$13,'Teknisk administration'!$G$14)","v":"Inte ifylld"},{"$f":"IF('1.3 Hälsa & dödlighet'!E14>0,'Teknisk administration'!$G$13,'Teknisk administration'!$G$14)","v":"Inte ifylld"},{"$f":"'1 Intro djuren'!B11","v":"frivilligt"}]
[{"$f":"B_N_Kött","v":"1.1 Kött"},{"$f":"IF('1.1 Kött'!E56>0,'Teknisk administration'!$G$13,'Teknisk administration'!$G$14)","v":"Inte ifylld"},{"$f":"IF('1.1 Kött'!AC101>0,'Teknisk administration'!$G$13,'Teknisk administration'!$G$14)","v":"Inte ifylld"},{"$f":"IF('1.1 Kött'!E158>0,'Teknisk administration'!$G$13,'Teknisk administration'!$G$14)","v":"Inte ifylld"},{"$f":"'1 Intro djuren'!B9","v":"obligatoriskt"},null,null,"Snabblänkar till bladen i verktyget:"]
[{"$f":"C_Foder","v":"2 Intro foder"},{"$f":"IF('2 Intro foder'!M31>0,'Teknisk administration'!$G$13,'Teknisk administration'!$G$14)","v":"Inte ifylld"},{"$f":"IF('2 Intro foder'!N31>0,'Teknisk administration'!$G$13,'Teknisk administration'!$G$14)","v":"Inte ifylld"},{"$f":"IF('2 Intro foder'!O31>0,'Teknisk administration'!$G$13,'Teknisk administration'!$G$14)","v":"Inte ifylld"},{"$f":"'2 Intro foder'!B10","v":"obligatoriskt"},null,null,"Instruktion"]
[{"$f":"C_Odling_foder","v":"2.1 Odling foder"},{"$f":"IF('2.1 Odling foder'!H33+'2.1 Odling foder'!P53>0,'Teknisk administration'!$G$13,'Teknisk administration'!$G$14)","v":"Inte ifylld"},{"$f":"IF('2.1 Odling foder'!H96+'2.1 Odling foder'!P116>0,'Teknisk administration'!$G$13,'Teknisk administration'!$G$14)","v":"Inte ifylld"},{"$f":"IF('2.1 Odling foder'!H161+'2.1 Odling foder'!P181>0,'Teknisk administration'!$G$13,'Teknisk administration'!$G$14)","v":"Inte ifylld"},{"$f":"'2 Intro foder'!B11","v":"obligatoriskt"},null,null,"Bakgrund"]
[{"$f":"C_forluster_lagring","v":"2.2 Förluster vid lagring"},{"$f":"IF('2.2 Förluster vid lagring'!C41>0,'Teknisk administration'!$G$13,'Teknisk administration'!$G$14)","v":"Inte ifylld"},{"$f":"IF('2.2 Förluster vid lagring'!D41>0,'Teknisk administration'!$G$13,'Teknisk administration'!$G$14)","v":"Inte ifylld"},{"$f":"IF('2.2 Förluster vid lagring'!E41>0,'Teknisk administration'!$G$13,'Teknisk administration'!$G$14)","v":"Inte ifylld"},{"$f":"'2 Intro foder'!B12","v":"obligatoriskt"},null,null,"1 Intro djuren"]
[{"$f":"C_N_inköpt","v":"2.3 Inköpt foder (exkl mineral)"},{"$f":"IF('2.3 Inköpt foder (exkl mineral)'!B44>0,'Teknisk administration'!$G$13,'Teknisk administration'!$G$14)","v":"Inte ifylld"},{"$f":"IF('2.3 Inköpt foder (exkl mineral)'!B82>0,'Teknisk administration'!$G$13,'Teknisk administration'!$G$14)","v":"Inte ifylld"},{"$f":"IF('2.3 Inköpt foder (exkl mineral)'!B119>0,'Teknisk administration'!$G$13,'Teknisk administration'!$G$14)","v":"Inte ifylld"},{"$f":"'2 Intro foder'!B13","v":"inte relevant för dig"},null,null,"1.1 Kött"]
[{"$f":"C_N_summering","v":"2.4 Utfodrat"},{"$f":"IF('2.4 Utfodrat'!C80>0,'Teknisk administration'!$G$13,'Teknisk administration'!$G$14)","v":"Inte ifylld"},{"$f":"IF('2.4 Utfodrat'!D80>0,'Teknisk administration'!$G$13,'Teknisk administration'!$G$14)","v":"Inte ifylld"},{"$f":"IF('2.4 Utfodrat'!E80>0,'Teknisk administration'!$G$13,'Teknisk administration'!$G$14)","v":"Inte ifylld"},{"$f":"'2 Intro foder'!B14","v":"obligatoriskt"},null,null,"1.2 Tillväxt & förökning"]
[{"$f":"C_Kasserat","v":"2.5. Kasserat foder och spill"},{"$f":"IF('2.5. Kasserat foder och spill'!C44>0,'Teknisk administration'!$G$13,'Teknisk administration'!$G$14)","v":"Inte ifylld"},{"$f":"IF('2.5. Kasserat foder och spill'!D44>0,'Teknisk administration'!$G$13,'Teknisk administration'!$G$14)","v":"Inte ifylld"},{"$f":"IF('2.5. Kasserat foder och spill'!E44>0,'Teknisk administration'!$G$13,'Teknisk administration'!$G$14)","v":"Inte ifylld"},{"$f":"'2 Intro foder'!B15","v":"obligatoriskt"},null,null,"1.3 Hälsa & dödlighet"]
[{"$f":"C_N_bete","v":"2.6 Bete"},{"$f":"IF('2.6 Bete'!C47>0,'Teknisk administration'!$G$13,'Teknisk administration'!$G$14)","v":"Inte ifylld"},{"$f":"IF('2.6 Bete'!D47>0,'Teknisk administration'!$G$13,'Teknisk administration'!$G$14)","v":"Inte ifylld"},{"$f":"IF('2.6 Bete'!E47>0,'Teknisk administration'!$G$13,'Teknisk administration'!$G$14)","v":"Inte ifylld"},{"$f":"'2 Intro foder'!B16","v":"frivilligt"},null,null,"2 Intro foder"]
["Växtnäringsutnyttjande",{"$f":"IF($E20=inte_relevant,'Teknisk administration'!$G$11,IF(SUM('3 Växtnäringsutnyttjande (1)'!I107:K107)=0,'Teknisk administration'!$G$14,'Teknisk administration'!$G$13))","v":"ej relevant"},{"$f":"IF($E20=inte_relevant,'Teknisk administration'!$G$11,IF(SUM('3 Växtnäringsutnyttjande (2)'!I107:K107)=0,'Teknisk administration'!$G$14,'Teknisk administration'!$G$13))","v":"ej relevant"},{"$f":"IF($E20=inte_relevant,'Teknisk administration'!$G$11,IF(SUM('3 Växtnäringsutnyttjande (3)'!I107:K107)=0,'Teknisk administration'!$G$14,'Teknisk administration'!$G$13))","v":"ej relevant"},{"$f":"IF(Bakgrund!BI37=0,'Teknisk administration'!G6,'Teknisk administration'!G4)","v":"inte relevant för dig"},null,null,"2.1 Odling foder"]
[{"$f":"E_Energi","v":"4 Energi och bränsle"},{"$f":"IF('4 Energi och bränsle'!F27>0,'Teknisk administration'!$G$13,'Teknisk administration'!$G$14)","v":"Inte ifylld"},{"$f":"IF('4 Energi och bränsle'!G27>0,'Teknisk administration'!$G$13,'Teknisk administration'!$G$14)","v":"Inte ifylld"},{"$f":"IF('4 Energi och bränsle'!H27>0,'Teknisk administration'!$G$13,'Teknisk administration'!$G$14)","v":"Inte ifylld"},{"$f":"IF(Bakgrund!AX37=0,'Teknisk administration'!G6,'Teknisk administration'!G5)","v":"frivilligt"},null,null,"2.2 Förluster vid lagring"]
[{"$f":"F_Vatten","v":"5 Vattenanvändning"},{"$f":"IF('5 Vattenanvändning'!C17>0,'Teknisk administration'!$G$13,'Teknisk administration'!$G$14)","v":"Inte ifylld"},{"$f":"IF('5 Vattenanvändning'!D17>0,'Teknisk administration'!$G$13,'Teknisk administration'!$G$14)","v":"Inte ifylld"},{"$f":"IF('5 Vattenanvändning'!E17>0,'Teknisk administration'!$G$13,'Teknisk administration'!$G$14)","v":"Inte ifylld"},{"$f":"IF(Bakgrund!AY37=0,'Teknisk administration'!G6,'Teknisk administration'!G5)","v":"frivilligt"},null,null,"2.3 Inköpt foder (exkl mineral)"]
[null,null,null,null,null,null,null,"2.4 Utfodrat"]
[null,null,null,null,null,null,null,"2.5. Kasserat foder och spill"]
[null,null,null,null,null,null,null,"2.6 Bete"]
["Del 1 Djuren:",null,null,null,null,null,null,"3 Växtnäringsutnyttjande (1)"]
[null,null,null,null,null,null,null,"3 Växtnäringsutnyttjande (2)"]
[null,null,null,null,null,null,null,"3 Växtnäringsutnyttjande (3)"]
["I vissa nyckeltal jämförs dina resultat med schabloner för olika raser. Välj typ av ras ur listorna för rättivsande jämförelse!",null,null,null,null,null,null,"4 Energi och bränsle"]
["Kor","tung ras",null,null,null,null,null,"5 Vattenanvändning"]
["Kalv i dikoproduktion","köttras tung, kviga&tjur",null,null,null,null,null,"6 Resultat"]
["Övriga djur","tung ras"]
[]
[]
["Mängd kött"]
[{"$f":"\"Sammanställning från bladet \"&B_N_Kött&\". \"","v":"Sammanställning från bladet 1.1 Kött. "}]
["Faktisk mängd producerat kött",null,"Enhet",{"$f":"period_1","v":"Period 1"},{"$f":"period_2","v":"Period 2"},{"$f":"period_3","v":"Period 3"},"Förklaring","Egen kommentar"]
["Totalt, inkl förändring levandelager, varav",null,"kg kött",{"$f":"SUM(D39:D40)","v":0},{"$f":"SUM(E39:E40)","v":0},0,"Alla djur sålda till slakt eller liv minus inköpta djur, justerat för ev förändringar i levandelager. Uttryckt som kg kött (slaktvikt) ",null,null,null,null,null,null,null,null,null,null,{"$f":"SUM(R39:R40)","v":0},{"$f":"SUM(S39:S40)","v":0},0]
["Sålt kött (slakt och liv)",null,"kg kött",{"$f":"'1.1 Kött'!E56","v":0},{"$f":"'1.1 Kött'!E108","v":0},{"$f":"'1.1 Kött'!E158","v":0},null,null,null,null,null,null,null,null,null,null,null,{"$f":"'1.1 Kött'!E56","v":0},{"$f":"'1.1 Kött'!E108","v":0},{"$f":"'1.1 Kött'!E158","v":0}]
["förändringar i levandelager",null,"kg kött",{"$f":"'1.1 Kött'!E55","v":0},{"$f":"'1.1 Kött'!E107","v":0},{"$f":"'1.1 Kött'!E157","v":0},null,null,null,null,null,null,null,null,null,null,null,{"$f":"'1.1 Kött'!E55","v":0},{"$f":"'1.1 Kött'!E107","v":0},{"$f":"'1.1 Kött'!E157","v":0}]
[]
[{"$f":"\"Sammanställning från bladet \"&B_N_Halsa&\".\"","v":"Sammanställning från bladet 1.3 Hälsa & dödlighet."}]
["Svinn i form av \"potentiellt\" kött från djur som dött eller avlivats","välj typ ur lista","Enhet",{"$f":"period_1","v":"Period 1"},{"$f":"period_2","v":"Period 2"},{"$f":"period_3","v":"Period 3"},"Förklaring","Egen kommentar"]
["Kor",null,"kg kött",{"$f":"VLOOKUP($B30,'Teknisk administration'!$M$127:$N$128,2,FALSE)*'1.3 Hälsa & dödlighet'!C29","v":0},{"$f":"VLOOKUP($B30,'Teknisk administration'!$M$127:$N$128,2,FALSE)*'1.3 Hälsa & dödlighet'!D29","v":0},{"$f":"VLOOKUP($B30,'Teknisk administration'!$M$127:$N$128,2,FALSE)*'1.3 Hälsa & dödlighet'!E29","v":0},{"$f":"\"Mängd kött som hade kunnat fås från djur som dött eller avlivats. Antaget att slaktvikt kor \" &VLOOKUP(B30,'Teknisk administration'!M127:N128,2,FALSE)& \" kg, slaktvikt övriga \"&VLOOKUP(B32,'Teknisk administration'!M133:N135,2,FALSE)&\" kg. Välj annan ras i orange celler om du vill räkna med andra vikter!\"","v":"Mängd kött som hade kunnat fås från djur som dött eller avlivats. Antaget att slaktvikt kor 420 kg, slaktvikt övriga 340 kg. Välj annan ras i orange celler om du vill räkna med andra vikter!"}]
["Övriga",null,"kg kött",{"$f":"VLOOKUP(B32,'Teknisk administration'!$M$133:$N$135,2,FALSE)*('1.3 Hälsa & dödlighet'!C30+'1.3 Hälsa & dödlighet'!C31)","v":0},{"$f":"VLOOKUP(B32,'Teknisk administration'!$M$133:$N$135,2,FALSE)*('1.3 Hälsa & dödlighet'!D30+'1.3 Hälsa & dödlighet'!D31)","v":0},{"$f":"VLOOKUP(B32,'Teknisk administration'!$M$133:$N$135,2,FALSE)*('1.3 Hälsa & dödlighet'!E30+'1.3 Hälsa & dödlighet'!E31)","v":0}]
[]
["Summering av tabellerna ovan. Resultaten presenteras även som diagram, ett med kg kött och ett diagram som % av den totala möjliga mängden kött."]
["Summering",null,"Enhet",{"$f":"period_1","v":"Period 1"},{"$f":"period_2","v":"Period 2"},{"$f":"period_3","v":"Period 3"},"Förklaring","Egen kommentar"]
["Total mängd möjligt kött, varav",null,"kg kött",{"$f":"SUM(R39:R40,D44:D45)","v":0},{"$f":"SUM(S39:S40,E44:E45)","v":0},{"$f":"SUM(T39:T40,F44:F45)","v":0},"Summa av Faktisk mängd kött och Potentiellt kött. "]
["Sålt kött (slakt och liv)",null,"kg kött",{"$f":"R39","v":0},0,0]
["Förändring levandelager",null,"kg kött",0,0,0]
["Potentiellt kött",null,"kg kött",{"$f":"SUM(D44:D45)","v":0},{"$f":"SUM(E44:E45)","v":0},0]
["Faktisk mängd producerat kött som andel av möjlig mängd kött",null,"%",{"$f":"IF(D49=0,0,SUM(R39:R40)/D49)","v":0},{"$f":"IF(E49=0,0,SUM(S39:S40)/E49)","v":0},{"$f":"IF(F49=0,0,SUM(T39:T40)/F49)","v":0},"Faktisk mängd kött dividerat med Faktisk mängd kött plus Potentiellt kött. Ju närmare 100 % desto bättre, d v s desto lägre svinn"]
[]
[]
[]
[]
[]
[]
[]
[]
[]
[]
[]
[]
[]
[]
[]
[]
[]
[]
[]
[]
[]
[]
[]
["Dikor och rekrytering"]
[]
[{"$f":"\"Summering från bladet \"& B_N_Tillvaxt &\", visas i tabell och diagram. Fyll i eget mål (se blå tabell till höger för schablonvärden) så visas värdet i stapeln ''mål'' i diagrammen. Om du inte fyller i ett eget mål används medelvärdet för de perioder du redan fyllt i.\"","v":"Summering från bladet 1.2 Tillväxt & förökning, visas i tabell och diagram. Fyll i eget mål (se blå tabell till höger för schablonvärden) så visas värdet i stapeln ''mål'' i diagrammen. Om du inte fyller i ett eget mål används medelvärdet för de perioder du redan fyllt i."}]
["Dikor och rekrytering","Enhet","Eget mål",{"$f":"period_1","v":"Period 1"},{"$f":"period_2","v":"Period 2"},{"$f":"period_3","v":"Period 3"},"Förklaring","Scahblonvärden"]
["Avvanda kalvar per betäckt hondjur",{"$f":"'1.2 Tillväxt & förökning'!B12","v":"%"},null,{"$f":"'1.2 Tillväxt & förökning'!C12","v":0},{"$f":"'1.2 Tillväxt & förökning'!D12","v":0},{"$f":"'1.2 Tillväxt & förökning'!E12","v":0},"Avser hur stor % av födda kalvar som avvänjs ","låg","medel","hög"]
["Inkalvningsålder",{"$f":"'1.2 Tillväxt & förökning'!B19","v":"månader"},null,{"$f":"'1.2 Tillväxt & förökning'!C19","v":0},{"$f":"'1.2 Tillväxt & förökning'!D19","v":0},{"$f":"'1.2 Tillväxt & förökning'!E19","v":0},"Ålder på kvigan vid inkalvning",{"$f":"'1.2 Tillväxt & förökning'!M18+9","v":24},{"$f":"'1.2 Tillväxt & förökning'!N18+9","v":26},{"$f":"'1.2 Tillväxt & förökning'!O18+9","v":30}]
["Kalvningsperiodens längd",{"$f":"'1.2 Tillväxt & förökning'!B24","v":"dagar"},null,{"$f":"'1.2 Tillväxt & förökning'!C24","v":0},{"$f":"'1.2 Tillväxt & förökning'!D24","v":0},{"$f":"'1.2 Tillväxt & förökning'!E24","v":0},"Dagar mellan första och sista dagen i kalvningsperioden. ",{"$f":"'1.2 Tillväxt & förökning'!M24","v":45},{"$f":"'1.2 Tillväxt & förökning'!N24","v":90},{"$f":"'1.2 Tillväxt & förökning'!O24","v":150}]
["Dräktighetsprocent",{"$f":"'1.2 Tillväxt & förökning'!B25","v":"%"},null,{"$f":"'1.2 Tillväxt & förökning'!C25","v":0},{"$f":"'1.2 Tillväxt & förökning'!D25","v":0},{"$f":"'1.2 Tillväxt & förökning'!E25","v":0},"Antalet hondjur som kalvat  i % av hondjur som betäckts /seminerats"]
["Rekryteringsprocent",{"$f":"'1.2 Tillväxt & förökning'!B33","v":"%"},null,{"$f":"'1.2 Tillväxt & förökning'!C33","v":0},{"$f":"'1.2 Tillväxt & förökning'!D33","v":0},{"$f":"'1.2 Tillväxt & förökning'!E33","v":0},"Andel i % hur många djur som sätts in i besättningen",{"$f":"'1.2 Tillväxt & förökning'!M33","v":0.15},{"$f":"'1.2 Tillväxt & förökning'!N33","v":0.25},{"$f":"'1.2 Tillväxt & förökning'!O33","v":0.4}]
[]
[]
[]
[]
[]
[]
[]
[]
[]
[]
[]
[]
[]
[]
[]
[]
[]
[]
[]
[]
["Tillväxt ungdjur"]
[{"$f":"\"Summering från bladet \"& B_N_Tillvaxt &\", visas i tabell och diagram. Fyll i eget mål om tillväxt per dag så visas värdet i diagrammet. \"","v":"Summering från bladet 1.2 Tillväxt & förökning, visas i tabell och diagram. Fyll i eget mål om tillväxt per dag så visas värdet i diagrammet. "}]
["Om du inte fyller i eget värde används medel för den typ av ras/kön som du valde i orange celler överst på denna sida.",null,null,null,null,null,null,"Schablonvärden"]
["Tillväxt","Enhet","Eget mål (g/dag)",{"$f":"period_1","v":"Period 1"},{"$f":"period_2","v":"Period 2"},{"$f":"period_3","v":"Period 3"},"Förklaring",null,"Köttras kalv (lätt/tung)",null,null,"Mjölkras"]
["Kalv (t o m avvänjning/försäljning)",{"$f":"'1.2 Tillväxt & förökning'!B47","v":"g/dag"},null,{"$f":"'1.2 Tillväxt & förökning'!C47","v":0},{"$f":"'1.2 Tillväxt & förökning'!D47","v":0},{"$f":"'1.2 Tillväxt & förökning'!E47","v":0},"Kalvar i dikoproduktion. Kalvarnas genomsnittliga tillväxt g/dag. Jämför siffror i blå rutor  ","Tjukalv  1000/1200 kvigkalv  950/1100  ","Tjurkalv 1300 / 1500 Kvigkalv 1100/1200 ","Tjurkalv  1500/1700 kvigkalv 1250/1400 "]
["Ungtjur",{"$f":"'1.2 Tillväxt & förökning'!B110","v":"g/dag"},null,{"$f":"'1.2 Tillväxt & förökning'!C110","v":0},{"$f":"'1.2 Tillväxt & förökning'!D110","v":0},{"$f":"'1.2 Tillväxt & förökning'!E110","v":0},"Genomsnittlig  tillväxt per djur och dag under uppfödningstiden ","1300/1600","1400/1700","1500/1900",1100,1200,1400]
["Stutar & kvigor",{"$f":"'1.2 Tillväxt & förökning'!B120","v":"g/dag"},null,{"$f":"'1.2 Tillväxt & förökning'!C120","v":0},{"$f":"'1.2 Tillväxt & förökning'!D120","v":0},{"$f":"'1.2 Tillväxt & förökning'!E120","v":0},null,500,900,1200,500,900,1200]
[{"$f":"'1.2 Tillväxt & förökning'!A131","v":"Tillväxt per dag i g per godkänd stallplats enligt förprövning"},{"$f":"'1.2 Tillväxt & förökning'!B131","v":"g/dag/stallplats"},null,{"$f":"'1.2 Tillväxt & förökning'!C131","v":0},{"$f":"'1.2 Tillväxt & förökning'!D131","v":0},{"$f":"'1.2 Tillväxt & förökning'!E131","v":0},"Antal ungnöt*tillväxt under perioden dividerat med antal stallplatser. "]
[{"$f":"'1.2 Tillväxt & förökning'!A132","v":"Tillväxt per dag i g per egen önskad beläggning"},{"$f":"'1.2 Tillväxt & förökning'!B132","v":"g/dag/stallplats"},null,{"$f":"'1.2 Tillväxt & förökning'!C132","v":0},{"$f":"'1.2 Tillväxt & förökning'!D132","v":0},{"$f":"'1.2 Tillväxt & förökning'!E132","v":0}]
[]
[]
[]
[]
[]
[]
[]
[]
[]
[]
[]
[]
[]
[]
[]
[]
[]
[]
[]
[]
[]
["Hälsa"]
[]
["Kostnader och notering om ohälsa","Enhet","Eget mål",{"$f":"period_1","v":"Period 1"},{"$f":"period_2","v":"Period 2"},{"$f":"period_3","v":"Period 3"},"Förklaring","Egen kommentar"]
[{"$f":"'1.3 Hälsa & dödlighet'!A14","v":"Total kostnad för veterinär och behandlingar"},{"$f":"'1.3 Hälsa & dödlighet'!B14","v":"kr"},null,{"$f":"'1.3 Hälsa & dödlighet'!C14","v":0},{"$f":"'1.3 Hälsa & dödlighet'!D14","v":0},{"$f":"'1.3 Hälsa & dödlighet'!E14","v":0}]
[{"$f":"'1.3 Hälsa & dödlighet'!A15","v":"Kostnad hälso- och sjukvård/djur"},{"$f":"'1.3 Hälsa & dödlighet'!B15","v":"kr/djur"},null,{"$f":"'1.3 Hälsa & dödlighet'!C15","v":0},{"$f":"'1.3 Hälsa & dödlighet'!D15","v":0},{"$f":"'1.3 Hälsa & dödlighet'!E15","v":0}]
[{"$f":"'1.3 Hälsa & dödlighet'!A18","v":"Kostnad hälso- och sjukvård/kg kött"},{"$f":"'1.3 Hälsa & dödlighet'!B18","v":"kr/kg kött"},null,{"$f":"'1.3 Hälsa & dödlighet'!C18","v":0},{"$f":"'1.3 Hälsa & dödlighet'!D18","v":0},{"$f":"'1.3 Hälsa & dödlighet'!E18","v":0},"Kostnad för hälso och sjukvård  per kg kött som levererats till slakteri"]
[{"$f":"'1.3 Hälsa & dödlighet'!A24","v":"Noteringar om ohälsa/djur"},{"$f":"'1.3 Hälsa & dödlighet'!B24","v":"%"},null,{"$f":"'1.3 Hälsa & dödlighet'!C24","v":0},{"$f":"'1.3 Hälsa & dödlighet'!D24","v":0},{"$f":"'1.3 Hälsa & dödlighet'!E24","v":0},"% av totalt antal djur "]
["Dödlighet kalv inkl avlivade","% av födda kalvar",null,{"$f":"'1.3 Hälsa & dödlighet'!C32","v":0},{"$f":"'1.3 Hälsa & dödlighet'!D32","v":0},{"$f":"'1.3 Hälsa & dödlighet'!E32","v":0},"Andelen döda eller avlivade kalvar 0-6 månader av antalet födda kalvar"]
["Dödlighet djur äldre än 6 månader","%",null,{"$f":"'1.3 Hälsa & dödlighet'!C33","v":0},{"$f":"'1.3 Hälsa & dödlighet'!D33","v":0},{"$f":"'1.3 Hälsa & dödlighet'!E33","v":0},"Andel vuxna djur och kalvar som avlivats eller självdött och som inte kan bli livsmedel"]
[]
[]
[]
["Del 2 Foder och odling"]
[]
[]
["Odling av foder"]
[{"$f":"\"Mängd odlat foder samt arealen foder. \"&IF(Bakgrund!BB46=0,\"\",\" Exklusive bete.\")","v":"Mängd odlat foder samt arealen foder.  Exklusive bete."}]
[null,null,"Enhet",{"$f":"Bakgrund!R$7","v":"Period 1"},{"$f":"Bakgrund!S$7","v":"Period 2"},{"$f":"Bakgrund!T$7","v":"Period 3"},"Förklaring","Egen kommentar"]
["Ensilage, hö, direktutfodrad grönmassa",null,"kg ts",{"$f":"SUM('2.2 Förluster vid lagring'!C13:C16,'2.2 Förluster vid lagring'!C58)","v":0},{"$f":"SUM('2.2 Förluster vid lagring'!D13:D16,'2.2 Förluster vid lagring'!D58)","v":0},{"$f":"SUM('2.2 Förluster vid lagring'!E13:E16,'2.2 Förluster vid lagring'!E58)","v":0},"exkl halm"]
[null,null,"MJ",{"$f":"SUM('2.2 Förluster vid lagring'!C18:C21,'2.2 Förluster vid lagring'!C59)","v":0},{"$f":"SUM('2.2 Förluster vid lagring'!D18:D21,'2.2 Förluster vid lagring'!D59)","v":0},{"$f":"SUM('2.2 Förluster vid lagring'!E18:E21,'2.2 Förluster vid lagring'!E59)","v":0}]
["Halm",null,"kg ts",{"$f":"'2.2 Förluster vid lagring'!C17","v":0},{"$f":"'2.2 Förluster vid lagring'!D17","v":0},{"$f":"'2.2 Förluster vid lagring'!E17","v":0}]
[null,null,"MJ",{"$f":"'2.2 Förluster vid lagring'!C22","v":0},{"$f":"'2.2 Förluster vid lagring'!D22","v":0},{"$f":"'2.2 Förluster vid lagring'!E22","v":0}]
["Övrigt eget foder",null,"kg ts",{"$f":"'2.4 Utfodrat'!C67","v":0},{"$f":"'2.4 Utfodrat'!D67","v":0},{"$f":"'2.4 Utfodrat'!E67","v":0},{"$f":"\"Enligt bladet \"& C_N_summering&\". \"","v":"Enligt bladet 2.4 Utfodrat. "}]
[null,null,"MJ",{"$f":"'2.4 Utfodrat'!C72","v":0},{"$f":"'2.4 Utfodrat'!D72","v":0},{"$f":"'2.4 Utfodrat'!E72","v":0}]
["Areal bärgat foder, varav",null,"hektar",{"$f":"SUM(D161:D162)","v":0},{"$f":"SUM(E161:E162)","v":0},0,{"$f":"\"Summering av åkerareal enligt bladet \"&C_Foder &\". Areal åker som enbart betas har räknats bort. På den åkerareal där återväxt betas antas att hälften av biomassan bärgas, och hälften skördas. Halm ses som en produkt från Övriga fodergrödor\"","v":"Summering av åkerareal enligt bladet 2 Intro foder. Areal åker som enbart betas har räknats bort. På den åkerareal där återväxt betas antas att hälften av biomassan bärgas, och hälften skördas. Halm ses som en produkt från Övriga fodergrödor"}]
["Skördat grovfoder (ensilage, hö, direktufodrad grönmassa)",null,"hektar",{"$f":"SUMPRODUCT('2 Intro foder'!C24:C34,'Teknisk administration'!$C$493:$C$503)","v":0},{"$f":"SUMPRODUCT('2 Intro foder'!D24:D34,'Teknisk administration'!$C$493:$C$503)","v":0},{"$f":"SUMPRODUCT('2 Intro foder'!E24:E34,'Teknisk administration'!$C$493:$C$503)","v":0}]
["Övriga fodergrödor",null,"hektar",{"$f":"SUMPRODUCT('2 Intro foder'!C24:C34,'Teknisk administration'!$D$493:$D$503)","v":0},{"$f":"SUMPRODUCT('2 Intro foder'!D24:D34,'Teknisk administration'!$D$493:$D$503)","v":0},{"$f":"SUMPRODUCT('2 Intro foder'!E24:E34,'Teknisk administration'!$D$493:$D$503)","v":0}]
["Mängd bärgat per hektar"]
["Skördat grovfoder (ensilage, hö, direktufodrad grönmassa)",null,"kg ts/ha",{"$f":"ROUND(IF(D161=0,0,D154/D161),-1)","v":0},{"$f":"ROUND(IF(E161=0,0,E154/E161),-1)","v":0},0]
["Övriga fodergrödor",null,"kg ts/ha",{"$f":"ROUND(IF(D162=0,0,(D158+D156)/D162),-1)","v":0},{"$f":"ROUND(IF(E162=0,0,(E158+E156)/E162),-1)","v":0},0,"inkl halm"]
[]
[]
["Mängd utfodrat"]
[{"$f":"\"Mängd utfodrat foder, eget och inköpt. \"&IF(Bakgrund!BB46=0,\"\",\" Obs! Exklusive bete. Nyckeltal för betet beräknas separat.\")","v":"Mängd utfodrat foder, eget och inköpt.  Obs! Exklusive bete. Nyckeltal för betet beräknas separat."}]
["Utfodrat foder","Enhet","Eget mål",{"$f":"Bakgrund!R$7","v":"Period 1"},{"$f":"Bakgrund!S$7","v":"Period 2"},{"$f":"Bakgrund!T$7","v":"Period 3"},"Förklaring","Egen kommentar"]
["Total mängd utfodrat, varav…","kg ts",null,{"$f":"ROUND(D173+D175+D177,3-LEN(INT(D173+D175+D177)))","v":0},{"$f":"ROUND(E173+E175+E177,3-LEN(INT(E173+E175+E177)))","v":0},0,"Summering av raderna nedan"]
[null,"MJ ",null,{"$f":"ROUND(D174+D176+D178,3-LEN(INT(D174+D176+D178)))","v":0},0,0]
["Inköpt","kg ts",null,{"$f":"'2.4 Utfodrat'!C12","v":0},{"$f":"'2.4 Utfodrat'!D12","v":0},{"$f":"'2.4 Utfodrat'!E12","v":0},{"$f":"\"Sammanställning från bladet \"&C_N_summering","v":"Sammanställning från bladet 2.4 Utfodrat"}]
[null,"MJ ",null,{"$f":"'2.4 Utfodrat'!C15","v":0},{"$f":"'2.4 Utfodrat'!D15","v":0},{"$f":"'2.4 Utfodrat'!E15","v":0}]
["Eget grovfoder","kg ts",null,{"$f":"'2.4 Utfodrat'!C21+'2.4 Utfodrat'!C27","v":0},{"$f":"'2.4 Utfodrat'!D21+'2.4 Utfodrat'!D27","v":0},{"$f":"'2.4 Utfodrat'!E21+'2.4 Utfodrat'!E27","v":0}]
[null,"MJ ",null,{"$f":"'2.4 Utfodrat'!C22*'2.4 Utfodrat'!C21+'2.4 Utfodrat'!C33","v":0},{"$f":"'2.4 Utfodrat'!D22*'2.4 Utfodrat'!D21+'2.4 Utfodrat'!D33","v":0},{"$f":"'2.4 Utfodrat'!E22*'2.4 Utfodrat'!E21+'2.4 Utfodrat'!E33","v":0}]
["Eget övrigt foder","kg ts",null,{"$f":"'2.4 Utfodrat'!C56","v":0},{"$f":"'2.4 Utfodrat'!D56","v":0},{"$f":"'2.4 Utfodrat'!E56","v":0}]
[null,"MJ ",null,{"$f":"'2.4 Utfodrat'!C61","v":0},{"$f":"'2.4 Utfodrat'!D61","v":0},{"$f":"'2.4 Utfodrat'!E61","v":0}]
["Total mängd utfodrat, per kg kött","kg ts/kg kött",null,{"$f":"IF(SUM(R39:R40)=0,0,ROUND((D173+D175+D177)/SUM(R39:R40),3-LEN(INT(D171/SUM(R39:R40)))))","v":0},{"$f":"IF(SUM(S39:S40)=0,0,ROUND((E173+E175+E177)/SUM(S39:S40),3-LEN(INT(E171/SUM(S39:S40)))))","v":0},{"$f":"IF(SUM(T39:T40)=0,0,ROUND((F173+F175+F177)/SUM(T39:T40),3-LEN(INT(F171/SUM(T39:T40)))))","v":0},"kg kött, inkl ev förändring i levandelager"]
[null,"MJ/kg kött",null,{"$f":"IF(SUM(D40:D41)=0,0,ROUND((D174+D176+D178)/SUM(D40:D41),3-LEN(INT(D172/SUM(D40:D41)))))","v":0},{"$f":"IF(SUM(E40:E41)=0,0,ROUND((E174+E176+E178)/SUM(E40:E41),3-LEN(INT(E172/SUM(E40:E41)))))","v":0},0]
[]
["Självförsörjningsgrad, ts","% av ts",null,{"$f":"IF(SUM(D$173:D$178)=0,0,(D175+D177)/(D173+D175+D177))","v":0},{"$f":"IF(SUM(E$173:E$178)=0,0,(E175+E177)/(E173+E175+E177))","v":0},0,"Mängd eget foder dividerat med total mängd utfodrat"]
["Självförsörjningsgrad, MJ","% av MJ",null,{"$f":"IF(SUM(D$173:D$178)=0,0,(D176+D178)/(D174+D176+D178))","v":0},0,0]
[]
[]
["Areal åker för att odla fodret"]
["I tabellen nedan beräknas hur stor yta det behövts för att odla fodret per kg producerat kött. Värdet är beräknat utifrån mängd egenproducerat foder som utfodrats aktuell period och beräknad genomsnittlig skörd för grödor som odlats aktuell period."]
["Obs! Om en stor andel av utfodrat foder odlades föregående år (t ex om perioden är ett kalenderår) kan resultatet bli missvisande om hektarskördarna och/eller foderstaterna skiljer sig mycket mellan åren."]
["För att kunna jämföra år med olika tillgång på eget foder redovisas även foderarealen justerat för självförsörjningsgraden. "]
[null,"Enhet","Eget mål",{"$f":"Bakgrund!R$7","v":"Period 1"},{"$f":"Bakgrund!S$7","v":"Period 2"},{"$f":"Bakgrund!T$7","v":"Period 3"},"Förklaring","Egen kommentar"]
["Egen foderareal","m2/kg kött",null,{"$f":"IF(SUM(R39:R40)=0,0,ROUND(((IF(D164=0,0,D175/D164)+IF(D165=0,0,D177/D165))/SUM(R39:R40)*10000),3-LEN(INT((IF(D164=0,0,D175/D164)+IF(D165=0,0,D177/D165))/SUM(R39:R40)*10000))))","v":0},{"$f":"IF(SUM(S39:S40)=0,0,ROUND(((IF(E164=0,0,E175/E164)+IF(E165=0,0,E177/E165))/SUM(S39:S40)*10000),3-LEN(INT((IF(E164=0,0,E175/E164)+IF(E165=0,0,E177/E165))/SUM(S39:S40)*10000))))","v":0},{"$f":"IF(SUM(T39:T40)=0,0,ROUND(((IF(F164=0,0,F175/F164)+IF(F165=0,0,F177/F165))/SUM(T39:T40)*10000),3-LEN(INT((IF(F164=0,0,F175/F164)+IF(F165=0,0,F177/F165))/SUM(T39:T40)*10000))))","v":0},"Beräknas som foderbehov per kg kött dividerat med skördemängd per hektar"]
["Foderareal, justerat för självförsörjningsgraden","m2/kg kött",null,{"$f":"ROUND(IF(D182=0,0,D191/D182),3-LEN(INT(IF(D182=0,0,D191/D182))))","v":0},{"$f":"ROUND(IF(E182=0,0,E191/E182),3-LEN(INT(IF(E182=0,0,E191/E182))))","v":0},{"$f":"ROUND(IF(F182=0,0,F191/F182),3-LEN(INT(IF(F182=0,0,F191/F182))))","v":0},"Egen foderareal dividerat med självförsörjningsgrad (% av ts). Ett lågt tal indikerar resurseffektiv markanvändning i form av stor mängd konsumerat foder per hektar och effektiv foderomvandling"]
[]
[]
[]
[]
["Förluster vid lagring och kasserat foder"]
[]
["Förluster vid lagring av periodens skörd","Typ av foder","Enhet",{"$f":"Bakgrund!R$7","v":"Period 1"},{"$f":"Bakgrund!S$7","v":"Period 2"},{"$f":"Bakgrund!T$7","v":"Period 3"},"Förklaring"]
["ts-förluster vid lagring","Grovfoder","kg ts",{"$f":"'2.2 Förluster vid lagring'!C41","v":0},{"$f":"'2.2 Förluster vid lagring'!D41","v":0},{"$f":"'2.2 Förluster vid lagring'!E41","v":0},{"$f":"\"Uppgifter från bladet \"&C_forluster_lagring","v":"Uppgifter från bladet 2.2 Förluster vid lagring"}]
[null,"Övrigt eget foder","kg ts",{"$f":"'2.2 Förluster vid lagring'!C52","v":0},{"$f":"'2.2 Förluster vid lagring'!D52","v":0},{"$f":"'2.2 Förluster vid lagring'!E52","v":0}]
["Förluster av energi vid lagring","Grovfoder","MJ/kg ts",{"$f":"'2.2 Förluster vid lagring'!C42","v":0},{"$f":"'2.2 Förluster vid lagring'!D42","v":0},{"$f":"'2.2 Förluster vid lagring'!E42","v":0},null,"MJ/kg ts övrigt foder"]
[null,"Övrigt eget foder","MJ/kg ts",{"$f":"D201*$H203","v":0},{"$f":"E201*$H203","v":0},{"$f":"F201*$H203","v":0},"Förluster uttrycka som MJ. Behåll schablonvärdet till höger eller skriv över med eget värde!",10]
["Totalt",null,"kg ts",{"$f":"ROUND(SUM(D200:D201),3-LEN(INT(SUM(D200:D201))))","v":0},{"$f":"ROUND(SUM(E200:E201),3-LEN(INT(SUM(E200:E201))))","v":0},{"$f":"ROUND(SUM(F200:F201),3-LEN(INT(SUM(F200:F201))))","v":0}]
[null,null,"MJ",{"$f":"ROUND(SUM(D202:D203),3-LEN(INT(SUM(D202:D203))))","v":0},{"$f":"ROUND(SUM(E202:E203),3-LEN(INT(SUM(E202:E203))))","v":0},{"$f":"ROUND(SUM(F202:F203),3-LEN(INT(SUM(F202:F203))))","v":0}]
["Totalt, av bärgat foder",null,"% av ts",{"$f":"IF((D154+D156+D158)=0,0,D204/(D154+D156+D158))","v":0},0,0,"Förlusterna under lagring jämfört med mängd ts och MJ som bärgats"]
[null,null,"% av MJ",0,0,0]
[]
[]
["Kasserat foder och spill/förluster vid utfodring","Typ av foder","Enhet",{"$f":"Bakgrund!R$7","v":"Period 1"},{"$f":"Bakgrund!S$7","v":"Period 2"},{"$f":"Bakgrund!T$7","v":"Period 3"},"Förklaring"]
["Kasserat foder under perioden, kg ts","Kasserade storbalar","kg ts",{"$f":"'2.5. Kasserat foder och spill'!C18","v":0},{"$f":"'2.5. Kasserat foder och spill'!D18","v":0},{"$f":"'2.5. Kasserat foder och spill'!E18","v":0},{"$f":"\"Uppgifter från bladet \"&C_Kasserat","v":"Uppgifter från bladet 2.5. Kasserat foder och spill"}]
[null,"Dåligt grovfoder från plan- och tornsilo","kg ts",{"$f":"'2.5. Kasserat foder och spill'!C24","v":0},{"$f":"'2.5. Kasserat foder och spill'!D24","v":0},{"$f":"'2.5. Kasserat foder och spill'!E24","v":0}]
[null,"Övrigt kasserat foder","kg ts",{"$f":"'2.5. Kasserat foder och spill'!C30+'2.5. Kasserat foder och spill'!C36+'2.5. Kasserat foder och spill'!C42","v":0},{"$f":"'2.5. Kasserat foder och spill'!D30+'2.5. Kasserat foder och spill'!D36+'2.5. Kasserat foder och spill'!D42","v":0},{"$f":"'2.5. Kasserat foder och spill'!E30+'2.5. Kasserat foder och spill'!E36+'2.5. Kasserat foder och spill'!E42","v":0}]
["Spill vid utfodring, kg ts","Grovfoder","kg ts",{"$f":"'2.5. Kasserat foder och spill'!C55","v":0},{"$f":"'2.5. Kasserat foder och spill'!D55","v":0},{"$f":"'2.5. Kasserat foder och spill'!E55","v":0},{"$f":"\"Uppgifter från bladet \"&C_Kasserat","v":"Uppgifter från bladet 2.5. Kasserat foder och spill"}]
[null,"Övrigt foder","kg ts",{"$f":"'2.5. Kasserat foder och spill'!C57","v":0},{"$f":"'2.5. Kasserat foder och spill'!D57","v":0},{"$f":"'2.5. Kasserat foder och spill'!E57","v":0},null,"MJ/kg ts övrigt foder"]
["Kasserat före utfodring, MJ","Kasserade storbalar","MJ",{"$f":"D211*$H216","v":0},0,0,"Förluster uttrycka som MJ. Behåll schablonvärdet eller skriv över med eget värde!",10.5]
[null,"Dåligt grovfoder från plan- och tornsilo","MJ",0,0,0,null,10.5]
[null,"Övrigt kasserat foder","MJ",0,0,0,null,10]
["Spill vid utfodring, MJ","Grovfoder","MJ",{"$f":"'2.5. Kasserat foder och spill'!C56","v":0},{"$f":"'2.5. Kasserat foder och spill'!D56","v":0},{"$f":"'2.5. Kasserat foder och spill'!E56","v":0}]
[null,"Övrigt foder","MJ",{"$f":"'2.5. Kasserat foder och spill'!C58","v":0},{"$f":"'2.5. Kasserat foder och spill'!D58","v":0},{"$f":"'2.5. Kasserat foder och spill'!E58","v":0}]
["Totalt",null,"kg ts",{"$f":"ROUND(SUM(D211:D215),3-LEN(INT(SUM(D211:D215))))","v":0},{"$f":"ROUND(SUM(E211:E215),3-LEN(INT(SUM(E211:E215))))","v":0},{"$f":"ROUND(SUM(F211:F215),3-LEN(INT(SUM(F211:F215))))","v":0}]
[null,null,"MJ",{"$f":"ROUND(SUM(D216:D220),3-LEN(INT(SUM(D216:D220))))","v":0},{"$f":"ROUND(SUM(E216:E220),3-LEN(INT(SUM(E216:E220))))","v":0},{"$f":"ROUND(SUM(F216:F220),3-LEN(INT(SUM(F216:F220))))","v":0}]
["Totalt, av utfodrat foder",null,"% av ts",{"$f":"IF((D171)=0,0,D221/(D171))","v":0},{"$f":"IF((E171)=0,0,E221/(E171))","v":0},0,"Kasserat foder och spill som andel av mängd utfodrat foder"]
[null,null,"% av MJ",{"$f":"IF((D172)=0,0,D222/(D172))","v":0},0,0]
[]
[]
[]
[]
[]
[]
[]
[]
[]
[]
[]
[]
[]
[]
[]
[]
[]
[]
[]
[]
[]
[]
[]
[]
[]
[]
[]
[]
[]
[]
[]
[]
[]
[]
[]
[]
[]
[]
[]
["Bete"]
[]
["Betets avkastning","Enhet","Eget mål",{"$f":"period_1","v":"Period 1"},{"$f":"period_2","v":"Period 2"},{"$f":"period_3","v":"Period 3"},"Förklaring","Egen kommentar"]
["Areal som betats","hektar",null,{"$f":"'2.6 Bete'!C43","v":0},{"$f":"'2.6 Bete'!D43","v":0},{"$f":"'2.6 Bete'!E43","v":0},{"$f":"\"Summering av arealen som beräknats på \" & C_N_bete","v":"Summering av arealen som beräknats på 2.6 Bete"}]
["Åker","hektar",null,{"$f":"'2.6 Bete'!C44","v":0},{"$f":"'2.6 Bete'!D44","v":0},{"$f":"'2.6 Bete'!E44","v":0}]
["Återväxt","hektar",null,{"$f":"'2.6 Bete'!C45","v":0},{"$f":"'2.6 Bete'!D45","v":0},{"$f":"'2.6 Bete'!E45","v":0}]
["Naturbete","hektar",null,{"$f":"'2.6 Bete'!C46","v":0},{"$f":"'2.6 Bete'!D46","v":0},{"$f":"'2.6 Bete'!E46","v":0}]
["Beräknad mängd konsumerat bete, totalt","kg ts",null,{"$f":"'2.6 Bete'!C47","v":0},{"$f":"'2.6 Bete'!D47","v":0},{"$f":"'2.6 Bete'!E47","v":0},"Mängd bete som konsumerats av djuren, dels totalt och dels som genomsnitt per hektar. Beräknas utifrån djurens energibehov. Nedtrampning, rator etc. gör att mängden per hektar kan vara relativt låg, kanske 50-70 % av den biologiska skörden"]
["Åker","kg ts/ha",null,{"$f":"'2.6 Bete'!C48","v":0},{"$f":"'2.6 Bete'!D48","v":0},{"$f":"'2.6 Bete'!E48","v":0}]
["Återväxt","kg ts/ha",null,{"$f":"'2.6 Bete'!C49","v":0},{"$f":"'2.6 Bete'!D49","v":0},{"$f":"'2.6 Bete'!E49","v":0}]
["Naturbete","kg ts/ha",null,{"$f":"'2.6 Bete'!C50","v":0},{"$f":"'2.6 Bete'!D50","v":0},{"$f":"'2.6 Bete'!E50","v":0}]
[]
[]
[]
[]
["Djurens tillväxt på betet","Enhet","Eget mål",{"$f":"period_1","v":"Period 1"},{"$f":"period_2","v":"Period 2"},{"$f":"period_3","v":"Period 3"},"Förklaring","Egem kommentar"]
["Åker","kg tillväxt per hektar",null,{"$f":"'2.6 Bete'!R62","v":0},{"$f":"'2.6 Bete'!S62","v":0},{"$f":"'2.6 Bete'!T62","v":0},"Ungdjurens tillväxt under betesperioden, beräknats som antal djur gånger tillväxt dividerat med betad areal"," "]
["Återväxt",null,null,{"$f":"'2.6 Bete'!R63","v":0},{"$f":"'2.6 Bete'!S63","v":0},{"$f":"'2.6 Bete'!T63","v":0}]
["Naturbete",null,null,{"$f":"'2.6 Bete'!R64","v":0},{"$f":"'2.6 Bete'!S64","v":0},{"$f":"'2.6 Bete'!T64","v":0}]
[]
[]
["Areal naturbete per kg kött","m2 naturbete/kg kött",null,{"$f":"IF(SUM(R39:R40)=0,0,ROUND(D270*10000/SUM(R39:R40),3-LEN(INT((D270*10000/SUM(R39:R40))))))","v":0},{"$f":"IF(SUM(S39:S40)=0,0,ROUND(E270*10000/SUM(S39:S40),3-LEN(INT((E270*10000/SUM(S39:S40))))))","v":0},{"$f":"IF(SUM(T39:T40)=0,0,ROUND(F270*10000/SUM(T39:T40),3-LEN(INT((F270*10000/SUM(T39:T40))))))","v":0},"Ett relativt högt tal kan kombinerat med att ungdjuren har en hög tillväxt vara eftersträvansvärt ur miljövårds- och resurssynpunkt. Ett högt tal kan indikera att naturbete utgör en betydande del av fodret till djuren. Om djurens tillväxt är låg och mängden producerat kött är lågt kan talet vara högt samtidigt som resursanvändningen är sämre."]
[]
[]
[]
[]
[]
[]
["Växtnäringsutnyttjande"]
[]
[{"$f":"period_1","v":"Period 1"},"Enhet",null,"Kväve","Fosfor","Kalium","Förklaring","Egen kommentar"]
["Växtnäringsinsats","kg till djur och foder",null,{"$f":"'3 Växtnäringsutnyttjande (1)'!I107","v":0},{"$f":"'3 Växtnäringsutnyttjande (1)'!J107","v":0},{"$f":"'3 Växtnäringsutnyttjande (1)'!K107","v":0},"Tillförd växtnäring i gödsel, foder etc. minus växtnäring som använts till ev avsalugrödor"]
["Växtnäring i köttet","kg",null,{"$f":"'3 Växtnäringsutnyttjande (1)'!I114","v":0},{"$f":"'3 Växtnäringsutnyttjande (1)'!J114","v":0},{"$f":"'3 Växtnäringsutnyttjande (1)'!K114","v":0},"Mängd växtnäring i producerat kött"]
["Växtnäringsinsats per kg kött","g växtnäring per kg kött",null,{"$f":"'3 Växtnäringsutnyttjande (1)'!I109","v":0},{"$f":"'3 Växtnäringsutnyttjande (1)'!J109","v":0},{"$f":"'3 Växtnäringsutnyttjande (1)'!K109","v":0},"Växtnäringsinsats dividerat med kg producerat kött. Lågt värde innebär att det gått åt lite inköpta resurser i form av växtnäring för att producera köttet"]
["Växtnäringsinsats/växtnäringsinnehåll i köttet","%",null,{"$f":"'3 Växtnäringsutnyttjande (1)'!I115","v":0},{"$f":"'3 Växtnäringsutnyttjande (1)'!J115","v":0},{"$f":"'3 Växtnäringsutnyttjande (1)'!K115","v":0},"Växtnäringsinsats dividerat med växtnäring i producerat kött. Ju lägre tal, desto mer kött har producerats per kg inköpt växtnäring. Obs, i Kväve ingår inte N-fixering, så omfattande odling av kvävefixerande grödor kan ge ett mycket lågt tal."]
[{"$f":"period_2","v":"Period 2"}]
["Växtnäringsinsats","kg till djur och foder",null,{"$f":"'3 Växtnäringsutnyttjande (2)'!I107","v":0},{"$f":"'3 Växtnäringsutnyttjande (2)'!J107","v":0},{"$f":"'3 Växtnäringsutnyttjande (2)'!K107","v":0},"se ovan"]
["Växtnäring i köttet","kg",null,{"$f":"'3 Växtnäringsutnyttjande (2)'!I114","v":0},{"$f":"'3 Växtnäringsutnyttjande (2)'!J114","v":0},{"$f":"'3 Växtnäringsutnyttjande (2)'!K114","v":0}]
["Växtnäringsinsats per kg kött","g växtnäring per kg kött",null,{"$f":"'3 Växtnäringsutnyttjande (2)'!I109","v":0},{"$f":"'3 Växtnäringsutnyttjande (2)'!J109","v":0},{"$f":"'3 Växtnäringsutnyttjande (2)'!K109","v":0}]
["Växtnäringsinsats/växtnäringsinnehåll i köttet","%",null,{"$f":"'3 Växtnäringsutnyttjande (2)'!I115","v":0},{"$f":"'3 Växtnäringsutnyttjande (2)'!J115","v":0},{"$f":"'3 Växtnäringsutnyttjande (2)'!K115","v":0}]
[{"$f":"period_3","v":"Period 3"}]
["Växtnäringsinsats","kg till djur och foder",null,{"$f":"'3 Växtnäringsutnyttjande (3)'!I107","v":0},{"$f":"'3 Växtnäringsutnyttjande (3)'!J107","v":0},{"$f":"'3 Växtnäringsutnyttjande (3)'!K107","v":0},"se ovan"]
["Växtnäring i köttet","kg",null,{"$f":"'3 Växtnäringsutnyttjande (3)'!I114","v":0},{"$f":"'3 Växtnäringsutnyttjande (3)'!J114","v":0},{"$f":"'3 Växtnäringsutnyttjande (3)'!K114","v":0}]
["Växtnäringsinsats per kg kött","g växtnäring per kg kött",null,{"$f":"'3 Växtnäringsutnyttjande (3)'!I109","v":0},{"$f":"'3 Växtnäringsutnyttjande (3)'!J109","v":0},{"$f":"'3 Växtnäringsutnyttjande (3)'!K109","v":0}]
["Växtnäringsinsats/växtnäringsinnehåll i köttet","%",null,{"$f":"'3 Växtnäringsutnyttjande (3)'!I115","v":0},{"$f":"'3 Växtnäringsutnyttjande (3)'!J115","v":0},{"$f":"'3 Växtnäringsutnyttjande (3)'!K115","v":0}]
[]
[]
[]
[]
[]
[]
[]
[]
[]
[]
[]
[]
[]
[]
[]
[]
[]
[]
[]
[]
[]
[]
[]
[]
[]
[]
[]
[]
[]
[]
[]
[]
[]
["Energi och bränsle"]
[]
["Total mängd använd energi",null,"Enhet",{"$f":"period_1","v":"Period 1"},{"$f":"period_2","v":"Period 2"},{"$f":"period_3","v":"Period 3"}]
["Totalt, varav...",null,{"$f":"'4 Energi och bränsle'!B45","v":"kWh"},{"$f":"ROUND('4 Energi och bränsle'!C45,3-LEN(INT('4 Energi och bränsle'!C45)))","v":0},{"$f":"ROUND('4 Energi och bränsle'!D45,3-LEN(INT('4 Energi och bränsle'!D45)))","v":0},{"$f":"ROUND('4 Energi och bränsle'!E45,3-LEN(INT('4 Energi och bränsle'!E45)))","v":0}]
["...el",null,{"$f":"'4 Energi och bränsle'!B46","v":"kWh"},{"$f":"ROUND('4 Energi och bränsle'!C46,3-LEN(INT('4 Energi och bränsle'!C46)))","v":0},{"$f":"ROUND('4 Energi och bränsle'!D46,3-LEN(INT('4 Energi och bränsle'!D46)))","v":0},{"$f":"ROUND('4 Energi och bränsle'!E46,3-LEN(INT('4 Energi och bränsle'!E46)))","v":0}]
["...drivmedel (diesel, bensin)",null,{"$f":"'4 Energi och bränsle'!B47","v":"kWh"},{"$f":"ROUND('4 Energi och bränsle'!C47,3-LEN(INT('4 Energi och bränsle'!C47)))","v":0},{"$f":"ROUND('4 Energi och bränsle'!D47,3-LEN(INT('4 Energi och bränsle'!D47)))","v":0},{"$f":"ROUND('4 Energi och bränsle'!E47,3-LEN(INT('4 Energi och bränsle'!E47)))","v":0}]
["...bränslen för värme (eldningsolja, flis, halm etc.)",null,{"$f":"'4 Energi och bränsle'!B48","v":"kWh"},{"$f":"ROUND('4 Energi och bränsle'!C48,3-LEN(INT('4 Energi och bränsle'!C48)))","v":0},{"$f":"ROUND('4 Energi och bränsle'!D48,3-LEN(INT('4 Energi och bränsle'!D48)))","v":0},{"$f":"ROUND('4 Energi och bränsle'!E48,3-LEN(INT('4 Energi och bränsle'!E48)))","v":0}]
[]
[null,null,null,null,null,null,null,"Nyckeltal om energianvändning inomgårds (uttag foder, stall, utgödsling etc.) (Jordbruksverket. 2010. Rapport 2010:16)"]
["Använd mängd energi per kg kött:","Enhet","Eget mål",{"$f":"period_1","v":"Period 1"},{"$f":"period_2","v":"Period 2"},{"$f":"period_3","v":"Period 3"},"Förklaring",null,"medel","Min-Max"]
["Totalt, varav...",{"$f":"'4 Energi och bränsle'!B63","v":"kWh/kg kött"},null,{"$f":"IF(SUM(R$39:R$40)=0,0,ROUND(D345/SUM(R$39:R$40),7-LEN(INT(D345/SUM(R$39:R$40)*10000))))","v":0},0,0,"Se schablonvärden till höger!","Nöt, köttdjur (kWh/kg kött)",7.75,"2,06-11,77"]
["...el",{"$f":"'4 Energi och bränsle'!B64","v":"kWh/kg kött"},null,0,0,0,"Eldriven utgödsling, utfordring etc. ger generellt lägre energiförbrukning"]
["...drivmedel (diesel, bensin)",{"$f":"'4 Energi och bränsle'!B65","v":"kWh/kg kött"},null,0,0,0,"Oftast det mesta från fältarbeten. Obs! fältarbeten ingår inte i schablonvärdena till höger"]
["...bränslen för värme (eldningsolja, flis, halm etc.)",{"$f":"'4 Energi och bränsle'!B66","v":"kWh/kg kött"},null,0,0,0,"Generellt fler kWh för uppvärmning med bränslen än med el/värmepump"]
[]
[]
[]
[]
[]
[]
[]
[]
[]
[]
[]
[]
[]
[]
[]
[]
[]
[]
[]
[]
[]
[]
[]
["Vattenanvändning"]
[]
[null,"Enhet","Eget mål",{"$f":"period_1","v":"Period 1"},{"$f":"period_2","v":"Period 2"},{"$f":"period_3","v":"Period 3"},"Förklaring"]
[{"$f":"'5 Vattenanvändning'!A14","v":"Total vattenförbrukning i djurproduktionen"},{"$f":"'5 Vattenanvändning'!B14","v":"liter"},null,{"$f":"'5 Vattenanvändning'!C14","v":0},{"$f":"'5 Vattenanvändning'!D14","v":0},{"$f":"'5 Vattenanvändning'!E14","v":0},"Summa av vattenförbrukningen."]
[{"$f":"'5 Vattenanvändning'!A16","v":"Vattenförbrukning per djur"},{"$f":"'5 Vattenanvändning'!B16","v":"liter/djur"},null,{"$f":"'5 Vattenanvändning'!C16","v":0},{"$f":"'5 Vattenanvändning'!D16","v":0},{"$f":"'5 Vattenanvändning'!E16","v":0},"Om nyckeltalet är högt kan det tyda på en vattenläcka. Nyckeltalet bör inte heller vara för lågt, snarare inom ett intervall. Allt för låg vattenförbrukning kan ju indikera att djuren dricker för dåligt, t ex pga dåligt flöde i vattenkoppar."]
[{"$f":"'5 Vattenanvändning'!A17","v":"Vattenförbrukning per kg kött"},{"$f":"'5 Vattenanvändning'!B17","v":"liter/kg kött"},null,{"$f":"'5 Vattenanvändning'!C17","v":0},{"$f":"'5 Vattenanvändning'!D17","v":0},{"$f":"'5 Vattenanvändning'!E17","v":0}]
[{"$f":"'5 Vattenanvändning'!A18","v":"...varav dricksvatten till djuren"},{"$f":"'5 Vattenanvändning'!B18","v":"liter/kg kött"},null,{"$f":"'5 Vattenanvändning'!C18","v":0},{"$f":"'5 Vattenanvändning'!D18","v":0},{"$f":"'5 Vattenanvändning'!E18","v":0}]
[{"$f":"'5 Vattenanvändning'!A19","v":"…varav vatten till tvätt av stallar + övrig förbrukning"},{"$f":"'5 Vattenanvändning'!B19","v":"liter/kg kött"},null,{"$f":"'5 Vattenanvändning'!C19","v":0},{"$f":"'5 Vattenanvändning'!D19","v":0},{"$f":"'5 Vattenanvändning'!E19","v":0}]

{"sheet":"Teknisk administration","index":19,"n_rows":646,"n_cols":62,"rows_kept":646,"cut":false,"hidden":true,"merged":[[591,10,591,12],[591,13,591,15],[600,10,600,12],[600,13,600,15]]}
[{"$f":"MID(CELL(\"filnamn\",B1),FIND(\"]\",CELL(\"filnamn\",B1))+1,255)","v":"Teknisk administration"}]
["På den här fliken finns data som ser till att formler i verktyget fungerar"]
[null,null,null,null,null,null,null,null,null,null,"Inköpt","Välj"]
["Val av djurslag på fliken Bakgrund",null,null,null,null,null,"obligatoriskt","Obligatoriskt blad",null,null,"inköpt","eget"]
[" Alla",null,null,null,null,null,"frivilligt","Bladet är frivilligt att fylla i",null,null,null,"inköpt"]
["Gris",null,null,null,null,null,"inte relevant för dig","Bladet är inte relevant för dig"]
["Lamm"]
["Nöt",null,null,null,null,null,null,null,null,null,"växande",null,"Ifylld"]
[null,null,null,null,null,null,"Ifylld",null,null,null,"suggor",null,"Inte ifylld"]
[null,null,null,null,null,null,"Inte ifylld",null,null,null,null,null,"ej relevant"]
["För fliken Energi och bränsle, används för att räkna ut total använd energi av olika slag (el, bränsle, värme)",null,null,null,null,null,"ej relevant"]
["OBS! Kolumnerna får inte byta plats! Nya kolumner MÅSTE läggas in till höger om befintliga kolumner!"]
[null,"El","Drivmedel (diesel, bensin)","Bränslen för värme (eldningsolja, flis, halm etc.)",null,null,"Ifylld"]
[{"$f":"'4 Energi och bränsle'!A16","v":"El"},1,null,null,null,null,"Inte ifylld",null,null,null,"Enhet","Omräkningsfaktor till kWh"]
[{"$f":"'4 Energi och bränsle'!A17","v":"Diesel"},null,1,null,null,null,"ej relevant",null,null,"El","kWh",1]
[{"$f":"'4 Energi och bränsle'!A18","v":"Bensin"},null,1,null,null,null,null,null,null,"Diesel","liter",9.8000000000000007]
[{"$f":"'4 Energi och bränsle'!A19","v":"Fordonsgas"},null,1,null,null,null,null,null,null,"Bensin","liter",9.1]
[{"$f":"'4 Energi och bränsle'!A20","v":"Eldningsolja"},null,null,1,null,null,null,null,null,"Fordonsgas","m3",9.6999999999999993]
[{"$f":"'4 Energi och bränsle'!A21","v":"Flis"},null,null,1,null,null,"Ifylld",null,null,"Eldningsolja","liter",9.9499999999999993]
[{"$f":"'4 Energi och bränsle'!A22","v":"Pellets"},null,null,1,null,null,"Inte ifylld",null,null,"Flis","m3s",750]
[{"$f":"'4 Energi och bränsle'!A23","v":"Ved"},null,null,1,null,null,"ej relevant",null,null,"Pellets","ton",4900]
[{"$f":"'4 Energi och bränsle'!A24","v":"Övriga bränslen"},null,null,1,null,null,null,null,null,"Ved","m3tr",1240]
[{"$f":"'4 Energi och bränsle'!A25","v":"Inhyrda tjänster, dieselåtgången är känd*"},null,1,null,null,null,null,null,null,"Övriga bränslen","kWh",1]
[{"$f":"'4 Energi och bränsle'!A26","v":"Inhyrda tjänster, saknar uppgift om dieselåtgång*"},null,1,null,null,null,null,null,null,"Inhyrda tjänster, dieselåtgången är känd*","liter diesel",9.8000000000000007]
[{"$f":"'4 Energi och bränsle'!A27","v":"Summa: Inköpt mängd energi"},null,null,null,null,null,null,null,null,"Inhyrda tjänster, saknar uppgift om dieselåtgång*","liter diesel",9.8000000000000007]
[{"$f":"'4 Energi och bränsle'!A28","v":0},null,null,null,null,null,null,null,null,"Summa: Inköpt mängd energi","kWh"]
[{"$f":"'4 Energi och bränsle'!A29","v":0}]
[{"$f":"'4 Energi och bränsle'!A30","v":0}]
[{"$f":"'4 Energi och bränsle'!A31","v":"Egen produktion för egen användning, justera för eventuell överlagring"}]
[{"$f":"'4 Energi och bränsle'!A32","v":"El"},1,null,null,null,null,null,null,null,"Egen produktion för egen användning, justera för eventuell överlagring"]
[{"$f":"'4 Energi och bränsle'!A33","v":"Biogas"},null,null,1,null,null,null,null,null,"El","kWh",1]
[{"$f":"'4 Energi och bränsle'!A34","v":"Flis"},null,null,1,null,null,null,null,null,"Biogas","m3",5.8]
[{"$f":"'4 Energi och bränsle'!A35","v":"Pellets"},null,null,1,null,null,null,null,null,"Flis","m3s",750]
[{"$f":"'4 Energi och bränsle'!A36","v":"Ved"},null,null,1,null,null,null,null,null,"Pellets","ton",4900]
[{"$f":"'4 Energi och bränsle'!A37","v":"Halm"},null,null,1,null,null,null,null,null,"Ved","m3tr",1240]
[{"$f":"'4 Energi och bränsle'!A38","v":"Övrigt"},null,null,1,null,null,null,null,null,"Halm","ton",4000]
[null,null,null,null,null,null,null,null,null,"Övrigt","kWh",1]
["OBS! Kolumnerna får inte byta plats! Nya kolumner MÅSTE läggas in till höger om befintliga kolumner!"]
[null,null,"kWh/enhet","g CO2e/kWh","ref klimatavtryck",null,"Referenser energivärden: VERA/Energikartläggning, samt Energimyndigheten. 2016. Värmevärden från Energimyndighetens datalager (DW) http://www.energimyndigheten.se/statistik/branslen/varmevarden-och-emissionsfaktorer1/atistik%2Fbranslen%2Fvarmevarden-och-emissionsfaktorer%2Fvarmevarden_2017.xlsx&usg=AOvVaw0n9_3f0avI9LQFqMF_hFRo "]
["El","inköpt",1,125,"Naturvårdsverket. 2020. Klimatklivet - vägledning om beräkning av utsläppsminskning 2020-11-11"]
["Diesel","inköpt",9.8000000000000007,278,"dito"]
["Bensin","inköpt",9.1,325,"dito"]
["Fordonsgas","inköpt",9.6999999999999993,59,"dito"]
["Eldningsolja","inköpt",9.9499999999999993,288,"dito"]
["Flis","inköpt",750,9.4,"dito"]
["Pellets","inköpt",4900,19,"dito"]
["Ved","inköpt",1240,9.4,"dito"]
["Övriga bränslen","inköpt",1,9.4,"dito, antar Övriga fasta bränslen"]
["Inhyrda tjänster, dieselåtgången är känd*","inköpt",9.8000000000000007,278,"dito, förutsätter att det är diesel"]
["Inhyrda tjänster, saknar uppgift om dieselåtgång*","inköpt",9.8000000000000007,278,"dito, förutsätter att det är diesel"]
["El","egen",1,10,"Antar att det i förkommande fall är förnybar el med lågt CF. Uppskattning!"]
["Biogas","egen",5.8,46,"Naturvårdsverket. 2020. Klimatklivet - vägledning om beräkning av utsläppsminskning 2020-11-11"]
["Flis","egen",750,9.4,"Naturvårdsverket. 2020. Klimatklivet - vägledning om beräkning av utsläppsminskning 2020-11-11"]
["Pellets","egen",4900,19,"Naturvårdsverket. 2020. Klimatklivet - vägledning om beräkning av utsläppsminskning 2020-11-11"]
["Ved","egen",1240,9.4,"Naturvårdsverket. 2020. Klimatklivet - vägledning om beräkning av utsläppsminskning 2020-11-11"]
["Halm","egen",4000,9.4,"Naturvårdsverket. 2020. Klimatklivet - vägledning om beräkning av utsläppsminskning 2020-11-11"]
["Övrigt","egen",1,9.4,"Naturvårdsverket. 2020. Klimatklivet - vägledning om beräkning av utsläppsminskning 2020-11-11"]
[]
[]
[]
[]
[]
["Bladet  Energi och bränslet. Används för att beräkna dieselåtgång för inhyrda tjänster,"]
["OBS! Kolumnerna får inte byta plats! Nya kolumner MÅSTE läggas in till höger om befintliga kolumner!"]
[null,"Liter","Enhet","Enhet2","Förklaring",null,"Referens",null,"kommentar",null,null,1.3596216169999999,"hk/kW"]
["---Traktor/lastmaskin, blandat arbete---","!!","!!","Obs! välj annan!","Obs! Välj annat alternativ ur listan. Detta är bara en rubrik"]
[{"$f":"\"Traktor \" &L67 &\" kW (\"&M67&\" hk)\"","v":"Traktor 40 kW (54 hk)"},6,"liter/timme","timmar","Gäller blandat arbete, ej jordbearbetning. Om det är lätt arbete, välj en storlek mindre på traktorn! Om det är tungt arbete (jordbearbetning), välj en storlek större på traktorn!",null,"VERA",null,"blandat arbete, ej jordbearbetning (0,15 l/kW*tim). Välj storleken mindre om lätt arbete (då blir det 0,12 l/kW*tim)!. Välj storleken större om tungt arbete (jordbearbetning) (då blir det motsvarande 0,18 l/kW*tim)",null,null,40,{"$f":"ROUND(L67*$L$65,0)","v":54}]
["Traktor 60 kW (82 hk)",9,"liter/timme","timmar","Gäller blandat arbete, ej jordbearbetning. Om det är lätt arbete, välj en storlek mindre på traktorn! Om det är tungt arbete (jordbearbetning), välj en storlek större på traktorn!",null,"VERA",null,"blandat arbete, ej jordbearbetning (0,15 l/kW*tim). Välj storleken mindre om lätt arbete (då blir det 0,12 l/kW*tim)!. Välj storleken större om tungt arbete (jordbearbetning) (då blir det motsvarande 0,18 l/kW*tim)",null,null,60,82]
["Traktor 80 kW (109 hk)",12,"liter/timme","timmar","Gäller blandat arbete, ej jordbearbetning. Om det är lätt arbete, välj en storlek mindre på traktorn! Om det är tungt arbete (jordbearbetning), välj en storlek större på traktorn!",null,"VERA",null,"blandat arbete, ej jordbearbetning (0,15 l/kW*tim). Välj storleken mindre om lätt arbete (då blir det 0,12 l/kW*tim)!. Välj storleken större om tungt arbete (jordbearbetning) (då blir det motsvarande 0,18 l/kW*tim)",null,null,80,109]
["Traktor 100 kW (136 hk)",15,"liter/timme","timmar","Gäller blandat arbete, ej jordbearbetning. Om det är lätt arbete, välj en storlek mindre på traktorn! Om det är tungt arbete (jordbearbetning), välj en storlek större på traktorn!",null,"VERA",null,"blandat arbete, ej jordbearbetning (0,15 l/kW*tim). Välj storleken mindre om lätt arbete (då blir det 0,12 l/kW*tim)!. Välj storleken större om tungt arbete (jordbearbetning) (då blir det motsvarande 0,18 l/kW*tim)",null,null,100,136]
["Traktor 120 kW (163 hk)",18,"liter/timme","timmar","Gäller blandat arbete, ej jordbearbetning. Om det är lätt arbete, välj en storlek mindre på traktorn! Om det är tungt arbete (jordbearbetning), välj en storlek större på traktorn!",null,"VERA",null,"blandat arbete, ej jordbearbetning (0,15 l/kW*tim). Välj storleken mindre om lätt arbete (då blir det 0,12 l/kW*tim)!. Välj storleken större om tungt arbete (jordbearbetning) (då blir det motsvarande 0,18 l/kW*tim)",null,null,120,163]
["Traktor 140 kW (190 hk)",21,"liter/timme","timmar","Gäller blandat arbete, ej jordbearbetning. Om det är lätt arbete, välj en storlek mindre på traktorn! Om det är tungt arbete (jordbearbetning), välj en storlek större på traktorn!",null,"VERA",null,"blandat arbete, ej jordbearbetning (0,15 l/kW*tim). Välj storleken mindre om lätt arbete (då blir det 0,12 l/kW*tim)!. Välj storleken större om tungt arbete (jordbearbetning) (då blir det motsvarande 0,18 l/kW*tim)",null,null,140,190]
["Traktor 160 kW (218 hk)",24,"liter/timme","timmar","Gäller blandat arbete, ej jordbearbetning. Om det är lätt arbete, välj en storlek mindre på traktorn! Om det är tungt arbete (jordbearbetning), välj en storlek större på traktorn!",null,"VERA",null,"blandat arbete, ej jordbearbetning (0,15 l/kW*tim). Välj storleken mindre om lätt arbete (då blir det 0,12 l/kW*tim)!. Välj storleken större om tungt arbete (jordbearbetning) (då blir det motsvarande 0,18 l/kW*tim)",null,null,160,218]
["Traktor 180 kW (245 hk)",27,"liter/timme","timmar","Gäller blandat arbete, ej jordbearbetning. Om det är lätt arbete, välj en storlek mindre på traktorn! Om det är tungt arbete (jordbearbetning), välj en storlek större på traktorn!",null,"VERA",null,"blandat arbete, ej jordbearbetning (0,15 l/kW*tim). Välj storleken mindre om lätt arbete (då blir det 0,12 l/kW*tim)!. Välj storleken större om tungt arbete (jordbearbetning) (då blir det motsvarande 0,18 l/kW*tim)",null,null,180,245]
["---Jordbearbetning---","!!","!!","Obs! välj annan!","Obs! Välj annat alternativ ur listan. Detta är bara en rubrik"]
["stubbearbetning, två överfarter",12,"liter/hektar","hektar","",null,"Cederberg eko"]
["plöjning lätt jord",15,"liter/hektar","hektar","",null,"VERA"]
["plöjning mellanlera",22,"liter/hektar","hektar","",null,"VERA"]
["plöjning mycket tung jord",40,"liter/hektar","hektar","",null,"VERA"]
["harvning, två överfarter",6,"liter/hektar","hektar","",null,"Cederberg eko"]
["---Sådd---","!!","!!","Obs! välj annan!","Obs! Välj annat alternativ ur listan. Detta är bara en rubrik"]
["sådd kombi",7,"liter/hektar","hektar",null,null,"VERA",null,"medel för flera"]
["sådd",5,"liter/hektar","hektar",null,null,"VERA"]
["vältning, en överfart",2,"liter/hektar","hektar"]
["---Spridning gödsel----","!!","!!","Obs! välj annan!","Obs! Välj annat alternativ ur listan. Detta är bara en rubrik"]
["flytgödsel",14,"liter/hektar","hektar",null,null,"VERA"]
["djupströ",{"$f":"0.36*20","v":7.1999999999999993},"liter/hektar","hektar",null,null,"Baky et al. 2010. Kartläggning av jordbrukets energianvändning. JTI uppdragsrapport"]
["mineralgödsel",1.5,"liter/hektar","hektar",null,null,"VERA"]
["---Skörd vall---","!!","!!","Obs! välj annan!","Obs! Välj annat alternativ ur listan. Detta är bara en rubrik"]
["slåtterkross",6,"liter/hektar","hektar",null,null,"VERA"]
["rundbalspress+plastning",16.5,"liter/timme","timmar",null,null,"VERA"]
["exakthack",12,"liter/hektar","hektar",null,null,"VERA"]
["fälthack",4,"liter/hektar","hektar",null,null,"VERA"]
["---Skörd----","!!","!!","Obs! välj annan!","Obs! Välj annat alternativ ur listan. Detta är bara en rubrik"]
["tröskning",20,"liter/hektar","hektar","",null,"VERA"]
["pressning halm ",7,"liter/hektar","hektar","",null,"VERA"]
["---Övrigt---","!!","!!","Obs! välj annan!","Obs! Välj annat alternativ ur listan. Detta är bara en rubrik"]
["sprutning",1.5,"liter/hektar","hektar","",null,"VERA"]
["bevattning, traktordriven",8,"liter/hektar","hektar","",null,"VERA"]
[]
[]
[]
[]
[]
[]
[]
[]
[]
[]
[]
[]
[]
[]
["Bladet Bete. Används för att beräkna energibehov vid bete"]
[null,"laktation","Energibehov laktation","Energiinnehåll mjölk",null,null,"Tillägg laktation, netto",null,null,null,null,null,"kalv i dikoproduktion","tillväxt (g/dag)",null,null,"Ungtjur","Kviga"]
[null,null,"MJ/kg mjölk","MJ/kg mjölk","kg mjölk per dag","MJ/dygn","MJ/dygn",null,null,null,null,null,"köttras lätt, tjur",1300]
[null,"kor",5,2.8,6,null,{"$f":"(C117-D117)*E117","v":13.200000000000001},null,null,null,null,null,"köttras lätt, kviga",1100]
[null,"tackor",null,null,null,19,{"$f":"F118*(1-D117/C117)","v":8.3600000000000012},null,null,null,null,null,"köttras lätt, kviga&tjur",{"$f":"AVERAGE(N116:N117)","v":1200}]
[null,"ref","Spörndly, 2003","Spörndly, 2003","eget!","Spörndly, 2003. 2-3 lamm",null,null,null,null,null,null,"köttras tung, tjur",1500]
[null,null,null,null,null,null,null,null,null,null,null,null,"köttras tung, kviga",1200]
[null,"Underhållsbehov, konstanter",null,null,null,null,null,null,null,null,null,null,"köttras tung, kviga&tjur",{"$f":"AVERAGE(N119:N120)","v":1350}]
[null,"kor",0.50700000000000001]
[null,"tackor",0.39500000000000002]
[null,"ungnöt",0.47499999999999998,6.28,1.8800000000000001E-2,0.3,0.435]
[]
[null,"Tillägg för bete",null,null,null,null,null,null,null,null,null,null,"ko","kg slaktvikt"]
[null,"nöt",0.17,"tillägg på underhållsbehovet (IPCC, 2019, Guidelines Vol 4, Table 10.5)",null,null,null,null,null,null,null,null,"lätt ras",360]
[null,"får",0.1,"tillägg utöver normen",null,null,null,null,null,null,null,null,"tung ras",420]
[]
[]
[null,"OBS! Kolumnerna får inte byta plats! Nya kolumner MÅSTE läggas in till höger om befintliga kolumner!",null,null,null,null,null,null,null,null,null,null,null,null,"Ungtjur","Kviga/stut"]
[null,"Väder",null,null,null,null,null,null,null,null,null,null,"övriga nöt","kg slaktvikt","tillväxt g/d","tillväxt g/d"]
[null,"--- välj ur lista! ---",null,null,null,null,null,null,null,null,null,null,"lätt ras",310,1400,900]
[null,"Bra",0,null,null,null,null,null,null,null,null,null,"tung ras",340,1700,900]
[null,"Mestadels bra",7.0000000000000007E-2,null,null,null,null,null,null,null,null,null,"mjölkras",320,1200,900]
[null,"Periodvis kallt/blåsigt/regnigt",0.14000000000000001]
[null,"Kallt/blåsigt/regnigt hela perioden",0.2]
[null,null,null,null,null,null,null,"Näringsbehov =a*vikt (kg) +b*tillväxt (g)"]
[null,null,null,null,null,null,null,"a",0.20699999999999999]
[null,null,null,null,null,null,null,"b",3.0800000000000001E-2]
[null,"Tackor",null,null,null,"Tillägg, netto"]
[null,null,null,null,"MJ/dygn ","MJ/dygn ",null,"Näringsbehov Höstlamm","Lamm daglig tillväxt gram"]
[null,"Kolumn1","Kolumn2","Kolumn3","Kolumn4","Kolumn5",null,"Lammets vikt,kg",null,100,200,300,400,500]
[null,"--- välj ur lista! ---",null,null,null,{"$f":"E144*(1-$D$117/$C$117)","v":0},null,15,null,6.5,9.3000000000000007,12,14.8,17.7]
[null,"inget tillägg",null,null,null,{"$f":"E145*(1-$D$117/$C$117)","v":0},null,20,null,7.4,10.3,13.1,16,18.899999999999999]
[null,"Tillägg dräktighet, 6-2 v","2 foster"," ",4,{"$f":"E146","v":4},null,25,null,8.3000000000000007,11.3,14.2,17.2,20.2]
[null,"Tillägg dräktighet, 0-2 v f"," "," ",8,{"$f":"E147","v":8},null,30,null,9.1999999999999993,12.3,15.3,18.399999999999999,21.5]
[null,"Tillägg digivning, 1-2 lamm, intensiv"," ","1-2 lamm, intensiv",18,{"$f":"E148*(1-$D$117/$C$117)","v":7.9200000000000008},null,35,null,10.1,13.3,16.399999999999999,19.600000000000001,22.8]
[null,"Tillägg digivning, 3-4 lamm, intensiv"," ","3-4 lamm, intensiv",26,{"$f":"E149*(1-$D$117/$C$117)","v":11.440000000000001},null,40,null,11,14.3,17.5,20.8,24.1]
[null,"Tillägg digivning, 1 lamm, höstlamm"," ","1 lamm, höstlamm",12,{"$f":"E150*(1-$D$117/$C$117)","v":5.2800000000000011},null,45,null,11.9,15.3,18.600000000000001,22,25.4]
[null,"Tillägg digivning, 2 lamm, höstlamm"," ","2 lamm, höstlamm",17,{"$f":"E151*(1-$D$117/$C$117)","v":7.4800000000000013},null,50,null,12.8,16.3,19.7,23.2,26.7]
[null,"Tillägg digivning, 3-4 lamm, höstlamm"," ","3-4 lamm, höstlamm",22,{"$f":"E152*(1-$D$117/$C$117)","v":9.6800000000000015},null,55,null,13.7,17.3,20.8,24.4,28]
[]
[]
[]
[]
[]
[]
[]
[]
[]
["Från Kött"]
[]
[]
[null,"OBS! Kolumnerna får inte byta plats! Nya kolumner MÅSTE läggas in till höger om befintliga kolumner!"]
["Nöt",null,null,null,null,null,null,null,null,"Lamm - sålt",null,null,null,null,null,null,"Lamm - köpt"]
["Typer av levererat kött","enhet","slaktutbyte (%)","benämning",null,null,null,null,null,"Typer av levererat kött","enhet","slaktutbyte (%)","benämning",null,null,null,"Typer av levererat kött","enhet","slaktutbyte (%)","benämning"]
[null,null,null,null,null,null,null,null,null,"Sålda lamm till slakt, slaktvikt","kg slaktvikt",1,"lamm",null,null,null,"Inköpta vuxna får","kg levande vikt",0.42,"tackor"]
["inköpta får (lamm, baggar etc.)","kg levande vikt",-0.42,"tackor",null,null,null,null,null,"Sålda lamm till slakt, levandevikt","kg levande vikt",0.42,"lamm",null,null,null,"Inköpta lamm","kg levande vikt",0.42,"lamm"]
["inköpta nöt (kalvar, avelsdjur etc.)","kg levande vikt",-0.55000000000000004,"nöt",null,null,null,null,null,"Sålda lamm till liv ","kg levande vikt",0.42,"lamm",null,null,null,"Vinterlamm","kg levande vikt",0.42,"lamm"]
["sålda lamm etc. till liv","kg levande vikt",0.42,"lamm",null,null,null,null,null,"Sålda vuxna djur till liv","kg levande vikt",0.42,"tackor"]
["sålda lamm till slakt","kg slaktvikt",1,"lamm",null,null,null,null,null,"Sålda vuxna djur till slakt, slaktvikt","kg slaktvikt",1,"tackor"]
["sålda nöt till liv","kg levande vikt",0.55000000000000004,"nöt",null,null,null,null,null,"Sålda vuxna djur till slakt, levandevikt","kg levandevikt",0.42,"tackor"]
["sålda nöt till slakt","kg slaktvikt",1,"nöt",null,null,null,null,null,"Lamm som slutgöds nästa period (t ex vinterlamm)","kg levandevikt",0.42,"lamm"]
["sålda tackor till slakt","kg slaktvikt",1,"tackor"]
[]
[]
[null,null,null,null,null,null,null,null,null,"Nöt - sålt",null,null,null,null,null,null,"Nöt - köpt"]
[null,null,null,null,null,null,null,null,null,"Typer av levererat kött","enhet","slaktutbyte (%)","benämning",null,null,null,"Typer av levererat kött","enhet","slaktutbyte (%)","benämning"]
[null,null,null,null,null,null,null,null,null,"Sålda nöt till liv","kg levande vikt",0.52,"nöt",null,null,null,"inköpta nöt (kalvar, avelsdjur etc.)","kg levande vikt",0.52,"nöt"]
[null,null,null,null,null,null,null,null,null,"Sålda nöt till slakt","kg slaktvikt",1,"nöt",null,null,null,"ungnöt som fanns i besättningen föregående period","kg levande vikt",0.52,"nöt"]
[null,null,null,null,null,null,null,null,null,"Ungnöt som slutgöds nästa period","kg levande vikt",0.52,"nöt"]
[]
[]
[null,null,null,null,null,null,null,null,null,"Nöt - sålt"]
[null,null,null,null,null,null,null,null,null,"Typer av levererat kött","enhet","slaktutbyte (%)","benämning",null,null,null,"Nöt - köpt"]
[null,null,null,null,null,null,null,null,null,"Till liv (generell)","kg levande vikt",0.52,"nöt",null,null,null,"Typer av linköpta djur","enhet","slaktutbyte (%)","benämning"]
[null,null,null,null,null,null,null,null,null,"Till slakt, slaktvikt","kg slaktvikt",1,"nöt",null,null,null,"inköpta vuxna djur","kg levande vikt",0.52,"nöt"]
[null,null,null,null,null,null,null,null,null,"Till slakt, levandevikt (generell)","kg levande vikt",0.52,"nöt",null,null,null,"inköpta kalvar","kg levande vikt",0.52,"nöt"]
[null,null,null,null,null,null,null,null,null,"köttras tjur lätt","kg levande vikt",0.53,"nöt",null,null,null,"inköpta tjurar","kg levande vikt",0.52,"nöt"]
[null,null,null,null,null,null,null,null,null,"köttras tjur tung","kg levande vikt",0.55000000000000004,"nöt",null,null,null,"inköpta kvigor","kg levande vikt",0.52,"nöt"]
[null,null,null,null,null,null,null,null,null,"mjölkras tjur","kg levande vikt",0.52,"nöt",null,null,null,"inköpta stutar","kg levande vikt",0.52,"nöt"]
[null,null,null,null,null,null,null,null,null,"köttras stut lätt","kg levande vikt",0.52,"nöt"]
[null,null,null,null,null,null,null,null,null,"köttras stut tung","kg levande vikt",0.54,"nöt"]
[null,null,null,null,null,null,null,null,null,"mjölkras stut","kg levande vikt",0.51,"nöt"]
[null,null,null,null,null,null,null,null,null,"köttras kviga tung","kg levande vikt",0.52,"nöt",null,null,null,"Inköpta vuxna får"]
[null,null,null,null,null,null,null,null,null,"köttras kviga lätt","kg levande vikt",0.51,"nöt",null,null,null,"Inköpta lamm",null,null,null,"Lamm",null,0.42]
[null,null,null,null,null,null,null,null,null,"mjölkras kviga","kg levande vikt",0.5,"nöt",null,null,null,"Sålda lamm till slakt",null,null,null,"Höstlamm",null,null,0.38,0.4,0.42]
[null,null,null,null,null,null,null,null,null,null,null,null,null,null,null,null,"Sålda lamm till liv ",null,null,null,"Vårlamm",null,null,0.4,0.43,0.46]
[null,null,null,null,null,null,null,null,null,null,null,null,null,null,null,null,"Sålda vuxna djur till liv",null,null,null,"Tacka lantras",null,null,0.38,0.4,0.43]
[null,null,null,null,null,null,null,null,null,null,null,null,null,null,null,null,"Sålda vuxna djur till slakt",null,null,null,"Tacka köttras",null,null,0.4,0.43,0.46]
[null,null,null,null,null,null,null,null,null,"Nöt","Låg","Medel","Hög"]
[null,null,null,null,null,null,null,null,null,"köttras tjur lätt",0.51,0.53,0.55000000000000004]
[null,null,null,null,null,null,null,null,null,"köttras tjur tung",0.52,0.55000000000000004,0.57999999999999996]
[null,null,null,null,null,null,null,null,null,"mjölkras tjur",0.5,0.52,0.53]
[null,null,null,null,null,null,null,null,null,"köttras stut lätt",0.5,0.52,0.54]
[null,null,null,null,null,null,null,null,null,"köttras stut tung",0.51,0.54,0.56000000000000005]
[null,"OBS! Kolumnerna får inte byta plats! Nya kolumner MÅSTE läggas in till höger om befintliga kolumner!",null,null,null,null,null,null,null,"mjölkras stut",0.49,0.51,0.53]
["Gris",null,"faktor",null,null,null,null,null,null,"köttras kviga tung",0.5,0.52,0.54]
["Typer av levererat kött","enhet","slaktutbytesfaktor","benämning",null,null,null,null,null,"köttras kviga lätt",0.49,0.51,0.53]
["inköpta gyltor","kg levande vikt",-1.34,"suggor",null,null,null,null,null,"mjölkras kviga",0.48,0.5,0.52]
["inköpta smågrisar ","kg levande vikt",-1.34,"slaktgris"]
["levererad mängd kött gris","kg slaktvikt",1,"slaktgris"]
["sålda slaktgrisar","kg slaktvikt",1,"slaktgris"]
["sålda smågrisar, tillväxtgrisar","kg levande vikt",1.34,"smågris"]
["sålda suggor till slakt","kg slaktvikt",1,"suggor"]
[]
[]
[]
[]
[]
[]
[]
[]
[]
[]
[]
[]
[]
[]
[]
[]
[]
[]
[]
[]
["Växtnäringsutnyttjande"]
["Ja, uppgift från växtnäringsbalans"]
["Ja, beräknats manuellt"]
["Nej! Ange värden manuellt nedan!"]
[]
[]
["Markanvändning och foder"]
[]
[]
[]
[]
[]
[null,null,null,null,null,null,null,null,null,null,"OM h = lagringshöjd"]
[null,null,null,null,null,null,null,null,null,null,-0.1295,9.0089000000000006,97.338999999999999]
[null,null,null,null,null,null,null,null,null,null,-0.14729999999999999,10.17,103.23]
[null,null,null,null,null,null,null,null,null,null,{"$f":"K250","v":-0.1295},{"$f":"L250","v":9.0089000000000006},{"$f":"M250","v":97.338999999999999}]
[]
[null,null,null,null,null,null,null,null,null,null,"OM h = höjd efter sjunkning"]
[null,null,null,null,null,null,null,null,null,null,-0.14349999999999999,9.4543999999999997,98.286000000000001]
[null,null,null,null,"kg ts/m3 = a*h^2+b*h+c",null,null,null,null,null,-0.16350000000000001,10.679,104.3]
[null,null,null,null,null,null,null,null,null,null,{"$f":"K255","v":-0.14349999999999999},{"$f":"L255","v":9.4543999999999997},{"$f":"M255","v":98.286000000000001}]
[]
[null,"Tornsilo"]
[null,null,"kg ts/m3"]
[null,"Tornsilo höjd meter",8,10,12,14,16,18,20,22,"a","b","c"]
[null,"lagringshöjd efter sjunkning",7.5,9.4,11.3,13.2,15.1,17,18.899999999999999,20.8,null,null,null,null,null,0.23,-0.14349999999999999,9.4543999999999997,98.286000000000001]
[null,"under 23% ts",158,171,185,195,205,214,223,230,-0.14349999999999999,9.4543999999999997,98.286000000000001,null,null,0.4,-0.16350000000000001,10.679,104.3]
[null,"26-40 % ts",175,190,205,217,228,238,248,256,-0.16350000000000001,10.679,104.3]
[null,"över 40%",158,171,185,195,205,214,223,230,-0.14349999999999999,9.4543999999999997,98.286000000000001]
[]
[]
[]
[null,null,null,null,null,null,null,"normal","bra ","sämre"]
[null,"OBS! Kolumnerna får inte byta plats! Nya kolumner MÅSTE läggas in till höger om befintliga kolumner!",null,null,null,null,0.2,118.10962583280001,128.16150888240003,87.953976684000011]
[null,"Rundbalar","lutning","intercept","ref: Grovfoderverktyget,Grovfoderinventering mängd?",null,0.4,168.3690410808,178.42092413040001,138.21339193200001,null,"Rundbalar"]
[null,"Bra pressning, hög densitet",251.3,77.900000000000006,null,null,0.45,180.9338948928,190.98577794240001,150.778245744,null,"ts - halt %","kg ts/m3"]
[null,"Normalt densitet",251.3,67.849999999999994,null,null,0.5,193.49874870479999,203.5506317544,163.34309955600003,null,20,"80-120"]
[null,"Lägre densitet, dåligt formade balar",251.3,37.695,null,null,0.6,218.62845632880001,228.68033937839999,188.47280718000002,null,30,"110-150"]
[null,null,null,null,null,null,null,null,null,null,null,40,"150-190"]
[null,null,null,null,null,null,null,null,null,null,null,50,"190-210"]
[null,null,null,null,null,null,null,null,null,null,null,60,"210-290"]
[null,"OBS! Kolumnerna får inte byta plats! Nya kolumner MÅSTE läggas in till höger om befintliga kolumner!",null,null,null,null,null,"Bra pressat","normalt","lägre"]
[null,"Fyrkantsbalar, ensilage","lutning","intercept","ref: Grovfoderverktyget,Grovfoderinventering mängd?",null,0.4,235.10323199999999,216.57292799999999,184.14489599999999]
[null,"Bra pressning, hög densitet",347.44,96.126000000000005,null,null,0.45,252.47539199999997,233.94508799999997,201.517056]
[null,"Normalt densitet",347.44,77.596000000000004,null,null,0.5,269.84755199999995,251.31724799999998,218.889216]
[null,"Lägre densitet, dåligt formade balar",347.44,45.167999999999999,null,null,0.55000000000000004,287.21971200000002,268.68940800000001,236.26137600000001]
[]
[null,"OBS! Kolumnerna får inte byta plats! Nya kolumner MÅSTE läggas in till höger om befintliga kolumner!"]
[null,"Hö","Ungefärliga värden i kg hö/m3",null,"ref: Grovfoderverktyget,Grovfoderinventering mängd?"]
[null,"Lastvagn, injektor",67]
[null,"Lastarvagn, hiss",72]
[null,"Lastarvagn, teleskopförd.",76]
[null,"Löspress, hiss",70]
[null,"Hårdpress, elevator",97]
[null,"Fyrkantig storbal",155]
[]
[]
[]
[]
[]
[]
[]
[]
[null,"OBS! Kolumnerna får inte byta plats! Nya kolumner MÅSTE läggas in till höger om befintliga kolumner!"]
[null,null,"MJ/kg ts ensilage",null,null,"Spörndly, 2003."]
[null,{"$f":"D302&\" (\" &C302& \" MJ/kg ts)\"","v":"Mycket hög (11,7 MJ/kg ts)"},11.7,"Mycket hög"]
[null,{"$f":"D303&\" (\" &C303& \" MJ/kg ts)\"","v":"Hög (10,9 MJ/kg ts)"},10.9,"Hög"]
[null,{"$f":"D304&\" (\" &C304& \" MJ/kg ts)\"","v":"Normal (10,2 MJ/kg ts)"},10.199999999999999,"Normal"]
[null,{"$f":"D305&\" (\" &C305& \" MJ/kg ts)\"","v":"Låg  (9,5 MJ/kg ts)"},9.5,"Låg "]
[null,{"$f":"D306&\" (\" &C306& \" MJ/kg ts)\"","v":"Mycket låg (9 MJ/kg ts)"},9,"Mycket låg"]
[]
[null,"OBS! Kolumnerna får inte byta plats! Nya kolumner MÅSTE läggas in till höger om befintliga kolumner!"]
[null,null,"MJ/kg ts hö"]
[null,{"$f":"D310&\" (\" &C310& \" MJ/kg ts)\"","v":"Hög (9,8 MJ/kg ts)"},9.8000000000000007,"Hög"]
[null,{"$f":"D311&\" (\" &C311& \" MJ/kg ts)\"","v":"Normal (9,1 MJ/kg ts)"},9.1,"Normal"]
[null,{"$f":"D312&\" (\" &C312& \" MJ/kg ts)\"","v":"Låg (8,4 MJ/kg ts)"},8.4,"Låg"]
[]
[]
[]
[]
[]
[]
[null,1,2,3,4,5,6,7,8]
[null,"OBS! Kolumnerna får inte byta plats! Nya kolumner MÅSTE läggas in till höger om befintliga kolumner!"]
[null,null,null,null,"Nöt och lamm","Växande grisar","Suggor","reffar: Lista från VERA version 1.1.66.0. % ts och nöt från Spörndly 2003. Gris från EvaPig"]
[null,null,null,"ts %","MJ OM/kg ts","MJ NE/kg","MJ NE/kg","enhet"]
[null,"Blandsäd havre (70)/ärt (30)",{"$f":"H323 &\" (\"&D323*100 &\" % ts)\"","v":"kg (87 % ts)"},0.87,{"$f":"0.7*11.7+0.3*13.8","v":12.329999999999998},{"$f":"0.7*7.93+0.3*9.69","v":8.4579999999999984},{"$f":"0.7*8.29+0.3*9.96","v":8.7909999999999986},{"$f":"IF(D323=1,\"kg ts\",\"kg\")","v":"kg"},"spannmål"]
[null,"Blandsäd åkerböna (30)/vårvete (70)","kg (87 % ts)",0.87,{"$f":"0.3*12.9+0.7*14.1","v":13.739999999999998},{"$f":"7.98*0.3+0.7*10.5","v":9.7439999999999998},{"$f":"10.63*0.3+0.7*8.14","v":8.8870000000000005},"kg","spannmål",null,"Spannmål",13.2]
[null,"Foderbetor","kg (12 % ts)",0.12,12.5,null,null,"kg","rotfrukter",null,"Trindsäd",13]
[null,"Fodersockerbetor","kg (16 % ts)",0.16,12.7,null,null,"kg","rotfrukter",null,"Oljeväxter",22]
[null,"Havre, 12 % prot","kg (87 % ts)",0.87,11.7,7.93,8.2899999999999991,"kg","spannmål",null,"Rotfrukter",13]
[null,"Höstkorn, 11,7 % prot","kg (87 % ts)",0.87,13.2,9.5299999999999994,9.73,"kg","spannmål"]
[null,"Höstvete foder, 11 % prot","kg (87 % ts)",0.87,14.1,10.5,10.63,"kg","spannmål"]
[null,"Korn, 11,9 % prot","kg (87 % ts)",0.87,13.2,9.5299999999999994,9.73,"kg","spannmål"]
[null,"Linfrö","kg (93 % ts)",0.93,20.100000000000001,15,15,"kg","oljeväxter",null,"Grovfoder"]
[null,"Lupin, frö","kg (87 % ts)",0.87,13.6,9.09,9.68,"kg","trindsäd",null,"Kraftfoder, spannmål etc."]
[null,"Majs, kärna","kg (87 % ts)",0.87,14.6,11.09,11.41,"kg","spannmål"]
[null,"Potatis","kg (23 % ts)",0.23,13.1,{"$f":"0.23/0.89*10.65","v":2.7522471910112363},{"$f":"0.23/0.89*10.74","v":2.7755056179775281},"kg","rotfrukter"]
[null,"Raps, frö","kg (93 % ts)",0.93,22.1,16.63,17.03,"kg","oljeväxter",null,"växande"]
[null,"Rybs, frö","kg (93 % ts)",0.93,22.1,16.63,17.03,"kg","oljeväxter",null,"suggor"]
[null,"Råg, 10 % prot","kg (87 % ts)",0.87,13.9,9.86,10.07,"kg","spannmål"]
[null,"Rågvete, 12,5 % prot","kg (87 % ts)",0.87,14,10.34,10.46,"kg","spannmål"]
[null,"Åkerbönor","kg (76 % ts)",0.76,12.9,{"$f":"D339/0.86*9.04","v":7.988837209302325},{"$f":"D339/0.86*9.21","v":8.1390697674418622},"kg","trindsäd"]
[null,"Ärter","kg (87 % ts)",0.87,13.8,9.69,9.9600000000000009,"kg","trindsäd"]
[]
[]
[null,null,null,"Nöt","Växande grisar","Suggor"]
["OBS! Kolumnerna får inte byta plats! Nya kolumner MÅSTE läggas in till höger om befintliga kolumner!",null,"ts %","MJ OM/kg ts","MJ NE/kg","MJ NE/kg"]
[null,"Halm, baljväxter",0.9,7.3,0.97,1.49]
[null,"Halm, gräs",0.89,6.9,0.97,1.49]
[null,"Halm, stråsäd",0.85,6.6,0.97,1.49]
[]
[]
[null,"Halm","kg/m3",null,"Agriwise"]
[null,"Opressat i lada",50]
[null,"Småbalar, löspressat",60]
[null,"Småbalar, hårdpressat",110]
[null,"Stora balar, rullar",110]
[null,"Stora balar, fyrkantiga",175]
[]
[]
[]
[]
[]
["OBS! Kolumnerna får inte byta plats! Nya kolumner MÅSTE läggas in till höger om befintliga kolumner!"]
[null,"kategori","kolumn nr"]
[]
[null,"Nöt",4]
[null,"Slaktgrisar",5]
[null,"Suggor",6]
[null,"Lamm",4]
[null,null,null,null,null,null,null,null,null,null,null,null,null,null,null,null,null,null,null,null,null,null,null,null,null,null,null,null,null,null,null,null,null,null,null,null,null,null,null,null,null,null,null,null,"Nöt","Växande grisar","Suggor"]
[null,null,null,null,null,null,null,null,null,null,null,null,null,null,null,null,null,null,null,null,null,null,null,null,null,null,null,null,null,null,null,null,null,null,null,null,null,null,null,null,null,null,null,"ts %","MJ OM/kg ts","MJ NE/kg","MJ NE/kg"]
[null,null,null,null,null,null,null,null,null,null,null,null,null,null,null,null,null,null,null,null,null,null,null,null,null,null,null,null,null,null,null,null,null,null,null,null,null,null,null,null,null,null,"Halm, stråsäd",0.85,6.6,0.97,1.49]
[null,null,null,null,null,null,null,null,null,null,null,null,null,null,null,null,null,null,null,null,null,null,null,null,null,null,null,null,null,null,null,null,null,null,null,null,null,null,null,null,null,null,"Halm, baljväxter",0.9,7.3,0.97,1.49]
[null,null,null,null,null,null,null,null,null,null,null,null,null,null,null,null,null,null,null,null,null,null,null,null,null,null,null,null,null,null,null,null,null,null,null,null,null,null,null,null,null,null,"Halm, gräs",0.89,6.9,0.97,1.49]
[]
["Eget foder"]
[null,null,null,null,null,null,null,null,null,null,null,null,null,"ref: Hushållningssällskapet Kristianstad. 2004. Lathund vid inventering av vallfoder och halm i storbal 2004."]
[null,"Plansilo",null,null,"Plansilo",null,null,"Torn",null,null,"Fyrkantsbalar_hö",null,null,"Fyrkantsbalar_hö",null,null,"Rundbalar",null,null,"Rundbalar",null,null,null,null,"Fyrkantsbalar",null,null,"Fyrkantsbalar",null,null,null,null,"Hö",null,null,"Hö",null,null,null,"Direktutfodrad_grönmassa",null,"Direktutfodrad_grönmassa, kg ts/m3",null,"Halm",null,null,"Halm",null,null,null,"Halm_gräs",null,null,"Halm_gräs",null,null,null,"Halm_baljväxter",null,null,"Halm_baljväxter"]
[null,"_MJ","MJ",null,"teknik","kg ts/m3",null,"_MJ","MJ",null,"_MJ","MJ",null,"teknik","kg/m3",null,"_MJ","MJ",null,"teknik","lutning","intercept",null,null,"_MJ","MJ",null,"teknik","lutning","intercept",null,null,"_MJ","MJ",null,"teknik","Ungefärliga värden i kg hö/m3",null,null,"_MJ","MJ",175,null,"_MJ","MJ","teknik","teknik","kg/m3",null,null,"_MJ","MJ",null,"teknik","kg/m3",null,null,"_MJ","MJ",null,"teknik","kg/m3"]
[null,{"$f":"B302","v":"Mycket hög (11,7 MJ/kg ts)"},11.7,null,"Mkt välpackat, hög ts",250,null,{"$f":"B302","v":"Mycket hög (11,7 MJ/kg ts)"},11.7,null,{"$f":"B310","v":"Hög (9,8 MJ/kg ts)"},9.8000000000000007,null,"Lägre densitet",165,null,{"$f":"B302","v":"Mycket hög (11,7 MJ/kg ts)"},11.7,null,"Bra pressning, hög densitet",251.3,77.900000000000006,null,null,{"$f":"B302","v":"Mycket hög (11,7 MJ/kg ts)"},11.7,null,"Bra pressning, hög densitet",347.44,96.126000000000005,null,null,{"$f":"B310","v":"Hög (9,8 MJ/kg ts)"},9.8000000000000007,null,"Lastvagn, injektor",67,null,null,{"$f":"B302","v":"Mycket hög (11,7 MJ/kg ts)"},11.7,null,null,"Strö",0,null,"Opressat i lada",50,null,null,"Strö",0,null,"Opressat i lada",50,null,null,"Strö",0,null,"Opressat i lada",50]
[null,"Hög (10,9 MJ/kg ts)",10.9,null,"Välpackat, hög ts",220,null,"Hög (10,9 MJ/kg ts)",10.9,null,"Normal (9,1 MJ/kg ts)",9.1,null,"Normal densitet",190,null,"Hög (10,9 MJ/kg ts)",10.9,null,"Normalt densitet",251.3,67.849999999999994,null,null,"Hög (10,9 MJ/kg ts)",10.9,null,"Normalt densitet",347.44,77.596000000000004,null,null,"Normal (9,1 MJ/kg ts)",9.1,null,"Lastarvagn, hiss",72,null,null,"Hög (10,9 MJ/kg ts)",10.9,null,null,"Foder nöt",6.6,null,"Småbalar, löspressat",60,null,null,"Foder nöt eller får",6.6,null,"Småbalar, löspressat",60,null,null,"Foder nöt eller får",6.6,null,"Småbalar, löspressat",60]
[null,"Normal (10,2 MJ/kg ts)",10.199999999999999,null,"Medel, normal/hög ts",200,null,"Normal (10,2 MJ/kg ts)",10.199999999999999,null,"Låg (8,4 MJ/kg ts)",8.4,null,"Högre densitet",215,null,"Normal (10,2 MJ/kg ts)",10.199999999999999,null,"Lägre densitet, dåligt formade balar",251.3,37.695,null,null,"Normal (10,2 MJ/kg ts)",10.199999999999999,null,"Lägre densitet, dåligt formade balar",347.44,45.167999999999999,null,null,"Låg (8,4 MJ/kg ts)",8.4,null,"Lastarvagn, teleskopförd.",76,null,null,"Normal (10,2 MJ/kg ts)",10.199999999999999,null,null,"Annat",0,null,"Småbalar, hårdpressat",110,null,null,"Foder suggor",1.49,null,"Småbalar, hårdpressat",110,null,null,"Foder suggor",1.49,null,"Småbalar, hårdpressat",110]
[null,"Låg  (9,5 MJ/kg ts)",9.5,null,"Medel, Låg ts ",180,null,"Låg  (9,5 MJ/kg ts)",9.5,null,null,null,null,null,null,null,"Låg  (9,5 MJ/kg ts)",9.5,null,null,null,null,null,null,"Låg  (9,5 MJ/kg ts)",9.5,null,null,null,null,null,null,null,null,null,"Löspress, hiss",70,null,null,"Låg  (9,5 MJ/kg ts)",9.5,null,null,null,null,null,"Stora balar, rullar",110,null,null,"Foder växande grisar",0.97,null,"Stora balar, rullar",110,null,null,"Foder växande grisar",0.97,null,"Stora balar, rullar",110]
[null,"Mycket låg (9 MJ/kg ts)",9,null,"Sämre packning, låg ts",170,null,"Mycket låg (9 MJ/kg ts)",9,null,null,null,null,null,null,null,"Mycket låg (9 MJ/kg ts)",9,null,null,null,null,null,null,"Mycket låg (9 MJ/kg ts)",9,null,null,null,null,null,null,null,null,null,"Hårdpress, elevator",97,null,null,"Mycket låg (9 MJ/kg ts)",9,null,null,null,null,null,"Stora balar, fyrkantiga",175,null,null,"Annat",0,null,"Stora balar, fyrkantiga",175,null,null,"Annat",0,null,"Stora balar, fyrkantiga",175]
[null,null,null,null,null,null,null,null,null,null,null,null,null,null,null,null,null,null,null,null,null,null,null,null,null,null,null,null,null,null,null,null,null,null,null,"Fyrkantig storbal",155]
[]
[]
[]
[]
[null,"Orden i denna kolumn får INTE ändras!"]
[null,1,2,3,4,5,6,7,8,9,10,11,12,13,14,15,16]
[null,"system","ts %","ts","antal","teknik","volym","visa ts","rätblock","cylinder","förklaring","Plansilo","Torn","Storbalar (rund- och fyrkantsbalar)","Hö","Grönfoder","Halm till foder","ts alt 1",null,null,null,"Plansilo",10.199999999999999]
[null,"Plansilo",0.35,{"$f":"\"Riktvärde \"&Tabell203[[#This Row],[ts %]]*100&\"% ts\"","v":"Riktvärde 35% ts"},0,1,0,1,1,0,"Höjd = lagrat foder. Silons längd resp bredd (innermått). ",1,0,0,0,0,0,{"$f":"\"Riktvärde \"&Tabell203[[#This Row],[ts %]]*100&\"% ts\"","v":"Riktvärde 35% ts"},null,null,null,"torn",10.199999999999999]
[null,"Torn",0.35,{"$f":"\"Riktvärde \"&Tabell203[[#This Row],[ts %]]*100&\"% ts\"","v":"Riktvärde 35% ts"},0,0,0,1,0,1,"Höjd = aktuell skörd, efter sjunkning. Bredd = silons diameter",0,1,0,0,0,0,{"$f":"\"Riktvärde \"&Tabell203[[#This Row],[ts %]]*100&\"% ts\"","v":"Riktvärde 35% ts"},null,null,null,"storbal",10.199999999999999]
[null,"Rundbalar",0.5,{"$f":"\"Riktvärde \"&Tabell203[[#This Row],[ts %]]*100&\"% ts\"","v":"Riktvärde 50% ts"},1,1,0,1,0,1,"Riktvärden: Höjd 1,22 m, Bredd (=diameter) 1,42 m",0,0,1,0,0,0,{"$f":"\"Riktvärde \"&Tabell203[[#This Row],[ts %]]*100&\"% ts\"","v":"Riktvärde 50% ts"},null,null,null,"hö",9.1]
[null,"Fyrkantsbalar_ensilage",0.5,{"$f":"\"Riktvärde \"&Tabell203[[#This Row],[ts %]]*100&\"% ts\"","v":"Riktvärde 50% ts"},1,1,0,1,1,0,"Riktvärden: Höjd 0,7 m, bredd 1,2 m, längd 2,2 m",0,0,1,0,0,0,{"$f":"\"Riktvärde \"&Tabell203[[#This Row],[ts %]]*100&\"% ts\"","v":"Riktvärde 50% ts"},null,null,null,"halm",6.6]
[null,"Fyrkantsbalar_hö",0.84,"frivillig ange % ts",1,1,0,0,1,0,"Riktvärden: Höjd 0,7 m, bredd 1,2 m, längd 2,2 m",0,0,1,0,0,0,{"$f":"\"Riktvärde \"&Tabell203[[#This Row],[ts %]]*100&\"% ts\"","v":"Riktvärde 84% ts"}]
[null,"Direktutfodrad_grönmassa",0.15,"frivillig ange % ts",1,0,1,0,0,0,"  ",0,0,0,0,1,0,{"$f":"\"Riktvärde \"&Tabell203[[#This Row],[ts %]]*100&\"% ts\"","v":"Riktvärde 15% ts"}]
[null,"Hö",0.84,"frivillig ange % ts",0,1,0,0,1,0,"Höjd i lagret efter ev sjunkning. Lagrets längd och bredd",0,0,0,1,0,0,{"$f":"\"Riktvärde \"&Tabell203[[#This Row],[ts %]]*100&\"% ts\"","v":"Riktvärde 84% ts"}]
[null,"Halm",0.85,"frivillig ange % ts",0,1,0,0,1,0,"Höjd i lagret efter ev sjunkning. Lagrets längd och bredd",0,0,0,0,0,1,{"$f":"\"Riktvärde \"&Tabell203[[#This Row],[ts %]]*100&\"% ts\"","v":"Riktvärde 85% ts"}]
[null,null,null,null,0,0,0,0,0,0,null,0,0,0,0,0,0,{"$f":"\"Riktvärde \"&Tabell203[[#This Row],[ts %]]*100&\"% ts\"","v":"Riktvärde 0% ts"}]
[]
[]
["Bete"]
[]
[null,null,null,null,"ref: Spörndly 2003. fodertabeller för idisslare 2003. Gård och djurhälsa. 2019. Betesvärderingstabell"]
["Energiinnehåll bete","rubrik","MJ/kg ts","Bete","typ av bete"]
[null,"--- välj ur lista! ---"]
[null,null,null,null,null,null,null,null,null,"Åkerbete, försommar","11-11,5"]
[null,{"$f":"IF(C408>0,D408&\" (\"&C408&\" MJ)\",\"\")","v":"Åker, försommar (11 MJ)"},11,"Åker, försommar","Åker",null,null,null,null,"Åkerbete, högsommar/sensommar","10,5-10,8"]
[null,"Åker, försommar, förvuxet (10,1 MJ)",10.1,"Åker, försommar, förvuxet","Åker",null,null,null,null,"Åkerbete, förvuxet","9,5-10"]
[null,"Åker, högsommar (10,5 MJ)",10.5,"Åker, högsommar","Åker",null,null,null,null,"Naturbete; ängskavle, ängsgröe, rödven, ängshavre","10,5-11,1"]
[null,"Återväxt efter vallskörd, högsommar (10,5 MJ)",10.5,"Återväxt efter vallskörd, högsommar","Återväxt",null,null,null,null,"Naturbete; tuvtåtel, fårsvingel",9.4]
[null,"Åker, sensommar (10,8 MJ)",10.8,"Åker, sensommar","Åker",null,null,null,null,"Naturbete, tuvtåtel efter axgång",6.1]
[null,"Åker, sensommar, förvuxet (9,5 MJ)",9.5,"Åker, sensommar, förvuxet","Åker"]
[null,"Återväxt efter vallskörd, sensommar (10,8 MJ)",10.8,"Återväxt efter vallskörd, sensommar","Återväxt"]
[null,"Återväxt efter vallskörd, sensommar, förvuxet (9,5 MJ)",9.5,"Återväxt efter vallskörd, sensommar, förvuxet","Återväxt"]
[null,"Naturbete, försommar (10,4 MJ)",10.4,"Naturbete, försommar","Naturbete"]
[null,"Naturbete, högsommar (9,5 MJ)",9.5,"Naturbete, högsommar","Naturbete"]
[null,"Naturbete, sensommar (9,3 MJ)",9.3000000000000007,"Naturbete, sensommar","Naturbete"]
[null,"Naturbete, näringsrikt (11,1 MJ)",11.1,"Naturbete, näringsrikt","Naturbete"]
[null,"Naturbete, förvuxet (7,7 MJ)",7.7,"Naturbete, förvuxet","Naturbete"]
[null,""]
[]
[]
[]
[]
["Bete",null,"Åker_MJ","Åker","MJ/kg ts",null,"Återväxt_MJ","Återväxt","MJ/kg ts",null,"Naturbete_MJ","Naturbete","MJ/kg ts",null,"välj_ur_lista"]
["välj_ur_lista",null,{"$f":"IF(E427>0,D427&\" (\"&E427&\" MJ)\",\"\")","v":"Medel (10 MJ)"},"Medel",10,null,{"$f":"IF(I427>0,H427&\" (\"&I427&\" MJ)\",\"\")","v":"Medel (10,5 MJ)"},"Medel",10.5,null,{"$f":"IF(M427>0,L427&\" (\"&M427&\" MJ)\",\"\")","v":"Näringsrikt (11,1 MJ)"},"Näringsrikt",11.1,null,"Välj först typ av bete längst till vänster!"]
["Åker_enbart_bete",null,"Försommar (11 MJ)","Försommar",11,null,{"$f":"IF(I428>0,H428&\" (\"&I428&\" MJ)\",\"\")","v":"Högsommar (10,5 MJ)"},"Högsommar",10.5,null,{"$f":"IF(M428>0,L428&\" (\"&M428&\" MJ)\",\"\")","v":"Förvuxet (7,7 MJ)"},"Förvuxet",7.7]
["Återväxt_efter_vallskörd",null,"Försommar, förvuxet (10,1 MJ)","Försommar, förvuxet",10.1,null,{"$f":"IF(I429>0,H429&\" (\"&I429&\" MJ)\",\"\")","v":"Sensommar (10,8 MJ)"},"Sensommar",10.8,null,{"$f":"IF(M429>0,L429&\" (\"&M429&\" MJ)\",\"\")","v":"Försommar (10,4 MJ)"},"Försommar",10.4]
["Naturbete",null,"Högsommar (10,5 MJ)","Högsommar",10.5,null,{"$f":"IF(I430>0,H430&\" (\"&I430&\" MJ)\",\"\")","v":"Sensommar, förvuxet (9,5 MJ)"},"Sensommar, förvuxet",9.5,null,{"$f":"IF(M430>0,L430&\" (\"&M430&\" MJ)\",\"\")","v":"Högsommar (9,5 MJ)"},"Högsommar",9.5]
[null,null,"Sensommar (10,8 MJ)","Sensommar",10.8,null,null,null,null,null,{"$f":"IF(M431>0,L431&\" (\"&M431&\" MJ)\",\"\")","v":"Sensommar (9,3 MJ)"},"Sensommar",9.3000000000000007]
[null,null,"Sensommar, förvuxet (9,5 MJ)","Sensommar, förvuxet",9.5]
[]
["Åker"]
["Återväxt"]
["Naturbete"]
[]
[]
[]
[]
[]
[]
[]
[]
[]
[]
[]
[]
[]
[]
[null,"Strömedel"]
[null,null,null,"Åtgång, hel djupströbädd, kg/djur & dag","Åtgång djupströbädd med skrapgång kg/djur och dag","glidströbädd med skrapgång, kg/djur och dag","fastgödsel, kg/djur och dag","flytgödsel, kg/djur och dag"]
[null,null,"kviga/stut, 12-24 mån",5.6,3.3,2.2999999999999998,0.9,0.4]
[null,null,"Ungtjur, 2-12 mån",3.7,2.2000000000000002,1.6,0.7,0.4]
[null,null,"Ungtjur 12-16 mån",5.2,3.1,2.2000000000000002,0.7,0.4]
[null,null,"Diko, stallperiod 6 mån",6.7,4,2.8,1.2,0.75]
[null,null,"suggor",4.4000000000000004,null,null,1.1000000000000001,0.9]
[null,null,"tacka, höstlammproduktion",0.5]
[null,null,"tacka, vårlammproduktion",1.5]
[]
[]
[]
[]
[]
[null,"Normtal balar:"]
[null,"rundbalar"]
[null,"diameter, m",1.42]
[null,"höjd, m",1.22]
[null,"ts, %",{"$f":"C393","v":0.5}]
[null,null,"Normalt densitet"]
[null,"kg ts/m3",{"$f":"IF(C469=0,0,VLOOKUP(C470,'Teknisk administration'!$B$272:$D$274,2,FALSE)*C469+VLOOKUP(C470,'Teknisk administration'!$B$272:$D$274,3,FALSE))","v":193.5}]
[null,"kg ts/bal"]
[]
[]
[null,"Fyrkantsbal"]
[null,"Balens längd, m",2.2000000000000002]
[null,"Balens höjd, m",0.7]
[null,"Balens bredd, m",1.2]
[null,"ts-halt, %",{"$f":"C394","v":0.5}]
[null,"Pressning","Normalt densitet"]
[null,"Densitet, kg ts/m3",{"$f":"IF(C479=0,0,VLOOKUP(C480,'Teknisk administration'!$B$280:$D$282,2,FALSE)*C479+VLOOKUP(C480,'Teknisk administration'!$B$280:$D$282,3,FALSE))","v":251.316}]
[null,"Mängd ts per bal, kg ts/bal"]
[null,null,{"$f":"PI()*(C467/2)^2*C468*C471","v":373.85859555517629}]
[null,null,{"$f":"C476*C477*C478*C481","v":464.43196799999998}]
[]
[]
[]
[]
[]
[]
[]
[null,null,"grovfoder, exkl halm","övriga grödor"]
[null,"Vall (slåttervall+bete)",1]
[null,"Spannmål/blandsäd till bete eller grönfoder",1]
[null,"Proteingrödor till ensilering",1]
[null,"Spannmål till tröskning",null,1]
[null,"Proteingrödor till tröskning",null,1]
[null,"Träda"]
[null,"Övriga grödor"]
[null,"Total åkerareal"]
[null,"Varav areal åker för egen foderproduktion"]
[null,"Varav areal åkermark som enbart betats",-1]
[null,"Varav areal åkermark där återväxt betats",-0.5,null,"antar här att hälften av biomassan skördas, hälften betas"]
[]
[]
[]
[]
[]
[]
[]
[]
[]
[]
[]
[]
[]
[null,"Om du vill ändra ordning på raderna är det bäst att KOPIERA och KLISTRA IN, INTE flytta rader, ta bort rader eller infoga rader! Då slipper man fixa till tabellerna som ska visas på Bakgrund…"]
[null,"Ska flyttas till Tekn adm!"]
[null,"Välj \"ja\" eller \"nej\" i den orange cellen"]
[]
[null,"Alla djurslag"]
[null,"Fråga","ja","nej","tom","Kolumn1","ska orange cell visas?","Kolumn2","Har uppföljningssystem","Har mark","Skördar grödor","Köper foder","Säljre grödor","växtnäringbalans period1","växtnäringbalans period2","växtnäringbalans period3","vatten","energi","Nöt: hondjur","Nöt: inköp kalvar","Bete?","Smågrisa","Slaktgrisa","Klimat","vinterlamm","Intresserad av foderåtgång","Intresserad av foderförluster","Intresserad växtnäring","Kolumn10","Kolumn9","Kolumn8","Kolumn7","Kolumn6","Kolumn5","Kolumn4","Kolumn3"]
[null,"Vill du ta fram nyckeltal om foderåtgång?","Foderåtgången beräknas (alternativt fylls i om du har färdiga uppgifter) i del 2 Foder. Där kan du även ta fram mängd odlat foder","Då kan du hoppa över del 2 Foder. ","Ja = del 2 i verktyget (om foder) kommer att visas. Nej = del 2 i verktyget är inte relevant för dig",null,1,null,null,null,null,null,null,null,null,null,null,null,null,null,null,null,null,null,null,1]
[null,"Vill du beräkna förlusterna i foderkedjan?","Förlusterna från inläggning till och med utfodring beräknas i del 2. ","Då kan du hoppa över förlustdelarna i del 2 Foder","Ja = del 2 i verktyget (om foder) kommer att visas. Nej = del 2 i verktyget är inte relevant för dig",null,1,null,null,null,null,null,null,null,null,null,null,null,null,null,null,null,null,null,null,null,1]
[null,"Skördar du eget foder till djuren?","På bladet \"Odling foder\" kan du beräkna mängden skördat foder (kg ts och MJ)","då hoppar du över bladet \"Odling foder\"",{"$f":"$B$519","v":"Välj \"ja\" eller \"nej\" i den orange cellen"},null,1,null,null,1,1]
[null,"Säljer du grödor som du har odlat?","Detta verktyg avser resurshushållningen i djurhållningen (inkl eget foder), så det beräknar inga nyckeltal för avsalugrödor. I vissa avsnitt slipper du därför att fylla i uppgifter om avsalugrödorna. ","I vissa delar i verktyget kan man fylla i uppgifter om avsalugrödor. Dessa avsnitt kommer att \"släckas\" för dig (=texten är ljusgrå) för att indikera att du inte behöver fylla i dem.",{"$f":"$B$519","v":"Välj \"ja\" eller \"nej\" i den orange cellen"},null,1,null,null,1,1,null,1]
[null,"Köper du annat foder än mineraler till djuren?","På bladet \"Inköpt foder\" sammanställer du inköpt foder. Dessa uppgifter används sedan för att beräkna foderåtgång per kg kött, förluster och växtnäringsutnyttjande","Om du bara köper mineraler behöver du bara fylla i bladet Inköpt foder utifall du vill beräkna växtnäringsutnyttjandet",{"$f":"$B$519","v":"Välj \"ja\" eller \"nej\" i den orange cellen"},null,1,null,null,null,null,1]
[null,"Vill du beräkna växtnäringsutnyttjandet?","I del 3 kan du beräkna växtnäringsutnyttjandet som kg inköpt N, P och K per kg producerat kött"," ","Ja = del 3 i verktyget (om växtnäringsutnyttjande) kommer att visas. Nej = del 3 är inte relevant för dig",null,1,null,null,null,null,null,null,null,null,null,null,null,null,null,null,null,null,null,null,null,null,1]
[null,"Har du en aktuell växtnäringsbalans för perioden:"," "," ","T ex från Greppa Näringen. Användbart om du vill beräkna växtnäringsutnyttjande"]
[null,{"$f":"\"     - \"& IF(Bakgrund!$R$7=0,\"Period 1\",Bakgrund!$R$7)","v":"     - Period 1"},"Det förenklar beräkningen av växtnäringsutnyttjandet. Du kan även hämta inköpt foder därifrån"," ","Svara ja eller nej när du ska fylla i uppgifter för period 1",null,1,null,null,null,null,null,null,1]
[null,{"$f":"\"     - \"& IF(Bakgrund!$S$7=0,\"Period 2\",Bakgrund!$S$7)","v":"     - Period 2"},"Det förenklar beräkningen av växtnäringsutnyttjandet. Du kan även hämta inköpt foder därifrån"," ","Svara ja eller nej när du ska fylla i uppgifter för period 2",null,1,null,null,null,null,null,null,null,1]
[null,{"$f":"\"     - \"& IF(Bakgrund!$T$7=0,\"Period 3\",Bakgrund!$T$7)","v":"     - Period 3"},"Det förenklar beräkningen av växtnäringsutnyttjandet. Du kan även hämta inköpt foder därifrån"," ","Svara ja eller nej när du ska fylla i uppgifter för period 3",null,1,null,null,null,null,null,null,null,null,1]
[null,"Är du intresserad av vattenfrågor ?","Du kan göra en kartläggning av din vattenförbrukning och kvalitet"," ",{"$f":"$B$519","v":"Välj \"ja\" eller \"nej\" i den orange cellen"},null,1,null,null,null,null,null,null,null,null,null,1]
[null,"Är du intresserad av energifrågor ?","I verktyget kan du sammanställa och beräkna nyckeltal för energiförbrukning"," ",{"$f":"$B$519","v":"Välj \"ja\" eller \"nej\" i den orange cellen"},null,1,null,null,null,null,null,null,null,null,null,null,1]
[]
[null,"Nöt",null,null,null,null,5,6,7,8,9,10,11,12,13,14,15,16,17,18,19,20,21,22,23,24]
[null,"Fråga","ja","nej","tom","ingen fråga","ska orange cell visas?","Kolumn1","Har uppföljningssystem","Har mark","Skördar grödor","Köper foder","Säljre grödor","växtnäringbalans period1","växtnäringbalans period2","växtnäringbalans period3","vatten","energi","Nöt: hondjur","Nöt: inköp kalvar","Bete?","Smågrisa","Slaktgrisa","Klimat","vinterlamm","Intresserad av foderåtgång","Intresserad av foderförluster","Intresserad växtnäring","Kolumn198","Kolumn197","Kolumn196","Kolumn195","Kolumn194","Kolumn193","Kolumn192","Kolumn20"]
[null,"Har du hondjur som kalvar?","Då kan du beräkna nyckeltal för dikorna bland annat på bladen Hälsa & dödlighet samt Tillväxt & förökning","Då hoppar du över tabeller som rör dikor på kommande blad. Dessa tabeller kommer ha ljusgrå text för att indikera att de inte är relevanta för dig.",{"$f":"$B$519","v":"Välj \"ja\" eller \"nej\" i den orange cellen"},null,1,null,null,null,null,null,null,null,null,null,null,null,1]
[null,"Köper du in kalvar?","Då kommer rader som enbart gäller inköpta kalvar att tändas i verktyget","Då hoppar du över rader som rör inköpta kalvar på kommande blad. Dessa tabeller kommer ha ljusgrå text för att indikera att de inte är relevanta för dig.","Välj \"ja\" eller \"nej\" i den orange cellen",null,1,null,null,null,null,null,null,null,null,null,null,null,null,1]
[null,"Har du ett uppföljningsprogram (t ex KAP) där du kan hämta uppgifter om tillväxt etc.","På efterföljande blad kan du då leta efter celler där du kan fylla i färdiga värden så slipper du mata in alla uppgifter på nytt"," ","Välj \"ja\" eller \"nej\" i den orange cellen",null,1,null,1]
[null,"Går djuren på bete?","På bladet \"Bete\" kan du beräkna mängden ts från betet, djurens energibehov och tillväxt på betet","Då hoppar du över bladet Bete","Välj \"ja\" eller \"nej\" i den orange cellen",null,1,null,null,1,null,null,null,null,null,null,null,null,null,null,1]
[null,null,null,null,"Välj \"ja\" eller \"nej\" i den orange cellen",null,1]
[null,null,null,null,"Välj \"ja\" eller \"nej\" i den orange cellen",null,1]
[null,null,null,null,"Välj \"ja\" eller \"nej\" i den orange cellen",null,1]
[]
[]
[]
[null,"Gris"]
[null,"System","ja","nej","tom","ingen fråga","ska orange cell visas?","Kolumn1","Har uppföljningssystem","Har mark","Skördar grödor","Köper foder","Säljre grödor","växtnäringbalans period1","växtnäringbalans period2","växtnäringbalans period3","vatten","energi","Nöt: hondjur","Nöt: inköp kalvar","Bete?","Smågrisa","Slaktgrisa","Klimat","vinterlamm","Intresserad av foderåtgång","Intresserad av foderförluster","Intresserad växtnäring","Kolumn8","Kolumn7","Kolumn6","Kolumn5","Kolumn4","Kolumn3","Kolumn2","Kolumn19"]
[null,"Har du smågrisproduktion?","Då kan du beräkna nyckeltal för smågrisproduktion bland annat på bladen Hälsa & dödlighet samt Tillväxt & förökning","Då hoppar du över tabeller som rör smågrisproduktion på kommande blad. Dessa tabeller kommer ha ljusgrå text för att indikera att de inte är relevanta för dig.",{"$f":"$B$519","v":"Välj \"ja\" eller \"nej\" i den orange cellen"},null,1,null,null,null,null,null,null,null,null,null,null,null,null,null,null,1]
[null,"Har du slaktgrisproduktion?","Då kan du beräkna nyckeltal för slaktgrisarna bland annat på bladen Hälsa & dödlighet samt Tillväxt & förökning","Då hoppar du över tabeller som rör slaktgrisproduktion på kommande blad. Dessa tabeller kommer ha ljusgrå text för att indikera att de inte är relevanta för dig.","Välj \"ja\" eller \"nej\" i den orange cellen",null,1,null,null,null,null,null,null,null,null,null,null,null,null,null,null,null,1]
[null,"Har du ett uppföljningsprogram (t ex WinPig eller PigWin) där du kan hämta uppgifter om tillväxt","På efterföljande blad kan du då leta efter celler där du kan fylla i färdiga värden så slipper du mata in alla uppgifter på nytt"," ","Välj \"ja\" eller \"nej\" i den orange cellen",null,1,null,1]
[null,"Går djuren utomhus?","I denna version av verktyget ingår inte utevistelse, kan komma i en uppdatering"," ","Välj \"ja\" eller \"nej\" i den orange cellen",null,1,null,null,1,null,null,null,null,null,null,null,null,null,null,1]
[null,"Är du intresserad av klimatfrågor?","På bladet Klimat sammanställs en rad "," ","Välj \"ja\" eller \"nej\" i den orange cellen",null,1,null,null,null,null,null,null,null,null,null,null,null,null,null,null,null,null,1]
[null,null,null,null,"Välj \"ja\" eller \"nej\" i den orange cellen",null,1]
[null,null,null,null,"Välj \"ja\" eller \"nej\" i den orange cellen",null,1]
[]
[]
[]
[]
[null,"Lamm"]
[null,"system","ja","nej","tom","ingen fråga","ska orange cell visas?","Kolumn1","Har uppföljningssystem","Har mark","Skördar grödor","Köper foder","Säljre grödor","växtnäringbalans period1","växtnäringbalans period2","växtnäringbalans period3","vatten","energi","Nöt: hondjur","Nöt: inköp kalvar","Bete?","Smågrisa","Slaktgrisa","Klimat","vinterlamm","Intresserad av foderåtgång","Intresserad av foderförluster","Intresserad växtnäring","Kolumn198","Kolumn197","Kolumn196","Kolumn195","Kolumn194","Kolumn193","Kolumn192","Kolumn20"]
[null,"Har du ett uppföljningsprogram (t ex Elitlamm) där du kan hämta uppgifter om produktionen?","Vissa termer och definitioner i del 1 om djuren har hämtats från Elitlamm så att du ska kunna ta data direkt från Elitlamm."," ",{"$f":"$B$519","v":"Välj \"ja\" eller \"nej\" i den orange cellen"},null,1,null,1]
[null,"Går djuren på bete?","På bladet \"Bete\" kan du beräkna mängden ts från betet"," ","Välj \"ja\" eller \"nej\" i den orange cellen",null,1,null,null,1,null,null,null,null,null,null,null,null,null,null,1]
[null,"Producerar du lamm äldre än 8 månader?","Om det betyder att du sparar lamm (t ex vinterlamm) som slutgöds kommande period och/eller slaktar lamm som fötts föregående period, kan du ta med det separat i kommande beräkningar. Instruktioner ges där det är aktuellt"," ","Välj \"ja\" eller \"nej\" i den orange cellen",null,1,null,null,null,null,null,null,null,null,null,null,null,null,null,null,null,null,null,1]
[null,null,null,null,"Välj \"ja\" eller \"nej\" i den orange cellen",null,1]
[null,null,null,null,"Välj \"ja\" eller \"nej\" i den orange cellen",null,1]
[null,null,null,null,"Välj \"ja\" eller \"nej\" i den orange cellen",null,1]
[null,null,null,null,"Välj \"ja\" eller \"nej\" i den orange cellen",null,1]
[null,null,null,null,"Välj \"ja\" eller \"nej\" i den orange cellen",null,1]
[null,null,null,null,"Välj \"ja\" eller \"nej\" i den orange cellen",null,1]
[null,null,null,null,"Välj \"ja\" eller \"nej\" i den orange cellen",null,1]
[null,null,null,null,"Välj \"ja\" eller \"nej\" i den orange cellen",null,1]
[]
[]
[]
[]
[]
[]
[]
[]
[]
[]
[]
[]
[]
[]
[]
[]
[]
[]
[null,null,null,null,null,null,null,null,null,null,"Köttras tjur (lätt/tung)",null,null,"Mjölkras tjur"]
[null,null,null,null,null,null,null,null,null,"Uppfödningstid ungtjurar","låg","medel","hög","låg","medel","hög"]
[null,null,null,null,null,null,null,null,null,"Vikt vid insättning, använd egna data om möjligt","250/270","280/300","320/340",80,100,125]
[null,null,null,null,null,null,null,null,null,"Uppfödningstid, mån.ungtjur ","8/7","10/9","16/14",12,15,18]
[null,null,null,null,null,null,null,null,null,"Slaktvikt , ungtjur kg ","330/350","340/370","380/410",300,320,340]
[null,null,null,null,null,null,null,null,null,"Slaktutbyte, ungtjur %","51% / 52%","53 % / 55 %","55% / 58%",0.5,0.52,0.53]
[null,null,null,null,null,null,null,null,null,"Tillväxt levandevikt/dag","1300/1600","1400/1700","1500/1900",1100,1200,1400]
[]
[]
[null,null,null,null,null,null,null,null,null,null,"Köttras stutar & kvigor (lätt/tung)",null,null,"Mjölkras stutar & kvigor"]
[null,null,null,null,null,null,null,null,null,"Uppfödningstid stutar & kvigor","låg","medel","hög","låg","medel","hög"]
[null,null,null,null,null,null,null,null,null,"Vikt vid insättning, använd egna data om möjligt","230/250","260/280","290/320",75,100,120]
[null,null,null,null,null,null,null,null,null,"Uppfödningstid, mån.stut/kviga ",16,20,24,16,20,24]
[null,null,null,null,null,null,null,null,null,"Slaktvikt , stut/kviga kg ","stutar 300/320     kvigor 260/280","stutar 330/350      kvigor 280/310","stutar 330/350 kvigor 310/330",300,320,340]
[null,null,null,null,null,null,null,null,null,"Slaktutbyte, stut/kviga %","Stutar 50 % / 51 %      kvigor 49 % / 50 %","Stutar 52 % / 54 % kvigor 51 % / 52 %","Stutar 54 % / 56 % kvigor 53 % / 54 %","stutar 49 % kvigor 48 %","stutar 51 % kvigor 50 %","stutar 53 % kvigor 52 %"]
[null,null,null,null,null,null,null,null,null,"Tillväxt, levande vikt/dag",500,900,1200,500,900,1200]
[]
[null,null,null,null,null,null,1,2,3,4,5,6,7,8,9,10,null,null,null,1,2,3,4,5,6,7]
[null,null,null,null,null,null,null,null,null,null,null,"Vikt vid insättning","Uppfödningstid, mån","slaktvikt","slaktutbyte","Tillväxt g/dag",null,null,null,null,"Vikt vid insättning","Uppfödningstid, mån","slaktvikt","slaktutbyte","Tillväxt g/dag"]
[null,null,null,{"$f":"H611","v":"Ungtjur, lätt köttras"},null,null,{"$f":"H611&\", \"&K611","v":"Ungtjur, lätt köttras, låg"},{"$f":"I611&\", \"&J611","v":"Ungtjur, lätt köttras"},"Ungtjur","lätt köttras","låg",250,8,330,0.51,1300,null,null,1,{"$f":"H611","v":"Ungtjur, lätt köttras"},{"$f":"L612&\" (\"&L611&\" -\" &L613&\") kg\"","v":"280 (250 -320) kg"},{"$f":"M612&\" (\"&M611&\" -\" &M613&\") mån\"","v":"10 (8 -16) mån"},{"$f":"N612&\" (\"&N611&\" -\" &N613&\") kg\"","v":"340 (330 -380) kg"},{"$f":"O612*100&\" % (\"&O611*100&\" %-\" &O613*100&\" %)\"","v":"53 % (51 %-55 %)"},{"$f":"P612&\" (\"&P611&\" -\" &P613&\") g/dag\"","v":"1400 (1300 -1500) g/dag"},{"$f":"I611","v":"Ungtjur"}]
[null,null,null,{"$f":"H614","v":"Ungtjur, tung köttras"},null,null,"Ungtjur, lätt köttras, medel","Ungtjur, lätt köttras","Ungtjur","lätt köttras","medel",280,10,340,0.53,1400,null,null,2,{"$f":"H614","v":"Ungtjur, tung köttras"},{"$f":"L615&\" (\"&L614&\" -\" &L616&\") kg\"","v":"300 (270 -340) kg"},{"$f":"M615&\" (\"&M614&\" -\" &M616&\") mån\"","v":"9 (7 -14) mån"},{"$f":"N615&\" (\"&N614&\" -\" &N616&\") kg\"","v":"370 (350 -410) kg"},{"$f":"O615*100&\" %(\"&O614*100&\" %-\"&O616*100&\" %)\"","v":"55 %(52 %-58 %)"},{"$f":"P615&\" (\"&P614&\" -\" &P616&\") g/dag\"","v":"1700 (1600 -1900) g/dag"},{"$f":"I614","v":"Ungtjur"}]
[null,null,null,{"$f":"H617","v":"Ungtjur, mjölkras"},null,null,"Ungtjur, lätt köttras, hög","Ungtjur, lätt köttras","Ungtjur","lätt köttras","hög",320,16,380,0.55000000000000004,1500,null,null,3,{"$f":"H617","v":"Ungtjur, mjölkras"},{"$f":"L618&\" (\"&L617&\" -\" &L619&\") kg\"","v":"100 (80 -125) kg"},{"$f":"M618&\" (\"&M617&\" -\" &M619&\") mån\"","v":"15 (12 -18) mån"},{"$f":"N618&\" (\"&N617&\" -\" &N619&\") kg\"","v":"320 (300 -340) kg"},{"$f":"O618*100&\" %(\"&O617*100&\" %-\" &O619*100&\"%) \"","v":"52 %(50 %-53%) "},{"$f":"P618&\" (\"&P617&\" -\" &P619&\") g/dag\"","v":"1200 (1100 -1400) g/dag"},{"$f":"I617","v":"Ungtjur"}]
[null,null,null,{"$f":"H620","v":"Kviga, lätt köttras"},null,null,"Ungtjur, tung köttras, låg","Ungtjur, tung köttras","Ungtjur","tung köttras","låg",270,7,350,0.52,1600,null,null,4,{"$f":"H620","v":"Kviga, lätt köttras"},{"$f":"L621&\" (\"&L620&\" -\" &L622&\") kg\"","v":"260 (230 -290) kg"},{"$f":"M621&\" (\"&M620&\" -\" &M622&\") mån\"","v":"20 (16 -24) mån"},{"$f":"N621&\" (\"&N620&\" -\" &N622&\") kg\"","v":"280 (260 -310) kg"},{"$f":"O621*100&\" %(\"&O620*100&\" %-\" &O622*100&\" %)\"","v":"51 %(49 %-53 %)"},{"$f":"P621&\" (\"&P620&\" -\" &P622&\") g/dag\"","v":"900 (500 -1200) g/dag"},{"$f":"I620","v":"Kviga"}]
[null,null,null,{"$f":"H623","v":"Kviga, tung köttras"},null,null,"Ungtjur, tung köttras, medel","Ungtjur, tung köttras","Ungtjur","tung köttras","medel",300,9,370,0.55000000000000004,1700,null,null,5,{"$f":"H623","v":"Kviga, tung köttras"},{"$f":"L624&\" (\"&L623&\" -\" &L625&\") kg\"","v":"260 (250 -320) kg"},{"$f":"M624&\" (\"&M623&\" -\" &M625&\") mån\"","v":"20 (16 -24) mån"},{"$f":"N624&\" (\"&N623&\" -\" &N625&\") kg\"","v":"310 (280 -330) kg"},{"$f":"O624*100&\" %(\"&O623*100&\" %-\" &O625*100&\" %) \"","v":"52 %(50 %-54 %) "},{"$f":"P624&\" (\"&P623&\" -\" &P625&\") g/dag\"","v":"900 (500 -1200) g/dag"},{"$f":"I623","v":"Kviga"}]
[null,null,null,{"$f":"H626","v":"Kviga, mjölkras"},null,null,"Ungtjur, tung köttras, hög","Ungtjur, tung köttras","Ungtjur","tung köttras","hög",340,14,410,0.57999999999999996,1900,null,null,6,{"$f":"H626","v":"Kviga, mjölkras"},{"$f":"L627&\" (\"&L626&\" -\" &L628&\") kg\"","v":"100 (75 -120) kg"},{"$f":"M627&\" (\"&M626&\" -\" &M628&\") mån\"","v":"20 (16 -24) mån"},{"$f":"N627&\" (\"&N626&\" -\" &N628&\") kg\"","v":"320 (300 -340) kg"},{"$f":"O627*100&\" %(\"&O626*100&\" %-\" &O628*100&\" %) \"","v":"50 %(48 %-52 %) "},{"$f":"P627&\" (\"&P626&\" -\" &P628&\") g/dag\"","v":"900 (500 -1200) g/dag"},{"$f":"I626","v":"Kviga"}]
[null,null,null,{"$f":"H629","v":"Stut, lätt köttras"},null,null,"Ungtjur, mjölkras, låg","Ungtjur, mjölkras","Ungtjur","mjölkras","låg",80,12,300,0.5,1100,null,null,7,{"$f":"H629","v":"Stut, lätt köttras"},{"$f":"L630&\" (\"&L629&\" -\" &L631&\") kg\"","v":"260 (230 -290) kg"},{"$f":"M630&\" (\"&M629&\" -\" &M631&\") mån\"","v":"20 (16 -24) mån"},{"$f":"N630&\" (\"&N629&\" -\" &N631&\") kg\"","v":"330 (300 -330) kg"},{"$f":"O630*100&\" %(\"&O629*100&\" %-\" &100*O631&\" %) \"","v":"52 %(50 %-54 %) "},{"$f":"P630&\" (\"&P629&\" -\" &P631&\") g/dag\"","v":"900 (500 -1200) g/dag"},{"$f":"I629","v":"Stut"}]
[null,null,null,{"$f":"H632","v":"Stut, tung köttras"},null,null,"Ungtjur, mjölkras, medel","Ungtjur, mjölkras","Ungtjur","mjölkras","medel",100,15,320,0.52,1200,null,null,8,{"$f":"H632","v":"Stut, tung köttras"},{"$f":"L633&\" (\"&L632&\" -\" &L634&\") kg\"","v":"260 (250 -320) kg"},{"$f":"M633&\" (\"&M632&\" -\" &M634&\") mån\"","v":"20 (16 -24) mån"},{"$f":"N633&\" (\"&N632&\" -\" &N634&\") kg\"","v":"350 (320 -350) kg"},{"$f":"O633*100&\" %(\"&O632*100&\" %-\" &O634*100&\" %) \"","v":"54 %(51 %-56 %) "},{"$f":"P633&\" (\"&P632&\" -\" &P634&\") g/dag\"","v":"900 (500 -1200) g/dag"},{"$f":"I632","v":"Stut"}]
[null,null,null,{"$f":"H635","v":"Stut, mjölkras"},null,null,"Ungtjur, mjölkras, hög","Ungtjur, mjölkras","Ungtjur","mjölkras","hög",125,18,340,0.53,1400,null,null,9,{"$f":"H635","v":"Stut, mjölkras"},{"$f":"L636&\" (\"&L635&\" -\" &L637&\") kg\"","v":"100 (75 -120) kg"},{"$f":"M636&\" (\"&M635&\" -\" &M637&\") mån\"","v":"20 (16 -24) mån"},{"$f":"N636&\" (\"&N635&\" -\" &N637&\") kg\"","v":"320 (300 -340) kg"},{"$f":"O636*100&\" %(\"&O635*100&\" %-\" &O637*100&\" %) \"","v":"51 %(49 %-53 %) "},{"$f":"P636&\" (\"&P635&\" -\" &P637&\") g/dag\"","v":"900 (500 -1200) g/dag"},{"$f":"I635","v":"Stut"}]
[null,null,null,null,null,null,"Kviga, lätt köttras, låg","Kviga, lätt köttras","Kviga","lätt köttras","låg",230,16,260,0.49,500,null,null,10,", ",null,null,null,null,null,", "]
[null,null,null,{"$f":"K611","v":"låg"},null,null,"Kviga, lätt köttras, medel","Kviga, lätt köttras","Kviga","lätt köttras","medel",260,20,280,0.51,900]
[null,null,null,{"$f":"K612","v":"medel"},null,null,"Kviga, lätt köttras, hög","Kviga, lätt köttras","Kviga","lätt köttras","hög",290,24,310,0.53,1200]
[null,null,null,{"$f":"K613","v":"hög"},null,null,"Kviga, tung köttras, låg","Kviga, tung köttras","Kviga","tung köttras","låg",250,16,280,0.5,500]
[null,null,null,null,null,null,"Kviga, tung köttras, medel","Kviga, tung köttras","Kviga","tung köttras","medel",260,20,310,0.52,900]
[null,null,null,null,null,null,"Kviga, tung köttras, hög","Kviga, tung köttras","Kviga","tung köttras","hög",320,24,330,0.54,1200]
[null,null,null,null,null,null,"Kviga, mjölkras, låg","Kviga, mjölkras","Kviga","mjölkras","låg",75,16,300,0.48,500]
[null,null,null,null,null,null,"Kviga, mjölkras, medel","Kviga, mjölkras","Kviga","mjölkras","medel",100,20,320,0.5,900]
[null,null,null,null,null,null,"Kviga, mjölkras, hög","Kviga, mjölkras","Kviga","mjölkras","hög",120,24,340,0.52,1200]
[null,null,null,null,null,null,"Stut, lätt köttras, låg","Stut, lätt köttras","Stut","lätt köttras","låg",230,16,300,0.5,500]
[null,null,null,null,null,null,"Stut, lätt köttras, medel","Stut, lätt köttras","Stut","lätt köttras","medel",260,20,330,0.52,900]
[null,null,null,null,null,null,"Stut, lätt köttras, hög","Stut, lätt köttras","Stut","lätt köttras","hög",290,24,330,0.54,1200]
[null,null,null,null,null,null,"Stut, tung köttras, låg","Stut, tung köttras","Stut","tung köttras","låg",250,16,320,0.51,500]
[null,null,null,null,null,null,"Stut, tung köttras, medel","Stut, tung köttras","Stut","tung köttras","medel",260,20,350,0.54,900]
[null,null,null,null,null,null,"Stut, tung köttras, hög","Stut, tung köttras","Stut","tung köttras","hög",320,24,350,0.56000000000000005,1200]
[null,null,null,null,null,null,"Stut, mjölkras, låg","Stut, mjölkras","Stut","mjölkras","låg",75,16,300,0.49,500]
[null,null,null,null,null,null,"Stut, mjölkras, medel","Stut, mjölkras","Stut","mjölkras","medel",100,20,320,0.51,900]
[null,null,null,null,null,null,"Stut, mjölkras, hög","Stut, mjölkras","Stut","mjölkras","hög",120,24,340,0.53,1200]
[null,null,null,null,null,null,", medel",null,null,null,null,"Vikt vid insättning","Uppfödningstid, mån","slaktvikt","slaktutbyte%","Tillväxt g/dag"]
[]
[]
[null,null,null,null,null,null,null,null,null,null,null,null,null,null,"Uppfödningstid ungtjurar","Enhet"]
[null,null,null,null,null,null,null,null,null,null,null,null,null,null,"Vikt vid insättning, använd egna data om möjligt","kg"]
[null,null,null,null,null,null,null,null,null,null,null,null,null,null,"Uppfödningstid, mån.ungtjur ","månader"]
[null,null,null,null,null,null,null,null,null,null,null,null,null,null,"Slaktvikt , ungtjur kg ","vikt kg"]
[null,null,null,null,null,null,null,null,null,null,null,null,null,null,"Slaktutbyte, ungtjur %","%"]
[null,null,null,null,null,null,null,null,null,null,null,null,null,null,"Tillväxt levandevikt/dag","g/dag"]

{"sheet":"tekn adm - produktlistor","index":20,"n_rows":631,"n_cols":86,"rows_kept":631,"cut":false,"hidden":true,"merged":[]}
[{"$f":"MID(CELL(\"filnamn\",A1),FIND(\"]\",CELL(\"filnamn\",A1))+1,255)","v":"tekn adm - produktlistor"}]
["Listor som används på flikarna för växtnäringsutnyttjande"]
["reffar: Lista från VERA version 1.1.66.0. % ts och nöt från Spörndly 2003. Gris från EvaPig"]
[null,null,null,null,null,null,null,null,null,null,null,null,null,null,null,null,null,null,null,null,null,null,null,null,null,null,null,null,null,null,null,null,null,null,null,null,null,null,null,null,null,null,null,null,null,null,null,null,null,null,null,"Energivärden från EvaPig 1.4.0.1",null,null,null,null,null,null,null,null,null,null,null,null,null,null,null,null,null,null,null,null,null,null,"kg per kg slaktvikt",null,null,null,"kg per kg levandevikt",null,null,null,null,null,"energi - lamm och nöt","MJ/kg ts"]
[null,"Mineralgödsel","enhet","N","P","K",null,null,null,"Organisk gödsel","enhet","N","P","K",null,null,"Mineralfoder","enhet","N","P","K",null,null,"Vegetabilier","enhet","N","P","K","N-effektivitet",null,null,null,"Fodermedel - nöt",null,"N","P","K",0,"ts-halt %","typ av foder","MJ/kg ts","typ av foder",null,"Fodermedel - gris",null,"N","P","K",0,"ts-halt %","typ av foder","MJ NEv/kg","MJ NE sugg/kg","inköpt?",null,"Fodermedel - Lamm",null,"N","P","K",0,"ts-halt %","typ av foder","MJ/kg ts","typ av foder",null,"Övrigt",null,"N","P","K",null,"Animalier",null,"N","P","K","Levandevikt av slaktvikt","N","P","K",null,null,null,"noll",0]
[null,null,null,null,null,null,null,null,null,null,null,null,null,null,null,null,null,null,null,null,null,null,null,null,null,null,null,null,null,null,null,null,null,null,null,null,null,{"$f":"AL5+1","v":1},null,0,null,null,null,null,null,null,null,null,{"$f":"AW5+1","v":1},null,0,null,null,null,null,null,null,null,null,null,{"$f":"BI5+1","v":1},null,0,null,null,null,null,null,null,null,null,null,null,null,null,null,null,null,null,null,null,null,null,null,{"$f":"\"låg (\"&CH6& \" MJ/kg ts)\"","v":"låg (11,7 MJ/kg ts)"},11.7]
[null,"kväve i gödsel","kg N",1,0,0,null,null,null,"Djupströgödsel får","kg",9.4999999999999998E-3,1.5E-3,0.02,null,null,"mineralfoder får hög P","kg",0,0.01,0,null,null,"Havre, 12 % prot","kg",1.6500000000000001E-2,3.3E-3,4.3E-3,{"$f":"1/0.65","v":1.5384615384615383},null,null,null,"ensilage gräsdominerad sen skörd, kg ts","kg ts",2.128E-2,2.3999999999999998E-3,2.5000000000000001E-2,2,1,1,9.1,"grovfoder",null,"Blandsäd 50% havre/ 50% korn","kg",1.6425599999999999E-2,3.3930000000000002E-3,4.6109999999999996E-3,2,0.874,3,8.73,{"$f":"(8.29+9.73)/2","v":9.01},null,null,"färdigfoder får","kg",3.2000000000000001E-2,5.4999999999999997E-3,{"$f":"BF7*0.3","v":9.5999999999999992E-3},2,0.88,1,12.8,"kraftfoder, spannmål etc.",null,"Spannmålshalm","kg",6.9999999999999993E-3,1E-3,0.01,null,"Får","kg kött",{"$f":"CA7*$BZ7","v":5.9523809523809527E-2},1.7619047619047621E-2,4.0476190476190482E-3,{"$f":"1/0.42","v":2.3809523809523809},2.5000000000000001E-2,7.4000000000000003E-3,1.7000000000000001E-3,null,null,null,{"$f":"\"medel (\"&CH7& \" MJ/kg ts)\"","v":"medel (12,7 MJ/kg ts)"},12.7]
[null,"fosfor i gödsel","kg P",0,1,0,null,null,null,"Djupströ höns 50% ts","kg",1.67E-2,7.8000000000000005E-3,1.04E-2,null,null,"mineralfoder får låg P","kg",0,5.0000000000000001E-3,0,null,null,"Korn, 11,9 % prot","kg",1.6399999999999998E-2,3.4000000000000002E-3,4.3E-3,{"$f":"1/0.65","v":1.5384615384615383},null,null,null,"ensilage gräsdominerad tidig skörd, kg ts","kg ts",2.4479999999999998E-2,3.3300000000000001E-3,2.1000000000000001E-2,3,1,1,11.3,"grovfoder",null,"Blandsäd 50% havre/ 50% vete","kg",1.6843199999999999E-2,3.3059999999999999E-3,4.2630000000000003E-3,3,0.87450000000000006,3,9.2200000000000006,9.4600000000000009,null,null,"koncentrat får","kg",4.8000000000000001E-2,7.0000000000000001E-3,{"$f":"BF8*0.3","v":1.44E-2},3,0.88,1,13.5,"kraftfoder, spannmål etc.",null,"Spån 80% ts","kg",6.0000000000000001E-3,5.9999999999999995E-4,5.0000000000000001E-4,null,"Nöt","kg kött",4.8076923076923073E-2,1.4230769230769231E-2,3.2692307692307691E-3,{"$f":"1/0.52","v":1.9230769230769229},2.5000000000000001E-2,7.4000000000000003E-3,1.7000000000000001E-3,null,null,null,{"$f":"\"hög (\"&CH8& \" MJ/kg ts)\"","v":"hög (14 MJ/kg ts)"},14]
[null,"kalium i gödsel","kg K",0,0,1,null,null,null,"Djupströ slaktkyckling 70% ts","kg",0.03,8.0000000000000002E-3,1.4999999999999999E-2,null,null,"BM Får","kg",0,0.05,0,null,null,"Höstvete foder, 11 % prot","kg",1.5100000000000001E-2,3.0999999999999999E-3,4.3E-3,{"$f":"1/0.65","v":1.5384615384615383},null,null,null,"ensilage klöverrik sen skörd, kg ts","kg ts",2.4E-2,2.8E-3,2.5000000000000001E-2,4,1,1,9.4,"grovfoder",null,"Blandsäd 50% korn/ 50% vete","kg",1.6704E-2,3.1319999999999998E-3,4.5240000000000002E-3,4,0.86750000000000005,3,10.02,10.18,null,null,"mineralfoder får, hög P","kg",0,0.01,0,4,1,1,0,"kraftfoder, spannmål etc.",null,"Torv 60% ts","kg",5.0000000000000001E-3,2.0000000000000001E-4,4.0000000000000002E-4,null,"Grisar","kg kött",3.4840000000000003E-2,7.2360000000000011E-3,2.9480000000000005E-3,1.34,2.6000000000000002E-2,5.4000000000000003E-3,2.2000000000000001E-3]
[null,"axan N27","kg",0.27,0,0,null,null,null,"Djupströgödsel nöt","kg",5.4000000000000003E-3,1.5E-3,0.01,null,null,"FD Vitamin 1,0","kg",0,0.1089,0,null,null,"Åkerbönor","kg",4.5999999999999999E-2,4.0000000000000001E-3,0.01,0,null,null,null,"ensilage klöverrik tidig skörd, kg ts","kg ts",2.5440000000000001E-2,2.7000000000000001E-3,2.5000000000000001E-2,5,1,1,11.7,"grovfoder",null,"Blandsäd havre (70)/ärt (30)","kg",2.0500000000000001E-2,3.3999999999999998E-3,6.0000000000000001E-3,5,0.87590000000000001,3,8.4600000000000009,8.7899999999999991,null,null,"mineralfoder får, låg P","kg",0,5.0000000000000001E-3,0,5,1,1,0,"kraftfoder, spannmål etc.",null,"Spannmålsutsäde","kg",1.66E-2,3.0999999999999999E-3,4.3E-3,null,"Mjölk  ECM","kg ECM",5.3E-3,1E-3,1.6000000000000001E-3,1,5.3E-3,1E-3,1.6000000000000001E-3]
[null,"NPK 22-6-6","kg",0.21600000000000003,5.7999999999999996E-2,5.7999999999999996E-2,null,null,null,"Fastgödsel nöt","kg",5.1999999999999998E-3,1.5E-3,5.0000000000000001E-3,null,null,"FD Vitamin 2,5","kg",0,6.1379999999999997E-2,0,null,null,"Ärter","kg",3.5000000000000003E-2,3.5999999999999999E-3,0.01,0,null,null,null,"ensilage luserndominerad, kg ts","kg ts",3.2000000000000001E-2,2.2000000000000001E-3,2.5000000000000001E-2,6,1,1,10.5,"grovfoder",null,"Blandsäd brokblommig åkerböna (30)/vårvete (70)","kg",2.81E-2,3.3999999999999998E-3,6.0000000000000001E-3,6,0.8659,3,9.48,9.64,null,null,"ensilage gräsdominerad sen kg","kg ts",2.128E-2,2.3999999999999998E-3,2.5000000000000001E-2,6,1,2,9.1,"grovfoder",null,"Åkerbönutsäde","kg",4.5999999999999999E-2,4.0000000000000001E-3,0.01]
[null,"NPK 21-3-10","kg",0.20600000000000002,2.6000000000000002E-2,9.6000000000000002E-2,null,null,null,"Flytgödsel nöt 9% ts","kg",4.3E-3,5.9999999999999995E-4,3.8E-3,null,null,"FD Vitamin 5,4","kg",0,3.168E-2,0,null,null,"Raps","kg",3.5000000000000003E-2,6.0000000000000001E-3,8.0000000000000002E-3,{"$f":"1/0.65","v":1.5384615384615383},null,null,null,"foder nöt växande ungdjur hög","kg",2.7099999999999999E-2,5.7999999999999996E-3,8.1300000000000001E-3,7,0.88,1,13.4,"kraftfoder, spannmål etc.",null,"Blålupin frö","kg",4.9418400000000001E-2,5.1330000000000004E-3,8.8500000000000002E-3,7,0.89,3,null,null,null,null,"ensilage gräsdominerad tidig skörd","kg ts",2.4479999999999998E-2,3.3300000000000001E-3,2.1000000000000001E-2,7,1,2,11.3,"grovfoder",null,"Vallblandning ca 25% klöv","kg",2.7000000000000003E-2,4.5000000000000005E-3,6.5000000000000006E-3]
[null,"NK 22-12","kg",0.21600000000000003,0,0.106,null,null,null,"Urin nöt","kg",3.4999999999999996E-3,1E-4,5.0000000000000001E-3,null,null,"FD VitaMin Mag 2,5","kg",0,4.4549999999999999E-2,0,null,null,"Klövergräsensilage, ts","kg ts",2.7200000000000002E-2,2.0999999999999999E-3,2.5000000000000001E-2,0.8,null,null,null,"foder nöt växande ungdjur låg","kg",2.4E-2,5.1000000000000004E-3,7.1999999999999998E-3,8,0.88,1,11.7,"kraftfoder, spannmål etc.",null,"Bröd 66% ts","kg",1.18E-2,1.5E-3,2.2000000000000001E-3,8,0.66,3,null,null,null,null,"ensilage klöverrik sen skörd","kg ts",2.4E-2,2.8E-3,2.5000000000000001E-2,8,1,2,9.4,"grovfoder",null,"Oljeväxtutsäde","kg",3.5000000000000003E-2,6.0000000000000001E-3,8.0000000000000002E-3]
[null,"NS 30-7","kg",0.3,null,null,null,null,null,"Djupströgödsel svin","kg",4.7999999999999996E-3,1.5E-3,4.5000000000000005E-3,null,null,"Foderkalk","kg",0,0,0,null,null,"Klövergräshö, ts","kg ts",1.9199999999999998E-2,2.5999999999999999E-3,2.5000000000000001E-2,0.8,null,null,null,"foder nöt växande ungdjur mellan","kg",2.4300000000000002E-2,5.4000000000000003E-3,7.2900000000000005E-3,9,0.88,1,12.3,"kraftfoder, spannmål etc.",null,"drank potatis",null,1.9E-3,4.0000000000000001E-3,7.1000000000000004E-3,9,0.06,3,null,null,{"$f":"inköpt","v":"inköpt"},null,"ensilage klöverrik tidig skörd","kg ts",2.5440000000000001E-2,2.7000000000000001E-3,2.5000000000000001E-2,9,1,2,11.7,"grovfoder"]
[null,"kalksalpeter","kg",0.27,null,null,null,null,null,"Fastgödsel svin (sugg-)","kg",6.5000000000000006E-3,2.5000000000000001E-3,2.5000000000000001E-3,null,null,"HO Hiven Magnesiumkivennäinen","kg",0,0.02,0,null,null,"Gräsensilage, ts","kg ts",2.4799999999999999E-2,2.2000000000000001E-3,2.1000000000000001E-2,{"$f":"1/0.65","v":1.5384615384615383},null,null,null,"hö senare skörd, kg ts","kg ts",0.01,2.2000000000000001E-3,2.5000000000000001E-2,10,1,1,9.14,"grovfoder",null,"drav färsk spm",null,7.7000000000000002E-3,1.1000000000000001E-3,4.0000000000000002E-4,10,0.23,3,null,null,{"$f":"inköpt","v":"inköpt"},null,"ensilage luserndominerad","kg ts",3.2000000000000001E-2,2.2000000000000001E-3,2.5000000000000001E-2,10,1,2,10.5,"grovfoder"]
[null,"P 20","kg",0,0.2,0,null,null,null,"Flytgödsel svin 6% ts (slaktsvins-)","kg",2.7000000000000001E-3,5.9999999999999995E-4,1.4000000000000002E-3,null,null,"HO Vital Cow Dry","kg",5.8967999999999998E-3,4.9045499999999999E-2,0,null,null,"Spannmålshalm","kg",6.9999999999999993E-3,1E-3,0.01,{"$f":"1/0.65","v":1.5384615384615383},null,null,null,"hö tidig skörd, kg ts","kg ts",1.7600000000000001E-2,3.0000000000000001E-3,2.5000000000000001E-2,11,1,1,9.1,"grovfoder",null,"drav torr spm",null,3.6999999999999998E-2,5.0000000000000001E-3,1.8E-3,11,0.91,3,null,null,{"$f":"inköpt","v":"inköpt"},null,"hö senare skörd","kg ts",0.01,2.2000000000000001E-3,2.5000000000000001E-2,11,1,2,9.1,"grovfoder"]
[null,"P-Mag 12-4","kg",0,0.124,0,null,null,null,"Urin svin (sugg-)","kg",1.8E-3,2.0000000000000001E-4,1.1999999999999999E-3,null,null,"JH Edel Bete","kg",0,3.9199999999999999E-2,0,null,null,null,null,null,null,null,null,null,null,null,"konc nöt växande ungdjur hög","kg",4.1500000000000002E-2,8.3999999999999995E-3,1.2450000000000001E-2,12,0.88,1,14,"kraftfoder, spannmål etc.",null,"Fiskmjöl, rp 65 %","kg",0.114,2E-3,1E-3,12,0.92,3,9.16,9.11,{"$f":"inköpt","v":"inköpt"},null,"hö tidig skörd","kg ts",1.7600000000000001E-2,3.0000000000000001E-3,2.5000000000000001E-2,12,1,2,10.5,"grovfoder"]
[null,"Yara Superfosfat P20","kg",0,0.2,0,null,null,null,"Biofer 10-3-1","kg",0.10099999999999999,0.03,9.0000000000000011E-3,null,null,"JH Edel Biotin","kg",0,2.9399999999999999E-2,5.8799999999999998E-4,null,null,null,null,null,null,null,null,null,null,null,"konc nöt växande ungdjur låg","kg",3.3599999999999998E-2,4.6999999999999993E-3,1.0079999999999999E-2,13,0.88,1,11.7,"kraftfoder, spannmål etc.",null,"Havre, 12 % prot","kg",1.6500000000000001E-2,3.3E-3,4.3E-3,13,0.87,3,7.93,8.2899999999999991,null,null,"Havre, 12 % prot","kg",1.6500000000000001E-2,3.3E-3,4.3E-3,13,0.87,3,11.7,"kraftfoder, spannmål etc."]
[null,"Adularia","kg",0,0,8.3000000000000004E-2,null,null,null,"Biofer 6-3-12","kg",6.0999999999999999E-2,2.7000000000000003E-2,0.11800000000000001,null,null,"JH Edel Fosfor","kg",0,6.3700000000000007E-2,6.8599999999999998E-4,null,null,null,null,null,null,null,null,null,null,null,"konc nöt växande ungdjur mellan","kg",4.0800000000000003E-2,7.6E-3,1.2240000000000001E-2,14,0.88,1,12.7,"kraftfoder, spannmål etc.",null,"Havrekli","kg",1.0782720000000001E-2,7.2072000000000004E-3,6.5519999999999997E-3,14,0.87,3,null,null,{"$f":"inköpt","v":"inköpt"},null,"Höstvete foder, 11 % prot","kg",1.5100000000000001E-2,3.0999999999999999E-3,4.3E-3,14,0.87,3,14.1,"kraftfoder, spannmål etc.",null,null,null,null,null,null,null,"Får","kg",2.5000000000000001E-2,7.4000000000000003E-3,1.7000000000000001E-3]
[null,"Biokali 20","kg",0,0,0.2,null,null,null,"Biofer 9-3-4","kg",8.8000000000000009E-2,2.7000000000000003E-2,3.5000000000000003E-2,null,null,"JH Edel Fullfoder","kg",0,3.6260000000000001E-2,7.8399999999999997E-4,null,null,null,null,null,null,null,null,null,null,null,"Betfiber melasserad","kg",1.413872E-2,7.2880000000000004E-4,1.68535E-2,15,0.91,3,12.5,"kraftfoder, spannmål etc.",null,"Höstkorn, 11,7 % prot","kg",1.61E-2,3.3999999999999998E-3,4.3E-3,15,0.87,3,9.5299999999999994,9.73,null,null,"Korn, 11,9 % prot","kg",1.6399999999999998E-2,3.4000000000000002E-3,4.3E-3,15,0.87,3,13.2,"kraftfoder, spannmål etc.",null,null,null,null,null,null,null,"Nöt","kg",2.5000000000000001E-2,7.4000000000000003E-3,1.7000000000000001E-3]
[null,"Biotit","kg",0,0,0.05,null,null,null,"Biogödsel - rötrest från biogasframställning, fast","kg",1.7999999999999999E-2,3.5999999999999999E-3,1.2999999999999999E-3,null,null,"JH Edel Grunda","kg",0,1.9599999999999999E-2,5.8799999999999998E-4,null,null,null,null,null,null,null,null,null,null,null,"Betfiber omelasserad","kg",1.3670399999999999E-2,8.8999999999999995E-4,3.2039999999999998E-3,16,0.9,3,12.3,"kraftfoder, spannmål etc.",null,"Höstvete foder, 11 % prot","kg",1.5100000000000001E-2,3.0999999999999999E-3,4.3E-3,16,0.87,3,null,null,null,null,"Raps","kg",3.5000000000000003E-2,6.0000000000000001E-3,8.0000000000000002E-3,16,0.94,3,15.5,"kraftfoder, spannmål etc.",null,null,null,null,null,null,null,"Grisar","kg",2.6000000000000002E-2,5.4000000000000003E-3,2.2000000000000001E-3]
[null,"Kainit","kg",0,0,9.1999999999999998E-2,null,null,null,"Biogödsel - rötrest från biogasframställning, flytande","kg",5.8999999999999999E-3,6.9999999999999999E-4,2.3999999999999998E-3,null,null,"JH Edel Jod","kg",0,1.9599999999999999E-2,6.8599999999999998E-4,null,null,null,null,null,null,null,null,null,null,null,"Blandsäd 50% havre/ 50% korn","kg",1.6425599999999999E-2,3.3930000000000002E-3,4.6109999999999996E-3,17,0.87,3,12.45,"kraftfoder, spannmål etc.",null,"Korn, 11,9 % prot","kg",1.6399999999999998E-2,3.4000000000000002E-3,4.3E-3,17,0.87,3,9.5299999999999994,9.73,null,null,"Åkerbönor","kg",4.5999999999999999E-2,4.0000000000000001E-3,0.01,17,0.76,3,13.6,"kraftfoder, spannmål etc."]
[null,"Kalimagnesia","kg",0,0,0.249,null,null,null,"Biogödsel Jordberga - rötrest från biogasframställning","liter",5.0000000000000001E-3,5.0000000000000001E-4,3.3999999999999998E-3,null,null,"JH Edel Magnesium","kg",0,2.4500000000000001E-2,9.7999999999999997E-5,null,null,null,null,null,null,null,null,null,null,null,"Blandsäd 50% havre/ 50% vete","kg",1.6843199999999999E-2,3.3059999999999999E-3,4.2630000000000003E-3,18,0.87,3,12.9,"kraftfoder, spannmål etc.",null,"Korn, lutad","kg",1.2239999999999999E-2,2.3999999999999998E-3,3.8249999999999998E-3,18,0.87,3,null,null,null,null,"Ärter","kg",3.5000000000000003E-2,3.5999999999999999E-3,0.01,18,0.87,3,14.1,"kraftfoder, spannmål etc."]
[null,"Kaliumklorid","kg",0,0,0.498,null,null,null,"Biogödsel Lidköping - rötrest från biogasframställning","liter",5.7999999999999996E-3,5.0000000000000001E-4,1.2999999999999999E-3,null,null,"JH Edel Sin","kg",0,6.6640000000000005E-2,0,null,null,null,null,null,null,null,null,null,null,null,"Blandsäd 50% korn/ 50% vete","kg",1.6704E-2,3.1319999999999998E-3,4.5240000000000002E-3,19,0.87,3,13.6,"kraftfoder, spannmål etc.",null,"Kornkli","kg",1.4524799999999999E-2,7.1199999999999996E-3,0,19,0.87,3,null,null,{"$f":"inköpt","v":"inköpt"},null,"KLF Lammfoder ","kg",2.6409999999999999E-2,4.7759999999999999E-3,8.8520000000000005E-3,19,0.88,4,null,"kraftfoder, spannmål etc.",null,null,null,"färdig",12.9]
[null,"Kaliumsulfat","kg",0,0,0.42,null,null,null,"Biogödsel Linköping - rötrest från biogasframställning","liter",4.5999999999999999E-3,5.9999999999999995E-4,1.4E-3,null,null,"JH Edel Spira","kg",0,1.8620000000000001E-2,0,null,null,null,null,null,null,null,null,null,null,null,"Blandsäd havre (70)/ärt (30)","kg",2.0500000000000001E-2,3.3999999999999998E-3,6.0000000000000001E-3,20,0.87,3,12.3,"kraftfoder, spannmål etc.",null,"Linfrö","kg",3.3704959999999999E-2,5.2896000000000002E-3,8.2591999999999995E-3,20,0.93,3,null,null,null,null,"KLF Tackfoder","kg",2.7230000000000001E-2,4.5970000000000004E-3,9.0200000000000002E-3,20,0.88,4,null,"kraftfoder, spannmål etc.",null,null,null,null,12.9]
[null,"Yara Polysulphate","kg",0,0,0.11600000000000001,null,null,null,"Biogödsel Västerås - rötrest från biogasframställning","liter",5.0000000000000001E-4,8.0000000000000004E-4,2.7000000000000001E-3,null,null,"KK Bolifor 18","kg",0,0.1764,0,null,null,null,null,null,null,null,null,null,null,null,"Blandsäd åkerböna (30)/vårvete (70)","kg",2.81E-2,3.3999999999999998E-3,6.0000000000000001E-3,21,0.87,3,13.7,"kraftfoder, spannmål etc.",null,"Linfröexpeller","kg",4.5807359999999998E-2,7.7916000000000001E-3,9.9659999999999992E-3,21,0.9,3,null,null,{"$f":"inköpt","v":"inköpt"},null,"L Fårex","kg",4.3200000000000002E-2,6.8999999999999999E-3,1.11E-2,21,0.88,4,13,"kraftfoder, spannmål etc.",null,null,"konc"]
[null,"Agro NS 30-7","kg",0.3,0,0,null,null,null,"Biogödsel Örebro - rötrest från biogasframställning","liter",5.3E-3,8.0000000000000004E-4,2.3E-3,null,null,"KK Bolifor Dcp","kg",0,0.1764,0,null,null,null,null,null,null,null,null,null,null,null,"Blålupin frö","kg",4.9418400000000001E-2,5.1330000000000004E-3,8.8500000000000002E-3,22,0.89,3,13.6,"kraftfoder, spannmål etc.",null,"Linfrökaka","kg",4.5400000000000003E-2,7.4999999999999997E-3,4.7000000000000002E-3,22,0.9,3,null,null,"inköpt",null,"L Lamm 300","kg",2.7199999999999998E-2,5.1000000000000004E-3,8.8000000000000005E-3,22,0.88,4,12.9,"kraftfoder, spannmål etc."]
[null,"Agro NS 38-8","kg",0.38,0,0,null,null,null,"Fosforkalk","kg",2E-3,9.5999999999999992E-3,5.9999999999999995E-4,null,null,"KK Bolifor Mag 33","kg",0,3.4299999999999997E-2,0,null,null,null,null,null,null,null,null,null,null,null,"drank potatis","kg",1.9E-3,4.0000000000000001E-3,7.1000000000000004E-3,23,0.06,3,11.4,"kraftfoder, spannmål etc.",null,"Linfrömjöl","kg",5.6675200000000002E-2,7.8320000000000004E-3,9.7900000000000001E-3,23,0.9,3,null,null,"inköpt",null,"L Lamm 500","kg",2.9600000000000001E-2,5.7000000000000002E-3,7.4999999999999997E-3,23,0.88,4,12.9,"kraftfoder, spannmål etc."]
[null,"Ammoniak","kg",0.82,0,0,null,null,null,"Fosforsyrlighet P28","liter",0,0.28000000000000003,0,null,null,"KK Bolifor Mcp","kg",0,0.2225,0,null,null,null,null,null,null,null,null,null,null,null,"drav färsk spm","kg",7.7000000000000002E-3,1.1000000000000001E-3,4.0000000000000002E-4,24,0.23,3,11.8,"kraftfoder, spannmål etc.",null,"Lysin","kg",0.19,0,0,24,1,3,14.16,14.15,"inköpt",null,"L Tacka","kg",2.9000000000000001E-2,5.7999999999999996E-3,8.0000000000000002E-3,24,0.88,4,12.9,"kraftfoder, spannmål etc.",null,null,"färdig"]
[null,"Ammonsulfat","kg",0.21,0,0,null,null,null,"Fruktsaft","kg",4.0000000000000001E-3,4.0000000000000002E-4,5.0000000000000001E-3,null,null,"KK Bolifor Mgp","kg",0,0.1323,0,null,null,null,null,null,null,null,null,null,null,null,"drav torr spm","kg",3.6999999999999998E-2,5.0000000000000001E-3,1.8E-3,25,0.91,3,11.8,"kraftfoder, spannmål etc.",null,"Majsfodermjöl","kg",1.495872E-2,4.9392000000000004E-3,6.2621999999999999E-3,25,0.92,3,9.2899999999999991,10.14,"inköpt",null,"SA Harmoni U4 Får","kg",2.6447999999999999E-2,4.0889999999999998E-3,7.8300000000000002E-3,25,0.88,4,13.5,"kraftfoder, spannmål etc."]
[null,"ASN","kg",0.26,0,0,null,null,null,"Halmaska","kg",0,1.4E-2,0.15,null,null,"KK Bolifor Msp","kg",0,0.23519999999999999,0,null,null,null,null,null,null,null,null,null,null,null,"Expro(R) Raps mjöl värmebehandlat","kg",5.4702399999999998E-2,1.06505E-2,1.2798500000000001E-2,26,0.94,3,12.2,"kraftfoder, spannmål etc.",null,"Melassmix","kg",6.7999999999999996E-3,2.0000000000000001E-4,3.2000000000000001E-2,26,0.75,3,6.5,6.7,"inköpt",null,"SF Fiol Eko","kg",2.8320000000000001E-2,3.2499999999999999E-3,9.2300000000000004E-3,26,0.88,4,13.6,"kraftfoder, spannmål etc."]
[null,"ASN 26-14 Fertiva","kg",0.26,0,0,null,null,null,"Lyckeby Organic","liter",1.9E-2,4.0000000000000001E-3,5.5E-2,null,null,"KLF BLÅ","kg",0,1.9599999999999999E-2,4.8999999999999998E-4,null,null,null,null,null,null,null,null,null,null,null,"Havre, 12 % prot","kg",1.6500000000000001E-2,3.3E-3,4.3E-3,27,0.87,3,11.7,"kraftfoder, spannmål etc.",null,"Methionin","kg",0.17,0,0,27,1,3,15.26,15.25,"inköpt",null,"SF Fiol Eko KRAV P","kg",2.8337600000000001E-2,3.3899999999999998E-3,9.273E-3,27,0.88,4,null,"kraftfoder, spannmål etc."]
[null,"Axan","kg",0.27,0,0,null,null,null,"Mesakalk P3","kg",0,3.0000000000000001E-3,0,null,null,"KLF GRÖN","kg",0,4.5080000000000002E-2,3.9199999999999999E-4,null,null,null,null,null,null,null,null,null,null,null,"Havrekli","kg",1.0782720000000001E-2,7.2072000000000004E-3,6.5519999999999997E-3,28,0.87,3,7.2,"kraftfoder, spannmål etc.",null,"Potatisprotein","kg",0.11808,3.8700000000000002E-3,5.4000000000000003E-3,28,0.9,3,10.23,10.39,"inköpt",null,"SF Fiol Får","kg",2.512E-2,5.0800000000000003E-3,9.5600000000000008E-3,28,0.88,4,13,"kraftfoder, spannmål etc."]
[null,"Chilesalpeter","kg",0.16,0,0,null,null,null,"Pressaft","kg",1.5E-3,4.0000000000000002E-4,3.7000000000000002E-3,null,null,"KLF GUL","kg",0,9.0160000000000004E-2,3.9199999999999999E-4,null,null,null,null,null,null,null,null,null,null,null,"HP-massa","kg ts",4.7000000000000002E-3,2.0000000000000001E-4,4.0000000000000002E-4,29,1,3,12.8,"grovfoder",null,"Rapsfrö","kg",3.1199999999999999E-2,8.0000000000000002E-3,2.2000000000000001E-3,29,0.93,3,16.63,17.03,null,null,"SF Fiol Vital","kg",2.9600000000000001E-2,4.8399999999999997E-3,9.7800000000000005E-3,29,0.88,4,13.7,"kraftfoder, spannmål etc."]
[null,"Kalkammonsalpeter N 27","kg",0.27,0,0,null,null,null,"Rapshalm","kg",5.0159999999999996E-3,9.5E-4,1.9189999999999999E-2,null,null,"KLF LÅG","kg",0,9.0160000000000004E-2,1.372E-3,null,null,null,null,null,null,null,null,null,null,null,"Höstkorn, 11,7 % prot","kg",1.61E-2,3.3999999999999998E-3,4.3E-3,30,0.87,3,13.2,"kraftfoder, spannmål etc.",null,"Rapskaka","kg",4.7399999999999998E-2,1.03E-2,4.7000000000000002E-3,30,0.94,3,null,null,{"$f":"inköpt","v":"inköpt"},null,"SwA Glänsa  Lamm Intensiv Pell","kg",3.2899999999999999E-2,5.3E-3,1.1209999999999999E-2,30,0.88,4,12.7,"kraftfoder, spannmål etc."]
[null,"Kalksalpeter","kg",0.155,0,0,null,null,null,"Sockerbrukskalk","kg",4.0000000000000001E-3,6.0000000000000001E-3,0,null,null,"KLF Majs","kg",0,5.2920000000000002E-2,4.8999999999999998E-4,null,null,null,null,null,null,null,null,null,null,null,"Höstvete foder, 11 % prot","kg",1.5100000000000001E-2,3.0999999999999999E-3,4.3E-3,31,0.87,3,14.1,"kraftfoder, spannmål etc.",null,"Rapsmjöl","kg",5.44544E-2,1.14036E-2,1.34368E-2,31,0.9,3,6.33,6.84,{"$f":"inköpt","v":"inköpt"},null,"SwA Glänsa FårX Pell","kg",4.3700000000000003E-2,7.5799999999999999E-3,1.244E-2,31,0.88,4,12.8,"kraftfoder, spannmål etc.",null,null,"konc"]
[null,"Kalksalpeter Svavel","kg",0.152,0,0,null,null,null,"Spannmålshalm","kg",7.0000000000000001E-3,1E-3,0.01,null,null,"KLF Mineral foder till nöt","kg",0,5.2919999999999998E-3,0,null,null,null,null,null,null,null,null,null,null,null,"Korn, 11,9 % prot","kg",1.6399999999999998E-2,3.4000000000000002E-3,4.3E-3,32,0.87,3,13.2,"kraftfoder, spannmål etc.",null,"Råg, 10 % prot","kg",1.5100000000000001E-2,3.0999999999999999E-3,4.3E-3,32,0.87,3,9.86,10.07,null,null,"SwA Glänsa Lamm  Pell","kg",2.9600000000000001E-2,5.4999999999999997E-3,9.9900000000000006E-3,32,0.88,4,12.6,"kraftfoder, spannmål etc."]
[null,"N 26","kg",0.26,0,0,null,null,null,"Urearest","kg",3.3000000000000002E-2,0,0,null,null,"KLF Sin Test","kg",0,9.0127499999999999E-2,3.9399999999999998E-4,null,null,null,null,null,null,null,null,null,null,null,"Korn, lutad","kg",1.2239999999999999E-2,2.3999999999999998E-3,3.8249999999999998E-3,33,0.87,3,13.2,"kraftfoder, spannmål etc.",null,"Rågvete, 12,5 % prot","kg",1.72E-2,2.8E-3,4.1000000000000003E-3,33,0.87,3,10.34,10.46,null,null,"SwA Glänsa Lamm Låg  Pell","kg",2.6100000000000002E-2,5.1399999999999996E-3,9.8300000000000002E-3,33,0.88,4,12.3,"kraftfoder, spannmål etc."]
[null,"N 28","kg",0.27600000000000002,0,0,null,null,null,"Djupströgödsel får","kg",9.4999999999999998E-3,1.5E-3,0.02,null,null,"KLF Vilja Hög","kg",0,3.0380000000000001E-2,0,null,null,null,null,null,null,null,null,null,null,null,"Kornkli","kg",1.4524799999999999E-2,7.1199999999999996E-3,0,34,0.87,3,10.3,"kraftfoder, spannmål etc.",null,"Skummjölk","kg",5.1548799999999997E-3,9.167E-4,1.4685E-3,34,0.06,3,null,null,{"$f":"inköpt","v":"inköpt"},null,"SwA Glänsa Tacka Fiber Pell","kg",2.4E-2,4.7699999999999999E-3,1.068E-2,34,0.88,4,11.9,"kraftfoder, spannmål etc."]
[null,"N 30","kg",0.3,0,0,null,null,null,"Djupströgödsel häst","kg",4.8999999999999998E-3,1.6000000000000001E-3,1.06E-2,null,null,"KLF Vilja låg","kg",0,4.9979999999999997E-2,0,null,null,"Lin","kg",3.7999999999999999E-2,5.5000000000000005E-3,1.2E-2,null,null,null,null,"Linfrö","kg",3.3704959999999999E-2,5.2896000000000002E-3,8.2591999999999995E-3,35,0.93,3,20.100000000000001,"kraftfoder, spannmål etc.",null,"Soja böna","kg",5.7193760000000003E-2,5.1446E-3,1.7473900000000001E-2,35,0.87,3,null,null,"inköpt",null,"SwA Glänsa Tacka Pell","kg",2.8400000000000002E-2,5.2100000000000002E-3,9.2899999999999996E-3,35,0.88,4,null,"kraftfoder, spannmål etc."]
[null,"N-34","kg",0.34,0,0,null,null,null,"Djupströ höns 50% ts","kg",1.67E-2,7.7999999999999996E-3,1.04E-2,null,null,"Kv Vitafor Power","kg",0,1.4999999999999999E-2,0,null,null,"Raps","kg",3.5000000000000003E-2,6.0000000000000001E-3,8.0000000000000002E-3,null,null,null,null,"Linfröexpeller","kg",4.5807359999999998E-2,7.7916000000000001E-3,9.9659999999999992E-3,36,0.9,3,16.2,"kraftfoder, spannmål etc.",null,"Sojaböna, rostad","kg",5.7193760000000003E-2,5.1446E-3,1.7473900000000001E-2,36,0.87,3,null,null,"inköpt",null,"VF Får EDEL","kg",2.5055999999999998E-2,4.6979999999999999E-3,8.2649999999999998E-3,36,0.88,4,13,"kraftfoder, spannmål etc."]
[null,"Na-salpeter","kg",0.2,0,0,null,null,null,"Djupströ slaktkyckling 70% ts","kg",0.03,8.0000000000000002E-3,1.4999999999999999E-2,null,null,"Kv Vitafor solid","kg",0,0.02,0,null,null,"Rybs","kg",3.5000000000000003E-2,6.0000000000000001E-3,8.0000000000000002E-3,null,null,null,null,"Linfrökaka","kg",4.5400000000000003E-2,7.4999999999999997E-3,4.7000000000000002E-3,37,0.9,3,16.2,"kraftfoder, spannmål etc.",null,"Sojabönexpeller","kg",6.8966559999999996E-2,6.4609999999999997E-3,1.9936800000000001E-2,37,0.87,3,null,null,"inköpt",null,"Vitafor Derby","kg",0,2E-3,0,37,0.88,4,null,"kraftfoder, spannmål etc."]
[null,"NS 24-6","kg",0.24,0,0,null,null,null,"Djupströgödsel Kalkon","kg",3.5999999999999997E-2,1.2500000000000001E-2,1.54E-2,null,null,"Kv Vitafor strong","kg",0,3.4000000000000002E-2,0,null,null,"Fabrikspotatis","kg",4.0000000000000001E-3,5.9999999999999995E-4,6.0000000000000001E-3,null,null,null,null,"Linfrömjöl","kg",5.6675200000000002E-2,7.8320000000000004E-3,9.7900000000000001E-3,38,0.9,3,12.5,"kraftfoder, spannmål etc.",null,"Sojamjöl","kg",6.825792E-2,6.6575999999999996E-3,2.3651999999999999E-2,38,0.87,3,8.1199999999999992,8.73,"inköpt",null,"Vitafor Derby","kg",0,2E-3,0,38,0.88,4,null,"kraftfoder, spannmål etc."]
[null,"NS 24-6","kg",0.24,0,0,null,null,null,"Flytgödsel höns 11% ts","kg",5.0000000000000001E-3,1.1999999999999999E-3,2.0999999999999999E-3,null,null,"L Effekt Bete 2009","kg",0,5.0337E-2,1.4805E-3,null,null,"Matpotatis","kg",3.4999999999999996E-3,5.0000000000000001E-4,5.0000000000000001E-3,null,null,null,null,"Majsfodermjöl","kg",1.495872E-2,4.9392000000000004E-3,6.2621999999999999E-3,39,0.92,3,16,"kraftfoder, spannmål etc.",null,"Solrosexpeller","kg",3.8965600000000003E-2,8.5467000000000008E-3,1.30498E-2,39,0.92,3,null,null,"inköpt",null,"Vitafor Total","kg",0,4.0000000000000001E-3,0,39,0.88,4,null,"kraftfoder, spannmål etc."]
[null,"NS 27-3","kg",0.27,0,0,null,null,null,"Höns fastgödsel","kg",1.67E-2,7.7999999999999996E-3,1.04E-2,null,null,"L Effekt Biomikro","kg",0,8.8199999999999997E-3,1.372E-3,null,null,"Sockerbetor","kg",2E-3,4.0000000000000002E-4,2E-3,null,null,null,null,"Potatisprotein","kg",0.11808,3.8700000000000002E-3,5.4000000000000003E-3,40,0.9,3,15.5,"kraftfoder, spannmål etc.",null,"Solrosfrö","kg",3.1911679999999998E-2,5.4056E-3,9.1336000000000004E-3,40,0.91,3,15.38,15.69,"inköpt",null,"Vitafor Total","kg",0,4.0000000000000001E-3,0,40,0.88,4,null,"kraftfoder, spannmål etc."]
[null,"NS 27-4","kg",0.27,0,0,null,null,null,"Kletgödsel höns 30% ts","kg",1.2500000000000001E-2,3.8E-3,5.0000000000000001E-3,null,null,"L Effekt Fruktsam","kg",0,4.9299999999999997E-2,1.3803999999999999E-3,null,null,"Höstvete bröds. 12%","kg",1.8100000000000002E-2,3.0999999999999999E-3,4.3E-3,null,null,null,null,"Raps","kg",3.5000000000000003E-2,6.0000000000000001E-3,8.0000000000000002E-3,41,0.94,3,22.1,"kraftfoder, spannmål etc.",null,"Soy Pass","kg",6.9678080000000003E-2,5.3558E-3,1.95794E-2,41,0.87,3,null,null,"inköpt",null,"Bolifor Mag 33","kg",0,3.5000000000000003E-2,0,41,0.88,5,null,"kraftfoder, spannmål etc."]
[null,"NS 27-4 ZAK","kg",0.27,0,0,null,null,null,"Fastgödsel mink","kg",4.4499999999999998E-2,2.12E-2,1.09E-2,null,null,"L Effekt Får med Koppar","kg",1.1919999999999999E-3,0.06,1.9599999999999999E-3,null,null,"Maltkorn, 10,5% prot","kg",1.44E-2,3.4000000000000002E-3,4.3E-3,null,null,null,null,"Raps Expro-kaka 215 e","kg",5.04E-2,1.2699999999999999E-2,3.8E-3,42,0.94,3,15.5,"kraftfoder, spannmål etc.",null,"Sötlupin frö, gul","kg",6.3100000000000003E-2,6.4999999999999997E-3,2.7000000000000001E-3,42,0.87,3,null,null,null,null,"Carli Alfa Pure bales 14","kg",2.0144479999999999E-2,2.1137E-3,2.8121400000000001E-2,42,0.88,5,null,"kraftfoder, spannmål etc."]
[null,"Premago","kg",0.22,0,0,null,null,null,"Djupströgödsel nöt","kg",5.4000000000000003E-3,1.5E-3,0.01,null,null,"L Effekt Får utan Cu","kg",1.1919999999999999E-3,5.9998999999999997E-2,1.9550000000000001E-3,null,null,"Råg, 10 % prot","kg",1.5100000000000001E-2,3.0999999999999999E-3,4.3E-3,null,null,null,null,"Rapsexpeller, 10% fett","kg",4.8710400000000001E-2,9.8235000000000006E-3,1.239E-2,43,0.94,3,15.5,"kraftfoder, spannmål etc.",null,"Treonin","kg",0.12,0,0,43,1,3,null,null,{"$f":"inköpt","v":"inköpt"},null,"Carli Alfa Pure bales 18","kg",2.7379199999999999E-2,2.604E-3,2.7528E-2,43,0.88,5,null,"kraftfoder, spannmål etc."]
[null,"ProBeta N","kg",0.2,0,0,null,null,null,"Fastgödsel nöt","kg",5.1999999999999998E-3,1.5E-3,5.0000000000000001E-3,null,null,"L Effekt Grund","kg",0,2.4649999999999998E-2,1.5776E-3,null,null,"Vårvete, 13,5 % prot","kg",2.0400000000000001E-2,3.0999999999999999E-3,4.3E-3,null,null,null,null,"Rapsexpeller, 20% fett, kallpressad","kg",4.2862400000000002E-2,8.9890000000000005E-3,1.1214E-2,44,0.94,3,15.5,"kraftfoder, spannmål etc.",null,"vassle",null,1.1999999999999999E-3,5.0000000000000001E-4,1.4E-3,44,0.06,3,null,null,{"$f":"inköpt","v":"inköpt"},null,"Carli Alfa Pure bales 20","kg",3.052096E-2,2.5928000000000001E-3,2.3798199999999999E-2,44,0.88,5,null,"kraftfoder, spannmål etc."]
[null,"Skog-CAN","kg",0.27,0,0,null,null,null,"Flytgödsel nöt 9% ts","kg",4.3E-3,5.9999999999999995E-4,3.8E-3,null,null,"L Effekt Intensiv","kg",0,8.8830000000000003E-3,1.7765999999999999E-3,null,null,"Konservärter","kg",0.01,1E-3,2.3E-3,null,null,null,null,"Rapsfrö","kg",3.1199999999999999E-2,8.0000000000000002E-3,2.2000000000000001E-3,45,0.93,3,22.1,"kraftfoder, spannmål etc.",null,"Vete, lutad","kg",1.0919999999999999E-2,2.0149999999999999E-3,2.99E-3,45,0.87,3,null,null,null,null,"Carli Alfa Pure pellet 14","kg",2.316288E-2,3.9903999999999998E-3,1.8745600000000001E-2,45,0.88,5,null,"kraftfoder, spannmål etc."]
[null,"Suprasalpeter N 27","kg",0.27,0,0,null,null,null,"Kletgödsel nöt","kg",4.8999999999999998E-3,1.6000000000000001E-3,5.5999999999999999E-3,null,null,"L Effekt Intensiv balans","kg",0,8.8830000000000003E-3,1.3818000000000001E-3,null,null,"Baljväxtfrö","kg",4.8000000000000001E-2,6.0000000000000001E-3,1.1000000000000001E-2,null,null,null,null,"Rapsmjöl","kg",5.44544E-2,1.14036E-2,1.34368E-2,46,0.9,3,12.4,"kraftfoder, spannmål etc.",null,"Vetekli","kg",2.4081600000000002E-2,1.044E-2,1.044E-2,46,0.87,3,6.26,6.8,{"$f":"inköpt","v":"inköpt"},null,"Carli Alfa Pure pellet 16","kg",2.4842400000000001E-2,3.764E-3,2.0984300000000001E-2,46,0.88,5,null,"kraftfoder, spannmål etc."]
[null,"Svavelsalpeter","kg",0.27,0,0.02,null,null,null,"Urin nöt","kg",3.5000000000000001E-3,1E-4,5.0000000000000001E-3,null,null,"L Effekt Intensiv Pellets","kg",0,8.1259999999999995E-3,4.7800000000000004E-3,null,null,"Gräsfrö","kg",0.02,4.0000000000000001E-3,5.0000000000000001E-3,null,null,null,null,"Rapsmjöl Expro-00 e","kg",5.6000000000000001E-2,1.0800000000000001E-2,5.4000000000000003E-3,47,0.9,3,15.5,"kraftfoder, spannmål etc.",null,"Vicker kärna","kg",4.1799999999999997E-2,4.4999999999999997E-3,0,47,0.87,3,null,null,null,null,"Carli Alfa Pure pellet 20","kg",2.8663040000000001E-2,4.5700000000000003E-3,1.9102600000000001E-2,47,0.88,5,null,"kraftfoder, spannmål etc."]
[null,"Urea","kg",0.46,0,0,null,null,null,"Fontana 9-0-0","kg",0.09,0,0,null,null,"L Effekt Kalva ","kg",0,7.8051999999999996E-2,1.2844E-3,null,null,null,null,null,null,null,null,null,null,null,"Råg, 10 % prot","kg",1.5100000000000001E-2,3.0999999999999999E-3,4.3E-3,48,0.87,3,13.9,"kraftfoder, spannmål etc.",null,"Åkerböna kärna","kg",4.2023999999999999E-2,5.1000000000000004E-3,1.1220000000000001E-2,48,0.76,3,null,null,null,null,"Carli Alfa Pure pellet 22","kg",3.599488E-2,5.5319999999999996E-3,2.0191799999999999E-2,48,0.88,5,null,"kraftfoder, spannmål etc."]
[null,"Urea, Yara","kg",0.46200000000000002,0,0,null,null,null,"Biobact tomat","liter",0.03,0,0.02,null,null,"L Effekt Kalva Betakaroten","kg",0,9.0160000000000004E-2,1.47E-3,null,null,null,null,null,null,null,null,null,null,null,"Rågvete, 12,5 % prot","kg",1.72E-2,2.8E-3,4.1000000000000003E-3,49,0.87,3,14,"kraftfoder, spannmål etc.",null,"Åkerböna kärna rostad","kg",4.3161119999999997E-2,5.2379999999999996E-3,1.15236E-2,49,0.76,3,null,null,null,null,"Carli Rye Star bales 10","kg",1.5351999999999999E-2,2.1849999999999999E-3,1.805E-2,49,0.88,5,null,"kraftfoder, spannmål etc."]
[null,"Yara Liva Nitrabor","kg",0.155,0,0,null,null,null,"Biovinass H 2,5-0-5","kg",2.5000000000000001E-2,0,0.05,null,null,"L Effekt Kalva Cab 2000","kg",0,7.8799999999999995E-2,2.1670000000000001E-3,null,null,null,null,null,null,null,null,null,null,null,"Skummjölk","kg",5.1548799999999997E-3,9.167E-4,1.4685E-3,50,0.06,3,14.9,"kraftfoder, spannmål etc.",null,"Ärter mat/foder kärna","kg",3.15E-2,3.7000000000000002E-3,1.1000000000000001E-3,50,0.87,3,9.69,9.9600000000000009,null,null,"Carli Rye Star bales 12","kg",1.7592960000000001E-2,2.2176000000000001E-3,2.4855599999999999E-2,50,0.88,5,null,"kraftfoder, spannmål etc."]
[null,"Yara Sulfan","kg",0.24,0,0,null,null,null,"DCM Eco-Mix 3","kg",0.12,0,2.5000000000000001E-2,null,null,"L Effekt Kalva Selenjäst","kg",0,9.0620000000000006E-2,2.1670000000000001E-3,null,null,null,null,null,null,null,null,null,null,null,"Soja böna","kg",5.7193760000000003E-2,5.1446E-3,1.7473900000000001E-2,51,0.87,3,16.399999999999999,"kraftfoder, spannmål etc.",null,"Ärtex","kg",6.7000000000000004E-2,2.5999999999999999E-2,1.7000000000000001E-2,51,0.88,3,null,null,{"$f":"inköpt","v":"inköpt"},null,"Carli Rye Star pellet 10","kg",1.499808E-2,1.4704E-3,1.51635E-2,51,0.88,5,null,"kraftfoder, spannmål etc."]
[null,"YaraLiva Calcinit, Kalciumnitrat","kg",0.155,0,0,null,null,null,"DCM Prolico 1","liter",0.06,1E-3,2.5000000000000001E-2,null,null,"L Effekt Klöv","kg",0,1.372E-2,1.372E-3,null,null,null,null,null,null,null,null,null,null,null,"Sojaböna, rostad","kg",5.7193760000000003E-2,5.1446E-3,1.7473900000000001E-2,52,0.87,3,16.399999999999999,"kraftfoder, spannmål etc.",null,"Klövergräsensilage, ts","kg ts",2.7200000000000002E-2,2.0999999999999999E-3,2.5000000000000001E-2,52,1,3.5,null,null,null,null,"Carli Straw Light bales ","kg",9.5436800000000006E-3,1.1184000000000001E-3,1.3886799999999999E-2,52,0.88,5,null,"kraftfoder, spannmål etc."]
[null,"Kieserit","kg",0,0,0,null,null,null,"DCM Prolico 2","liter",2.3E-2,1E-3,0.05,null,null,"L Effekt Lamma med Cu","kg",1.472E-3,7.4999999999999997E-2,1.573E-3,null,null,null,null,null,null,null,null,null,null,null,"Sojamjöl","kg",6.825792E-2,6.6575999999999996E-3,2.3651999999999999E-2,53,0.87,3,14.6,"kraftfoder, spannmål etc.",null,"Klövergräshö, ts","kg ts",1.9199999999999998E-2,2.5999999999999999E-3,2.5000000000000001E-2,53,1,3.5,null,null,null,null,"Carli Straw Light pellets ","kg",9.3403199999999992E-3,1.9139999999999999E-3,1.7226000000000002E-2,53,0.88,5,null,"kraftfoder, spannmål etc."]
[null,"Magnesiumsulfat","kg",0,0,0,null,null,null,"DCM Vivikali","kg",0.02,0,0.16600000000000001,null,null,"L Effekt Lamma utan Cu","kg",1.792E-3,7.4999999999999997E-2,2.0309999999999998E-3,null,null,null,null,null,null,null,null,null,null,null,"Solrosexpeller","kg",3.8965600000000003E-2,8.5467000000000008E-3,1.30498E-2,54,0.92,3,11.7,"kraftfoder, spannmål etc.",null,"Aqua Gylt","kg",1.34E-2,7.0000000000000007E-2,5.0000000000000001E-4,54,0.88,4,null,null,{"$f":"inköpt","v":"inköpt"},null,"E Karisma Emmi Ekologisk","kg",2.5899999999999999E-2,4.1999999999999997E-3,3.5999999999999999E-3,54,0.88,5,null,"kraftfoder, spannmål etc."]
[null,"Kaliumnitrat","kg",0.14000000000000001,0,0.38500000000000001,null,null,null,"Vinass 4-0-4","kg",4.2999999999999997E-2,5.0000000000000001E-4,4.4999999999999998E-2,null,null,"L Effekt Magnesium","kg",0,2.9700000000000001E-2,1.0889999999999999E-3,null,null,null,null,null,null,null,null,null,null,null,"Solrosfrö","kg",3.1911679999999998E-2,5.4056E-3,9.1336000000000004E-3,55,0.91,3,11.4,"kraftfoder, spannmål etc.",null,"Aqua Slakt","kg",1.7000000000000001E-2,2.5999999999999999E-2,2.9999999999999997E-4,55,0.88,4,null,null,"inköpt",null,"E Karisma Nelli Ekologisk","kg",2.92E-2,4.4999999999999997E-3,3.8E-3,55,0.88,5,null,"kraftfoder, spannmål etc."]
[null,"NK 19-16 S+Mg","kg",0.19400000000000001,0,0.156,null,null,null,"Vinass Lallemand ","kg",3.2000000000000001E-2,1E-3,7.0000000000000007E-2,null,null,"L Effekt Mjölka Sund","kg",0,7.0992E-2,9.859999999999999E-4,null,null,null,null,null,null,null,null,null,null,null,"Sötlupin frö","kg",6.1341600000000003E-2,4.3004999999999996E-3,1.281E-2,56,0.87,3,13.6,"kraftfoder, spannmål etc.",null,"Aqua Smågris","kg",7.17E-2,3.4000000000000002E-2,0,56,0.88,4,null,null,"inköpt",null,"E Topp Elton Ekologisk","kg",4.1500000000000002E-2,6.1999999999999998E-3,5.1000000000000004E-3,56,0.88,5,null,"kraftfoder, spannmål etc."]
[null,"NK 20-15","kg",0.19600000000000001,0,0.14599999999999999,null,null,null,"DCM Eco-Fos","kg",0.04,0.1,0,null,null,"L Effekt Optimal","kg",0,6.4089999999999994E-2,1.3803999999999999E-3,null,null,null,null,null,null,null,null,null,null,null,"Sötlupin frö, gul","kg",6.3100000000000003E-2,6.4999999999999997E-3,2.7000000000000001E-3,57,0.87,3,13.6,"kraftfoder, spannmål etc.",null,"Aqua Sugg","kg",3.3999999999999998E-3,7.5999999999999998E-2,5.9999999999999995E-4,57,0.88,4,null,null,"inköpt",null,"E Topp Malte Ekologisk","kg",5.1299999999999998E-2,7.1000000000000004E-3,2.7000000000000001E-3,57,0.88,5,null,"kraftfoder, spannmål etc."]
[null,"NK 22-11","kg",0.216,0,0.106,null,null,null,"Allgrow","liter",7.0000000000000001E-3,1E-3,2E-3,null,null,"L Effekt Optimal Balans","kg",0,6.4155000000000004E-2,1.3818000000000001E-3,null,null,null,null,null,null,null,null,null,null,null,"Urea foder-","kg",0.45707199999999998,0,0,58,1,3,0,"kraftfoder, spannmål etc.",null,"KLF Action ","kg",2.1579999999999998E-2,5.143E-3,4.8999999999999998E-3,58,0.88,4,null,null,"inköpt",null,"Easylin 25 Protect, Agrosom","kg",3.9888E-2,7.92E-3,1.098E-2,58,0.88,5,null,"kraftfoder, spannmål etc."]
[null,"NK 22-12","kg",0.216,0,0.106,null,null,null,"Baralith Enslow 1","kg",1.7000000000000001E-2,2.5000000000000001E-3,1.9E-2,null,null,"L Effekt Optimal Koppar","kg",0,6.4089999999999994E-2,1.5776E-3,null,null,null,null,null,null,null,null,null,null,null,"vassle","kg",1.1999999999999999E-3,5.0000000000000001E-4,1.4E-3,59,0.06,3,13.5,"kraftfoder, spannmål etc.",null,"KLF Ajour ","kg",2.435E-2,5.182E-3,5.9020000000000001E-3,59,0.88,4,null,null,"inköpt",null,"Easylin 48 Protect, Agrosom","kg",7.6752000000000001E-2,6.4799999999999996E-3,8.9999999999999993E-3,59,0.88,5,null,"kraftfoder, spannmål etc."]
[null,"ProMagna NK 18-12","kg",0.18,0,0.12,null,null,null,"Benmjöl","kg",7.1999999999999995E-2,8.8999999999999996E-2,4.0000000000000001E-3,null,null,"L Effekt Optimal Pellets","kg",0,4.3020000000000003E-2,4.7800000000000004E-3,null,null,null,null,null,null,null,null,null,null,null,"Vete, lutad","kg",1.0919999999999999E-2,2.0149999999999999E-3,2.99E-3,60,0.87,3,14.1,"kraftfoder, spannmål etc.",null,"KLF Aktiv ","kg",2.4570000000000002E-2,5.4039999999999999E-3,6.496E-3,60,0.88,4,null,null,"inköpt",null,"Easylin Energy Protect, Agrosom","kg",2.4048E-2,4.9500000000000004E-3,6.0299999999999998E-3,60,0.88,5,null,"kraftfoder, spannmål etc."]
[null,"UniKa 14-19","kg",0.14199999999999999,0,0.187,null,null,null,"Biobact","liter",2.7E-2,4.0000000000000001E-3,1.7000000000000001E-2,null,null,"L Effekt SP Kött Mg","kg",0,5.978E-2,0,null,null,null,null,null,null,null,null,null,null,null,"Vetekli","kg",2.4081600000000002E-2,1.044E-2,1.044E-2,61,0.87,3,11,"kraftfoder, spannmål etc.",null,"KLF Aktiv SSAB","kg",2.5499999999999998E-2,5.2399999999999999E-3,5.398E-3,61,0.88,4,null,null,"inköpt",null,"Extrulin 60, Agrosom","kg",3.1158399999999999E-2,9.0089999999999996E-3,9.0089999999999996E-3,61,0.88,5,null,"kraftfoder, spannmål etc."]
[null,"UniKa Kali","kg",0.13600000000000001,0,0.373,null,null,null,"Biofer 10-3-1","kg",0.10100000000000001,0.03,8.9999999999999993E-3,null,null,"L Effekt Växa Sund","kg",0,7.1279999999999996E-2,1.2869999999999999E-3,null,null,null,null,null,null,null,null,null,null,null,"Vicker kärna","kg",4.1799999999999997E-2,4.4999999999999997E-3,0,62,0.87,3,13.9,"kraftfoder, spannmål etc.",null,"KLF Alice","kg",2.494E-2,5.0480000000000004E-3,5.6860000000000001E-3,62,0.88,4,null,null,"inköpt",null,"FD Vitamilk Str","kg",3.3368000000000002E-2,7.2750000000000002E-3,0,62,0.88,5,null,"kraftfoder, spannmål etc."]
[null,"Yara Unika Calcium","kg",0.14199999999999999,0,0.19900000000000001,null,null,null,"Biofer 6-3-12","kg",6.0999999999999999E-2,2.7E-2,0.11799999999999999,null,null,"L Mixa Intensiv","kg",0,8.8830000000000003E-3,1.3818000000000001E-3,null,null,null,null,null,null,null,null,null,null,null,"Åkerböna kärna","kg",4.2023999999999999E-2,5.1000000000000004E-3,1.1220000000000001E-2,63,0.76,3,12.9,"kraftfoder, spannmål etc.",null,"KLF Alma","kg",2.2200000000000001E-2,4.9129999999999998E-3,6.5170000000000002E-3,63,0.88,4,null,null,"inköpt",null,"FF Acetona Dry Sintidsfoder","kg",1.5488E-2,5.6319999999999999E-3,6.6E-3,63,0.88,5,null,"kraftfoder, spannmål etc."]
[null,"Yara Unika Plus","kg",0.12,0,0.38200000000000001,null,null,null,"Biofer 9-3-4","kg",8.7999999999999995E-2,2.7E-2,3.5000000000000003E-2,null,null,"L Mixa Intensiv MG","kg",0,8.8739999999999999E-3,1.4790000000000001E-3,null,null,null,null,null,null,null,null,null,null,null,"Åkerböna kärna rostad","kg",4.3161119999999997E-2,5.2379999999999996E-3,1.15236E-2,64,0.76,3,12.9,"kraftfoder, spannmål etc.",null,"KLF Alstra ","kg",2.1239999999999998E-2,5.3990000000000002E-3,5.6150000000000002E-3,64,0.88,4,null,null,"inköpt",null,"FF Acetona e-y Flytande","kg",6.1599999999999997E-3,1.54E-4,8.855E-3,64,0.88,5,null,"kraftfoder, spannmål etc."]
[null,"YaraMila 22-0-12","kg",0.2,0,0.11600000000000001,null,null,null,"Blodmjöl","kg",0.14399999999999999,2E-3,7.0000000000000001E-3,null,null,"L Mixa K Sin","kg",0,0.10780000000000001,1.176E-3,null,null,null,null,null,null,null,null,null,null,null,"Ärter mat/foder kärna","kg",3.15E-2,3.7000000000000002E-3,1.1000000000000001E-3,{"$f":"AL69+1","v":65},0.87,3,13.8,"kraftfoder, spannmål etc.",null,"KLF Aria","kg",2.8150000000000001E-2,5.4460000000000003E-3,6.1139999999999996E-3,{"$f":"AW69+1","v":65},0.88,4,null,null,"inköpt",null,"FF Acetona e-y Pellets","kg",1.3224E-2,2.9580000000000001E-3,7.221E-3,{"$f":"BI69+1","v":65},0.88,5,null,"kraftfoder, spannmål etc."]
[null,"NP 12-23 MAP","kg",0.12,0.23,0,null,null,null,"Bycobact 30","liter",2.7E-2,4.0000000000000001E-3,1.7000000000000001E-2,null,null,"L Mixa Optimal","kg",0,6.4155000000000004E-2,1.5792E-3,null,null,null,null,null,null,null,null,null,null,null,"Acetona Lakta Flytande","kg",1E-4,0,0,66,0.05,4,null,"kraftfoder, spannmål etc.",null,"KLF Astrid ","kg",2.3380000000000001E-2,5.1440000000000001E-3,5.2490000000000002E-3,66,0.88,4,null,null,"inköpt",null,"FF Farmarin Rypsi","kg",5.3620000000000001E-2,1.1025E-2,1.33875E-2,66,0.88,5,null,"kraftfoder, spannmål etc."]
[null,"NP 18-20 DAP","kg",0.18,0.2,0,null,null,null,"Bycobact Granulat","kg",0.05,1.4999999999999999E-2,3.5000000000000003E-2,null,null,"L Mixa Optimal Koppar","kg",0,6.4089999999999994E-2,1.7748E-3,null,null,null,null,null,null,null,null,null,null,null,"Bolifor Mag 33","kg",0,3.5000000000000003E-2,0,67,0.88,4,null,"kraftfoder, spannmål etc.",null,"KLF Balans","kg",2.402E-2,5.4130000000000003E-3,7.4289999999999998E-3,67,0.88,4,null,null,"inköpt",null,"FF Mega Kross","kg",2.8535999999999999E-2,4.9589999999999999E-3,9.5700000000000004E-3,67,0.88,5,null,"kraftfoder, spannmål etc."]
[null,"NP 26-4 S","kg",0.26,3.7999999999999999E-2,0,null,null,null,"Condit 5","kg",4.2000000000000003E-2,7.0000000000000001E-3,1.2999999999999999E-2,null,null,"L Mixa Optimal MG ","kg",0,6.4089999999999994E-2,1.2818E-3,null,null,null,null,null,null,null,null,null,null,null,"Carli Alfa Pure bales 14","kg",2.0144479999999999E-2,2.1137E-3,2.8121400000000001E-2,68,0.88,4,null,"kraftfoder, spannmål etc.",null,"KLF Blixtra 2102  ","kg",2.3359999999999999E-2,5.7130000000000002E-3,5.9500000000000004E-3,68,0.88,4,null,null,"inköpt",null,"FF Mega Kross Power","kg",3.2016000000000003E-2,5.2199999999999998E-3,9.5700000000000004E-3,68,0.88,5,null,"kraftfoder, spannmål etc."]
[null,"NP 27-3 S","kg",0.27,0.03,0,null,null,null,"DCM Eco-Mix 1","kg",0.09,2.1999999999999999E-2,2.5000000000000001E-2,null,null,"Lipitec Bovi 85, kalk fett","kg",0,0,0,null,null,null,null,null,null,null,null,null,null,null,"Carli Alfa Pure bales 18","kg",2.7379199999999999E-2,2.604E-3,2.7528E-2,69,0.88,4,null,"kraftfoder, spannmål etc.",null,"KLF Blixtra 2103 ","kg",2.392E-2,5.7499999999999999E-3,5.561E-3,69,0.88,4,null,null,"inköpt",null,"FF Mega Kross Protein","kg",4.0039999999999999E-2,7.6125000000000003E-3,1.18125E-2,69,0.88,5,null,"kraftfoder, spannmål etc."]
[null,"NP 27-5 S","kg",0.27,4.8000000000000001E-2,0,null,null,null,"DCM Eco-Mix 4","kg",7.0000000000000007E-2,3.1E-2,8.3000000000000004E-2,null,null,"Lipitec Bovi LM, saturated fat","kg",0,0,0,null,null,null,null,null,null,null,null,null,null,null,"Carli Alfa Pure bales 20","kg",3.052096E-2,2.5928000000000001E-3,2.3798199999999999E-2,70,0.88,4,null,"kraftfoder, spannmål etc.",null,"KLF Blixtra Bus","kg",2.581E-2,5.7790000000000003E-3,6.2810000000000001E-3,70,0.88,4,null,null,"inköpt",null,"FF Mega Kross Top Sve","kg",3.7379999999999997E-2,7.0000000000000001E-3,1.14625E-2,70,0.88,5,null,"kraftfoder, spannmål etc."]
[null,"Agro NPK 24-4-7","kg",0.24,0.04,7.0000000000000007E-2,null,null,null,"DCM ECO-Xtra 1","kg",0.08,2.1999999999999999E-2,0.05,null,null,"Lipitec GlycoFat, kalk fett","kg",0,0,0,null,null,null,null,null,null,null,null,null,null,null,"Carli Alfa Pure pellet 14","kg",2.316288E-2,3.9903999999999998E-3,1.8745600000000001E-2,71,0.88,4,null,"kraftfoder, spannmål etc.",null,"KLF Cavat ","kg",2.342E-2,4.5409999999999999E-3,5.3489999999999996E-3,71,0.88,4,null,null,"inköpt",null,"Fole 106","kg",2.4639999999999999E-2,4.4000000000000003E-3,8.2719999999999998E-3,71,0.88,5,null,"kraftfoder, spannmål etc."]
[null,"Agro NPK 28-3-5","kg",0.27500000000000002,2.5000000000000001E-2,4.4999999999999998E-2,null,null,null,"Dolagi Ekogödsel NPK 10-1-2","kg",0.1,1.2999999999999999E-2,2.5000000000000001E-2,null,null,"Magnesiumfosfat","kg",0,0.13,0,null,null,null,null,null,null,null,null,null,null,null,"Carli Alfa Pure pellet 16","kg",2.4842400000000001E-2,3.764E-3,2.0984300000000001E-2,72,0.88,4,null,"kraftfoder, spannmål etc.",null,"KLF Central ","kg",2.4060000000000002E-2,4.5929999999999999E-3,5.6239999999999997E-3,72,0.88,4,null,null,"inköpt",null,"Fole 110","kg",2.6752000000000001E-2,4.4000000000000003E-3,8.8000000000000005E-3,72,0.88,5,null,"kraftfoder, spannmål etc."]
[null,"Balans 22-4-7","kg",0.216,0.04,6.6000000000000003E-2,null,null,null,"Dolagi Ekogödsel NPK 3-4-2","kg",3.4000000000000002E-2,4.4999999999999998E-2,0.02,null,null,"Monoammoniumfosfat","kg",0.11360000000000001,0.24,0,null,null,null,null,null,null,null,null,null,null,null,"Carli Alfa Pure pellet 20","kg",2.8663040000000001E-2,4.5700000000000003E-3,1.9102600000000001E-2,73,0.88,4,null,"kraftfoder, spannmål etc.",null,"KLF Combi 7800 ","kg",2.2589999999999999E-2,4.4390000000000002E-3,5.4510000000000001E-3,73,0.88,4,null,null,"inköpt",null,"Fole 120","kg",3.0272E-2,4.4000000000000003E-3,8.8000000000000005E-3,73,0.88,5,null,"kraftfoder, spannmål etc."]
[null,"Balans 26-3-4","kg",0.25600000000000001,2.5999999999999999E-2,3.5999999999999997E-2,null,null,null,"Dolagi Ekogödsel NPK 7-3-8","kg",6.6000000000000003E-2,3.2000000000000001E-2,8.6999999999999994E-2,null,null,"Monokalciumfosfat","kg",0,0.22700000000000001,0,null,null,null,null,null,null,null,null,null,null,null,"Carli Alfa Pure pellet 22","kg",3.599488E-2,5.5319999999999996E-3,2.0191799999999999E-2,74,0.88,4,null,"kraftfoder, spannmål etc.",null,"KLF Combi 7821 ","kg",2.051E-2,4.228E-3,5.7099999999999998E-3,74,0.88,4,null,null,"inköpt",null,"Fole 125","kg",3.3087999999999999E-2,3.96E-3,8.8000000000000005E-3,74,0.88,5,null,"kraftfoder, spannmål etc."]
[null,"Belor NPK 27-3-5","kg",0.27,2.5999999999999999E-2,0.05,null,null,null,"Dolagi Ekogödsel NPK 8-2-7","kg",7.5999999999999998E-2,2.4E-2,8.4000000000000005E-2,null,null,"Mononatriumfosfat","kg",0,0.24,0,null,null,null,null,null,null,null,null,null,null,null,"Carli Rye Star bales 10","kg",1.5351999999999999E-2,2.1849999999999999E-3,1.805E-2,75,0.88,4,null,"kraftfoder, spannmål etc.",null,"KLF Combi 7833 ","kg",2.4680000000000001E-2,3.9189999999999997E-3,5.5030000000000001E-3,75,0.88,4,null,null,"inköpt",null,"Fole Bas","kg",2.3935999999999999E-2,4.8399999999999997E-3,8.8000000000000005E-3,75,0.88,5,null,"kraftfoder, spannmål etc."]
[null,"NPK 13-6-17","kg",0.13,0.06,0.17,null,null,null,"Dolagi Hönsgödsel NPK 4-1-2","kg",3.5999999999999997E-2,1.2E-2,1.7999999999999999E-2,null,null,"SA Best MIDI","kg",0,5.3900000000000003E-2,0,null,null,null,null,null,null,null,null,null,null,null,"Carli Rye Star bales 12","kg",1.7592960000000001E-2,2.2176000000000001E-3,2.4855599999999999E-2,76,0.88,4,null,"kraftfoder, spannmål etc.",null,"KLF Combi 8000 ","kg",2.35E-2,4.3559999999999996E-3,5.0699999999999999E-3,76,0.88,4,null,null,"inköpt",null,"Fole Flott 205","kg",2.8864000000000001E-2,4.8399999999999997E-3,8.8000000000000005E-3,76,0.88,5,null,"kraftfoder, spannmål etc."]
[null,"NPK 16-5-12","kg",0.16,0.05,0.12,null,null,null,"Dolagi Potatisgödsel NPK 4-1-8","kg",4.1000000000000002E-2,0.01,0.08,null,null,"SA Best MINI","kg",0,0.1176,0,null,null,null,null,null,null,null,null,null,null,null,"Carli Rye Star pellet 10","kg",1.499808E-2,1.4704E-3,1.51635E-2,77,0.88,4,null,"kraftfoder, spannmål etc.",null,"KLF Combi 8031 ","kg",1.9290000000000002E-2,3.712E-3,4.1110000000000001E-3,77,0.88,4,null,null,"inköpt",null,"Fole Flott 295","kg",4.2007999999999997E-2,5.7850000000000002E-3,1.0858E-2,77,0.88,5,null,"kraftfoder, spannmål etc."]
[null,"NPK 17-4-12","kg",0.17,0.04,0.12,null,null,null,"Ekogödsel Plus 4,4-1,5-2","kg",4.3999999999999997E-2,1.4999999999999999E-2,2.4E-2,null,null,"SA Bäst 1 till 1","kg",0,8.3299999999999999E-2,0,null,null,null,null,null,null,null,null,null,null,null,"Carli Straw Light bales ","kg",9.5436800000000006E-3,1.1184000000000001E-3,1.3886799999999999E-2,78,0.88,4,null,"kraftfoder, spannmål etc.",null,"KLF Combi 8200 ","kg",2.3990000000000001E-2,5.385E-3,5.0369999999999998E-3,78,0.88,4,null,null,"inköpt",null,"Fole Gotlands Balans","kg",6.0519999999999997E-2,9.7900000000000001E-3,1.0858E-2,78,0.88,5,null,"kraftfoder, spannmål etc."]
[null,"NPK 17-4-13","kg",0.17,0.04,0.13,null,null,null,"Ekogödsel Plus 4-3-3","kg",4.2999999999999997E-2,2.8000000000000001E-2,2.7E-2,null,null,"SA Bäst Gängse","kg",0,3.4299999999999997E-2,0,null,null,null,null,null,null,null,null,null,null,null,"Carli Straw Light pellets ","kg",9.3403199999999992E-3,1.9139999999999999E-3,1.7226000000000002E-2,79,0.88,4,null,"kraftfoder, spannmål etc.",null,"KLF Combi 8311","kg",2.0650000000000002E-2,4.2440000000000004E-3,4.8390000000000004E-3,79,0.88,4,null,null,"inköpt",null,"Fole Grön 100","kg",2.6470400000000002E-2,3.5200000000000001E-3,8.8000000000000005E-3,79,0.88,5,null,"kraftfoder, spannmål etc."]
[null,"NPK 17-6-10","kg",0.17,6.5000000000000002E-2,0.105,null,null,null,"Ekogödsel Plus 6-3-8-5","kg",5.8999999999999997E-2,2.9000000000000001E-2,7.5999999999999998E-2,null,null,"SA Bäst Kött ","kg",0,9.7999999999999997E-3,0,null,null,null,null,null,null,null,null,null,null,null,"E Karisma Emmi Ekologisk","kg",2.5899999999999999E-2,4.1999999999999997E-3,3.5999999999999999E-3,80,0.88,4,null,"kraftfoder, spannmål etc.",null,"KLF Combi 8313 ","kg",2.443E-2,5.4060000000000002E-3,6.463E-3,80,0.88,4,null,null,"inköpt",null,"Fole Grön 120","kg",3.2384000000000003E-2,3.5200000000000001E-3,8.8000000000000005E-3,80,0.88,5,null,"kraftfoder, spannmål etc."]
[null,"NPK 17-7-14","kg",0.17100000000000001,6.7000000000000004E-2,0.13900000000000001,null,null,null,"Ekogödsel Plus 8-3-5-3","kg",7.8E-2,3.2000000000000001E-2,4.9000000000000002E-2,null,null,"SA Bäst Maxi P-kontroll","kg",0,9.7999999999999997E-3,0,null,null,null,null,null,null,null,null,null,null,null,"E Karisma Nelli Ekologisk","kg",2.92E-2,4.4999999999999997E-3,3.8E-3,81,0.88,4,null,"kraftfoder, spannmål etc.",null,"KLF Combi 8321 ","kg",1.9480000000000001E-2,4.2789999999999998E-3,5.2030000000000002E-3,81,0.88,4,null,null,"inköpt",null,"Fole Intensiv","kg",2.8160000000000001E-2,5.104E-3,8.8000000000000005E-3,81,0.88,5,null,"kraftfoder, spannmål etc."]
[null,"NPK 17-7-4","kg",0.17,7.0000000000000007E-2,0.04,null,null,null,"Ekogödsel Plus 9-4-0","kg",9.2999999999999999E-2,4.1000000000000002E-2,4.0000000000000001E-3,null,null,"SA Bäst P-kontroll","kg",0,9.7999999999999997E-3,0,null,null,null,null,null,null,null,null,null,null,null,"E Topp Elton Ekologisk","kg",4.1500000000000002E-2,6.1999999999999998E-3,5.1000000000000004E-3,82,0.88,4,null,"kraftfoder, spannmål etc.",null,"KLF Combi 8322 ","kg",2.2839999999999999E-2,4.398E-3,5.2240000000000003E-3,82,0.88,4,null,null,"inköpt",null,"Fole Kalvstart","kg",2.8160000000000001E-2,3.96E-3,8.8000000000000005E-3,82,0.88,5,null,"kraftfoder, spannmål etc."]
[null,"NPK 18-3-12","kg",0.18,0.03,0.12,null,null,null,"Fontana 4-1-6","kg",0.04,5.0000000000000001E-3,5.5E-2,null,null,"SA Bäst Sansad","kg",0,2.4500000000000001E-2,0,null,null,null,null,null,null,null,null,null,null,null,"E Topp Malte Ekologisk","kg",5.1299999999999998E-2,7.1000000000000004E-3,2.7000000000000001E-3,83,0.88,4,null,"kraftfoder, spannmål etc.",null,"KLF Combi 8323 ","kg",2.53E-2,5.339E-3,7.6379999999999998E-3,83,0.88,4,null,null,"inköpt",null,"HO Hivetona","kg",1.067968E-2,9.9219999999999994E-4,4.5100000000000001E-3,83,0.88,5,null,"kraftfoder, spannmål etc."]
[null,"NPK 18-5-12","kg",0.18,0.05,0.12,null,null,null,"Hönsgödsel Biopower","kg",4.9000000000000002E-2,1.4E-2,2.5999999999999999E-2,null,null,"SA Bäst Turbo","kg",0,9.7999999999999997E-3,0,null,null,null,null,null,null,null,null,null,null,null,"Easylin 25 Protect, Agrosom","kg",3.9888E-2,7.92E-3,1.098E-2,84,0.88,4,null,"kraftfoder, spannmål etc.",null,"KLF Combi 8331 ","kg",2.4320000000000001E-2,4.6810000000000003E-3,6.1029999999999999E-3,84,0.88,4,null,null,"inköpt",null,"HO Hivetonaleik","kg",1.0699999999999999E-2,1E-3,0,84,0.88,5,null,"kraftfoder, spannmål etc."]
[null,"NPK 18-6-12","kg",0.18,0.06,0.12,null,null,null,"PHC 6-2-5","liter",6.0999999999999999E-2,2.3E-2,5.1999999999999998E-2,null,null,"SF Bas Ca Deltamin","kg",1.5744000000000001E-3,6.888E-3,6.8880000000000005E-4,null,null,null,null,null,null,null,null,null,null,null,"Easylin 48 Protect, Agrosom","kg",7.6752000000000001E-2,6.4799999999999996E-3,8.9999999999999993E-3,85,0.88,4,null,"kraftfoder, spannmål etc.",null,"KLF Combi 8333 ","kg",2.138E-2,3.9269999999999999E-3,5.241E-3,85,0.88,4,null,null,"inköpt",null,"HO Hivetona-Liuos","kg",7.9542399999999996E-3,7.4200000000000001E-5,6.6037999999999999E-3,85,0.88,5,null,"kraftfoder, spannmål etc."]
[null,"NPK 20-2-5","kg",0.2,0.02,0.05,null,null,null,"PHC 8-1-3","liter",8.2000000000000003E-2,1.4999999999999999E-2,2.7E-2,null,null,"SF Bas Normal Deltamin","kg",1.5744000000000001E-3,5.0183999999999999E-2,3.9360000000000003E-4,null,null,null,null,null,null,null,null,null,null,null,"Easylin Energy Protect, Agrosom","kg",2.4048E-2,4.9500000000000004E-3,6.0299999999999998E-3,86,0.88,4,null,"kraftfoder, spannmål etc.",null,"KLF Combi 8411 ","kg",2.3439999999999999E-2,4.7270000000000003E-3,4.4539999999999996E-3,86,0.88,4,null,null,"inköpt",null,"HO Propyleeni 80","kg",0,2.4389999999999999E-4,0,86,0.88,5,null,"kraftfoder, spannmål etc."]
[null,"NPK 20-3-5","kg",0.2,0.03,0.05,null,null,null,"Vetesirap","kg",1.7000000000000001E-2,3.3999999999999998E-3,4.5999999999999999E-3,null,null,"SF Deltamin Bete","kg",1.5744000000000001E-3,6.0024000000000001E-2,8.8559999999999995E-4,null,null,null,null,null,null,null,null,null,null,null,"Extrulin 60, Agrosom","kg",3.1158399999999999E-2,9.0089999999999996E-3,9.0089999999999996E-3,87,0.88,4,null,"kraftfoder, spannmål etc.",null,"KLF Combi 8431 ","kg",2.087E-2,3.9439999999999996E-3,3.9830000000000004E-3,87,0.88,4,null,null,"inköpt",null,"JH 138 Ungnöt Edel","kg",1.92096E-2,4.8719999999999996E-3,8.0040000000000007E-3,87,0.88,5,null,"kraftfoder, spannmål etc."]
[null,"NPK 20-4-8","kg",0.2,4.2999999999999997E-2,8.3000000000000004E-2,null,null,null,"Växtnäring Dolagi","kg",2.5000000000000001E-2,1.6E-2,0.08,null,null,"SF Deltamin CAB","kg",1.6000000000000001E-3,0.05,0,null,null,null,null,null,null,null,null,null,null,null,"FD Vitamilk Str","kg",3.3368000000000002E-2,7.2750000000000002E-3,0,88,0.88,4,null,"kraftfoder, spannmål etc.",null,"KLF Combi 8600 ","kg",2.1690000000000001E-2,4.4879999999999998E-3,5.3319999999999999E-3,88,0.88,4,null,null,"inköpt",null,"JH 140 Ungnöt EDEL","kg",1.9487999999999998E-2,4.8719999999999996E-3,7.4819999999999999E-3,88,0.88,5,null,"kraftfoder, spannmål etc."]
[null,"NPK 20-6-8","kg",0.2,0.06,0.08,null,null,null,"Djupströgödsel svin","kg",4.7999999999999996E-3,1.5E-3,4.4999999999999997E-3,null,null,"SF Deltamin Di","kg",1.5679999999999999E-3,8.9179999999999995E-2,4.8999999999999998E-4,null,null,null,null,null,null,null,null,null,null,null,"FF Acetona Dry Sintidsfoder","kg",1.5488E-2,5.6319999999999999E-3,6.6E-3,89,0.88,4,null,"kraftfoder, spannmål etc.",null,"KLF Combi 8611 ","kg",2.121E-2,5.2919999999999998E-3,5.6759999999999996E-3,89,0.88,4,null,null,"inköpt",null,"JH 156 Ungnöt Edel","kg",2.17152E-2,5.2199999999999998E-3,6.96E-3,89,0.88,5,null,"kraftfoder, spannmål etc."]
[null,"NPK 21-3-10","kg",0.20599999999999999,2.5999999999999999E-2,9.6000000000000002E-2,null,null,null,"Fastgödsel svin (sugg-)","kg",6.4999999999999997E-3,2.5000000000000001E-3,2.5000000000000001E-3,null,null,"SF Deltamin EasyLick HighMag","kg",1.552E-3,3.1040000000000002E-2,0,null,null,null,null,null,null,null,null,null,null,null,"FF Acetona e-y Flytande","kg",6.1599999999999997E-3,1.54E-4,8.855E-3,90,0.88,4,null,"kraftfoder, spannmål etc.",null,"KLF Combi 8613 ","kg",2.2780000000000002E-2,4.3220000000000003E-3,5.0639999999999999E-3,90,0.88,4,null,null,"inköpt",null,"JH 165 Ungnöt Edel","kg",2.2967999999999999E-2,5.4809999999999998E-3,7.7429999999999999E-3,90,0.88,5,null,"kraftfoder, spannmål etc."]
[null,"NPK 21-4-8","kg",0.21,4.2999999999999997E-2,8.3000000000000004E-2,null,null,null,"Flytgödsel svin 6% ts (slaktsvins-)","kg",2.7000000000000001E-3,5.9999999999999995E-4,1.4E-3,null,null,"SF Deltamin Fertil Ca","kg",1.536E-3,3.168E-2,5.7600000000000001E-4,null,null,null,null,null,null,null,null,null,null,null,"FF Acetona e-y Pellets","kg",1.3224E-2,2.9580000000000001E-3,7.221E-3,91,0.88,4,null,"kraftfoder, spannmål etc.",null,"KLF Combi 8633 ","kg",1.8599999999999998E-2,4.529E-3,4.2259999999999997E-3,91,0.88,4,null,null,"inköpt",null,"JH 176 Ungnöt Edel","kg",2.4499199999999999E-2,5.3940000000000004E-3,7.0470000000000003E-3,91,0.88,5,null,"kraftfoder, spannmål etc."]
[null,"NPK 22-4-9","kg",0.22,0.04,0.09,null,null,null,"Urin svin (sugg-)","kg",1.8E-3,2.0000000000000001E-4,1.1999999999999999E-3,null,null,"SF Deltamin Fertil P","kg",1.536E-3,4.9919999999999999E-2,6.7199999999999996E-4,null,null,null,null,null,null,null,null,null,null,null,"FF Farmarin Rypsi","kg",5.3620000000000001E-2,1.1025E-2,1.33875E-2,92,0.88,4,null,"kraftfoder, spannmål etc.",null,"KLF Combi 8635 ","kg",2.0140000000000002E-2,4.0730000000000002E-3,4.9569999999999996E-3,92,0.88,4,null,null,"inköpt",null,"JH 180 Vega EDEL","kg",2.5055999999999998E-2,5.2199999999999998E-3,7.8300000000000002E-3,92,0.88,5,null,"kraftfoder, spannmål etc."]
[null,"NPK 22-5-9","kg",0.22,0.05,0.09,null,null,null,null,null,null,null,null,null,null,"SF Deltamin Kviga","kg",1.6000000000000001E-3,0.05,5.0000000000000001E-4,null,null,null,null,null,null,null,null,null,null,null,"FF Mega Kross","kg",2.8535999999999999E-2,4.9589999999999999E-3,9.5700000000000004E-3,93,0.88,4,null,"kraftfoder, spannmål etc.",null,"KLF Combi 8725 ","kg",2.138E-2,4.9309999999999996E-3,4.7549999999999997E-3,93,0.88,4,null,null,"inköpt",null,"JH 185 Nova EDEL","kg",2.5752000000000001E-2,4.6979999999999999E-3,8.0909999999999992E-3,93,0.88,5,null,"kraftfoder, spannmål etc."]
[null,"NPK 22-6-6","kg",0.216,5.8000000000000003E-2,5.8000000000000003E-2,null,null,null,null,null,null,null,null,null,null,"SF Deltamin Kött","kg",1.5679999999999999E-3,3.0380000000000001E-2,4.8999999999999998E-4,null,null,null,null,null,null,null,null,null,null,null,"FF Mega Kross Power","kg",3.2016000000000003E-2,5.2199999999999998E-3,9.5700000000000004E-3,94,0.88,4,null,"kraftfoder, spannmål etc.",null,"KLF Combi 8800 ","kg",2.724E-2,4.2979999999999997E-3,6.2179999999999996E-3,94,0.88,4,null,null,"inköpt",null,"JH 189 Beta Nova Edel","kg",2.63088E-2,4.8719999999999996E-3,6.6119999999999998E-3,94,0.88,5,null,"kraftfoder, spannmål etc."]
[null,"NPK 24-2-8","kg",0.24,0.02,0.08,null,null,null,null,null,null,null,null,null,null,"SF Deltamin Mg","kg",1.5039999999999999E-3,0,3.7599999999999998E-4,null,null,null,null,null,null,null,null,null,null,null,"FF Mega Kross Protein","kg",4.0039999999999999E-2,7.6125000000000003E-3,1.18125E-2,95,0.88,4,null,"kraftfoder, spannmål etc.",null,"KLF Combi 8811 ","kg",2.2040000000000001E-2,4.0889999999999998E-3,4.895E-3,95,0.88,4,null,null,"inköpt",null,"JH 190 Nova EDEL","kg",2.6447999999999999E-2,4.6979999999999999E-3,9.2219999999999993E-3,95,0.88,5,null,"kraftfoder, spannmål etc."]
[null,"NPK 24-4-5","kg",0.24,0.04,0.05,null,null,null,null,null,null,null,null,null,null,"SF Deltamin MikroVit","kg",1.5039999999999999E-3,0,1.222E-3,null,null,null,null,null,null,null,null,null,null,null,"FF Mega Kross Top Sve","kg",3.7379999999999997E-2,7.0000000000000001E-3,1.14625E-2,96,0.88,4,null,"kraftfoder, spannmål etc.",null,"KLF Combi 8821 ","kg",2.009E-2,3.9370000000000004E-3,4.5469999999999998E-3,96,0.88,4,null,null,"inköpt",null,"JH 190 Pärla Nova Edel","kg",2.6447999999999999E-2,5.2199999999999998E-3,6.96E-3,96,0.88,5,null,"kraftfoder, spannmål etc."]
[null,"NPK 25-2-6","kg",0.246,1.6E-2,0.06,null,null,null,null,null,null,null,null,null,null,"SF Deltamin Mixer Ca","kg",1.5792E-3,0,3.948E-4,null,null,null,null,null,null,null,null,null,null,null,"Fole 106","kg",2.4639999999999999E-2,4.4000000000000003E-3,8.2719999999999998E-3,97,0.88,4,null,"kraftfoder, spannmål etc.",null,"KLF Combi 9331","kg",1.9130000000000001E-2,3.748E-3,4.1029999999999999E-3,97,0.88,4,null,null,"inköpt",null,"JH 190 Ungnöt EDEL","kg",2.6447999999999999E-2,5.3940000000000004E-3,8.0040000000000007E-3,97,0.88,5,null,"kraftfoder, spannmål etc."]
[null,"NPK 25-3-5","kg",0.251,0.03,0.05,null,null,null,null,null,null,null,null,null,null,"SF Deltamin Mixer Normal","kg",1.5792E-3,4.0467000000000003E-2,7.896E-4,null,null,null,null,null,null,null,null,null,null,null,"Fole 110","kg",2.6752000000000001E-2,4.4000000000000003E-3,8.8000000000000005E-3,98,0.88,4,null,"kraftfoder, spannmål etc.",null,"KLF Combi 9913 ","kg",2.63E-2,4.1859999999999996E-3,5.4159999999999998E-3,98,0.88,4,null,null,"inköpt",null,"JH 198 Ungnöt Edel","kg",2.7561599999999999E-2,5.9160000000000003E-3,8.6999999999999994E-3,98,0.88,5,null,"kraftfoder, spannmål etc."]
[null,"NPK 26-3-4","kg",0.25600000000000001,2.5999999999999999E-2,3.5999999999999997E-2,null,null,null,null,null,null,null,null,null,null,"SF Deltamin Mixer S","kg",1.5792E-3,7.9947000000000004E-2,1.3818000000000001E-3,null,null,null,null,null,null,null,null,null,null,null,"Fole 120","kg",3.0272E-2,4.4000000000000003E-3,8.8000000000000005E-3,99,0.88,4,null,"kraftfoder, spannmål etc.",null,"KLF Competent ","kg",2.215E-2,4.8060000000000004E-3,5.7530000000000003E-3,99,0.88,4,null,null,"inköpt",null,"JH 200 Vega EDEL","kg",2.784E-2,5.2199999999999998E-3,8.9610000000000002E-3,99,0.88,5,null,"kraftfoder, spannmål etc."]
[null,"NPK 27-3-3","kg",0.27,2.5999999999999999E-2,2.5999999999999999E-2,null,null,null,null,null,null,null,null,null,null,"SF Deltamin Pellets Normal","kg",1.536E-3,4.0320000000000002E-2,6.7199999999999996E-4,null,null,null,null,null,null,null,null,null,null,null,"Fole 125","kg",3.3087999999999999E-2,3.96E-3,8.8000000000000005E-3,100,0.88,4,null,"kraftfoder, spannmål etc.",null,"KLF Complett 7833 ","kg",6.0319999999999999E-2,1.1683000000000001E-2,1.6268000000000001E-2,100,0.88,4,null,null,"inköpt",null,"JH 205 Nova EDEL","kg",2.8535999999999999E-2,4.9589999999999999E-3,9.5700000000000004E-3,100,0.88,5,null,"kraftfoder, spannmål etc."]
[null,"ProBeta NPK 14-4-8","kg",0.13900000000000001,3.5999999999999997E-2,0.08,null,null,null,null,null,null,null,null,null,null,"SF Deltamin ProtiSpar","kg",1.5712E-3,2.946E-2,3.9280000000000001E-4,null,null,null,null,null,null,null,null,null,null,null,"Fole Bas","kg",2.3935999999999999E-2,4.8399999999999997E-3,8.8000000000000005E-3,101,0.88,4,null,"kraftfoder, spannmål etc.",null,"KLF Complett 8031 ","kg",3.5029999999999999E-2,7.3569999999999998E-3,9.2580000000000006E-3,101,0.88,4,null,null,"inköpt",null,"JH 210 Vega EDEL","kg",2.9232000000000001E-2,5.568E-3,7.9170000000000004E-3,101,0.88,5,null,"kraftfoder, spannmål etc."]
[null,"Yara Mila 20-5-10","kg",0.19600000000000001,4.5999999999999999E-2,9.6000000000000002E-2,null,null,null,null,null,null,null,null,null,null,"SF Deltamin Sin","kg",1.5152E-3,5.00016E-2,6.6290000000000001E-4,null,null,null,null,null,null,null,null,null,null,null,"Fole Flott 205","kg",2.8864000000000001E-2,4.8399999999999997E-3,8.8000000000000005E-3,102,0.88,4,null,"kraftfoder, spannmål etc.",null,"KLF Complett 8300 ","kg",5.5129999999999998E-2,6.2890000000000003E-3,1.3546000000000001E-2,102,0.88,4,null,null,"inköpt",null,"JH 215 KHV FUFO EDEL","kg",3.0272E-2,5.5440000000000003E-3,1.0120000000000001E-2,102,0.88,5,null,"kraftfoder, spannmål etc."]
[null,"YaraMila 21-3-10","kg",0.20599999999999999,2.5999999999999999E-2,9.6000000000000002E-2,null,null,null,null,null,null,null,null,null,null,"SF Deltamin Sin Fertil","kg",1.5152E-3,5.00016E-2,6.6290000000000001E-4,null,null,null,null,null,null,null,null,null,null,null,"Fole Flott 295","kg",4.2007999999999997E-2,5.7850000000000002E-3,1.0858E-2,103,0.88,4,null,"kraftfoder, spannmål etc.",null,"KLF Complett 8311 ","kg",4.9110000000000001E-2,7.2789999999999999E-3,1.3731999999999999E-2,103,0.88,4,null,null,"inköpt",null,"JH 215 Nova Edel","kg",2.9928E-2,4.9589999999999999E-3,9.2219999999999993E-3,103,0.88,5,null,"kraftfoder, spannmål etc."]
[null,"YaraMila 21-4-7","kg",0.20599999999999999,3.5999999999999997E-2,6.6000000000000003E-2,null,null,null,null,null,null,null,null,null,null,"SF Deltamin Slick Nöt","kg",1.552E-3,6.0139999999999999E-2,0,null,null,null,null,null,null,null,null,null,null,null,"Fole Gotlands Balans","kg",6.0519999999999997E-2,9.7900000000000001E-3,1.0858E-2,104,0.88,4,null,"kraftfoder, spannmål etc.",null,"KLF Complett 8321","kg",4.6640000000000001E-2,7.9550000000000003E-3,1.2940999999999999E-2,104,0.88,4,null,null,"inköpt",null,"JH 220 KHV FUFO EDEL","kg",3.0976E-2,5.5440000000000003E-3,1.0120000000000001E-2,104,0.88,5,null,"kraftfoder, spannmål etc."]
[null,"YaraMila 22-6-6","kg",0.216,5.8999999999999997E-2,5.8000000000000003E-2,null,null,null,null,null,null,null,null,null,null,"SF Deltamin Topp Ca","kg",1.5712E-3,1.0802000000000001E-2,9.8200000000000002E-4,null,null,null,null,null,null,null,null,null,null,null,"Fole Grön 100","kg",2.6470400000000002E-2,3.5200000000000001E-3,8.8000000000000005E-3,105,0.88,4,null,"kraftfoder, spannmål etc.",null,"KLF Complett 8331 ","kg",4.5969999999999997E-2,6.5830000000000003E-3,1.2078999999999999E-2,105,0.88,4,null,null,"inköpt",null,"JH 220 Nova EDEL","kg",3.0623999999999998E-2,5.2199999999999998E-3,9.1350000000000008E-3,105,0.88,5,null,"kraftfoder, spannmål etc."]
[null,"YaraMila 23-3-7","kg",0.22600000000000001,2.5999999999999999E-2,6.6000000000000003E-2,null,null,null,null,null,null,null,null,null,null,"SF Deltamin Topp Normal","kg",1.5712E-3,4.0261999999999999E-2,3.9280000000000001E-4,null,null,null,null,null,null,null,null,null,null,null,"Fole Grön 120","kg",3.2384000000000003E-2,3.5200000000000001E-3,8.8000000000000005E-3,106,0.88,4,null,"kraftfoder, spannmål etc.",null,"KLF Complett 8336 ","kg",3.3270000000000001E-2,2.0760000000000001E-2,7.2309999999999996E-3,106,0.88,4,null,null,"inköpt",null,"JH 220 Vega EDEL","kg",3.0623999999999998E-2,5.568E-3,9.5700000000000004E-3,106,0.88,5,null,"kraftfoder, spannmål etc."]
[null,"YaraMila 23-3-8","kg",0.23,0.03,0.08,null,null,null,null,null,null,null,null,null,null,"SF Deltamin Topp P","kg",1.5712E-3,8.5433999999999996E-2,6.8740000000000001E-4,null,null,null,null,null,null,null,null,null,null,null,"Fole Intensiv","kg",2.8160000000000001E-2,5.104E-3,8.8000000000000005E-3,107,0.88,4,null,"kraftfoder, spannmål etc.",null,"KLF Complett 8400 ","kg",4.3450000000000003E-2,6.672E-3,1.0349000000000001E-2,107,0.88,4,null,null,"inköpt",null,"JH 225 Nova EDEL","kg",3.1320000000000001E-2,5.2199999999999998E-3,8.9610000000000002E-3,107,0.88,5,null,"kraftfoder, spannmål etc."]
[null,"YaraMila 24-4-5","kg",0.23599999999999999,3.5999999999999997E-2,4.5999999999999999E-2,null,null,null,null,null,null,null,null,null,null,"SF DeltaVit E-5000","kg",1.6000000000000001E-3,0,0,null,null,null,null,null,null,null,null,null,null,null,"Fole Kalvstart","kg",2.8160000000000001E-2,3.96E-3,8.8000000000000005E-3,108,0.88,4,null,"kraftfoder, spannmål etc.",null,"KLF Complett 8423 ","kg",5.0639999999999998E-2,6.8630000000000002E-3,1.2378999999999999E-2,108,0.88,4,null,null,"inköpt",null,"JH 225 Pärla Nova Edel","kg",3.1320000000000001E-2,5.6550000000000003E-3,7.8300000000000002E-3,108,0.88,5,null,"kraftfoder, spannmål etc."]
[null,"YaraMila 27-2-3","kg",0.27,0.02,0.03,null,null,null,null,null,null,null,null,null,null,"SF x-zelit","kg",3.6863999999999998E-3,9.6000000000000002E-4,9.6000000000000002E-4,null,null,null,null,null,null,null,null,null,null,null,"HO Hivetona","kg",1.067968E-2,9.9219999999999994E-4,4.5100000000000001E-3,109,0.88,4,null,"kraftfoder, spannmål etc.",null,"KLF Complett 8425 ","kg",5.5280000000000003E-2,1.0685E-2,1.2522E-2,109,0.88,4,null,null,"inköpt",null,"JH 230 KHV FUFO EDEL","kg",3.2384000000000003E-2,5.5440000000000003E-3,1.0647999999999999E-2,109,0.88,5,null,"kraftfoder, spannmål etc."]
[null,"YaraMila 27-3-3","kg",0.26600000000000001,2.5999999999999999E-2,2.5999999999999999E-2,null,null,null,null,null,null,null,null,null,null,"SF x-zelit Complete","kg",7.2206400000000004E-3,5.9864999999999996E-3,6.447E-4,null,null,null,null,null,null,null,null,null,null,null,"HO Hivetonaleik","kg",1.0699999999999999E-2,1E-3,0,110,0.88,4,null,"kraftfoder, spannmål etc.",null,"KLF Complett 8433 ","kg",5.1999999999999998E-2,6.7390000000000002E-3,1.231E-2,110,0.88,4,null,null,"inköpt",null,"JH 230 Vega EDEL","kg",3.2016000000000003E-2,5.4809999999999998E-3,1.0962E-2,110,0.88,5,null,"kraftfoder, spannmål etc."]
[null,"Kristalon Blue Label","kg",0.19,2.5999999999999999E-2,0.16600000000000001,null,null,null,null,null,null,null,null,null,null,"Slicksten","kg",0,9.5000000000000001E-2,0,null,null,null,null,null,null,null,null,null,null,null,"HO Hivetona-Liuos","kg",7.9542399999999996E-3,7.4200000000000001E-5,6.6037999999999999E-3,111,0.88,4,null,"kraftfoder, spannmål etc.",null,"KLF Complett 8440 ","kg",5.4800000000000001E-2,1.2860999999999999E-2,1.46E-2,111,0.88,4,null,null,"inköpt",null,"JH 240 Nova EDEL","kg",3.3408E-2,6.0899999999999999E-3,9.9179999999999997E-3,111,0.88,5,null,"kraftfoder, spannmål etc."]
[null,"Kristalon Flower","kg",0.14000000000000001,3.9E-2,0.21199999999999999,null,null,null,null,null,null,null,null,null,null,"Sp FufoMix Biotin","kg",0,5.6545999999999999E-2,0,null,null,null,null,null,null,null,null,null,null,null,"HO Propyleeni 80","kg",0,2.4389999999999999E-4,0,112,0.88,4,null,"kraftfoder, spannmål etc.",null,"KLF Complett 8450 ","kg",4.7329999999999997E-2,1.5174E-2,1.1488E-2,112,0.88,4,null,null,"inköpt",null,"JH 270 Komet EDEL","kg",3.8016000000000001E-2,6.8640000000000003E-3,1.1967999999999999E-2,112,0.88,5,null,"kraftfoder, spannmål etc."]
[null,"Kristalon Gena","kg",0.12,5.1999999999999998E-2,0.3,null,null,null,null,null,null,null,null,null,null,"Sp FufoMix Hög","kg",0,1.0094000000000001E-2,0,null,null,null,null,null,null,null,null,null,null,null,"JH 138 Ungnöt Edel","kg",1.92096E-2,4.8719999999999996E-3,8.0040000000000007E-3,113,0.88,4,null,"kraftfoder, spannmål etc.",null,"KLF Complett 8460 ","kg",2.699E-2,9.1190000000000004E-3,5.1130000000000004E-3,113,0.88,4,null,null,"inköpt",null,"JH 280 Vega EDEL","kg",3.9424000000000001E-2,7.744E-3,1.1440000000000001E-2,113,0.88,5,null,"kraftfoder, spannmål etc."]
[null,"Kristalon Indigo","kg",8.5000000000000006E-2,4.9000000000000002E-2,0.247,null,null,null,null,null,null,null,null,null,null,"Sp FufoMix Jäst","kg",0,3.5965999999999998E-2,0,null,null,null,null,null,null,null,null,null,null,null,"JH 140 Ungnöt EDEL","kg",1.9487999999999998E-2,4.8719999999999996E-3,7.4819999999999999E-3,114,0.88,4,null,"kraftfoder, spannmål etc.",null,"KLF Complett 8511 ","kg",5.2810000000000003E-2,7.8549999999999991E-3,1.2749E-2,114,0.88,4,null,null,"inköpt",null,"JH 290 Komet EDEL","kg",4.0832E-2,6.8640000000000003E-3,1.2319999999999999E-2,114,0.88,5,null,"kraftfoder, spannmål etc."]
[null,"Kristalon Scarlet","kg",7.4999999999999997E-2,5.1999999999999998E-2,0.29899999999999999,null,null,null,null,null,null,null,null,null,null,"Sp FufoMix Låg","kg",0,5.6545999999999999E-2,0,null,null,null,null,null,null,null,null,null,null,null,"JH 156 Ungnöt Edel","kg",2.17152E-2,5.2199999999999998E-3,6.96E-3,115,0.88,4,null,"kraftfoder, spannmål etc.",null,"KLF Complett 8622 ","kg",5.8700000000000002E-2,6.9769999999999997E-3,1.3939999999999999E-2,115,0.88,4,null,null,"inköpt",null,"JH 290 Vega EDEL","kg",4.0832E-2,6.6880000000000004E-3,1.1967999999999999E-2,115,0.88,5,null,"kraftfoder, spannmål etc."]
[null,"Kristalon Vega","kg",0.17,2.5999999999999999E-2,0.20699999999999999,null,null,null,null,null,null,null,null,null,null,"Sp FufoMix Normal","kg",0,3.6260000000000001E-2,0,null,null,null,null,null,null,null,null,null,null,null,"JH 165 Ungnöt Edel","kg",2.2967999999999999E-2,5.4809999999999998E-3,7.7429999999999999E-3,116,0.88,4,null,"kraftfoder, spannmål etc.",null,"KLF Complett 8633 ","kg",3.771E-2,1.0521000000000001E-2,8.6250000000000007E-3,116,0.88,4,null,null,"inköpt",null,"JH 305 Vega EDEL","kg",4.2944000000000003E-2,8.2719999999999998E-3,1.1792E-2,116,0.88,5,null,"kraftfoder, spannmål etc."]
[null,"NPK 11-5-17 Mikro","kg",0.11,0.05,0.17,null,null,null,null,null,null,null,null,null,null,"Sp Jermin Balans Hög","kg",0,6.9579999999999998E-3,0,null,null,null,null,null,null,null,null,null,null,null,"JH 176 Ungnöt Edel","kg",2.4499199999999999E-2,5.3940000000000004E-3,7.0470000000000003E-3,117,0.88,4,null,"kraftfoder, spannmål etc.",null,"KLF Complett 8637 ","kg",2.053E-2,1.7794000000000001E-2,2.6489999999999999E-3,117,0.88,4,null,null,"inköpt",null,"JH 315 Vega EDEL","kg",4.4352000000000003E-2,8.2719999999999998E-3,1.1264E-2,117,0.88,5,null,"kraftfoder, spannmål etc."]
[null,"NPK 11-5-18 Mikro","kg",0.11,4.5999999999999999E-2,0.17599999999999999,null,null,null,null,null,null,null,null,null,null,"Sp Jermin Balans Normal","kg",0,3.4986000000000003E-2,0,null,null,null,null,null,null,null,null,null,null,null,"JH 180 Vega EDEL","kg",2.5055999999999998E-2,5.2199999999999998E-3,7.8300000000000002E-3,118,0.88,4,null,"kraftfoder, spannmål etc.",null,"KLF Complett 8933 ","kg",6.2179999999999999E-2,6.3749999999999996E-3,1.6678999999999999E-2,118,0.88,4,null,null,{"$f":"inköpt","v":"inköpt"},null,"JH 335 FUFO EDEL","kg",4.7704000000000003E-2,6.6750000000000004E-3,1.4239999999999999E-2,118,0.88,5,null,"kraftfoder, spannmål etc."]
[null,"NPK 12-4-17 mikro","kg",0.12,0.05,0.17,null,null,null,null,null,null,null,null,null,null,"Sp Jermin Bete","kg",0,3.4986000000000003E-2,0,null,null,null,null,null,null,null,null,null,null,null,"JH 185 Nova EDEL","kg",2.5752000000000001E-2,4.6979999999999999E-3,8.0909999999999992E-3,119,0.88,4,null,"kraftfoder, spannmål etc.",null,"KLF Complett 9021  ","kg",2.673E-2,1.3289E-2,4.4669999999999996E-3,119,0.88,4,null,null,"inköpt",null,"JH 340 Komet EDEL","kg",4.7871999999999998E-2,7.0400000000000003E-3,1.2496E-2,119,0.88,5,null,"kraftfoder, spannmål etc."]
[null,"NPK 17-4-13","kg",0.17,0.04,0.13,null,null,null,null,null,null,null,null,null,null,"Sp Jermin Cell","kg",0,3.9983999999999999E-2,0,null,null,null,null,null,null,null,null,null,null,null,"JH 189 Beta Nova Edel","kg",2.63088E-2,4.8719999999999996E-3,6.6119999999999998E-3,120,0.88,4,null,"kraftfoder, spannmål etc.",null,"KLF Complett 9023 ","kg",5.1769999999999997E-2,8.5590000000000006E-3,1.2056000000000001E-2,120,0.88,4,null,null,"inköpt",null,"JH 360 FUFO EDEL","kg",5.1263999999999997E-2,7.1199999999999996E-3,1.3884000000000001E-2,120,0.88,5,null,"kraftfoder, spannmål etc."]
[null,"NPK 20-4-8S","kg",0.2,0.04,0.08,null,null,null,null,null,null,null,null,null,null,"Sp Jermin Diko","kg",0,6.0564E-2,0,null,null,null,null,null,null,null,null,null,null,null,"JH 190 Nova EDEL","kg",2.6447999999999999E-2,4.6979999999999999E-3,9.2219999999999993E-3,121,0.88,4,null,"kraftfoder, spannmål etc.",null,"KLF Complett 9025 ","kg",3.6249999999999998E-2,9.2250000000000006E-3,9.1389999999999996E-3,121,0.88,4,null,null,"inköpt",null,"JH 397 Vega EDEL","kg",5.6532800000000001E-2,8.2769999999999996E-3,1.1481E-2,121,0.88,5,null,"kraftfoder, spannmål etc."]
[null,"NPK 21-3-10 Svavel","kg",0.20599999999999999,2.5999999999999999E-2,9.6000000000000002E-2,null,null,null,null,null,null,null,null,null,null,"Sp Jermin Elit","kg",1.13344E-2,7.3600000000000002E-3,0,null,null,null,null,null,null,null,null,null,null,null,"JH 190 Pärla Nova Edel","kg",2.6447999999999999E-2,5.2199999999999998E-3,6.96E-3,122,0.88,4,null,"kraftfoder, spannmål etc.",null,"KLF Complett 9033 ","kg",4.5850000000000002E-2,1.0717000000000001E-2,9.9439999999999997E-3,122,0.88,4,null,null,"inköpt",null,"JH 400 FUFO EDEL","kg",5.6959999999999997E-2,6.6750000000000004E-3,1.4062E-2,122,0.88,5,null,"kraftfoder, spannmål etc."]
[null,"NPK 21-4-7S","kg",0.21,3.7999999999999999E-2,7.2999999999999995E-2,null,null,null,null,null,null,null,null,null,null,"Sp Jermin Fosforrik","kg",0,9.9959999999999993E-2,0,null,null,null,null,null,null,null,null,null,null,null,"JH 190 Ungnöt EDEL","kg",2.6447999999999999E-2,5.3940000000000004E-3,8.0040000000000007E-3,123,0.88,4,null,"kraftfoder, spannmål etc.",null,"KLF Complett 9050","kg",5.11E-2,6.8450000000000004E-3,1.1894E-2,123,0.88,4,null,null,"inköpt",null,"JH 425 Vega EDEL","kg",6.0519999999999997E-2,8.8999999999999999E-3,7.0309999999999999E-3,123,0.88,5,null,"kraftfoder, spannmål etc."]
[null,"NPK 24-4-5 Svavel","kg",0.24,0.04,0.05,null,null,null,null,null,null,null,null,null,null,"Sp Jermin Jäst","kg",0,3.4986000000000003E-2,0,null,null,null,null,null,null,null,null,null,null,null,"JH 198 Ungnöt Edel","kg",2.7561599999999999E-2,5.9160000000000003E-3,8.6999999999999994E-3,124,0.88,4,null,"kraftfoder, spannmål etc.",null,"KLF Complett 9223 ","kg",6.6879999999999995E-2,7.0089999999999996E-3,1.7812000000000001E-2,124,0.88,4,null,null,"inköpt",null,"JH 445 FUFO EDEL","kg",6.3367999999999994E-2,7.3870000000000003E-3,1.3528E-2,124,0.88,5,null,"kraftfoder, spannmål etc."]
[null,"NPK 5-6-17 Mikro","kg",0.05,0.06,0.17,null,null,null,null,null,null,null,null,null,null,"Sp Jermin Kalciumrik","kg",0,9.9959999999999997E-3,0,null,null,null,null,null,null,null,null,null,null,null,"JH 200 Vega EDEL","kg",2.784E-2,5.2199999999999998E-3,8.9610000000000002E-3,125,0.88,4,null,"kraftfoder, spannmål etc.",null,"KLF Complett 9237 ","kg",5.5070000000000001E-2,7.3540000000000003E-3,1.2234999999999999E-2,125,0.88,4,null,null,"inköpt",null,"JH Alex Topp Eko EDEL","kg",5.6247999999999999E-2,5.8739999999999999E-3,1.7354999999999999E-2,125,0.88,5,null,"kraftfoder, spannmål etc."]
[null,"NPK 8-5-19 mikro","kg",0.08,0.05,0.19,null,null,null,null,null,null,null,null,null,null,"Sp Jermin Kött","kg",0,2.9988000000000001E-2,0,null,null,null,null,null,null,null,null,null,null,null,"JH 205 Nova EDEL","kg",2.8535999999999999E-2,4.9589999999999999E-3,9.5700000000000004E-3,126,0.88,4,null,"kraftfoder, spannmål etc.",null,"KLF Complett 9323 ","kg",5.3030000000000001E-2,1.1924000000000001E-2,1.2668E-2,126,0.88,4,null,null,"inköpt",null,"JH Balans Topp EDEL","kg",3.5481600000000002E-2,5.5440000000000003E-3,1.3991999999999999E-2,126,0.88,5,null,"kraftfoder, spannmål etc."]
[null,"NPK 8-5-19 Mikro","kg",0.08,0.05,0.19,null,null,null,null,null,null,null,null,null,null,"Sp Jermin Magnesiumrik","kg",0,3.4986000000000003E-2,0,null,null,null,null,null,null,null,null,null,null,null,"JH 210 Vega EDEL","kg",2.9232000000000001E-2,5.568E-3,7.9170000000000004E-3,127,0.88,4,null,"kraftfoder, spannmål etc.",null,"KLF Complett 9600 ","kg",5.4519999999999999E-2,9.0659999999999994E-3,1.3037E-2,127,0.88,4,null,null,"inköpt",null,"JH Bete Nova EDEL","kg",2.3385599999999999E-2,4.3499999999999997E-3,9.4830000000000001E-3,127,0.88,5,null,"kraftfoder, spannmål etc."]
[null,"NPK 8-6-17 Mikro","kg",0.08,0.06,0.17,null,null,null,null,null,null,null,null,null,null,"Sp Jermin med CRINA","kg",8.5120000000000005E-3,3.705E-2,0,null,null,null,null,null,null,null,null,null,null,null,"JH 215 KHV FUFO EDEL","kg",3.0272E-2,5.5440000000000003E-3,1.0120000000000001E-2,128,0.88,4,null,"kraftfoder, spannmål etc.",null,"KLF Friska 2095 ","kg",2.4109999999999999E-2,5.5120000000000004E-3,5.672E-3,128,0.88,4,null,null,"inköpt",null,"JH Buttle kofoder 14","kg",2.2411199999999999E-2,4.2630000000000003E-3,6.7860000000000004E-3,128,0.88,5,null,"kraftfoder, spannmål etc."]
[null,"NPK 8-7-16 Mikro","kg",0.08,7.0000000000000007E-2,0.16,null,null,null,null,null,null,null,null,null,null,"Sp Jermin Normal","kg",0,3.4986000000000003E-2,0,null,null,null,null,null,null,null,null,null,null,null,"JH 215 Nova Edel","kg",2.9928E-2,4.9589999999999999E-3,9.2219999999999993E-3,{"$f":"AL133+1","v":129},0.88,4,null,"kraftfoder, spannmål etc.",null,"KLF Friska 2095 2,5 Zn","kg",2.3869999999999999E-2,5.4190000000000002E-3,5.1180000000000002E-3,{"$f":"AW133+1","v":129},0.88,4,null,null,"inköpt",null,"JH Buttle kofoder 16","kg",2.5612800000000002E-2,4.6109999999999996E-3,7.5690000000000002E-3,{"$f":"BI133+1","v":129},0.88,5,null,"kraftfoder, spannmål etc."]
[null,"ProBeta NPK","kg",0.15,3.5999999999999997E-2,0.08,null,null,null,null,null,null,null,null,null,null,"Sp Jermin Sau Får Mineral","kg",0,6.9580000000000003E-2,0,null,null,null,null,null,null,null,null,null,null,null,"JH 220 KHV FUFO EDEL","kg",3.0976E-2,5.5440000000000003E-3,1.0120000000000001E-2,130,0.88,4,null,"kraftfoder, spannmål etc.",null,"KLF Friska 2095 3,0  Zn","kg",2.3869999999999999E-2,5.4140000000000004E-3,5.1060000000000003E-3,130,0.88,4,null,null,"inköpt",null,"JH Buttle kofoder 18","kg",2.88144E-2,5.0460000000000001E-3,8.4390000000000003E-3,130,0.88,5,null,"kraftfoder, spannmål etc."]
[null,"Yara Mila Höst 8-10,5-20 Mn","kg",0.08,0.105,0.19900000000000001,null,null,null,null,null,null,null,null,null,null,"Sp Jermin Sau Får Mineral Cu","kg",0,6.9580000000000003E-2,0,null,null,null,null,null,null,null,null,null,null,null,"JH 220 Nova EDEL","kg",3.0623999999999998E-2,5.2199999999999998E-3,9.1350000000000008E-3,131,0.88,4,null,"kraftfoder, spannmål etc.",null,"KLF Friska 2098 ","kg",2.3310000000000001E-2,5.3169999999999997E-3,5.3870000000000003E-3,131,0.88,4,null,null,"inköpt",null,"JH Buttle Ungnöt","kg",2.1019199999999998E-2,4.5240000000000002E-3,6.5250000000000004E-3,131,0.88,5,null,"kraftfoder, spannmål etc."]
[null,"YaraMila ProBeta NPK","kg",0.15,3.5999999999999997E-2,0.08,null,null,null,null,null,null,null,null,null,null,"Sp Jermin Sin","kg",0,8.0850000000000005E-2,0,null,null,null,null,null,null,null,null,null,null,null,"JH 220 Vega EDEL","kg",3.0623999999999998E-2,5.568E-3,9.5700000000000004E-3,132,0.88,4,null,"kraftfoder, spannmål etc.",null,"KLF Friska 2098 2,5 Zn","kg",2.359E-2,5.287E-3,5.3959999999999998E-3,132,0.88,4,null,null,"inköpt",null,"JH Ella Eko Ung EDEL","kg",2.2411199999999999E-2,4.6109999999999996E-3,7.8300000000000002E-3,132,0.88,5,null,"kraftfoder, spannmål etc."]
[null,"YaraMila ProMagna 11-5-18","kg",0.11,4.5999999999999999E-2,0.17599999999999999,null,null,null,null,null,null,null,null,null,null,"Sp Jermin Slikk Får Cu mineralbalja","kg",0,4.3119999999999999E-2,0,null,null,null,null,null,null,null,null,null,null,null,"JH 225 Nova EDEL","kg",3.1320000000000001E-2,5.2199999999999998E-3,8.9610000000000002E-3,133,0.88,4,null,"kraftfoder, spannmål etc.",null,"KLF Friska 2100 ","kg",2.4580000000000001E-2,5.5539999999999999E-3,5.8659999999999997E-3,133,0.88,4,null,null,"inköpt",null,"JH Elton Topp Eko EDEL","kg",4.1535999999999997E-2,6.1599999999999997E-3,1.0999999999999999E-2,133,0.88,5,null,"kraftfoder, spannmål etc."]
[null,"YaraMila ProMagna 8-5-19","kg",0.08,0.05,0.19,null,null,null,null,null,null,null,null,null,null,"Sp Jermin Slikk Får kopparfri mineralbalja","kg",0,6.5659999999999996E-2,0,null,null,null,null,null,null,null,null,null,null,null,"JH 225 Pärla Nova Edel","kg",3.1320000000000001E-2,5.6550000000000003E-3,7.8300000000000002E-3,134,0.88,4,null,"kraftfoder, spannmål etc.",null,"KLF Friska 2102 ","kg",2.7869999999999999E-2,5.7070000000000003E-3,6.3850000000000001E-3,134,0.88,4,null,null,"inköpt",null,"JH Eminent Topp EDEL","kg",3.7311999999999998E-2,5.5440000000000003E-3,1.3024000000000001E-2,134,0.88,5,null,"kraftfoder, spannmål etc."]
[null,"YaraMila Raps","kg",0.17,4.5999999999999999E-2,0.1,null,null,null,null,null,null,null,null,null,null,"Sp Jermin Slikk Nöt/Får mineralbalja","kg",0,6.5659999999999996E-2,0,null,null,null,null,null,null,null,null,null,null,null,"JH 230 KHV FUFO EDEL","kg",3.2384000000000003E-2,5.5440000000000003E-3,1.0647999999999999E-2,135,0.88,4,null,"kraftfoder, spannmål etc.",null,"KLF Friska 2102 2,5 Zn","kg",2.7619999999999999E-2,6.1970000000000003E-3,6.594E-3,135,0.88,4,null,null,"inköpt",null,"JH Emmi Eko EDEL","kg",2.58912E-2,4.176E-3,7.8300000000000002E-3,135,0.88,5,null,"kraftfoder, spannmål etc."]
[null,"Kaliumfosfat","kg",0,0.23,0.28999999999999998,null,null,null,null,null,null,null,null,null,null,"Sp Megalix Quattro Mg","kg",0,9.7999999999999997E-3,0,null,null,null,null,null,null,null,null,null,null,null,"JH 230 Vega EDEL","kg",3.2016000000000003E-2,5.4809999999999998E-3,1.0962E-2,136,0.88,4,null,"kraftfoder, spannmål etc.",null,"KLF Friska 2102 3,0  Zn","kg",2.7619999999999999E-2,6.1869999999999998E-3,6.5820000000000002E-3,136,0.88,4,null,null,"inköpt",null,"JH Fiber Topp EDEL","kg",4.5055999999999999E-2,7.4799999999999997E-3,1.2408000000000001E-2,136,0.88,5,null,"kraftfoder, spannmål etc."]
[null,"PK 11-21","kg",0,0.11,0.21,null,null,null,null,null,null,null,null,null,null,"Sp Megalix Sheep Fårmineral","kg",0,2.9399999999999999E-2,0,null,null,null,null,null,null,null,null,null,null,null,"JH 240 Nova EDEL","kg",3.3408E-2,6.0899999999999999E-3,9.9179999999999997E-3,137,0.88,4,null,"kraftfoder, spannmål etc.",null,"KLF Friska 2106 2,5 zink","kg",2.4029999999999999E-2,5.3179999999999998E-3,6.1789999999999996E-3,137,0.88,4,null,null,"inköpt",null,"JH Får EDEL","kg",2.5055999999999998E-2,4.6979999999999999E-3,8.2649999999999998E-3,137,0.88,5,null,"kraftfoder, spannmål etc."]
[null,"PK 13-13","kg",0,0.13,0.13,null,null,null,null,null,null,null,null,null,null,"Sp Teknomin Balans Hög","kg",0,6.9579999999999998E-3,0,null,null,null,null,null,null,null,null,null,null,null,"JH 270 Komet EDEL","kg",3.8016000000000001E-2,6.8640000000000003E-3,1.1967999999999999E-2,138,0.88,4,null,"kraftfoder, spannmål etc.",null,"KLF Friska Elf","kg",2.7619999999999999E-2,5.5690000000000002E-3,6.1199999999999996E-3,138,0.88,4,null,null,"inköpt",null,"JH Johan Eko EDEL","kg",3.9424000000000001E-2,6.7759999999999999E-3,1.1440000000000001E-2,138,0.88,5,null,"kraftfoder, spannmål etc."]
[null,"PK 4-21 Mg","kg",0,0.04,0.20799999999999999,null,null,null,null,null,null,null,null,null,null,"Sp Teknomin Balans Normal","kg",0,3.4986000000000003E-2,0,null,null,null,null,null,null,null,null,null,null,null,"JH 280 Vega EDEL","kg",3.9424000000000001E-2,7.744E-3,1.1440000000000001E-2,139,0.88,4,null,"kraftfoder, spannmål etc.",null,"KLF Friska Elf 3,0 Zn","kg",2.751E-2,5.4669999999999996E-3,6.8479999999999999E-3,139,0.88,4,null,null,"inköpt",null,"JH Kalv 100+","kg",2.5055999999999998E-2,6.96E-3,1.0527E-2,139,0.88,5,null,"kraftfoder, spannmål etc."]
[null,"PK 5-17","kg",0,6.0999999999999999E-2,0.18,null,null,null,null,null,null,null,null,null,null,"Sp Teknomin Bete","kg",0,3.4986000000000003E-2,0,null,null,null,null,null,null,null,null,null,null,null,"JH 290 Komet EDEL","kg",4.0832E-2,6.8640000000000003E-3,1.2319999999999999E-2,140,0.88,4,null,"kraftfoder, spannmål etc.",null,"KLF Friska Flink  ","kg",2.435E-2,5.6769999999999998E-3,5.4739999999999997E-3,140,0.88,4,null,null,"inköpt",null,"JH Kalvstart Edel","kg",2.784E-2,6.96E-3,1.0527E-2,140,0.88,5,null,"kraftfoder, spannmål etc."]
[null,"PK 5-25","kg",0,0.05,0.26,null,null,null,null,null,null,null,null,null,null,"Sp Teknomin Cell","kg",0,3.9983999999999999E-2,0,null,null,null,null,null,null,null,null,null,null,null,"JH 290 Vega EDEL","kg",4.0832E-2,6.6880000000000004E-3,1.1967999999999999E-2,141,0.88,4,null,"kraftfoder, spannmål etc.",null,"KLF Friska Flink 1,5 Zn","kg",2.3820000000000001E-2,5.5979999999999997E-3,5.3049999999999998E-3,141,0.88,4,null,null,"inköpt",null,"JH Kalvstart Vega EDEL","kg",2.6447999999999999E-2,6.0899999999999999E-3,8.5260000000000006E-3,141,0.88,5,null,"kraftfoder, spannmål etc."]
[null,"PK 6-13","kg",0,6.2E-2,0.13,null,null,null,null,null,null,null,null,null,null,"Sp Teknomin Diko","kg",0,6.0564E-2,0,null,null,null,null,null,null,null,null,null,null,null,"JH 305 Vega EDEL","kg",4.2944000000000003E-2,8.2719999999999998E-3,1.1792E-2,142,0.88,4,null,"kraftfoder, spannmål etc.",null,"KLF Friska Flink 2,5 Zn","kg",2.3800000000000002E-2,5.6030000000000003E-3,5.3070000000000001E-3,142,0.88,4,null,null,"inköpt",null,"JH Malte Topp Eko EDEL","kg",5.1263999999999997E-2,7.1199999999999996E-3,1.3350000000000001E-2,142,0.88,5,null,"kraftfoder, spannmål etc."]
[null,"PK 7-13","kg",0,7.0000000000000007E-2,0.13,null,null,null,null,null,null,null,null,null,null,"Sp Teknomin Elit","kg",1.13344E-2,7.3600000000000002E-3,0,null,null,null,null,null,null,null,null,null,null,null,"JH 315 Vega EDEL","kg",4.4352000000000003E-2,8.2719999999999998E-3,1.1264E-2,143,0.88,4,null,"kraftfoder, spannmål etc.",null,"KLF Friska Fox ","kg",2.5649999999999999E-2,6.1510000000000002E-3,5.8690000000000001E-3,143,0.88,4,null,null,"inköpt",null,"JH Nelli Eko EDEL","kg",2.9232000000000001E-2,4.5240000000000002E-3,8.2649999999999998E-3,143,0.88,5,null,"kraftfoder, spannmål etc."]
[null,"PK 7-25","kg",0,7.0000000000000007E-2,0.25,null,null,null,null,null,null,null,null,null,null,"Sp Teknomin Fosforrik","kg",0,9.9959999999999993E-2,0,null,null,null,null,null,null,null,null,null,null,null,"JH 335 FUFO EDEL","kg",4.7704000000000003E-2,6.6750000000000004E-3,1.4239999999999999E-2,144,0.88,4,null,"kraftfoder, spannmål etc.",null,"KLF Friska Gry","kg",2.5159999999999998E-2,5.6600000000000001E-3,6.0239999999999998E-3,144,0.88,4,null,null,"inköpt",null,"JH NY Eminent Topp EDEL","kg",3.7734400000000001E-2,5.5440000000000003E-3,1.056E-2,144,0.88,5,null,"kraftfoder, spannmål etc."]
[null,"PK 8-26","kg",0,0.08,0.26,null,null,null,null,null,null,null,null,null,null,"Sp Teknomin Fårmineral","kg",0,6.9580000000000003E-2,0,null,null,null,null,null,null,null,null,null,null,null,"JH 340 Komet EDEL","kg",4.7871999999999998E-2,7.0400000000000003E-3,1.2496E-2,145,0.88,4,null,"kraftfoder, spannmål etc.",null,"KLF Friska Len","kg",2.3810000000000001E-2,5.4869999999999997E-3,6.7260000000000002E-3,145,0.88,4,null,null,"inköpt",null,"JH OS Nova Edel","kg",2.53344E-2,4.8719999999999996E-3,7.9170000000000004E-3,145,0.88,5,null,"kraftfoder, spannmål etc."]
[null,null,null,null,null,null,null,null,null,null,null,null,null,null,null,null,"Sp Teknomin Fårmineral Cu","kg",0,6.9580000000000003E-2,0,null,null,null,null,null,null,null,null,null,null,null,"JH 360 FUFO EDEL","kg",5.1263999999999997E-2,7.1199999999999996E-3,1.3884000000000001E-2,146,0.88,4,null,"kraftfoder, spannmål etc.",null,"KLF Friska Len 2,5 Zn","kg",2.3910000000000001E-2,5.45E-3,6.6569999999999997E-3,146,0.88,4,null,null,"inköpt",null,"JH PBV Topp EDEL","kg",4.1817600000000003E-2,5.9839999999999997E-3,1.2671999999999999E-2,146,0.88,5,null,"kraftfoder, spannmål etc."]
[null,null,null,null,null,null,null,null,null,null,null,null,null,null,null,null,"Sp Teknomin Kalciumrik","kg",0,9.9959999999999997E-3,0,null,null,null,null,null,null,null,null,null,null,null,"JH 397 Vega EDEL","kg",5.6532800000000001E-2,8.2769999999999996E-3,1.1481E-2,147,0.88,4,null,"kraftfoder, spannmål etc.",null,"KLF Friska Smågris ","kg",2.6159999999999999E-2,4.0509999999999999E-3,6.1330000000000004E-3,147,0.88,4,null,null,"inköpt",null,"JH Protein Ungnöt Edel ","kg",5.2403199999999997E-2,7.9209999999999992E-3,9.7009999999999996E-3,147,0.88,5,null,"kraftfoder, spannmål etc."]
[null,null,null,null,null,null,null,null,null,null,null,null,null,null,null,null,"Sp Teknomin Kött","kg",0,2.9988000000000001E-2,0,null,null,null,null,null,null,null,null,null,null,null,"JH 400 FUFO EDEL","kg",5.6959999999999997E-2,6.6750000000000004E-3,1.4062E-2,148,0.88,4,null,"kraftfoder, spannmål etc.",null,"KLF Friska Zon 2,5 Zn","kg",2.631E-2,5.6750000000000004E-3,6.4739999999999997E-3,148,0.88,4,null,null,"inköpt",null,"JH Pärla FUFO EDEL","kg",6.1943999999999999E-2,7.1199999999999996E-3,1.2905E-2,148,0.88,5,null,"kraftfoder, spannmål etc."]
[null,null,null,null,null,null,null,null,null,null,null,null,null,null,null,null,"Sp Teknomin Magnesiumrik","kg",0,3.4986000000000003E-2,0,null,null,null,null,null,null,null,null,null,null,null,"JH 425 Vega EDEL","kg",6.0519999999999997E-2,8.8999999999999999E-3,7.0309999999999999E-3,149,0.88,4,null,"kraftfoder, spannmål etc.",null,"KLF Friska Zon 3,0 Zn","kg",2.6120000000000001E-2,5.6750000000000004E-3,6.3660000000000001E-3,149,0.88,4,null,null,"inköpt",null,"JH Pärla Nova EDEL","kg",2.9232000000000001E-2,4.6979999999999999E-3,9.2219999999999993E-3,149,0.88,5,null,"kraftfoder, spannmål etc."]
[null,null,null,null,null,null,null,null,null,null,null,null,null,null,null,null,"Sp Teknomin Normal","kg",0,3.4986000000000003E-2,0,null,null,null,null,null,null,null,null,null,null,null,"JH 445 FUFO EDEL","kg",6.3367999999999994E-2,7.3870000000000003E-3,1.3528E-2,150,0.88,4,null,"kraftfoder, spannmål etc.",null,"KLF KRAV Di","kg",2.6859999999999998E-2,4.8459999999999996E-3,7.8600000000000007E-3,150,0.88,4,null,null,"inköpt",null,"JH Pärla Topp EDEL","kg",4.1817600000000003E-2,5.6319999999999999E-3,1.1351999999999999E-2,150,0.88,5,null,"kraftfoder, spannmål etc."]
[null,null,null,null,null,null,null,null,null,null,null,null,null,null,null,null,"Sp Teknomin Sin","kg",0,8.0850000000000005E-2,0,null,null,null,null,null,null,null,null,null,null,null,"JH Alex Topp Eko EDEL","kg",5.6247999999999999E-2,5.8739999999999999E-3,1.7354999999999999E-2,151,0.88,4,null,"kraftfoder, spannmål etc.",null,"KLF KRAV Koncentrat Slakt","kg",5.9979999999999999E-2,7.8969999999999995E-3,1.8748999999999998E-2,151,0.88,4,null,null,"inköpt",null,"JH Singel Topp EDEL","kg",4.0832E-2,5.5440000000000003E-3,1.3024000000000001E-2,151,0.88,5,null,"kraftfoder, spannmål etc."]
[null,null,null,null,null,null,null,null,null,null,null,null,null,null,null,null,"Sp Vommex Hög pellets","kg",5.0159999999999996E-3,7.0299999999999998E-3,0,null,null,null,null,null,null,null,null,null,null,null,"JH Balans Topp EDEL","kg",3.5481600000000002E-2,5.5440000000000003E-3,1.3991999999999999E-2,152,0.88,4,null,"kraftfoder, spannmål etc.",null,"KLF KRAV Koncentrat Sugg","kg",5.4480000000000001E-2,1.0052999999999999E-2,1.6747000000000001E-2,152,0.88,4,null,null,"inköpt",null,"JH Standard Topp EDEL","kg",4.02688E-2,5.6319999999999999E-3,1.2496E-2,152,0.88,5,null,"kraftfoder, spannmål etc."]
[null,null,null,null,null,null,null,null,null,null,null,null,null,null,null,null,"Sp Vommex Låg pellets","kg",5.9280000000000001E-3,7.7045000000000002E-2,0,null,null,null,null,null,null,null,null,null,null,null,"JH Bete Nova EDEL","kg",2.3385599999999999E-2,4.3499999999999997E-3,9.4830000000000001E-3,153,0.88,4,null,"kraftfoder, spannmål etc.",null,"KLF KRAV Koncentrat Tillväxt","kg",5.4100000000000002E-2,5.2900000000000004E-3,1.7486999999999999E-2,153,0.88,4,null,null,"inköpt",null,"JH Ungnötskoncentrat EDEL","kg",4.224E-2,7.4799999999999997E-3,1.1440000000000001E-2,153,0.88,5,null,"kraftfoder, spannmål etc."]
[null,null,null,null,null,null,null,null,null,null,null,null,null,null,null,null,"Sp Vommex Normal pellets","kg",5.7759999999999999E-3,2.6980000000000001E-2,0,null,null,null,null,null,null,null,null,null,null,null,"JH Buttle kofoder 14","kg",2.2411199999999999E-2,4.2630000000000003E-3,6.7860000000000004E-3,154,0.88,4,null,"kraftfoder, spannmål etc.",null,"KLF KRAV Sin","kg",2.2460000000000001E-2,4.738E-3,6.992E-3,154,0.88,4,null,null,"inköpt",null,"JH Vall 1 Nova Edel","kg",2.436E-2,4.7850000000000002E-3,6.96E-3,154,0.88,5,null,"kraftfoder, spannmål etc."]
[null,null,null,null,null,null,null,null,null,null,null,null,null,null,null,null,"SwA Bm 46","kg",0,4.0000000000000001E-3,0,null,null,null,null,null,null,null,null,null,null,null,"JH Buttle kofoder 16","kg",2.5612800000000002E-2,4.6109999999999996E-3,7.5690000000000002E-3,155,0.88,4,null,"kraftfoder, spannmål etc.",null,"KLF KRAV Slaktgris","kg",2.75E-2,4.4060000000000002E-3,7.4970000000000002E-3,155,0.88,4,null,null,"inköpt",null,"JH Vall 2","kg",2.63088E-2,4.8719999999999996E-3,6.6119999999999998E-3,155,0.88,5,null,"kraftfoder, spannmål etc."]
[null,null,null,null,null,null,null,null,null,null,null,null,null,null,null,null,"SwA Bm Kalcium","kg",0,1E-3,0,null,null,null,null,null,null,null,null,null,null,null,"JH Buttle kofoder 18","kg",2.88144E-2,5.0460000000000001E-3,8.4390000000000003E-3,156,0.88,4,null,"kraftfoder, spannmål etc.",null,"KLF KRAV Tillväxt","kg",2.955E-2,6.2610000000000001E-3,7.561E-3,156,0.88,4,null,null,"inköpt",null,"JH Vega test","kg",4.6564800000000003E-2,8.0099999999999998E-3,1.157E-2,156,0.88,5,null,"kraftfoder, spannmål etc."]
[null,null,null,null,null,null,null,null,null,null,null,null,null,null,null,null,"SwA Mineral BM 20","kg",0,8.0000000000000002E-3,0,null,null,null,null,null,null,null,null,null,null,null,"JH Buttle Ungnöt","kg",2.1019199999999998E-2,4.5240000000000002E-3,6.5250000000000004E-3,157,0.88,4,null,"kraftfoder, spannmål etc.",null,"KLF KRAV Tillväxt Zink","kg",2.7470000000000001E-2,6.019E-3,6.2729999999999999E-3,157,0.88,4,null,null,"inköpt",null,"JH Vega test_2","kg",3.7593599999999998E-2,7.744E-3,6.9519999999999998E-3,157,0.88,5,null,"kraftfoder, spannmål etc."]
[null,null,null,null,null,null,null,null,null,null,null,null,null,null,null,null,"SwA Mineral BM 3,7 ","kg",0,0.04,0,null,null,null,null,null,null,null,null,null,null,null,"JH Ella Eko Ung EDEL","kg",2.2411199999999999E-2,4.6109999999999996E-3,7.8300000000000002E-3,158,0.88,4,null,"kraftfoder, spannmål etc.",null,"KLF Rex 1000 ","kg",6.726E-2,1.2683E-2,1.2699E-2,158,0.88,4,null,null,"inköpt",null,"JH Vega test_3","kg",3.5763200000000002E-2,7.744E-3,9.6799999999999994E-3,158,0.88,5,null,"kraftfoder, spannmål etc."]
[null,null,null,null,null,null,null,null,null,null,null,null,null,null,null,null,"SwA Mineral BM Amko","kg",0,0.04,0,null,null,null,null,null,null,null,null,null,null,null,"JH Elton Topp Eko EDEL","kg",4.1535999999999997E-2,6.1599999999999997E-3,1.0999999999999999E-2,159,0.88,4,null,"kraftfoder, spannmål etc.",null,"KLF Sol 1001","kg",5.2819999999999999E-2,1.3499000000000001E-2,1.2647E-2,159,0.88,4,null,null,"inköpt",null,"JH Vega Ungnöt EDEL","kg",2.0879999999999999E-2,5.0460000000000001E-3,7.9170000000000004E-3,159,0.88,5,null,"kraftfoder, spannmål etc."]
[null,null,null,null,null,null,null,null,null,null,null,null,null,null,null,null,"SwA Mineral BM Magnesium","kg",0,1.2E-2,0,null,null,null,null,null,null,null,null,null,null,null,"JH Eminent Topp EDEL","kg",3.7311999999999998E-2,5.5440000000000003E-3,1.3024000000000001E-2,160,0.88,4,null,"kraftfoder, spannmål etc.",null,"KLF Suggkoncentrat Hög ","kg",5.8290000000000002E-2,1.0038999999999999E-2,1.5956000000000001E-2,160,0.88,4,null,null,"inköpt",null,"JH Wille Eko Edel","kg",4.7988799999999998E-2,6.4079999999999996E-3,1.4239999999999999E-2,160,0.88,5,null,"kraftfoder, spannmål etc."]
[null,null,null,null,null,null,null,null,null,null,null,null,null,null,null,null,"SwA Mineral BM Sin","kg",0,0.08,1.4E-3,null,null,null,null,null,null,null,null,null,null,null,"JH Emmi Eko EDEL","kg",2.58912E-2,4.176E-3,7.8300000000000002E-3,161,0.88,4,null,"kraftfoder, spannmål etc.",null,"L Annelöv FT  ","kg",2.8602333333333299E-2,5.1093333333333303E-3,6.1353333333333303E-3,161,0.88,4,null,null,"inköpt",null,"KLF Alert","kg",2.3664000000000001E-2,6.0029999999999997E-3,7.6559999999999996E-3,161,0.88,5,null,"kraftfoder, spannmål etc."]
[null,null,null,null,null,null,null,null,null,null,null,null,null,null,null,null,"SwA Mineral K.Laktation","kg",0,5.0000000000000001E-3,0,null,null,null,null,null,null,null,null,null,null,null,"JH Fiber Topp EDEL","kg",4.5055999999999999E-2,7.4799999999999997E-3,1.2408000000000001E-2,162,0.88,4,null,"kraftfoder, spannmål etc.",null,"L Avel 110","kg",2.3208333000000001E-2,4.9123329999999996E-3,5.6223330000000002E-3,162,0.88,4,null,null,"inköpt",null,"KLF Balans","kg",1.8374399999999999E-2,3.045E-3,6.0029999999999997E-3,162,0.88,5,null,"kraftfoder, spannmål etc."]
[null,null,null,null,null,null,null,null,null,null,null,null,null,null,null,null,"SwA Mineral VM 17","kg",0,0.01,0,null,null,null,null,null,null,null,null,null,null,null,"JH Får EDEL","kg",2.5055999999999998E-2,4.6979999999999999E-3,8.2649999999999998E-3,163,0.88,4,null,"kraftfoder, spannmål etc.",null,"L Avel 111","kg",2.5048667E-2,6.045333E-3,6.3039999999999997E-3,163,0.88,4,null,null,"inköpt",null,"KLF Final","kg",1.5311999999999999E-2,3.48E-3,6.96E-3,163,0.88,5,null,"kraftfoder, spannmål etc."]
[null,null,null,null,null,null,null,null,null,null,null,null,null,null,null,null,"SwA Mineral VM 3","kg",0,4.4999999999999998E-2,0,null,null,null,null,null,null,null,null,null,null,null,"JH Johan Eko EDEL","kg",3.9424000000000001E-2,6.7759999999999999E-3,1.1440000000000001E-2,164,0.88,4,null,"kraftfoder, spannmål etc.",null,"L Avel 113","kg",2.3983999999999998E-2,5.2529999999999999E-3,6.293E-3,164,0.88,4,null,null,"inköpt",null,"KLF Harmoni Högplus","kg",4.752E-2,4.9500000000000004E-3,1.7100000000000001E-2,164,0.88,5,null,"kraftfoder, spannmål etc."]
[null,null,null,null,null,null,null,null,null,null,null,null,null,null,null,null,"SwA Mineral VM Mg Pluss","kg",0,1.2999999999999999E-2,0,null,null,null,null,null,null,null,null,null,null,null,"JH Kalv 100+","kg",2.5055999999999998E-2,6.96E-3,1.0527E-2,165,0.88,4,null,"kraftfoder, spannmål etc.",null,"L Avel 113+200 Selevitan  ","kg",2.2516333333333301E-2,4.9456666666666703E-3,6.2300000000000003E-3,165,0.88,4,null,null,"inköpt",null,"KLF Harmoni Nöt","kg",2.2950399999999999E-3,5.8960000000000002E-4,7.7439999999999996E-4,165,0.88,5,null,"kraftfoder, spannmål etc."]
[null,null,null,null,null,null,null,null,null,null,null,null,null,null,null,null,"SwA Mineral VM Sin","kg",0,0.09,4.0000000000000002E-4,null,null,null,null,null,null,null,null,null,null,null,"JH Kalvstart Edel","kg",2.784E-2,6.96E-3,1.0527E-2,166,0.88,4,null,"kraftfoder, spannmål etc.",null,"L Avel 115","kg",2.5201999999999999E-2,6.0899999999999999E-3,5.6470000000000001E-3,166,0.88,4,null,null,"inköpt",null,"KLF Harmoni Stjärna","kg",2.8160000000000001E-2,3.96E-3,8.9759999999999996E-3,166,0.88,5,null,"kraftfoder, spannmål etc."]
[null,null,null,null,null,null,null,null,null,null,null,null,null,null,null,null,"Vilomix BM 1,7","kg",0,7.0000000000000007E-2,0,null,null,null,null,null,null,null,null,null,null,null,"JH Kalvstart Vega EDEL","kg",2.6447999999999999E-2,6.0899999999999999E-3,8.5260000000000006E-3,167,0.88,4,null,"kraftfoder, spannmål etc.",null,"L Avel 115+200 Selevitan  ","kg",2.47493333333333E-2,5.8906666666666699E-3,5.6490000000000004E-3,167,0.88,4,null,null,"inköpt",null,"KLF Harmoni Stjärna Bas","kg",2.5625599999999998E-2,3.96E-3,8.8000000000000005E-3,167,0.88,5,null,"kraftfoder, spannmål etc."]
[null,null,null,null,null,null,null,null,null,null,null,null,null,null,null,null,"Vilomix BM 3,7","kg",0,0.04,0,null,null,null,null,null,null,null,null,null,null,null,"JH Malte Topp Eko EDEL","kg",5.1263999999999997E-2,7.1199999999999996E-3,1.3350000000000001E-2,168,0.88,4,null,"kraftfoder, spannmål etc.",null,"L Blenda 246","kg",4.82256E-2,1.2393667000000001E-2,1.0879267E-2,168,0.88,4,null,null,"inköpt",null,"KLF Hurtig","kg",2.6447999999999999E-2,6.0029999999999997E-3,7.6559999999999996E-3,168,0.88,5,null,"kraftfoder, spannmål etc."]
[null,null,null,null,null,null,null,null,null,null,null,null,null,null,null,null,"Vilomix BM 46","kg",0,4.0000000000000001E-3,0,null,null,null,null,null,null,null,null,null,null,null,"JH Nelli Eko EDEL","kg",2.9232000000000001E-2,4.5240000000000002E-3,8.2649999999999998E-3,169,0.88,4,null,"kraftfoder, spannmål etc.",null,"L Blenda 280","kg",5.3777555999999997E-2,8.8271110000000003E-3,1.2839556E-2,169,0.88,4,null,null,"inköpt",null,"KLF Högplus 235","kg",3.8016000000000001E-2,4.4879999999999998E-3,1.056E-2,169,0.88,5,null,"kraftfoder, spannmål etc."]
[null,null,null,null,null,null,null,null,null,null,null,null,null,null,null,null,"Vilomix BM Får","kg",0,0.05,0,null,null,null,null,null,null,null,null,null,null,null,"JH NY Eminent Topp EDEL","kg",3.7734400000000001E-2,5.5440000000000003E-3,1.056E-2,170,0.88,4,null,"kraftfoder, spannmål etc.",null,"L Blendex 201 ","kg",4.2465133000000002E-2,7.9022669999999993E-3,1.1114267000000001E-2,170,0.88,4,null,null,"inköpt",null,"KLF Högplus 245","kg",3.9424000000000001E-2,4.4879999999999998E-3,1.1088000000000001E-2,170,0.88,5,null,"kraftfoder, spannmål etc."]
[null,null,null,null,null,null,null,null,null,null,null,null,null,null,null,null,"Vilomix BM Kalcium","kg",0,1E-3,0,null,null,null,null,null,null,null,null,null,null,null,"JH OS Nova Edel","kg",2.53344E-2,4.8719999999999996E-3,7.9170000000000004E-3,171,0.88,4,null,"kraftfoder, spannmål etc.",null,"L Blendex 205 ","kg",4.0712499999999999E-2,8.5211669999999996E-3,1.1057167E-2,171,0.88,4,null,null,"inköpt",null,"KLF Högplus 255","kg",4.0832E-2,4.4879999999999998E-3,1.2496E-2,171,0.88,5,null,"kraftfoder, spannmål etc."]
[null,null,null,null,null,null,null,null,null,null,null,null,null,null,null,null,"Vilomix BM Magnesium","kg",0,1.2E-2,0,null,null,null,null,null,null,null,null,null,null,null,"JH PBV Topp EDEL","kg",4.1817600000000003E-2,5.9839999999999997E-3,1.2671999999999999E-2,172,0.88,4,null,"kraftfoder, spannmål etc.",null,"L Blendex Di 200 ","kg",5.4198166999999998E-2,1.0234833E-2,1.2140167E-2,172,0.88,4,null,null,"inköpt",null,"KLF Högplus 270","kg",4.3647999999999999E-2,4.4879999999999998E-3,1.0999999999999999E-2,172,0.88,5,null,"kraftfoder, spannmål etc."]
[null,null,null,null,null,null,null,null,null,null,null,null,null,null,null,null,"Vilomix BM Sin","kg",0,0.08,0,null,null,null,null,null,null,null,null,null,null,null,"JH Protein Ungnöt Edel ","kg",5.2403199999999997E-2,7.9209999999999992E-3,9.7009999999999996E-3,173,0.88,4,null,"kraftfoder, spannmål etc.",null,"L Blendex Di 210 ","kg",4.7911333E-2,9.5036670000000004E-3,1.1326332999999999E-2,173,0.88,4,null,null,"inköpt",null,"KLF Högplus 280","kg",4.5567999999999997E-2,5.0730000000000003E-3,1.0769000000000001E-2,173,0.88,5,null,"kraftfoder, spannmål etc."]
[null,null,null,null,null,null,null,null,null,null,null,null,null,null,null,null,"Vilomix OM Fosfor","kg",0,7.0000000000000007E-2,0,null,null,null,null,null,null,null,null,null,null,null,"JH Pärla FUFO EDEL","kg",6.1943999999999999E-2,7.1199999999999996E-3,1.2905E-2,174,0.88,4,null,"kraftfoder, spannmål etc.",null,"L Blendex Di 211  ","kg",4.6309999999999997E-2,9.1606666666666694E-3,1.09636666666667E-2,174,0.88,4,null,null,"inköpt",null,"KLF Högplus 290","kg",4.7097600000000003E-2,5.0844000000000002E-3,1.21312E-2,174,0.88,5,null,"kraftfoder, spannmål etc."]
[null,null,null,null,null,null,null,null,null,null,null,null,null,null,null,null,"Vilomix OM Kalcium","kg",0,4.0000000000000001E-3,0,null,null,null,null,null,null,null,null,null,null,null,"JH Pärla Nova EDEL","kg",2.9232000000000001E-2,4.6979999999999999E-3,9.2219999999999993E-3,175,0.88,4,null,"kraftfoder, spannmål etc.",null,"L Blendex Di 220 ","kg",4.6202667000000003E-2,8.0303330000000006E-3,1.1793333E-2,175,0.88,4,null,null,"inköpt",null,"KLF Högplus Majs Fett","kg",4.0599999999999997E-2,4.9874999999999997E-3,1.155E-2,175,0.88,5,null,"kraftfoder, spannmål etc."]
[null,null,null,null,null,null,null,null,null,null,null,null,null,null,null,null,"Vilomix OM Magnesium","kg",0,1.2999999999999999E-2,0,null,null,null,null,null,null,null,null,null,null,null,"JH Pärla Topp EDEL","kg",4.1817600000000003E-2,5.6319999999999999E-3,1.1351999999999999E-2,176,0.88,4,null,"kraftfoder, spannmål etc.",null,"L Delta F1101 ","kg",2.5433556E-2,4.4574439999999996E-3,6.2588890000000001E-3,176,0.88,4,null,null,"inköpt",null,"KLF Högplus Robot","kg",3.8975999999999997E-2,4.437E-3,1.044E-2,176,0.88,5,null,"kraftfoder, spannmål etc."]
[null,null,null,null,null,null,null,null,null,null,null,null,null,null,null,null,"Vilomix OM Mix Ca","kg",0,6.0000000000000001E-3,0,null,null,null,null,null,null,null,null,null,null,null,"JH Singel Topp EDEL","kg",4.0832E-2,5.5440000000000003E-3,1.3024000000000001E-2,177,0.88,4,null,"kraftfoder, spannmål etc.",null,"L Delta F1102","kg",2.5209133000000002E-2,4.4215330000000001E-3,6.0990000000000003E-3,177,0.88,4,null,null,"inköpt",null,"KLF Högplus Vall Fett","kg",3.78E-2,4.725E-3,1.0149999999999999E-2,177,0.88,5,null,"kraftfoder, spannmål etc."]
[null,null,null,null,null,null,null,null,null,null,null,null,null,null,null,null,"Vilomix OM Mix Mg","kg",0,1.2E-2,0,null,null,null,null,null,null,null,null,null,null,null,"JH Standard Topp EDEL","kg",4.02688E-2,5.6319999999999999E-3,1.2496E-2,178,0.88,4,null,"kraftfoder, spannmål etc.",null,"L Delta F1346 ","kg",2.3241499999999998E-2,4.163E-3,5.7306670000000001E-3,178,0.88,4,null,null,"inköpt",null,"KLF Kalvstart","kg",2.6447999999999999E-2,6.96E-3,9.1350000000000008E-3,178,0.88,5,null,"kraftfoder, spannmål etc."]
[null,null,null,null,null,null,null,null,null,null,null,null,null,null,null,null,"Vilomix OM Mix P","kg",0,0.09,0,null,null,null,null,null,null,null,null,null,null,null,"JH Ungnötskoncentrat EDEL","kg",4.224E-2,7.4799999999999997E-3,1.1440000000000001E-2,179,0.88,4,null,"kraftfoder, spannmål etc.",null,"L Delta F1347  ","kg",2.4482750000000001E-2,3.9984166666666701E-3,5.8477499999999996E-3,179,0.88,4,null,null,"inköpt",null,"KLF Komet","kg",2.6447999999999999E-2,6.0029999999999997E-3,8.7869999999999997E-3,179,0.88,5,null,"kraftfoder, spannmål etc."]
[null,null,null,null,null,null,null,null,null,null,null,null,null,null,null,null,"Vilomix OM Normal","kg",0,3.5000000000000003E-2,0,null,null,null,null,null,null,null,null,null,null,null,"JH Vall 1 Nova Edel","kg",2.436E-2,4.7850000000000002E-3,6.96E-3,180,0.88,4,null,"kraftfoder, spannmål etc.",null,"L Delta F2103 ","kg",2.4090250000000001E-2,4.3559169999999999E-3,6.0955829999999999E-3,180,0.88,4,null,null,"inköpt",null,"KLF Mix 410 mer fett","kg",6.3923199999999999E-2,5.9839999999999997E-3,1.6455999999999998E-2,180,0.88,5,null,"kraftfoder, spannmål etc."]
[null,null,null,null,null,null,null,null,null,null,null,null,null,null,null,null,"Vilomix Pellvimin 0,6","kg",0,6.08E-2,4.9399999999999999E-3,null,null,null,null,null,null,null,null,null,null,null,"JH Vall 2","kg",2.63088E-2,4.8719999999999996E-3,6.6119999999999998E-3,181,0.88,4,null,"kraftfoder, spannmål etc.",null,"L Delta F2140  ","kg",1.9639E-2,3.7126666666666701E-3,5.0889999999999998E-3,181,0.88,4,null,null,"inköpt",null,"KLF Mix Majs ","kg",6.3367999999999994E-2,5.5180000000000003E-3,1.6910000000000001E-2,181,0.88,5,null,"kraftfoder, spannmål etc."]
[null,null,null,null,null,null,null,null,null,null,null,null,null,null,null,null,"Vilomix Pellvimin 3","kg",0,2.6409999999999999E-2,4.9399999999999999E-3,null,null,null,null,null,null,null,null,null,null,null,"JH Vega test","kg",4.6564800000000003E-2,8.0099999999999998E-3,1.157E-2,182,0.88,4,null,"kraftfoder, spannmål etc.",null,"L Delta F2151  ","kg",2.60253333333333E-2,4.3196666666666696E-3,6.0373333333333303E-3,182,0.88,4,null,null,{"$f":"inköpt","v":"inköpt"},null,"KLF Mix Protein ","kg",5.5536000000000002E-2,8.633E-3,1.1481E-2,182,0.88,5,null,"kraftfoder, spannmål etc."]
[null,null,null,null,null,null,null,null,null,null,null,null,null,null,null,null,"Vilomix Pellvimin 80","kg",0,1.33E-3,4.9399999999999999E-3,null,null,null,null,null,null,null,null,null,null,null,"JH Vega test_2","kg",3.7593599999999998E-2,7.744E-3,6.9519999999999998E-3,183,0.88,4,null,"kraftfoder, spannmål etc.",null,"L Delta F2303 ","kg",2.4561666999999999E-2,4.194667E-3,6.0426669999999998E-3,183,0.88,4,null,null,"inköpt",null,"KLF Mix UREA","kg",6.4792000000000002E-2,6.2300000000000003E-3,1.4418E-2,183,0.88,5,null,"kraftfoder, spannmål etc."]
[null,null,null,null,null,null,null,null,null,null,null,null,null,null,null,null,"Vilomix VM 1","kg",0,0.09,0,null,null,null,null,null,null,null,null,null,null,null,"JH Vega test_3","kg",3.5763200000000002E-2,7.744E-3,9.6799999999999994E-3,184,0.88,4,null,"kraftfoder, spannmål etc.",null,"L Delta F2340 ","kg",2.0168917000000001E-2,3.662083E-3,5.0799169999999998E-3,184,0.88,4,null,null,"inköpt",null,"KLF Mix Vall ","kg",6.0544000000000001E-2,5.8960000000000002E-3,1.6455999999999998E-2,184,0.88,5,null,"kraftfoder, spannmål etc."]
[null,null,null,null,null,null,null,null,null,null,null,null,null,null,null,null,"Vilomix VM 17","kg",0,0.01,0,null,null,null,null,null,null,null,null,null,null,null,"JH Vega Ungnöt EDEL","kg",2.0879999999999999E-2,5.0460000000000001E-3,7.9170000000000004E-3,185,0.88,4,null,"kraftfoder, spannmål etc.",null,"L Delta F2345","kg",2.134525E-2,3.8440000000000002E-3,5.3383329999999998E-3,185,0.88,4,null,null,"inköpt",null,"KLF O171067 Stjärna Egen","kg",2.15512E-2,3.2152999999999999E-3,0,185,0.88,5,null,"kraftfoder, spannmål etc."]
[null,null,null,null,null,null,null,null,null,null,null,null,null,null,null,null,"Vilomix VM 2,5","kg",0,6.5000000000000002E-2,0,null,null,null,null,null,null,null,null,null,null,null,"JH Wille Eko Edel","kg",4.7988799999999998E-2,6.4079999999999996E-3,1.4239999999999999E-2,186,0.88,4,null,"kraftfoder, spannmål etc.",null,"L Delta F2347","kg",2.4948749999999999E-2,4.1922499999999998E-3,5.9450830000000003E-3,186,0.88,4,null,null,"inköpt",null,"KLF R109934 Stjärna Egen","kg",3.3792000000000003E-2,4.9280000000000001E-3,0,186,0.88,5,null,"kraftfoder, spannmål etc."]
[null,null,null,null,null,null,null,null,null,null,null,null,null,null,null,null,"Vilomix VM 3","kg",0,4.4999999999999998E-2,0,null,null,null,null,null,null,null,null,null,null,null,"KLF Alert","kg",2.3664000000000001E-2,6.0029999999999997E-3,7.6559999999999996E-3,187,0.88,4,null,"kraftfoder, spannmål etc.",null,"L Delta F3104 ","kg",2.2510067000000002E-2,4.3456670000000001E-3,5.9064670000000003E-3,187,0.88,4,null,null,"inköpt",null,"KLF Salut","kg",2.0879999999999999E-2,6.0029999999999997E-3,7.5690000000000002E-3,187,0.88,5,null,"kraftfoder, spannmål etc."]
[null,null,null,null,null,null,null,null,null,null,null,null,null,null,null,null,"Vilomix VM Bete","kg",0,0.09,0,null,null,null,null,null,null,null,null,null,null,null,"KLF Balans","kg",1.8374399999999999E-2,3.045E-3,6.0029999999999997E-3,188,0.88,4,null,"kraftfoder, spannmål etc.",null,"L Delta F3105 ","kg",2.2159999999999999E-2,4.5196669999999998E-3,5.9020000000000001E-3,188,0.88,4,null,null,"inköpt",null,"KLF Stjärna 160 ","kg",2.3800000000000002E-2,4.9874999999999997E-3,7.0000000000000001E-3,188,0.88,5,null,"kraftfoder, spannmål etc."]
[null,null,null,null,null,null,null,null,null,null,null,null,null,null,null,null,"Vilomix VM Diko","kg",0,0.08,0,null,null,null,null,null,null,null,null,null,null,null,"KLF Final","kg",1.5311999999999999E-2,3.48E-3,6.96E-3,189,0.88,4,null,"kraftfoder, spannmål etc.",null,"L Delta F3108  ","kg",2.2665333333333301E-2,4.5593333333333302E-3,5.8609999999999999E-3,189,0.88,4,null,null,"inköpt",null,"KLF Stjärna 165","kg",2.6599999999999999E-2,4.5500000000000002E-3,8.0499999999999999E-3,189,0.88,5,null,"kraftfoder, spannmål etc."]
[null,null,null,null,null,null,null,null,null,null,null,null,null,null,null,null,"Vilomix VM Fullfoder Ca","kg",0,6.0000000000000001E-3,0,null,null,null,null,null,null,null,null,null,null,null,"KLF Harmoni Högplus","kg",4.752E-2,4.9500000000000004E-3,1.7100000000000001E-2,190,0.88,4,null,"kraftfoder, spannmål etc.",null,"L Delta F3141  ","kg",2.112E-2,4.3429999999999996E-3,5.8753333333333296E-3,190,0.88,4,null,null,"inköpt",null,"KLF Stjärna 175","kg",2.8000000000000001E-2,5.5125E-3,8.1375000000000006E-3,190,0.88,5,null,"kraftfoder, spannmål etc."]
[null,null,null,null,null,null,null,null,null,null,null,null,null,null,null,null,"Vilomix VM Fullfoder Mg","kg",0,1.2E-2,0,null,null,null,null,null,null,null,null,null,null,null,"KLF Harmoni Nöt","kg",2.2950399999999999E-3,5.8960000000000002E-4,7.7439999999999996E-4,191,0.88,4,null,"kraftfoder, spannmål etc.",null,"L Delta F3144  ","kg",2.2436333333333301E-2,4.1019999999999997E-3,5.80633333333333E-3,191,0.88,4,null,null,"inköpt",null,"KLF Stjärna 190","kg",3.15E-2,4.5500000000000002E-3,7.5249999999999996E-3,191,0.88,5,null,"kraftfoder, spannmål etc."]
[null,null,null,null,null,null,null,null,null,null,null,null,null,null,null,null,"Vilomix VM Fullfoder P","kg",0,0.09,0,null,null,null,null,null,null,null,null,null,null,null,"KLF Harmoni Stjärna","kg",2.8160000000000001E-2,3.96E-3,8.9759999999999996E-3,192,0.88,4,null,"kraftfoder, spannmål etc.",null,"L Delta F3149  ","kg",2.2178666666666701E-2,4.3256666666666704E-3,5.8719999999999996E-3,192,0.88,4,null,null,"inköpt",null,"KLF Stjärna 210","kg",3.3984E-2,5.3984999999999997E-3,1.0177500000000001E-2,192,0.88,5,null,"kraftfoder, spannmål etc."]
[null,null,null,null,null,null,null,null,null,null,null,null,null,null,null,null,"Vilomix VM Får Fullfoder","kg",0,7.0000000000000007E-2,0,null,null,null,null,null,null,null,null,null,null,null,"KLF Harmoni Stjärna Bas","kg",2.5625599999999998E-2,3.96E-3,8.8000000000000005E-3,{"$f":"AL197+1","v":193},0.88,4,null,"kraftfoder, spannmål etc.",null,"L Delta F3150  ","kg",2.1180000000000001E-2,3.9240000000000004E-3,5.3410000000000003E-3,{"$f":"AW197+1","v":193},0.88,4,null,null,"inköpt",null,"KLF Stjärna 95","kg",2.3800000000000002E-2,4.6375000000000001E-3,7.0000000000000001E-3,{"$f":"BI197+1","v":193},0.88,5,null,"kraftfoder, spannmål etc."]
[null,null,null,null,null,null,null,null,null,null,null,null,null,null,null,null,"Vilomix VM Köttfår","kg",0,7.4999999999999997E-2,0,null,null,null,null,null,null,null,null,null,null,null,"KLF Hurtig","kg",2.6447999999999999E-2,6.0029999999999997E-3,7.6559999999999996E-3,194,0.88,4,null,"kraftfoder, spannmål etc.",null,"L Delta F3152  ","kg",2.3301200000000001E-2,4.1152000000000003E-3,5.5761999999999999E-3,194,0.88,4,null,null,"inköpt",null,"KLF Stjärna Bas Fett ","kg",2.784E-2,4.5240000000000002E-3,8.4390000000000003E-3,194,0.88,5,null,"kraftfoder, spannmål etc."]
[null,null,null,null,null,null,null,null,null,null,null,null,null,null,null,null,"Vilomix VM Magnesium","kg",0,1.4E-2,0,null,null,null,null,null,null,null,null,null,null,null,"KLF Högplus 235","kg",3.8016000000000001E-2,4.4879999999999998E-3,1.056E-2,195,0.88,4,null,"kraftfoder, spannmål etc.",null,"L Delta F3204 ","kg",2.2517667000000002E-2,4.446111E-3,5.751E-3,195,0.88,4,null,null,"inköpt",null,"KLF Stjärna Enhet Fett","kg",3.0623999999999998E-2,4.5240000000000002E-3,7.4819999999999999E-3,195,0.88,5,null,"kraftfoder, spannmål etc."]
[null,null,null,null,null,null,null,null,null,null,null,null,null,null,null,null,"Vilomix VM Sin","kg",0,0.09,0,null,null,null,null,null,null,null,null,null,null,null,"KLF Högplus 245","kg",3.9424000000000001E-2,4.4879999999999998E-3,1.1088000000000001E-2,196,0.88,4,null,"kraftfoder, spannmål etc.",null,"L Delta F3304 ","kg",2.2200917000000001E-2,4.1956670000000001E-3,5.9133329999999998E-3,196,0.88,4,null,null,"inköpt",null,"KLF Stjärna Grund","kg",2.1000000000000001E-2,4.4625000000000003E-3,7.0000000000000001E-3,196,0.88,5,null,"kraftfoder, spannmål etc."]
[null,null,null,null,null,null,null,null,null,null,null,null,null,null,null,null,"Vitafor Balans-mineral","kg",0,8.0000000000000002E-3,0,null,null,null,null,null,null,null,null,null,null,null,"KLF Högplus 255","kg",4.0832E-2,4.4879999999999998E-3,1.2496E-2,197,0.88,4,null,"kraftfoder, spannmål etc.",null,"L Delta F3341 ","kg",2.1099666999999999E-2,3.9154999999999997E-3,5.542333E-3,197,0.88,4,null,null,"inköpt",null,"KLF Stjärna Grön -18","kg",2.4780799999999999E-2,5.4559999999999999E-3,0,197,0.88,5,null,"kraftfoder, spannmål etc."]
[null,null,null,null,null,null,null,null,null,null,null,null,null,null,null,null,"Vitafor Balans-mineral","kg",0,8.0000000000000002E-3,0,null,null,null,null,null,null,null,null,null,null,null,"KLF Högplus 270","kg",4.3647999999999999E-2,4.4879999999999998E-3,1.0999999999999999E-2,198,0.88,4,null,"kraftfoder, spannmål etc.",null,"L Delta F3344 ","kg",2.2416499999999999E-2,4.1665000000000001E-3,5.8350829999999996E-3,198,0.88,4,null,null,"inköpt",null,"KLF Stjärna Robot","kg",2.2272E-2,4.5240000000000002E-3,8.0040000000000007E-3,198,0.88,5,null,"kraftfoder, spannmål etc."]
[null,null,null,null,null,null,null,null,null,null,null,null,null,null,null,null,"Vitafor Power","kg",0,1.4999999999999999E-2,0,null,null,null,null,null,null,null,null,null,null,null,"KLF Högplus 280","kg",4.5567999999999997E-2,5.0730000000000003E-3,1.0769000000000001E-2,199,0.88,4,null,"kraftfoder, spannmål etc.",null,"L Delta F3348","kg",2.2336000000000002E-2,4.1571669999999998E-3,5.8001670000000002E-3,199,0.88,4,null,null,"inköpt",null,"KLF Stjärna Special","kg",2.8019200000000001E-2,5.0159999999999996E-3,9.4160000000000008E-3,199,0.88,5,null,"kraftfoder, spannmål etc."]
[null,null,null,null,null,null,null,null,null,null,null,null,null,null,null,null,"Vitafor Power","kg",0,1.4999999999999999E-2,0,null,null,null,null,null,null,null,null,null,null,null,"KLF Högplus 290","kg",4.7097600000000003E-2,5.0844000000000002E-3,1.21312E-2,200,0.88,4,null,"kraftfoder, spannmål etc.",null,"L Delta F3349  ","kg",2.2422333333333301E-2,4.1551666666666699E-3,5.7794999999999999E-3,200,0.88,4,null,null,"inköpt",null,"KLF Svea 330","kg",6.2815999999999997E-2,8.6999999999999994E-3,1.52E-2,200,0.88,5,null,"kraftfoder, spannmål etc."]
[null,null,null,null,null,null,null,null,null,null,null,null,null,null,null,null,"Vitafor Protein-mineral","kg",0,1.0999999999999999E-2,0,null,null,null,null,null,null,null,null,null,null,null,"KLF Högplus Majs Fett","kg",4.0599999999999997E-2,4.9874999999999997E-3,1.155E-2,201,0.88,4,null,"kraftfoder, spannmål etc.",null,"L Delta F4106","kg",2.1692889E-2,4.3489999999999996E-3,6.0017220000000001E-3,201,0.88,4,null,null,"inköpt",null,"KLF Test","kg",2.6447999999999999E-2,6.96E-3,9.1350000000000008E-3,201,0.88,5,null,"kraftfoder, spannmål etc."]
[null,null,null,null,null,null,null,null,null,null,null,null,null,null,null,null,"Vitafor Protein-mineral","kg",0,1.0999999999999999E-2,0,null,null,null,null,null,null,null,null,null,null,null,"KLF Högplus Robot","kg",3.8975999999999997E-2,4.437E-3,1.044E-2,202,0.88,4,null,"kraftfoder, spannmål etc.",null,"L Delta F4107 ","kg",2.1392667000000001E-2,4.2496670000000004E-3,5.849333E-3,202,0.88,4,null,null,"inköpt",null,"KLF Ungnöt","kg",2.3664000000000001E-2,6.0029999999999997E-3,7.6559999999999996E-3,202,0.88,5,null,"kraftfoder, spannmål etc."]
[null,null,null,null,null,null,null,null,null,null,null,null,null,null,null,null,"Vitafor Solid","kg",0,0.02,0,null,null,null,null,null,null,null,null,null,null,null,"KLF Högplus Vall Fett","kg",3.78E-2,4.725E-3,1.0149999999999999E-2,203,0.88,4,null,"kraftfoder, spannmål etc.",null,"L Delta F4306 ","kg",2.1661333000000001E-2,4.2525000000000002E-3,6.0175000000000003E-3,203,0.88,4,null,null,"inköpt",null,"KLF Ungnötskoncentrat","kg",4.8023999999999997E-2,8.9610000000000002E-3,1.4703000000000001E-2,203,0.88,5,null,"kraftfoder, spannmål etc."]
[null,null,null,null,null,null,null,null,null,null,null,null,null,null,null,null,"Vitafor Solid","kg",0,0.02,0,null,null,null,null,null,null,null,null,null,null,null,"KLF Kalvstart","kg",2.6447999999999999E-2,6.96E-3,9.1350000000000008E-3,204,0.88,4,null,"kraftfoder, spannmål etc.",null,"L Delta F4342 ","kg",2.0476000000000001E-2,4.042833E-3,5.6202500000000002E-3,204,0.88,4,null,null,"inköpt",null,"KLF Växa","kg",2.3664000000000001E-2,6.0029999999999997E-3,7.6559999999999996E-3,204,0.88,5,null,"kraftfoder, spannmål etc."]
[null,null,null,null,null,null,null,null,null,null,null,null,null,null,null,null,"Vitafor Strong","kg",0,3.4000000000000002E-2,0,null,null,null,null,null,null,null,null,null,null,null,"KLF Komet","kg",2.6447999999999999E-2,6.0029999999999997E-3,8.7869999999999997E-3,205,0.88,4,null,"kraftfoder, spannmål etc.",null,"L Delta F5107 ","kg",2.0907833000000001E-2,4.3404999999999997E-3,5.9205000000000004E-3,205,0.88,4,null,null,"inköpt",null,"L Addera Bas 350","kg",5.1868999999999998E-2,9.0130000000000002E-3,1.0846E-2,205,0.88,5,null,"kraftfoder, spannmål etc."]
[null,null,null,null,null,null,null,null,null,null,null,null,null,null,null,null,"Vitafor Strong","kg",0,3.4000000000000002E-2,0,null,null,null,null,null,null,null,null,null,null,null,"KLF Mix 410 mer fett","kg",6.3923199999999999E-2,5.9839999999999997E-3,1.6455999999999998E-2,206,0.88,4,null,"kraftfoder, spannmål etc.",null,"L Delta F5307 ","kg",2.0122332999999999E-2,4.2635829999999996E-3,5.8180829999999999E-3,206,0.88,4,null,null,"inköpt",null,"L Addera Mega 440","kg",6.1090999999999999E-2,6.3049999999999998E-3,1.5613E-2,206,0.88,5,null,"kraftfoder, spannmål etc."]
[null,null,null,null,null,null,null,null,null,null,null,null,null,null,null,null,"VL GM Vallberga 19","kg",0,8.0359999999999997E-3,0,null,null,null,null,null,null,null,null,null,null,null,"KLF Mix Majs ","kg",6.3367999999999994E-2,5.5180000000000003E-3,1.6910000000000001E-2,207,0.88,4,null,"kraftfoder, spannmål etc.",null,"L DeltaMix P6000  ","kg",2.8738E-2,9.3199999999999999E-4,2.2786666666666702E-3,207,0.88,4,null,null,"inköpt",null,"L Addera Mix 405","kg",5.8014999999999997E-2,6.6759999999999996E-3,1.5344999999999999E-2,207,0.88,5,null,"kraftfoder, spannmål etc."]
[null,null,null,null,null,null,null,null,null,null,null,null,null,null,null,null,"VL GM Vallberga 4,5","kg",0,3.9983999999999999E-2,0,null,null,null,null,null,null,null,null,null,null,null,"KLF Mix Protein ","kg",5.5536000000000002E-2,8.633E-3,1.1481E-2,208,0.88,4,null,"kraftfoder, spannmål etc.",null,"L DeltaMix P6001  ","kg",2.8697666666666701E-2,9.1799999999999998E-4,2.2623333333333302E-3,208,0.88,4,null,null,"inköpt",null,"L Addera N 405","kg",5.7119999999999997E-2,7.7120000000000001E-3,1.4055E-2,208,0.88,5,null,"kraftfoder, spannmål etc."]
[null,null,null,null,null,null,null,null,null,null,null,null,null,null,null,null,"VL GM Vallberga Alfa","kg",0,1.9012000000000001E-2,0,null,null,null,null,null,null,null,null,null,null,null,"KLF Mix UREA","kg",6.4792000000000002E-2,6.2300000000000003E-3,1.4418E-2,209,0.88,4,null,"kraftfoder, spannmål etc.",null,"L DeltaMix P6002  ","kg",2.7390999999999999E-2,4.89666666666667E-4,1.7816666666666699E-3,209,0.88,4,null,null,"inköpt",null,"L Addera N 440","kg",6.1920000000000003E-2,6.2259999999999998E-3,1.5993E-2,209,0.88,5,null,"kraftfoder, spannmål etc."]
[null,null,null,null,null,null,null,null,null,null,null,null,null,null,null,null,"VL GM Vallberga Fullfoder","kg",0,7.4969999999999995E-2,0,null,null,null,null,null,null,null,null,null,null,null,"KLF Mix Vall ","kg",6.0544000000000001E-2,5.8960000000000002E-3,1.6455999999999998E-2,210,0.88,4,null,"kraftfoder, spannmål etc.",null,"L DeltaMix P6003 Orca","kg",2.8195999999999999E-2,7.2566666666666699E-4,1.8646666666666701E-3,210,0.88,4,null,null,"inköpt",null,"L Addera Nära 410","kg",5.7599999999999998E-2,8.9910000000000007E-3,1.0251E-2,210,0.88,5,null,"kraftfoder, spannmål etc."]
[null,null,null,null,null,null,null,null,null,null,null,null,null,null,null,null,"VL GM Vallberga hög","kg",0,2.4989999999999998E-2,0,null,null,null,null,null,null,null,null,null,null,null,"KLF O171067 Stjärna Egen","kg",2.15512E-2,3.2152999999999999E-3,0,211,0.88,4,null,"kraftfoder, spannmål etc.",null,"L DeltaMix P6005  ","kg",2.8875000000000001E-2,9.9500000000000001E-4,2.33E-3,211,0.88,4,null,null,"inköpt",null,"L Elegant","kg",3.3599999999999998E-2,4.6969999999999998E-3,8.6990000000000001E-3,211,0.88,5,null,"kraftfoder, spannmål etc."]
[null,null,null,null,null,null,null,null,null,null,null,null,null,null,null,null,"VL GM Vallberga Låg","kg",0,9.7019999999999995E-2,0,null,null,null,null,null,null,null,null,null,null,null,"KLF R109934 Stjärna Egen","kg",3.3792000000000003E-2,4.9280000000000001E-3,0,212,0.88,4,null,"kraftfoder, spannmål etc.",null,"L DeltaMix P6011  ","kg",2.8677333333333301E-2,9.1100000000000003E-4,2.2536666666666699E-3,212,0.88,4,null,null,"inköpt",null,"L Flex 175","kg",3.1539200000000003E-2,5.7200000000000003E-3,7.0400000000000003E-3,212,0.88,5,null,"kraftfoder, spannmål etc."]
[null,null,null,null,null,null,null,null,null,null,null,null,null,null,null,null,"VL GM Vallberga Mg","kg",0,5.2920000000000002E-2,0,null,null,null,null,null,null,null,null,null,null,null,"KLF Salut","kg",2.0879999999999999E-2,6.0029999999999997E-3,7.5690000000000002E-3,213,0.88,4,null,"kraftfoder, spannmål etc.",null,"L DeltaMix P6012   ","kg",2.3796999999999999E-2,7.3033333333333305E-4,1.6196666666666701E-3,213,0.88,4,null,null,"inköpt",null,"L Flex 36","kg",5.7672000000000001E-2,5.9630000000000004E-3,1.4239999999999999E-2,213,0.88,5,null,"kraftfoder, spannmål etc."]
[null,null,null,null,null,null,null,null,null,null,null,null,null,null,null,null,"VL GM Vallberga normal","kg",0,5.2920000000000002E-2,0,null,null,null,null,null,null,null,null,null,null,null,"KLF Stjärna 160 ","kg",2.3800000000000002E-2,4.9874999999999997E-3,7.0000000000000001E-3,214,0.88,4,null,"kraftfoder, spannmål etc.",null,"L DeltaMix P6022  ","kg",2.73466666666667E-2,4.8366666666666702E-4,1.7719999999999999E-3,214,0.88,4,null,null,"inköpt",null,"L Flex 52 Fett","kg",4.1295999999999999E-2,5.3400000000000001E-3,1.157E-2,214,0.88,5,null,"kraftfoder, spannmål etc."]
[null,null,null,null,null,null,null,null,null,null,null,null,null,null,null,null,"VL GM Vallberga Sin","kg",0,8.6043999999999995E-2,0,null,null,null,null,null,null,null,null,null,null,null,"KLF Stjärna 165","kg",2.6599999999999999E-2,4.5500000000000002E-3,8.0499999999999999E-3,215,0.88,4,null,"kraftfoder, spannmål etc.",null,"L DeltaMix P6200  ","kg",2.7379333333333301E-2,1.0009999999999999E-3,2.3633333333333301E-3,215,0.88,4,null,null,"inköpt",null,"L Flex Robot","kg",2.5343999999999998E-2,7.0400000000000003E-3,7.4799999999999997E-3,215,0.88,5,null,"kraftfoder, spannmål etc."]
[null,null,null,null,null,null,null,null,null,null,null,null,null,null,null,null,"VL GM Vallberga Sin Extra Mg","kg",0,6.3014000000000001E-2,0,null,null,null,null,null,null,null,null,null,null,null,"KLF Stjärna 175","kg",2.8000000000000001E-2,5.5125E-3,8.1375000000000006E-3,216,0.88,4,null,"kraftfoder, spannmål etc.",null,"L DeltaMix P6201  ","kg",2.758E-2,1.0820000000000001E-3,2.4359999999999998E-3,216,0.88,4,null,null,"inköpt",null,"L Flex Vallen","kg",4.1723200000000002E-2,7.1199999999999996E-3,1.068E-2,216,0.88,5,null,"kraftfoder, spannmål etc."]
[null,null,null,null,null,null,null,null,null,null,null,null,null,null,null,null,"VL GM Vallberga Sin Sejäst","kg",0,8.4966E-2,0,null,null,null,null,null,null,null,null,null,null,null,"KLF Stjärna 190","kg",3.15E-2,4.5500000000000002E-3,7.5249999999999996E-3,217,0.88,4,null,"kraftfoder, spannmål etc.",null,"L DeltaMix P6202  ","kg",2.6151666666666702E-2,6.0300000000000002E-4,1.9136666666666701E-3,217,0.88,4,null,null,"inköpt",null,"L Galant Grov","kg",2.4299999999999999E-2,5.1000000000000004E-3,7.7999999999999996E-3,217,0.88,5,null,"kraftfoder, spannmål etc."]
[null,null,null,null,null,null,null,null,null,null,null,null,null,null,null,null,"VL GM Vallberga Tjur","kg",0,6.9579999999999998E-3,0,null,null,null,null,null,null,null,null,null,null,null,"KLF Stjärna 210","kg",3.3984E-2,5.3984999999999997E-3,1.0177500000000001E-2,218,0.88,4,null,"kraftfoder, spannmål etc.",null,"L DeltaMix P6203  ","kg",2.6606333333333301E-2,2.9886666666666699E-3,1.87366666666667E-3,218,0.88,4,null,null,"inköpt",null,"L Galant N","kg",2.4E-2,5.2769999999999996E-3,7.9839999999999998E-3,218,0.88,5,null,"kraftfoder, spannmål etc."]
[null,null,null,null,null,null,null,null,null,null,null,null,null,null,null,null,"VL GM Vallberga Ungdjur","kg",0,3.9983999999999999E-2,0,null,null,null,null,null,null,null,null,null,null,null,"KLF Stjärna 95","kg",2.3800000000000002E-2,4.6375000000000001E-3,7.0000000000000001E-3,219,0.88,4,null,"kraftfoder, spannmål etc.",null,"L DeltaMix P6204  ","kg",2.7327666666666701E-2,9.8299999999999993E-4,2.3416666666666698E-3,219,0.88,4,null,null,"inköpt",null,"L Galant Nära","kg",2.4027E-2,5.372E-3,7.9039999999999996E-3,219,0.88,5,null,"kraftfoder, spannmål etc."]
[null,null,null,null,null,null,null,null,null,null,null,null,null,null,null,null,"VM Får Fullfoder","kg",0,7.0000000000000007E-2,0,null,null,null,null,null,null,null,null,null,null,null,"KLF Stjärna Bas Fett ","kg",2.784E-2,4.5240000000000002E-3,8.4390000000000003E-3,220,0.88,4,null,"kraftfoder, spannmål etc.",null,"L DeltaMix P6208  ","kg",2.6516000000000001E-2,2.3355333333333301E-2,2.0279999999999999E-3,220,0.88,4,null,null,"inköpt",null,"L Galant Ordinär","kg",2.4025999999999999E-2,5.1960000000000001E-3,7.7429999999999999E-3,220,0.88,5,null,"kraftfoder, spannmål etc."]
[null,null,null,null,null,null,null,null,null,null,null,null,null,null,null,null,"VM Köttfår","kg",0,7.4999999999999997E-2,0,null,null,null,null,null,null,null,null,null,null,null,"KLF Stjärna Enhet Fett","kg",3.0623999999999998E-2,4.5240000000000002E-3,7.4819999999999999E-3,221,0.88,4,null,"kraftfoder, spannmål etc.",null,"L DeltaMix P6209  ","kg",1.96213333333333E-2,1.68743333333333E-2,3.2716666666666701E-3,221,0.88,4,null,null,"inköpt",null,"L Galant Snabb","kg",2.7151999999999999E-2,5.8349999999999999E-3,7.9340000000000001E-3,221,0.88,5,null,"kraftfoder, spannmål etc."]
[null,null,null,null,null,null,null,null,null,null,null,null,null,null,null,null,"VM Pälsfår","kg",0,0.1,0,null,null,null,null,null,null,null,null,null,null,null,"KLF Stjärna Grund","kg",2.1000000000000001E-2,4.4625000000000003E-3,7.0000000000000001E-3,222,0.88,4,null,"kraftfoder, spannmål etc.",null,"L DeltaMix P6212  ","kg",2.6133E-2,5.96666666666667E-4,1.9056666666666701E-3,222,0.88,4,null,null,"inköpt",null,"L Galant Stabil","kg",2.2387199999999999E-2,4.4879999999999998E-3,7.0400000000000003E-3,222,0.88,5,null,"kraftfoder, spannmål etc."]
[null,null,null,null,null,null,null,null,null,null,null,null,null,null,null,null,"W Wn Ekomin Hög","kg",0,9.7999999999999997E-3,0,null,null,null,null,null,null,null,null,null,null,null,"KLF Stjärna Grön -18","kg",2.4780799999999999E-2,5.4559999999999999E-3,0,223,0.88,4,null,"kraftfoder, spannmål etc.",null,"L DeltaMix P6222  ","kg",2.7185999999999998E-2,5.6300000000000002E-4,1.86433333333333E-3,223,0.88,4,null,null,"inköpt",null,"L Galax Utmärkt","kg",4.0800000000000003E-2,7.6470000000000002E-3,1.0536E-2,223,0.88,5,null,"kraftfoder, spannmål etc."]
[null,null,null,null,null,null,null,null,null,null,null,null,null,null,null,null,"W Wn Ekomin Kött","kg",0,3.4299999999999997E-2,0,null,null,null,null,null,null,null,null,null,null,null,"KLF Stjärna Robot","kg",2.2272E-2,4.5240000000000002E-3,8.0040000000000007E-3,224,0.88,4,null,"kraftfoder, spannmål etc.",null,"L DeltaMix P6232  ","kg",2.6137666666666701E-2,5.9800000000000001E-4,1.908E-3,224,0.88,4,null,null,"inköpt",null,"L Ideal","kg",2.4E-2,5.4000000000000003E-3,7.9000000000000008E-3,224,0.88,5,null,"kraftfoder, spannmål etc."]
[null,null,null,null,null,null,null,null,null,null,null,null,null,null,null,null,"W Wn Ekomin Normal","kg",0,4.2139999999999997E-2,0,null,null,null,null,null,null,null,null,null,null,null,"KLF Stjärna Special","kg",2.8019200000000001E-2,5.0159999999999996E-3,9.4160000000000008E-3,225,0.88,4,null,"kraftfoder, spannmål etc.",null,"L DeltaMix P6242  ","kg",2.5735000000000001E-2,4.6200000000000001E-4,1.7403333333333301E-3,225,0.88,4,null,null,"inköpt",null,"L Idex","kg",4.1547000000000001E-2,8.4060000000000003E-3,1.0435E-2,225,0.88,5,null,"kraftfoder, spannmål etc."]
[null,null,null,null,null,null,null,null,null,null,null,null,null,null,null,null,"W Wn Ekomin Sin","kg",0,8.8200000000000001E-2,0,null,null,null,null,null,null,null,null,null,null,null,"KLF Svea 330","kg",6.2815999999999997E-2,8.6999999999999994E-3,1.52E-2,226,0.88,4,null,"kraftfoder, spannmål etc.",null,"L DeltaMix P6400  ","kg",3.5670333333333297E-2,1.121E-3,2.4680000000000001E-3,226,0.88,4,null,null,"inköpt",null,"L Idissla","kg",2.6700000000000002E-2,5.5999999999999999E-3,8.2559999999999995E-3,226,0.88,5,null,"kraftfoder, spannmål etc."]
[null,null,null,null,null,null,null,null,null,null,null,null,null,null,null,null,"W Wn oPtimal Låg","kg",0,7.3499999999999996E-2,9.8000000000000004E-2,null,null,null,null,null,null,null,null,null,null,null,"KLF Test","kg",2.6447999999999999E-2,6.96E-3,9.1350000000000008E-3,227,0.88,4,null,"kraftfoder, spannmål etc.",null,"L DeltaMix P6402  ","kg",3.4447333333333302E-2,7.2599999999999997E-4,2.0316666666666699E-3,227,0.88,4,null,null,"inköpt",null,"L Idol","kg",2.7754000000000001E-2,4.9789999999999999E-3,8.5830000000000004E-3,227,0.88,5,null,"kraftfoder, spannmål etc."]
[null,null,null,null,null,null,null,null,null,null,null,null,null,null,null,null,"W Wn oPtimal Mg","kg",0,1.9599999999999999E-2,9.7999999999999997E-4,null,null,null,null,null,null,null,null,null,null,null,"KLF Ungnöt","kg",2.3664000000000001E-2,6.0029999999999997E-3,7.6559999999999996E-3,228,0.88,4,null,"kraftfoder, spannmål etc.",null,"L DeltaMix P6406  ","kg",2.6987666666666701E-2,4.7699999999999999E-4,2.2453333333333301E-3,228,0.88,4,null,null,"inköpt",null,"L Komplett Amin 220","kg",3.1423E-2,6.2979999999999998E-3,8.8170000000000002E-3,228,0.88,5,null,"kraftfoder, spannmål etc."]
[null,null,null,null,null,null,null,null,null,null,null,null,null,null,null,null,"W Wn oPtimal Normal","kg",0,1.9599999999999999E-2,9.7999999999999997E-5,null,null,null,null,null,null,null,null,null,null,null,"KLF Ungnötskoncentrat","kg",4.8023999999999997E-2,8.9610000000000002E-3,1.4703000000000001E-2,229,0.88,4,null,"kraftfoder, spannmål etc.",null,"L DeltaMix P6600  ","kg",2.8334666666666699E-2,9.2500000000000004E-4,2.2583333333333301E-3,229,0.88,4,null,null,"inköpt",null,"L Komplett Fiber 170","kg",2.401E-2,5.5420000000000001E-3,7.535E-3,229,0.88,5,null,"kraftfoder, spannmål etc."]
[null,null,null,null,null,null,null,null,null,null,null,null,null,null,null,null,"W Wn oPtimal Sin","kg",0,7.3499999999999996E-2,0,null,null,null,null,null,null,null,null,null,null,null,"KLF Växa","kg",2.3664000000000001E-2,6.0029999999999997E-3,7.6559999999999996E-3,230,0.88,4,null,"kraftfoder, spannmål etc.",null,"L DeltaMix P6602  ","kg",2.7824333333333302E-2,7.6866666666666696E-4,2.1096666666666698E-3,230,0.88,4,null,null,"inköpt",null,"L Komplett Grov","kg",2.6665000000000001E-2,5.189E-3,8.2089999999999993E-3,230,0.88,5,null,"kraftfoder, spannmål etc."]
[null,null,null,null,null,null,null,null,null,null,null,null,null,null,null,null,"W Wn Wiromineral Beef","kg",0,7.3499999999999996E-2,9.7999999999999997E-4,null,null,null,null,null,null,null,null,null,null,null,"L Addera Bas 350","kg",5.1868999999999998E-2,9.0130000000000002E-3,1.0846E-2,231,0.88,4,null,"kraftfoder, spannmål etc.",null,"L DeltaMix P6610  ","kg",2.9405333333333301E-2,2.8933333333333298E-3,4.4866666666666701E-3,231,0.88,4,null,null,"inköpt",null,"L Komplett Maxa 175","kg",2.6238999999999998E-2,5.5999999999999999E-3,7.1659999999999996E-3,231,0.88,5,null,"kraftfoder, spannmål etc."]
[null,null,null,null,null,null,null,null,null,null,null,null,null,null,null,null,"W Wn Wiromineral Bete","kg",0,3.5999999999999997E-2,0,null,null,null,null,null,null,null,null,null,null,null,"L Addera Mega 440","kg",6.1090999999999999E-2,6.3049999999999998E-3,1.5613E-2,232,0.88,4,null,"kraftfoder, spannmål etc.",null,"L DeltaMix P6611  ","kg",2.5672E-2,9.6943333333333308E-3,4.5329999999999997E-3,232,0.88,4,null,null,"inköpt",null,"L Komplett Mega 190","kg",2.6721000000000002E-2,5.6210000000000001E-3,7.7320000000000002E-3,232,0.88,5,null,"kraftfoder, spannmål etc."]
[null,null,null,null,null,null,null,null,null,null,null,null,null,null,null,null,"W Wn Wiromineral Hög","kg",0,3.6260000000000001E-2,0,null,null,null,null,null,null,null,null,null,null,null,"L Addera Mix 405","kg",5.8014999999999997E-2,6.6759999999999996E-3,1.5344999999999999E-2,233,0.88,4,null,"kraftfoder, spannmål etc.",null,"L DeltaMix P6909  ","kg",2.6955E-2,1.4726E-2,2.3213333333333302E-3,233,0.88,4,null,null,"inköpt",null,"L Komplett Mega 200","kg",2.7983999999999998E-2,5.1809999999999998E-3,8.5939999999999992E-3,233,0.88,5,null,"kraftfoder, spannmål etc."]
[null,null,null,null,null,null,null,null,null,null,null,null,null,null,null,null,"W Wn Wiromineral Köttras","kg",0,3.6260000000000001E-2,0,null,null,null,null,null,null,null,null,null,null,null,"L Addera N 405","kg",5.7119999999999997E-2,7.7120000000000001E-3,1.4055E-2,234,0.88,4,null,"kraftfoder, spannmål etc.",null,"L Deltamix P7000  ","kg",4.2763333333333299E-2,5.8686666666666696E-3,5.9081666666666701E-3,234,0.88,4,null,null,"inköpt",null,"L Komplett N 195","kg",2.7300999999999999E-2,5.9560000000000004E-3,8.2559999999999995E-3,234,0.88,5,null,"kraftfoder, spannmål etc."]
[null,null,null,null,null,null,null,null,null,null,null,null,null,null,null,null,"W Wn Wiromineral Låg","kg",0,0.12446,9.7999999999999997E-4,null,null,null,null,null,null,null,null,null,null,null,"L Addera N 440","kg",6.1920000000000003E-2,6.2259999999999998E-3,1.5993E-2,235,0.88,4,null,"kraftfoder, spannmål etc.",null,"L Deltamix P7003 Orca  ","kg",4.1732833333333302E-2,5.7173333333333303E-3,5.5778333333333296E-3,235,0.88,4,null,null,"inköpt",null,"L Komplett N 240","kg",3.3524999999999999E-2,4.5510000000000004E-3,1.0146000000000001E-2,235,0.88,5,null,"kraftfoder, spannmål etc."]
[null,null,null,null,null,null,null,null,null,null,null,null,null,null,null,null,"W Wn Wiromineral Medium","kg",0,7.8399999999999997E-2,0,null,null,null,null,null,null,null,null,null,null,null,"L Addera Nära 410","kg",5.7599999999999998E-2,8.9910000000000007E-3,1.0251E-2,236,0.88,4,null,"kraftfoder, spannmål etc.",null,"L Deltamix P7200  ","kg",4.2103166666666698E-2,5.3410000000000003E-3,5.9356666666666698E-3,236,0.88,4,null,null,"inköpt",null,"L Komplett Norm 180","kg",2.5645999999999999E-2,5.9639999999999997E-3,7.9039999999999996E-3,236,0.88,5,null,"kraftfoder, spannmål etc."]
[null,null,null,null,null,null,null,null,null,null,null,null,null,null,null,null,"W Wn Wiromineral Mg","kg",0,6.1740000000000003E-2,0,null,null,null,null,null,null,null,null,null,null,null,"L Elegant","kg",3.3599999999999998E-2,4.6969999999999998E-3,8.6990000000000001E-3,237,0.88,4,null,"kraftfoder, spannmål etc.",null,"L Deltamix P7400  ","kg",4.5105166666666703E-2,3.9659999999999999E-3,7.4679999999999998E-3,237,0.88,4,null,null,"inköpt",null,"L Komplett Nära Amin 230","kg",3.2805000000000001E-2,6.3299999999999997E-3,8.2570000000000005E-3,237,0.88,5,null,"kraftfoder, spannmål etc."]
[null,null,null,null,null,null,null,null,null,null,null,null,null,null,null,null,"W Wn Wiromineral Mg plus","kg",0,5.3900000000000003E-2,0,null,null,null,null,null,null,null,null,null,null,null,"L Flex 175","kg",3.1539200000000003E-2,5.7200000000000003E-3,7.0400000000000003E-3,238,0.88,4,null,"kraftfoder, spannmål etc.",null,"L Deltex K1376 ","kg",5.4329333E-2,7.6338329999999996E-3,1.2491833000000001E-2,238,0.88,4,null,null,"inköpt",null,"L Komplett Nära Norm 190","kg",2.6752000000000001E-2,5.28E-3,7.3039999999999997E-3,238,0.88,5,null,"kraftfoder, spannmål etc."]
[null,null,null,null,null,null,null,null,null,null,null,null,null,null,null,null,"W Wn Wiromineral Normal","kg",0,6.762E-2,9.7999999999999997E-4,null,null,null,null,null,null,null,null,null,null,null,"L Flex 36","kg",5.7672000000000001E-2,5.9630000000000004E-3,1.4239999999999999E-2,239,0.88,4,null,"kraftfoder, spannmål etc.",null,"L Deltex K2170 ","kg",5.9518778000000001E-2,6.5300000000000002E-3,1.3157556000000001E-2,239,0.88,4,null,null,"inköpt",null,"L Komplett Nära Norm 190","kg",2.6703999999999999E-2,5.5700000000000003E-3,7.2150000000000001E-3,239,0.88,5,null,"kraftfoder, spannmål etc."]
[null,null,null,null,null,null,null,null,null,null,null,null,null,null,null,null,"W Wn wiromineral Pellets Hög","kg",0,2.5999999999999999E-2,1E-3,null,null,null,null,null,null,null,null,null,null,null,"L Flex 52 Fett","kg",4.1295999999999999E-2,5.3400000000000001E-3,1.157E-2,240,0.88,4,null,"kraftfoder, spannmål etc.",null,"L Deltex K2175 ","kg",4.8201000000000001E-2,6.9290000000000003E-3,1.1159333E-2,240,0.88,4,null,null,"inköpt",null,"L Komplett Nära Xtra 210","kg",2.988E-2,5.9950000000000003E-3,7.6680000000000003E-3,240,0.88,5,null,"kraftfoder, spannmål etc."]
[null,null,null,null,null,null,null,null,null,null,null,null,null,null,null,null,"W Wn Wiromineral Pellets Mg","kg",0,0.04,1E-3,null,null,null,null,null,null,null,null,null,null,null,"L Flex Robot","kg",2.5343999999999998E-2,7.0400000000000003E-3,7.4799999999999997E-3,241,0.88,4,null,"kraftfoder, spannmål etc.",null,"L Deltex K2370 ","kg",5.9193916999999999E-2,6.8799170000000002E-3,1.2647083E-2,241,0.88,4,null,null,"inköpt",null,"L Komplett Pektin 200","kg",2.8639999999999999E-2,4.9569999999999996E-3,6.8580000000000004E-3,241,0.88,5,null,"kraftfoder, spannmål etc."]
[null,null,null,null,null,null,null,null,null,null,null,null,null,null,null,null,"W Wn Wiromineral Pellets Normal","kg",0,4.5999999999999999E-2,3.0000000000000001E-3,null,null,null,null,null,null,null,null,null,null,null,"L Flex Vallen","kg",4.1723200000000002E-2,7.1199999999999996E-3,1.068E-2,242,0.88,4,null,"kraftfoder, spannmål etc.",null,"L Deltex K2375 ","kg",4.8330583000000003E-2,7.3431670000000003E-3,1.095925E-2,242,0.88,4,null,null,"inköpt",null,"L Komplett Profi","kg",3.0789E-2,5.2030000000000002E-3,9.1610000000000007E-3,242,0.88,5,null,"kraftfoder, spannmål etc."]
[null,null,null,null,null,null,null,null,null,null,null,null,null,null,null,null,"W Wn Wiromineral Sin","kg",0,9.0160000000000004E-2,0,null,null,null,null,null,null,null,null,null,null,null,"L Galant Grov","kg",2.4299999999999999E-2,5.1000000000000004E-3,7.7999999999999996E-3,243,0.88,4,null,"kraftfoder, spannmål etc.",null,"L Deltex K2385  ","kg",4.7754333333333301E-2,7.0813333333333301E-3,1.1176999999999999E-2,243,0.88,4,null,null,"inköpt",null,"L Komplett Xtra 205","kg",2.879E-2,5.9880000000000003E-3,8.3730000000000002E-3,243,0.88,5,null,"kraftfoder, spannmål etc."]
[null,null,null,null,null,null,null,null,null,null,null,null,null,null,null,null,"W Wn Wiromineral Wirocell","kg",0,6.3700000000000007E-2,0,null,null,null,null,null,null,null,null,null,null,null,"L Galant N","kg",2.4E-2,5.2769999999999996E-3,7.9839999999999998E-3,244,0.88,4,null,"kraftfoder, spannmål etc.",null,"L Deltex K3171","kg",5.8047333E-2,6.3366669999999998E-3,1.244E-2,244,0.88,4,null,null,"inköpt",null,"L Konkret Amin 33","kg",4.7039999999999998E-2,7.1110000000000001E-3,1.2512000000000001E-2,244,0.88,5,null,"kraftfoder, spannmål etc."]
[null,null,null,null,null,null,null,null,null,null,null,null,null,null,null,null,"W Wn WM Mix 1","kg",0,7.0999999999999994E-2,0,null,null,null,null,null,null,null,null,null,null,null,"L Galant Nära","kg",2.4027E-2,5.372E-3,7.9039999999999996E-3,245,0.88,4,null,"kraftfoder, spannmål etc.",null,"L Deltex K3173  ","kg",5.0727000000000001E-2,9.2756666666666699E-3,1.00103333333333E-2,245,0.88,4,null,null,"inköpt",null,"L Konkret Fiber 25","kg",3.6395999999999998E-2,7.5919999999999998E-3,9.7789999999999995E-3,245,0.88,5,null,"kraftfoder, spannmål etc."]
[null,null,null,null,null,null,null,null,null,null,null,null,null,null,null,null,"W Wn WM Mix 2","kg",0,0.13400000000000001,0,null,null,null,null,null,null,null,null,null,null,null,"L Galant Ordinär","kg",2.4025999999999999E-2,5.1960000000000001E-3,7.7429999999999999E-3,246,0.88,4,null,"kraftfoder, spannmål etc.",null,"L Deltex K3183  ","kg",5.0002666666666702E-2,6.1780000000000003E-3,1.0488333333333299E-2,246,0.88,4,null,null,{"$f":"inköpt","v":"inköpt"},null,"L Konkret Gotland 99","kg",4.8416000000000001E-2,6.2300000000000003E-3,1.157E-2,246,0.88,5,null,"kraftfoder, spannmål etc."]
[null,null,null,null,null,null,null,null,null,null,null,null,null,null,null,null,"W Wn WM Mix 3","kg",0,3.4000000000000002E-2,0,null,null,null,null,null,null,null,null,null,null,null,"L Galant Snabb","kg",2.7151999999999999E-2,5.8349999999999999E-3,7.9340000000000001E-3,247,0.88,4,null,"kraftfoder, spannmål etc.",null,"L Deltex K3190  ","kg",3.2296583333333302E-2,4.8565833333333299E-3,7.33216666666667E-3,247,0.88,4,null,null,"inköpt",null,"L Konkret Gute 24","kg",3.4745600000000001E-2,7.0309999999999999E-3,9.7900000000000001E-3,247,0.88,5,null,"kraftfoder, spannmål etc."]
[null,null,null,null,null,null,null,null,null,null,null,null,null,null,null,null,"W Wn WM Mix 4","kg",0,0.06,0,null,null,null,null,null,null,null,null,null,null,null,"L Galant Stabil","kg",2.2387199999999999E-2,4.4879999999999998E-3,7.0400000000000003E-3,248,0.88,4,null,"kraftfoder, spannmål etc.",null,"L Deltex K3271 ","kg",5.6709000000000002E-2,6.11E-3,1.1823667E-2,248,0.88,4,null,null,"inköpt",null,"L Konkret Maxa 24","kg",3.4221000000000001E-2,6.326E-3,9.2669999999999992E-3,248,0.88,5,null,"kraftfoder, spannmål etc."]
[null,null,null,null,null,null,null,null,null,null,null,null,null,null,null,null,"W Wn WM Mix 5","kg",0,1.4999999999999999E-2,0,null,null,null,null,null,null,null,null,null,null,null,"L Galax Utmärkt","kg",4.0800000000000003E-2,7.6470000000000002E-3,1.0536E-2,249,0.88,4,null,"kraftfoder, spannmål etc.",null,"L Deltex K3371","kg",5.8229749999999997E-2,6.9398330000000003E-3,1.2126E-2,249,0.88,4,null,null,"inköpt",null,"L Konkret Mega 28","kg",3.984E-2,5.666E-3,1.1351999999999999E-2,249,0.88,5,null,"kraftfoder, spannmål etc."]
[null,null,null,null,null,null,null,null,null,null,null,null,null,null,null,null,"Yara BOLIFOR Mag33","kg",0,2.6433000000000002E-2,0,null,null,null,null,null,null,null,null,null,null,null,"L Ideal","kg",2.4E-2,5.4000000000000003E-3,7.9000000000000008E-3,250,0.88,4,null,"kraftfoder, spannmål etc.",null,"L Deltex K3373","kg",5.0581750000000002E-2,9.3161670000000002E-3,1.037225E-2,250,0.88,4,null,null,"inköpt",null,"L Konkret N 32","kg",4.512E-2,8.5000000000000006E-3,9.9679999999999994E-3,250,0.88,5,null,"kraftfoder, spannmål etc."]
[null,null,null,null,null,null,null,null,null,null,null,null,null,null,null,null,"Yara BOLIFOR MCP-F","kg",0,0.22245300000000001,0,null,null,null,null,null,null,null,null,null,null,null,"L Idex","kg",4.1547000000000001E-2,8.4060000000000003E-3,1.0435E-2,251,0.88,4,null,"kraftfoder, spannmål etc.",null,"L Deltex K3374 ","kg",5.0658916999999998E-2,7.3297500000000003E-3,1.1646E-2,251,0.88,4,null,null,"inköpt",null,"L Konkret Norm 27","kg",3.8699999999999998E-2,7.633E-3,1.0323000000000001E-2,251,0.88,5,null,"kraftfoder, spannmål etc."]
[null,null,null,null,null,null,null,null,null,null,null,null,null,null,null,null,"Yara BOLIFOR MCP-N","kg",0,0.22245300000000001,0,null,null,null,null,null,null,null,null,null,null,null,"L Idissla","kg",2.6700000000000002E-2,5.5999999999999999E-3,8.2559999999999995E-3,252,0.88,4,null,"kraftfoder, spannmål etc.",null,"L Deltex K3377 ","kg",4.1866332999999999E-2,7.688833E-3,9.2460000000000007E-3,252,0.88,4,null,null,"inköpt",null,"L Konkret Nära Fiber 27","kg",3.8399999999999997E-2,8.0000000000000002E-3,1.0078999999999999E-2,252,0.88,5,null,"kraftfoder, spannmål etc."]
[null,null,null,null,null,null,null,null,null,null,null,null,null,null,null,null,"Yara BOLIFOR MGP+","kg",0,0.16807,0,null,null,null,null,null,null,null,null,null,null,null,"L Idol","kg",2.7754000000000001E-2,4.9789999999999999E-3,8.5830000000000004E-3,253,0.88,4,null,"kraftfoder, spannmål etc.",null,"L Deltex K3378  ","kg",5.8190666666666703E-2,6.3810000000000004E-3,1.3065999999999999E-2,253,0.88,4,null,null,"inköpt",null,"L Konkret Nära Norm 29","kg",4.1547000000000001E-2,8.4060000000000003E-3,1.0435E-2,253,0.88,5,null,"kraftfoder, spannmål etc."]
[null,null,null,null,null,null,null,null,null,null,null,null,null,null,null,null,"Yara BOLIFOR MSP","kg",0,0.23522399999999999,0,null,null,null,null,null,null,null,null,null,null,null,"L Komplett Amin 220","kg",3.1423E-2,6.2979999999999998E-3,8.8170000000000002E-3,254,0.88,4,null,"kraftfoder, spannmål etc.",null,"L Deltex K3380 ","kg",3.5517332999999998E-2,5.5268330000000001E-3,6.5651670000000002E-3,254,0.88,4,null,null,"inköpt",null,"L Konkret Nära Xtra 31","kg",4.4122000000000001E-2,8.0370000000000007E-3,1.0023000000000001E-2,254,0.88,5,null,"kraftfoder, spannmål etc."]
[null,null,null,null,null,null,null,null,null,null,null,null,null,null,null,null,null,null,null,null,null,null,null,null,null,null,null,null,null,null,null,null,"L Komplett Fiber 170","kg",2.401E-2,5.5420000000000001E-3,7.535E-3,255,0.88,4,null,"kraftfoder, spannmål etc.",null,"L Deltex K3381  ","kg",4.9355916666666701E-2,8.6687499999999994E-3,1.1228666666666699E-2,255,0.88,4,null,null,"inköpt",null,"L Konkret Xtra 32","kg",4.5679999999999998E-2,7.4879999999999999E-3,1.0758999999999999E-2,255,0.88,5,null,"kraftfoder, spannmål etc."]
[null,null,null,null,null,null,null,null,null,null,null,null,null,null,null,null,null,null,null,null,null,null,null,null,null,null,null,null,null,null,null,null,"L Komplett Grov","kg",2.6665000000000001E-2,5.189E-3,8.2089999999999993E-3,256,0.88,4,null,"kraftfoder, spannmål etc.",null,"L Deltex K3382  ","kg",5.0216833333333301E-2,9.0277499999999993E-3,1.09055E-2,256,0.88,4,null,null,"inköpt",null,"L Nötfor Bas","kg",1.8304000000000001E-2,4.4000000000000003E-3,7.0400000000000003E-3,256,0.88,5,null,"kraftfoder, spannmål etc."]
[null,null,null,null,null,null,null,null,null,null,null,null,null,null,null,null,null,null,null,null,null,null,null,null,null,null,null,null,null,null,null,null,"L Komplett Maxa 175","kg",2.6238999999999998E-2,5.5999999999999999E-3,7.1659999999999996E-3,{"$f":"AL261+1","v":257},0.88,4,null,"kraftfoder, spannmål etc.",null,"L Deltex K3384  ","kg",3.60821666666667E-2,1.20706666666667E-2,6.5821666666666702E-3,{"$f":"AW261+1","v":257},0.88,4,null,null,"inköpt",null,"L Protect Power","kg",3.3036799999999998E-2,0,0,{"$f":"BI261+1","v":257},0.88,5,null,"kraftfoder, spannmål etc."]
[null,null,null,null,null,null,null,null,null,null,null,null,null,null,null,null,null,null,null,null,null,null,null,null,null,null,null,null,null,null,null,null,"L Komplett Mega 190","kg",2.6721000000000002E-2,5.6210000000000001E-3,7.7320000000000002E-3,258,0.88,4,null,"kraftfoder, spannmål etc.",null,"L Deltex K4172 ","kg",5.1559417000000003E-2,7.056583E-3,1.0099917E-2,258,0.88,4,null,null,"inköpt",null,"L Protect Strong","kg",1.4607999999999999E-2,0,0,258,0.88,5,null,"kraftfoder, spannmål etc."]
[null,null,null,null,null,null,null,null,null,null,null,null,null,null,null,null,null,null,null,null,null,null,null,null,null,null,null,null,null,null,null,null,"L Komplett Mega 200","kg",2.7983999999999998E-2,5.1809999999999998E-3,8.5939999999999992E-3,259,0.88,4,null,"kraftfoder, spannmål etc.",null,"L Deltex K4372","kg",5.2364500000000001E-2,7.2973329999999996E-3,1.0051083000000001E-2,259,0.88,4,null,null,"inköpt",null,"L Proteinmix","kg",5.3398399999999999E-2,7.2160000000000002E-3,9.0200000000000002E-3,259,0.88,5,null,"kraftfoder, spannmål etc."]
[null,null,null,null,null,null,null,null,null,null,null,null,null,null,null,null,null,null,null,null,null,null,null,null,null,null,null,null,null,null,null,null,"L Komplett N 195","kg",2.7300999999999999E-2,5.9560000000000004E-3,8.2559999999999995E-3,260,0.88,4,null,"kraftfoder, spannmål etc.",null,"L Diva 100","kg",2.5600000000000001E-2,5.3564169999999996E-3,6.8504999999999998E-3,260,0.88,4,null,null,"inköpt",null,"L Raps 60%/drank 40%","kg",5.1406399999999998E-2,9.7900000000000001E-3,1.4596E-2,260,0.88,5,null,"kraftfoder, spannmål etc."]
[null,null,null,null,null,null,null,null,null,null,null,null,null,null,null,null,null,null,null,null,null,null,null,null,null,null,null,null,null,null,null,null,"L Komplett N 240","kg",3.3524999999999999E-2,4.5510000000000004E-3,1.0146000000000001E-2,261,0.88,4,null,"kraftfoder, spannmål etc.",null,"L Donna 190 ","kg",2.5038000000000001E-2,5.3143330000000001E-3,6.618667E-3,261,0.88,4,null,null,"inköpt",null,"L SL 3010","kg",6.4507200000000001E-2,7.1199999999999996E-3,1.5129999999999999E-2,261,0.88,5,null,"kraftfoder, spannmål etc."]
[null,null,null,null,null,null,null,null,null,null,null,null,null,null,null,null,null,null,null,null,null,null,null,null,null,null,null,null,null,null,null,null,"L Komplett Norm 180","kg",2.5645999999999999E-2,5.9639999999999997E-3,7.9039999999999996E-3,262,0.88,4,null,"kraftfoder, spannmål etc.",null,"L Donna 195 Plus","kg",2.7100167000000001E-2,5.2081669999999997E-3,7.2498329999999998E-3,262,0.88,4,null,null,"inköpt",null,"L SLU Bipr u aa","kg",2.08384E-2,3.6960000000000001E-3,7.0400000000000003E-3,262,0.88,5,null,"kraftfoder, spannmål etc."]
[null,null,null,null,null,null,null,null,null,null,null,null,null,null,null,null,null,null,null,null,null,null,null,null,null,null,null,null,null,null,null,null,"L Komplett Nära Amin 230","kg",3.2805000000000001E-2,6.3299999999999997E-3,8.2570000000000005E-3,263,0.88,4,null,"kraftfoder, spannmål etc.",null,"L Effekt Addera","kg",2.7126670000000002E-3,0.179601333,2.6913330000000002E-3,263,0.88,4,null,null,"inköpt",null,"L Sund 7 konc","kg",4.6991999999999999E-2,4.8060000000000004E-3,1.6910000000000001E-2,263,0.88,5,null,"kraftfoder, spannmål etc."]
[null,null,null,null,null,null,null,null,null,null,null,null,null,null,null,null,null,null,null,null,null,null,null,null,null,null,null,null,null,null,null,null,"L Komplett Nära Norm 190","kg",2.6752000000000001E-2,5.28E-3,7.3039999999999997E-3,264,0.88,4,null,"kraftfoder, spannmål etc.",null,"L Fortius 322 ","kg",2.9083999999999999E-2,5.6893330000000004E-3,6.3020000000000003E-3,264,0.88,4,null,null,"inköpt",null,"L Sund Akleja Nära","kg",4.5504000000000003E-2,4.4999999999999997E-3,1.7999999999999999E-2,264,0.88,5,null,"kraftfoder, spannmål etc."]
[null,null,null,null,null,null,null,null,null,null,null,null,null,null,null,null,null,null,null,null,null,null,null,null,null,null,null,null,null,null,null,null,"L Komplett Nära Norm 190","kg",2.6703999999999999E-2,5.5700000000000003E-3,7.2150000000000001E-3,265,0.88,4,null,"kraftfoder, spannmål etc.",null,"L Freja 170 ","kg",2.1587933E-2,4.5600670000000001E-3,6.7125329999999997E-3,265,0.88,4,null,null,"inköpt",null,"L Sund Blåsippa","kg",2.5203199999999999E-2,3.5200000000000001E-3,9.6799999999999994E-3,265,0.88,5,null,"kraftfoder, spannmål etc."]
[null,null,null,null,null,null,null,null,null,null,null,null,null,null,null,null,null,null,null,null,null,null,null,null,null,null,null,null,null,null,null,null,"L Komplett Nära Xtra 210","kg",2.988E-2,5.9950000000000003E-3,7.6680000000000003E-3,266,0.88,4,null,"kraftfoder, spannmål etc.",null,"L Freja 175 Plus  ","kg",2.2035833000000001E-2,5.1213329999999996E-3,7.1511669999999999E-3,266,0.88,4,null,null,"inköpt",null,"L Sund Friskus","kg",2.9093999999999998E-2,6.9849999999999999E-3,8.9680000000000003E-3,266,0.88,5,null,"kraftfoder, spannmål etc."]
[null,null,null,null,null,null,null,null,null,null,null,null,null,null,null,null,null,null,null,null,null,null,null,null,null,null,null,null,null,null,null,null,"L Komplett Pektin 200","kg",2.8639999999999999E-2,4.9569999999999996E-3,6.8580000000000004E-3,267,0.88,4,null,"kraftfoder, spannmål etc.",null,"L Freja Plus 2kg Mycofix  ","kg",2.21186666666667E-2,5.2753333333333298E-3,7.2946666666666698E-3,267,0.88,4,null,null,"inköpt",null,"L Sund Gullviva","kg",4.5280000000000001E-2,5.6820000000000004E-3,1.4612E-2,267,0.88,5,null,"kraftfoder, spannmål etc."]
[null,null,null,null,null,null,null,null,null,null,null,null,null,null,null,null,null,null,null,null,null,null,null,null,null,null,null,null,null,null,null,null,"L Komplett Profi","kg",3.0789E-2,5.2030000000000002E-3,9.1610000000000007E-3,268,0.88,4,null,"kraftfoder, spannmål etc.",null,"L Försök SLU Slakt 3  ","kg",2.4032332999999999E-2,4.1720000000000004E-3,6.215E-3,268,0.88,4,null,null,"inköpt",null,"L Sund Koppla Amin","kg",4.8800000000000003E-2,4.8269999999999997E-3,1.9515000000000001E-2,268,0.88,5,null,"kraftfoder, spannmål etc."]
[null,null,null,null,null,null,null,null,null,null,null,null,null,null,null,null,null,null,null,null,null,null,null,null,null,null,null,null,null,null,null,null,"L Komplett Xtra 205","kg",2.879E-2,5.9880000000000003E-3,8.3730000000000002E-3,269,0.88,4,null,"kraftfoder, spannmål etc.",null,"L Försök SLU Slakt 4  ","kg",2.1593000000000001E-2,4.3116669999999999E-3,6.0686669999999998E-3,269,0.88,4,null,null,"inköpt",null,"L Sund Koppla Fiber","kg",4.3520000000000003E-2,5.4520000000000002E-3,1.5443999999999999E-2,269,0.88,5,null,"kraftfoder, spannmål etc."]
[null,null,null,null,null,null,null,null,null,null,null,null,null,null,null,null,null,null,null,null,null,null,null,null,null,null,null,null,null,null,null,null,"L Konkret Amin 33","kg",4.7039999999999998E-2,7.1110000000000001E-3,1.2512000000000001E-2,270,0.88,4,null,"kraftfoder, spannmål etc.",null,"L Gottfrid 370 ","kg",2.3678000000000001E-2,5.1953329999999999E-3,7.4771669999999998E-3,270,0.88,4,null,null,"inköpt",null,"L Sund Koppla Norm","kg",4.7717000000000002E-2,4.8479999999999999E-3,1.8988999999999999E-2,270,0.88,5,null,"kraftfoder, spannmål etc."]
[null,null,null,null,null,null,null,null,null,null,null,null,null,null,null,null,null,null,null,null,null,null,null,null,null,null,null,null,null,null,null,null,"L Konkret Fiber 25","kg",3.6395999999999998E-2,7.5919999999999998E-3,9.7789999999999995E-3,271,0.88,4,null,"kraftfoder, spannmål etc.",null,"L Gårds Prx vit + spår sugg","kg",3.6080000000000001E-3,1.0460000000000001E-3,1.7459999999999999E-3,271,0.88,4,null,null,"inköpt",null,"L Sund Merax","kg",4.5280000000000001E-2,5.6230000000000004E-3,1.6645E-2,271,0.88,5,null,"kraftfoder, spannmål etc."]
[null,null,null,null,null,null,null,null,null,null,null,null,null,null,null,null,null,null,null,null,null,null,null,null,null,null,null,null,null,null,null,null,"L Konkret Gotland 99","kg",4.8416000000000001E-2,6.2300000000000003E-3,1.157E-2,272,0.88,4,null,"kraftfoder, spannmål etc.",null,"L Gårdspremix Vit + Spårämne Slakt  ","kg",4.8129999999999996E-3,1.5399999999999999E-3,2.11733333333333E-3,272,0.88,4,null,null,"inköpt",null,"L Sund Mjölkeko","kg",1.9199999999999998E-2,3.2049999999999999E-3,4.1669999999999997E-3,272,0.88,5,null,"kraftfoder, spannmål etc."]
[null,null,null,null,null,null,null,null,null,null,null,null,null,null,null,null,null,null,null,null,null,null,null,null,null,null,null,null,null,null,null,null,"L Konkret Gute 24","kg",3.4745600000000001E-2,7.0309999999999999E-3,9.7900000000000001E-3,273,0.88,4,null,"kraftfoder, spannmål etc.",null,"L Hullda 155","kg",1.9068999999999999E-2,4.1773330000000001E-3,5.8079999999999998E-3,273,0.88,4,null,null,"inköpt",null,"L Sund Rejäl","kg",2.7112000000000001E-2,4.7089999999999996E-3,7.2350000000000001E-3,273,0.88,5,null,"kraftfoder, spannmål etc."]
[null,null,null,null,null,null,null,null,null,null,null,null,null,null,null,null,null,null,null,null,null,null,null,null,null,null,null,null,null,null,null,null,"L Konkret Maxa 24","kg",3.4221000000000001E-2,6.326E-3,9.2669999999999992E-3,274,0.88,4,null,"kraftfoder, spannmål etc.",null,"L Intro Plus ","kg",2.8223167E-2,6.5123330000000004E-3,7.4580000000000002E-3,274,0.88,4,null,null,"inköpt",null,"L Sund Smörboll test","kg",4.8959999999999997E-2,5.4000000000000003E-3,1.7999999999999999E-2,274,0.88,5,null,"kraftfoder, spannmål etc."]
[null,null,null,null,null,null,null,null,null,null,null,null,null,null,null,null,null,null,null,null,null,null,null,null,null,null,null,null,null,null,null,null,"L Konkret Mega 28","kg",3.984E-2,5.666E-3,1.1351999999999999E-2,275,0.88,4,null,"kraftfoder, spannmål etc.",null,"L Kanalj 340   ","kg",2.5808221999999999E-2,5.2300000000000003E-3,6.6288889999999998E-3,275,0.88,4,null,null,"inköpt",null,"L Sund Total Amin","kg",3.2800000000000003E-2,3.5669999999999999E-3,1.0638E-2,275,0.88,5,null,"kraftfoder, spannmål etc."]
[null,null,null,null,null,null,null,null,null,null,null,null,null,null,null,null,null,null,null,null,null,null,null,null,null,null,null,null,null,null,null,null,"L Konkret N 32","kg",4.512E-2,8.5000000000000006E-3,9.9679999999999994E-3,276,0.88,4,null,"kraftfoder, spannmål etc.",null,"L Kanalj 344   ","kg",2.8358332999999999E-2,4.6903329999999997E-3,7.0873330000000003E-3,276,0.88,4,null,null,"inköpt",null,"L Sund Total Fiber","kg",2.4559000000000001E-2,3.3219999999999999E-3,8.9619999999999995E-3,276,0.88,5,null,"kraftfoder, spannmål etc."]
[null,null,null,null,null,null,null,null,null,null,null,null,null,null,null,null,null,null,null,null,null,null,null,null,null,null,null,null,null,null,null,null,"L Konkret Norm 27","kg",3.8699999999999998E-2,7.633E-3,1.0323000000000001E-2,277,0.88,4,null,"kraftfoder, spannmål etc.",null,"L Kax 420 ","kg",5.9998833000000001E-2,1.1275500000000001E-2,1.4430500000000001E-2,277,0.88,4,null,null,"inköpt",null,"L Sund Total Norm","kg",2.7119999999999998E-2,3.5790000000000001E-3,8.6289999999999995E-3,277,0.88,5,null,"kraftfoder, spannmål etc."]
[null,null,null,null,null,null,null,null,null,null,null,null,null,null,null,null,null,null,null,null,null,null,null,null,null,null,null,null,null,null,null,null,"L Konkret Nära Fiber 27","kg",3.8399999999999997E-2,8.0000000000000002E-3,1.0078999999999999E-2,278,0.88,4,null,"kraftfoder, spannmål etc.",null,"L Kax 430  ","kg",6.3794000000000003E-2,1.03326666666667E-2,1.23313333333333E-2,278,0.88,4,null,null,"inköpt",null,"L Sund Viol Nära","kg",2.6752000000000001E-2,3.5200000000000001E-3,9.6799999999999994E-3,278,0.88,5,null,"kraftfoder, spannmål etc."]
[null,null,null,null,null,null,null,null,null,null,null,null,null,null,null,null,null,null,null,null,null,null,null,null,null,null,null,null,null,null,null,null,"L Konkret Nära Norm 29","kg",4.1547000000000001E-2,8.4060000000000003E-3,1.0435E-2,279,0.88,4,null,"kraftfoder, spannmål etc.",null,"L Kax 440 ","kg",5.8511500000000001E-2,1.4092500000000001E-2,1.2298666999999999E-2,279,0.88,4,null,null,"inköpt",null,"L Sund Vässa Mix","kg",5.6000000000000001E-2,5.6090000000000003E-3,1.9899E-2,279,0.88,5,null,"kraftfoder, spannmål etc."]
[null,null,null,null,null,null,null,null,null,null,null,null,null,null,null,null,null,null,null,null,null,null,null,null,null,null,null,null,null,null,null,null,"L Konkret Nära Xtra 31","kg",4.4122000000000001E-2,8.0370000000000007E-3,1.0023000000000001E-2,280,0.88,4,null,"kraftfoder, spannmål etc.",null,"L Kax 450 ","kg",6.5194332999999993E-2,1.1575E-2,8.1596670000000007E-3,280,0.88,4,null,null,"inköpt",null,"La Energibalans","kg",0,0,0,280,0.88,5,null,"kraftfoder, spannmål etc."]
[null,null,null,null,null,null,null,null,null,null,null,null,null,null,null,null,null,null,null,null,null,null,null,null,null,null,null,null,null,null,null,null,"L Konkret Xtra 32","kg",4.5679999999999998E-2,7.4879999999999999E-3,1.0758999999999999E-2,281,0.88,4,null,"kraftfoder, spannmål etc.",null,"L Kax 470 ","kg",3.9850999999999998E-2,9.509333E-3,9.4006669999999997E-3,281,0.88,4,null,null,"inköpt",null,"La Kalv 1","kg",3.2099999999999997E-2,7.7000000000000002E-3,1.5E-3,281,0.88,5,null,"kraftfoder, spannmål etc."]
[null,null,null,null,null,null,null,null,null,null,null,null,null,null,null,null,null,null,null,null,null,null,null,null,null,null,null,null,null,null,null,null,"L Nötfor Bas","kg",1.8304000000000001E-2,4.4000000000000003E-3,7.0400000000000003E-3,282,0.88,4,null,"kraftfoder, spannmål etc.",null,"L Kompakt 2527","kg",2.9593330000000002E-3,5.7176333000000003E-2,2.3613330000000002E-3,282,0.88,4,null,null,"inköpt",null,"La Kalvolact","kg",3.3799999999999997E-2,7.7000000000000002E-3,1.1999999999999999E-3,282,0.88,5,null,"kraftfoder, spannmål etc."]
[null,null,null,null,null,null,null,null,null,null,null,null,null,null,null,null,null,null,null,null,null,null,null,null,null,null,null,null,null,null,null,null,"L Protect Power","kg",3.3036799999999998E-2,0,0,283,0.88,4,null,"kraftfoder, spannmål etc.",null,"L Kompakt 2531","kg",1.8990333000000002E-2,2.0017E-2,3.4246670000000002E-3,283,0.88,4,null,null,"inköpt",null,"La Kalvolact Extra","kg",3.4099999999999998E-2,6.7000000000000002E-3,1.1999999999999999E-3,283,0.88,5,null,"kraftfoder, spannmål etc."]
[null,null,null,null,null,null,null,null,null,null,null,null,null,null,null,null,null,null,null,null,null,null,null,null,null,null,null,null,null,null,null,null,"L Protect Strong","kg",1.4607999999999999E-2,0,0,284,0.88,4,null,"kraftfoder, spannmål etc.",null,"L Kompakt 2532 + Biotin","kg",1.153E-2,2.2512332999999999E-2,3.7273330000000002E-3,284,0.88,4,null,null,"inköpt",null,"La Strong Protect","kg",2.07E-2,5.0000000000000001E-3,2.0000000000000001E-4,284,0.88,5,null,"kraftfoder, spannmål etc."]
[null,null,null,null,null,null,null,null,null,null,null,null,null,null,null,null,null,null,null,null,null,null,null,null,null,null,null,null,null,null,null,null,"L Proteinmix","kg",5.3398399999999999E-2,7.2160000000000002E-3,9.0200000000000002E-3,285,0.88,4,null,"kraftfoder, spannmål etc.",null,"L Kompakt 2533","kg",6.6376669999999999E-3,1.7340999999999999E-2,2.8523329999999999E-3,285,0.88,4,null,null,"inköpt",null,"Lactamat","kg",3.5999999999999997E-2,8.9999999999999993E-3,1.7000000000000001E-2,285,0.88,5,null,"kraftfoder, spannmål etc."]
[null,null,null,null,null,null,null,null,null,null,null,null,null,null,null,null,null,null,null,null,null,null,null,null,null,null,null,null,null,null,null,null,"L Raps 60%/drank 40%","kg",5.1406399999999998E-2,9.7900000000000001E-3,1.4596E-2,286,0.88,4,null,"kraftfoder, spannmål etc.",null,"L Kompakt 2534","kg",9.4420000000000007E-3,2.3951666999999999E-2,2.788333E-3,286,0.88,4,null,null,"inköpt",null,"LysiGEM","kg",8.8704000000000005E-2,0,0,286,0.88,5,null,"kraftfoder, spannmål etc."]
[null,null,null,null,null,null,null,null,null,null,null,null,null,null,null,null,null,null,null,null,null,null,null,null,null,null,null,null,null,null,null,null,"L SL 3010","kg",6.4507200000000001E-2,7.1199999999999996E-3,1.5129999999999999E-2,287,0.88,4,null,"kraftfoder, spannmål etc.",null,"L Kompakt 2535","kg",1.0426E-2,2.1910333000000001E-2,2.3410000000000002E-3,287,0.88,4,null,null,"inköpt",null,"LysiPEARL(TM)","kg",6.368E-2,0,0,287,0.88,5,null,"kraftfoder, spannmål etc."]
[null,null,null,null,null,null,null,null,null,null,null,null,null,null,null,null,null,null,null,null,null,null,null,null,null,null,null,null,null,null,null,null,"L SLU Bipr u aa","kg",2.08384E-2,3.6960000000000001E-3,7.0400000000000003E-3,288,0.88,4,null,"kraftfoder, spannmål etc.",null,"L Kompakt 2536","kg",1.7211667E-2,2.1443332999999998E-2,3.934E-3,288,0.88,4,null,null,"inköpt",null,"Mepron","kg",0.13600000000000001,0,0,288,0.88,5,null,"kraftfoder, spannmål etc."]
[null,null,null,null,null,null,null,null,null,null,null,null,null,null,null,null,null,null,null,null,null,null,null,null,null,null,null,null,null,null,null,null,"L Sund 7 konc","kg",4.6991999999999999E-2,4.8060000000000004E-3,1.6910000000000001E-2,289,0.88,4,null,"kraftfoder, spannmål etc.",null,"L Kompakt 2537 ","kg",1.8847666999999999E-2,1.9961333000000001E-2,3.3576669999999999E-3,289,0.88,4,null,null,"inköpt",null,"MetaSmart(R) Dry","kg",7.0963200000000004E-2,0,0,289,0.88,5,null,"kraftfoder, spannmål etc."]
[null,null,null,null,null,null,null,null,null,null,null,null,null,null,null,null,null,null,null,null,null,null,null,null,null,null,null,null,null,null,null,null,"L Sund Akleja Nära","kg",4.5504000000000003E-2,4.4999999999999997E-3,1.7999999999999999E-2,290,0.88,4,null,"kraftfoder, spannmål etc.",null,"L Kompakt 2538  ","kg",1.7971000000000001E-2,2.6276999999999998E-2,2.4589999999999998E-3,290,0.88,4,null,null,"inköpt",null,"MetaSmart(R) Liquid","kg",0.1184448,0,0,290,0.88,5,null,"kraftfoder, spannmål etc."]
[null,null,null,null,null,null,null,null,null,null,null,null,null,null,null,null,null,null,null,null,null,null,null,null,null,null,null,null,null,null,null,null,"L Sund Blåsippa","kg",2.5203199999999999E-2,3.5200000000000001E-3,9.6799999999999994E-3,291,0.88,4,null,"kraftfoder, spannmål etc.",null,"L Kompakt 2541 Selen  ","kg",9.7146669999999997E-3,2.4140000000000002E-2,2.0866669999999999E-3,291,0.88,4,null,null,"inköpt",null,"Nitrat","kg",0.2214016,0,0,291,0.88,5,null,"kraftfoder, spannmål etc."]
[null,null,null,null,null,null,null,null,null,null,null,null,null,null,null,null,null,null,null,null,null,null,null,null,null,null,null,null,null,null,null,null,"L Sund Friskus","kg",2.9093999999999998E-2,6.9849999999999999E-3,8.9680000000000003E-3,292,0.88,4,null,"kraftfoder, spannmål etc.",null,"L Kompakt 2544","kg",4.8300000000000001E-3,2.7551666999999998E-2,1.622E-3,292,0.88,4,null,null,"inköpt",null,"SA Bäst 100","kg",2.784E-2,6.5250000000000004E-3,0,292,0.88,5,null,"kraftfoder, spannmål etc."]
[null,null,null,null,null,null,null,null,null,null,null,null,null,null,null,null,null,null,null,null,null,null,null,null,null,null,null,null,null,null,null,null,"L Sund Gullviva","kg",4.5280000000000001E-2,5.6820000000000004E-3,1.4612E-2,293,0.88,4,null,"kraftfoder, spannmål etc.",null,"L Kompakt 2545 ","kg",9.2833329999999995E-3,2.6251666999999999E-2,2.8123330000000002E-3,293,0.88,4,null,null,"inköpt",null,"SA Bäst 105","kg",3.1320000000000001E-2,6.5250000000000004E-3,0,293,0.88,5,null,"kraftfoder, spannmål etc."]
[null,null,null,null,null,null,null,null,null,null,null,null,null,null,null,null,null,null,null,null,null,null,null,null,null,null,null,null,null,null,null,null,"L Sund Koppla Amin","kg",4.8800000000000003E-2,4.8269999999999997E-3,1.9515000000000001E-2,294,0.88,4,null,"kraftfoder, spannmål etc.",null,"L Kompakt 2548 Selen MED  ","kg",5.0686666666666701E-3,2.3113000000000002E-2,1.7179999999999999E-3,294,0.88,4,null,null,"inköpt",null,"SA Bäst 115","kg",3.4104000000000002E-2,6.5250000000000004E-3,0,294,0.88,5,null,"kraftfoder, spannmål etc."]
[null,null,null,null,null,null,null,null,null,null,null,null,null,null,null,null,null,null,null,null,null,null,null,null,null,null,null,null,null,null,null,null,"L Sund Koppla Fiber","kg",4.3520000000000003E-2,5.4520000000000002E-3,1.5443999999999999E-2,295,0.88,4,null,"kraftfoder, spannmål etc.",null,"L Kompakt 2549  ","kg",1.0278333333333301E-2,2.4114666666666701E-2,2.2756666666666702E-3,295,0.88,4,null,null,"inköpt",null,"SA Bäst 2018","kg",3.9671999999999999E-2,6.0899999999999999E-3,8.5260000000000006E-3,295,0.88,5,null,"kraftfoder, spannmål etc."]
[null,null,null,null,null,null,null,null,null,null,null,null,null,null,null,null,null,null,null,null,null,null,null,null,null,null,null,null,null,null,null,null,"L Sund Koppla Norm","kg",4.7717000000000002E-2,4.8479999999999999E-3,1.8988999999999999E-2,296,0.88,4,null,"kraftfoder, spannmål etc.",null,"L Kompakt 2550 MED  ","kg",6.6759999999999996E-3,1.5077666666666699E-2,2.8543333333333298E-3,296,0.88,4,null,null,"inköpt",null,"SA Bäst 250 ","kg",3.8975999999999997E-2,7.8300000000000002E-3,0,296,0.88,5,null,"kraftfoder, spannmål etc."]
[null,null,null,null,null,null,null,null,null,null,null,null,null,null,null,null,null,null,null,null,null,null,null,null,null,null,null,null,null,null,null,null,"L Sund Merax","kg",4.5280000000000001E-2,5.6230000000000004E-3,1.6645E-2,297,0.88,4,null,"kraftfoder, spannmål etc.",null,"L Kompakt 2551","kg",6.6323329999999998E-3,1.7340000000000001E-2,2.8513330000000002E-3,297,0.88,4,null,null,"inköpt",null,"SA Bäst 250 Gräddig","kg",3.8975999999999997E-2,8.2649999999999998E-3,0,297,0.88,5,null,"kraftfoder, spannmål etc."]
[null,null,null,null,null,null,null,null,null,null,null,null,null,null,null,null,null,null,null,null,null,null,null,null,null,null,null,null,null,null,null,null,"L Sund Mjölkeko","kg",1.9199999999999998E-2,3.2049999999999999E-3,4.1669999999999997E-3,298,0.88,4,null,"kraftfoder, spannmål etc.",null,"L Kompakt 2552  ","kg",8.9153333333333307E-3,1.7378666666666698E-2,3.5116666666666699E-3,298,0.88,4,null,null,"inköpt",null,"SA Bäst 305 ","kg",4.2456000000000001E-2,7.8300000000000002E-3,0,298,0.88,5,null,"kraftfoder, spannmål etc."]
[null,null,null,null,null,null,null,null,null,null,null,null,null,null,null,null,null,null,null,null,null,null,null,null,null,null,null,null,null,null,null,null,"L Sund Rejäl","kg",2.7112000000000001E-2,4.7089999999999996E-3,7.2350000000000001E-3,299,0.88,4,null,"kraftfoder, spannmål etc.",null,"L Kompakt 2553  ","kg",1.043E-2,2.1184666666666699E-2,1.86233333333333E-3,299,0.88,4,null,null,"inköpt",null,"SA Bäst Dubbel Gräddig ","kg",4.2456000000000001E-2,8.2649999999999998E-3,0,299,0.88,5,null,"kraftfoder, spannmål etc."]
[null,null,null,null,null,null,null,null,null,null,null,null,null,null,null,null,null,null,null,null,null,null,null,null,null,null,null,null,null,null,null,null,"L Sund Smörboll test","kg",4.8959999999999997E-2,5.4000000000000003E-3,1.7999999999999999E-2,300,0.88,4,null,"kraftfoder, spannmål etc.",null,"L Kompakt 2554  ","kg",1.54596666666667E-2,2.0718666666666701E-2,3.4353333333333302E-3,300,0.88,4,null,null,"inköpt",null,"SA Bäst Extra ","kg",4.224E-2,7.4799999999999997E-3,1.1440000000000001E-2,300,0.88,5,null,"kraftfoder, spannmål etc."]
[null,null,null,null,null,null,null,null,null,null,null,null,null,null,null,null,null,null,null,null,null,null,null,null,null,null,null,null,null,null,null,null,"L Sund Total Amin","kg",3.2800000000000003E-2,3.5669999999999999E-3,1.0638E-2,301,0.88,4,null,"kraftfoder, spannmål etc.",null,"L Kompakt 2555  ","kg",8.0166666666666702E-3,1.7141666666666701E-2,3.2260000000000001E-3,301,0.88,4,null,null,"inköpt",null,"SA Bäst Grovfoderkomplement ","kg",1.9487999999999998E-2,4.8719999999999996E-3,7.4819999999999999E-3,301,0.88,5,null,"kraftfoder, spannmål etc."]
[null,null,null,null,null,null,null,null,null,null,null,null,null,null,null,null,null,null,null,null,null,null,null,null,null,null,null,null,null,null,null,null,"L Sund Total Fiber","kg",2.4559000000000001E-2,3.3219999999999999E-3,8.9619999999999995E-3,302,0.88,4,null,"kraftfoder, spannmål etc.",null,"L Kompakt 2556  ","kg",5.7029999999999997E-3,1.7079666666666701E-2,2.5413333333333299E-3,302,0.88,4,null,null,"inköpt",null,"SA Bäst Grund ","kg",1.9487999999999998E-2,4.8719999999999996E-3,7.4819999999999999E-3,302,0.88,5,null,"kraftfoder, spannmål etc."]
[null,null,null,null,null,null,null,null,null,null,null,null,null,null,null,null,null,null,null,null,null,null,null,null,null,null,null,null,null,null,null,null,"L Sund Total Norm","kg",2.7119999999999998E-2,3.5790000000000001E-3,8.6289999999999995E-3,303,0.88,4,null,"kraftfoder, spannmål etc.",null,"L Kompakt 2563  ","kg",1.0574E-2,2.1199333333333299E-2,1.9266666666666701E-3,303,0.88,4,null,null,"inköpt",null,"SA Bäst KalviLin ","kg",2.5055999999999998E-2,6.7860000000000004E-3,8.352E-3,303,0.88,5,null,"kraftfoder, spannmål etc."]
[null,null,null,null,null,null,null,null,null,null,null,null,null,null,null,null,null,null,null,null,null,null,null,null,null,null,null,null,null,null,null,null,"L Sund Viol Nära","kg",2.6752000000000001E-2,3.5200000000000001E-3,9.6799999999999994E-3,304,0.88,4,null,"kraftfoder, spannmål etc.",null,"L Kompakt 2564  ","kg",1.56006666666667E-2,2.07493333333333E-2,3.4953333333333299E-3,304,0.88,4,null,null,"inköpt",null,"SA Bäst Lite Gräddig ","kg",2.784E-2,6.96E-3,0,304,0.88,5,null,"kraftfoder, spannmål etc."]
[null,null,null,null,null,null,null,null,null,null,null,null,null,null,null,null,null,null,null,null,null,null,null,null,null,null,null,null,null,null,null,null,"L Sund Vässa Mix","kg",5.6000000000000001E-2,5.6090000000000003E-3,1.9899E-2,305,0.88,4,null,"kraftfoder, spannmål etc.",null,"L Kompakt 2600 ","kg",7.9070000000000008E-3,2.3874666999999999E-2,2.5276669999999999E-3,305,0.88,4,null,null,"inköpt",null,"SA Bäst Mer Gräddig ","kg",3.1320000000000001E-2,7.3949999999999997E-3,0,305,0.88,5,null,"kraftfoder, spannmål etc."]
[null,null,null,null,null,null,null,null,null,null,null,null,null,null,null,null,null,null,null,null,null,null,null,null,null,null,null,null,null,null,null,null,"La Energibalans","kg",0,0,0,306,0.88,4,null,"kraftfoder, spannmål etc.",null,"L Kompakt 4552","kg",2.3965E-2,3.5769000000000002E-2,3.2520000000000001E-3,306,0.88,4,null,null,"inköpt",null,"SA Bäst Mixer","kg",4.7328000000000002E-2,8.7000000000000001E-4,0,306,0.88,5,null,"kraftfoder, spannmål etc."]
[null,null,null,null,null,null,null,null,null,null,null,null,null,null,null,null,null,null,null,null,null,null,null,null,null,null,null,null,null,null,null,null,"La Kalv 1","kg",3.2099999999999997E-2,7.7000000000000002E-3,1.5E-3,307,0.88,4,null,"kraftfoder, spannmål etc.",null,"L Kompakt 4600","kg",4.3012000000000002E-2,9.435667E-3,4.5226670000000002E-3,307,0.88,4,null,null,"inköpt",null,"SA Bäst Mäktig","kg",2.2272E-2,4.5240000000000002E-3,7.4819999999999999E-3,307,0.88,5,null,"kraftfoder, spannmål etc."]
[null,null,null,null,null,null,null,null,null,null,null,null,null,null,null,null,null,null,null,null,null,null,null,null,null,null,null,null,null,null,null,null,"La Kalvolact","kg",3.3799999999999997E-2,7.7000000000000002E-3,1.1999999999999999E-3,308,0.88,4,null,"kraftfoder, spannmål etc.",null,"L Kompakt 4602  ","kg",4.3768000000000001E-2,1.0760333333333301E-2,4.3969999999999999E-3,308,0.88,4,null,null,"inköpt",null,"SA Bäst Prima","kg",3.6887999999999997E-2,6.96E-3,0,308,0.88,5,null,"kraftfoder, spannmål etc."]
[null,null,null,null,null,null,null,null,null,null,null,null,null,null,null,null,null,null,null,null,null,null,null,null,null,null,null,null,null,null,null,null,"La Kalvolact Extra","kg",3.4099999999999998E-2,6.7000000000000002E-3,1.1999999999999999E-3,309,0.88,4,null,"kraftfoder, spannmål etc.",null,"L Kompakt 4630  ","kg",4.2588000000000001E-2,1.7963E-2,3.5346666666666699E-3,309,0.88,4,null,null,"inköpt",null,"SA Bäst Sommar ","kg",2.436E-2,5.2199999999999998E-3,0,309,0.88,5,null,"kraftfoder, spannmål etc."]
[null,null,null,null,null,null,null,null,null,null,null,null,null,null,null,null,null,null,null,null,null,null,null,null,null,null,null,null,null,null,null,null,"La Strong Protect","kg",2.07E-2,5.0000000000000001E-3,2.0000000000000001E-4,310,0.88,4,null,"kraftfoder, spannmål etc.",null,"L Kompakt 8010","kg",3.0995000000000002E-2,3.831667E-3,4.8985000000000001E-3,310,0.88,4,null,null,{"$f":"inköpt","v":"inköpt"},null,"SA Bäst Sparsam Vinter ","kg",2.2272E-2,4.5240000000000002E-3,7.4819999999999999E-3,310,0.88,5,null,"kraftfoder, spannmål etc."]
[null,null,null,null,null,null,null,null,null,null,null,null,null,null,null,null,null,null,null,null,null,null,null,null,null,null,null,null,null,null,null,null,"Lactamat","kg",3.5999999999999997E-2,8.9999999999999993E-3,1.7000000000000001E-2,311,0.88,4,null,"kraftfoder, spannmål etc.",null,"L Kompakt 8011","kg",3.6371332999999999E-2,4.8560000000000001E-3,5.4673329999999996E-3,311,0.88,4,null,null,"inköpt",null,"SA Bäst Topp 3:an ","kg",3.6887999999999997E-2,5.6550000000000003E-3,0,311,0.88,5,null,"kraftfoder, spannmål etc."]
[null,null,null,null,null,null,null,null,null,null,null,null,null,null,null,null,null,null,null,null,null,null,null,null,null,null,null,null,null,null,null,null,"LysiGEM","kg",8.8704000000000005E-2,0,0,312,0.88,4,null,"kraftfoder, spannmål etc.",null,"L Kompakt 8014","kg",5.2212500000000002E-2,4.5960000000000003E-3,9.0404999999999999E-3,312,0.88,4,null,null,"inköpt",null,"SA Harmoni 60 ","kg",3.8016000000000001E-2,5.28E-3,0,312,0.88,5,null,"kraftfoder, spannmål etc."]
[null,null,null,null,null,null,null,null,null,null,null,null,null,null,null,null,null,null,null,null,null,null,null,null,null,null,null,null,null,null,null,null,"LysiPEARL(TM)","kg",6.368E-2,0,0,313,0.88,4,null,"kraftfoder, spannmål etc.",null,"L Kompakt 8509","kg",2.571E-2,1.1240999999999999E-2,2.9323330000000001E-3,313,0.88,4,null,null,"inköpt",null,"SA Harmoni 70","kg",4.7168000000000002E-2,6.1599999999999997E-3,0,313,0.88,5,null,"kraftfoder, spannmål etc."]
[null,null,null,null,null,null,null,null,null,null,null,null,null,null,null,null,null,null,null,null,null,null,null,null,null,null,null,null,null,null,null,null,"Mepron","kg",0.13600000000000001,0,0,314,0.88,4,null,"kraftfoder, spannmål etc.",null,"L Kompakt 8562","kg",1.6827999999999999E-2,1.3382E-2,2.3526670000000001E-3,314,0.88,4,null,null,"inköpt",null,"SA Harmoni 75","kg",5.0552E-2,5.3400000000000001E-3,0,314,0.88,5,null,"kraftfoder, spannmål etc."]
[null,null,null,null,null,null,null,null,null,null,null,null,null,null,null,null,null,null,null,null,null,null,null,null,null,null,null,null,null,null,null,null,"MetaSmart(R) Dry","kg",7.0963200000000004E-2,0,0,315,0.88,4,null,"kraftfoder, spannmål etc.",null,"L Kompakt 8571 MED  ","kg",1.9369000000000001E-2,1.9030666666666699E-2,3.065E-3,315,0.88,4,null,null,"inköpt",null,"SA Harmoni Fyran ","kg",3.3200800000000003E-2,4.4149999999999997E-3,0,315,0.88,5,null,"kraftfoder, spannmål etc."]
[null,null,null,null,null,null,null,null,null,null,null,null,null,null,null,null,null,null,null,null,null,null,null,null,null,null,null,null,null,null,null,null,"MetaSmart(R) Liquid","kg",0.1184448,0,0,316,0.88,4,null,"kraftfoder, spannmål etc.",null,"L Kompakt 8576  ","kg",1.78036666666667E-2,1.33403333333333E-2,2.2439999999999999E-3,316,0.88,4,null,null,"inköpt",null,"SA Harmoni Grov","kg",5.0552E-2,5.3400000000000001E-3,0,316,0.88,5,null,"kraftfoder, spannmål etc."]
[null,null,null,null,null,null,null,null,null,null,null,null,null,null,null,null,null,null,null,null,null,null,null,null,null,null,null,null,null,null,null,null,"Nitrat","kg",0.2214016,0,0,317,0.88,4,null,"kraftfoder, spannmål etc.",null,"L Kompakt 8579","kg",2.3009000000000002E-2,1.8223E-2,2.1549999999999998E-3,317,0.88,4,null,null,"inköpt",null,"SA Harmoni Kalv","kg",2.5055999999999998E-2,5.6550000000000003E-3,0,317,0.88,5,null,"kraftfoder, spannmål etc."]
[null,null,null,null,null,null,null,null,null,null,null,null,null,null,null,null,null,null,null,null,null,null,null,null,null,null,null,null,null,null,null,null,"SA Bäst 100","kg",2.784E-2,6.5250000000000004E-3,0,318,0.88,4,null,"kraftfoder, spannmål etc.",null,"L Kompakt 8580 ","kg",2.2780667000000001E-2,1.8337333000000001E-2,2.2799999999999999E-3,318,0.88,4,null,null,"inköpt",null,"SA Harmoni Kraftig","kg",3.1876799999999997E-2,4.3499999999999997E-3,0,318,0.88,5,null,"kraftfoder, spannmål etc."]
[null,null,null,null,null,null,null,null,null,null,null,null,null,null,null,null,null,null,null,null,null,null,null,null,null,null,null,null,null,null,null,null,"SA Bäst 105","kg",3.1320000000000001E-2,6.5250000000000004E-3,0,319,0.88,4,null,"kraftfoder, spannmål etc.",null,"L Kompakt 8581 ","kg",2.1705667000000001E-2,1.8020667000000001E-2,1.934E-3,319,0.88,4,null,null,"inköpt",null,"SA Harmoni Lagom ","kg",2.63088E-2,4.3499999999999997E-3,0,319,0.88,5,null,"kraftfoder, spannmål etc."]
[null,null,null,null,null,null,null,null,null,null,null,null,null,null,null,null,null,null,null,null,null,null,null,null,null,null,null,null,null,null,null,null,"SA Bäst 115","kg",3.4104000000000002E-2,6.5250000000000004E-3,0,320,0.88,4,null,"kraftfoder, spannmål etc.",null,"L Kompakt 8582 MED  ","kg",2.1705666666666699E-2,1.8020666666666699E-2,1.934E-3,320,0.88,4,null,null,"inköpt",null,"SA Harmoni Rejäl","kg",4.2720000000000001E-2,5.3400000000000001E-3,0,320,0.88,5,null,"kraftfoder, spannmål etc."]
[null,null,null,null,null,null,null,null,null,null,null,null,null,null,null,null,null,null,null,null,null,null,null,null,null,null,null,null,null,null,null,null,"SA Bäst 2018","kg",3.9671999999999999E-2,6.0899999999999999E-3,8.5260000000000006E-3,{"$f":"AL325+1","v":321},0.88,4,null,"kraftfoder, spannmål etc.",null,"L Kompakt 8587","kg",2.3564999999999999E-2,1.5002E-2,2.3673330000000001E-3,{"$f":"AW325+1","v":321},0.88,4,null,null,"inköpt",null,"SA Harmoni Tre","kg",2.9928E-2,5.2199999999999998E-3,0,{"$f":"BI325+1","v":321},0.88,5,null,"kraftfoder, spannmål etc."]
[null,null,null,null,null,null,null,null,null,null,null,null,null,null,null,null,null,null,null,null,null,null,null,null,null,null,null,null,null,null,null,null,"SA Bäst 250 ","kg",3.8975999999999997E-2,7.8300000000000002E-3,0,322,0.88,4,null,"kraftfoder, spannmål etc.",null,"L Kompakt 8592","kg",2.1281000000000001E-2,1.9973000000000001E-2,2.0530000000000001E-3,322,0.88,4,null,null,"inköpt",null,"SA Harmoni Två","kg",2.436E-2,4.7850000000000002E-3,0,322,0.88,5,null,"kraftfoder, spannmål etc."]
[null,null,null,null,null,null,null,null,null,null,null,null,null,null,null,null,null,null,null,null,null,null,null,null,null,null,null,null,null,null,null,null,"SA Bäst 250 Gräddig","kg",3.8975999999999997E-2,8.2649999999999998E-3,0,323,0.88,4,null,"kraftfoder, spannmål etc.",null,"L Kompakt 8593 ","kg",2.4279667000000001E-2,1.5387333E-2,1.8743329999999999E-3,323,0.88,4,null,null,"inköpt",null,"SA HARMONI U4 Får","kg",2.6447999999999999E-2,4.0889999999999998E-3,7.8300000000000002E-3,323,0.88,5,null,"kraftfoder, spannmål etc."]
[null,null,null,null,null,null,null,null,null,null,null,null,null,null,null,null,null,null,null,null,null,null,null,null,null,null,null,null,null,null,null,null,"SA Bäst 305 ","kg",4.2456000000000001E-2,7.8300000000000002E-3,0,324,0.88,4,null,"kraftfoder, spannmål etc.",null,"L Kompakt 8613","kg",2.4185999999999999E-2,1.2003E-2,3.5803330000000002E-3,324,0.88,4,null,null,"inköpt",null,"SA Kalvados","kg",0,9.7999999999999997E-3,0,324,0.88,5,null,"kraftfoder, spannmål etc."]
[null,null,null,null,null,null,null,null,null,null,null,null,null,null,null,null,null,null,null,null,null,null,null,null,null,null,null,null,null,null,null,null,"SA Bäst Dubbel Gräddig ","kg",4.2456000000000001E-2,8.2649999999999998E-3,0,325,0.88,4,null,"kraftfoder, spannmål etc.",null,"L Kompakt 8623","kg",1.5821667000000001E-2,1.425667E-3,2.1429999999999999E-3,325,0.88,4,null,null,"inköpt",null,"SA Kalvamma","kg",0,9.7999999999999997E-3,0,325,0.88,5,null,"kraftfoder, spannmål etc."]
[null,null,null,null,null,null,null,null,null,null,null,null,null,null,null,null,null,null,null,null,null,null,null,null,null,null,null,null,null,null,null,null,"SA Bäst Extra ","kg",4.224E-2,7.4799999999999997E-3,1.1440000000000001E-2,326,0.88,4,null,"kraftfoder, spannmål etc.",null,"L Kompakt 8625","kg",2.3765000000000001E-2,6.881E-3,2.712E-3,326,0.88,4,null,null,"inköpt",null,"SA Kalvextra","kg",0,9.7999999999999997E-3,0,326,0.88,5,null,"kraftfoder, spannmål etc."]
[null,null,null,null,null,null,null,null,null,null,null,null,null,null,null,null,null,null,null,null,null,null,null,null,null,null,null,null,null,null,null,null,"SA Bäst Grovfoderkomplement ","kg",1.9487999999999998E-2,4.8719999999999996E-3,7.4819999999999999E-3,327,0.88,4,null,"kraftfoder, spannmål etc.",null,"L Kompakt 8714 ","kg",2.7067999999999998E-2,9.1126669999999996E-3,3.0616670000000001E-3,327,0.88,4,null,null,"inköpt",null,"SA T Olssons Böna","kg",3.7308800000000003E-2,5.3400000000000001E-3,1.3617000000000001E-2,327,0.88,5,null,"kraftfoder, spannmål etc."]
[null,null,null,null,null,null,null,null,null,null,null,null,null,null,null,null,null,null,null,null,null,null,null,null,null,null,null,null,null,null,null,null,"SA Bäst Grund ","kg",1.9487999999999998E-2,4.8719999999999996E-3,7.4819999999999999E-3,328,0.88,4,null,"kraftfoder, spannmål etc.",null,"L Kompakt 8715","kg",2.9579667E-2,9.6199999999999996E-4,2.2786669999999998E-3,328,0.88,4,null,null,"inköpt",null,"SA WG Klassisk","kg",4.0832E-2,6.1599999999999997E-3,1.1440000000000001E-2,328,0.88,5,null,"kraftfoder, spannmål etc."]
[null,null,null,null,null,null,null,null,null,null,null,null,null,null,null,null,null,null,null,null,null,null,null,null,null,null,null,null,null,null,null,null,"SA Bäst KalviLin ","kg",2.5055999999999998E-2,6.7860000000000004E-3,8.352E-3,329,0.88,4,null,"kraftfoder, spannmål etc.",null,"L Kompakt 8719","kg",2.6123667E-2,1.3723000000000001E-2,2.4889999999999999E-3,329,0.88,4,null,null,"inköpt",null,"SA WG Klassisk Nära","kg",4.0832E-2,6.1599999999999997E-3,1.1440000000000001E-2,329,0.88,5,null,"kraftfoder, spannmål etc."]
[null,null,null,null,null,null,null,null,null,null,null,null,null,null,null,null,null,null,null,null,null,null,null,null,null,null,null,null,null,null,null,null,"SA Bäst Lite Gräddig ","kg",2.784E-2,6.96E-3,0,330,0.88,4,null,"kraftfoder, spannmål etc.",null,"L Kompakt 8721 ","kg",2.1354999999999999E-2,1.3119333E-2,1.703333E-3,330,0.88,4,null,null,"inköpt",null,"SA WG Original","kg",2.784E-2,4.3499999999999997E-3,8.2649999999999998E-3,330,0.88,5,null,"kraftfoder, spannmål etc."]
[null,null,null,null,null,null,null,null,null,null,null,null,null,null,null,null,null,null,null,null,null,null,null,null,null,null,null,null,null,null,null,null,"SA Bäst Mer Gräddig ","kg",3.1320000000000001E-2,7.3949999999999997E-3,0,331,0.88,4,null,"kraftfoder, spannmål etc.",null,"L Kompakt Norr Sugg   ","kg",9.3026666666666692E-3,2.2196666666666701E-2,2.6706666666666701E-3,331,0.88,4,null,null,"inköpt",null,"SA WG Original Gräddig ","kg",2.784E-2,5.2199999999999998E-3,8.6999999999999994E-3,331,0.88,5,null,"kraftfoder, spannmål etc."]
[null,null,null,null,null,null,null,null,null,null,null,null,null,null,null,null,null,null,null,null,null,null,null,null,null,null,null,null,null,null,null,null,"SA Bäst Mixer","kg",4.7328000000000002E-2,8.7000000000000001E-4,0,332,0.88,4,null,"kraftfoder, spannmål etc.",null,"L Kurant 328 ","kg",2.6971667000000001E-2,5.0406670000000004E-3,5.6220000000000003E-3,332,0.88,4,null,null,"inköpt",null,"SA WG Original Gräddig Nära","kg",2.784E-2,5.2199999999999998E-3,8.6999999999999994E-3,332,0.88,5,null,"kraftfoder, spannmål etc."]
[null,null,null,null,null,null,null,null,null,null,null,null,null,null,null,null,null,null,null,null,null,null,null,null,null,null,null,null,null,null,null,null,"SA Bäst Mäktig","kg",2.2272E-2,4.5240000000000002E-3,7.4819999999999999E-3,333,0.88,4,null,"kraftfoder, spannmål etc.",null,"L Kurant 329 ","kg",2.7050000000000001E-2,5.019333E-3,5.7403330000000002E-3,333,0.88,4,null,null,"inköpt",null,"SA WG Original Nära ","kg",2.784E-2,5.6550000000000003E-3,8.2649999999999998E-3,333,0.88,5,null,"kraftfoder, spannmål etc."]
[null,null,null,null,null,null,null,null,null,null,null,null,null,null,null,null,null,null,null,null,null,null,null,null,null,null,null,null,null,null,null,null,"SA Bäst Prima","kg",3.6887999999999997E-2,6.96E-3,0,334,0.88,4,null,"kraftfoder, spannmål etc.",null,"L Magda 120 ","kg",2.4010500000000001E-2,5.4865000000000001E-3,6.1033889999999999E-3,334,0.88,4,null,null,"inköpt",null,"SA WG Premium","kg",3.8297600000000001E-2,6.1599999999999997E-3,1.0999999999999999E-2,334,0.88,5,null,"kraftfoder, spannmål etc."]
[null,null,null,null,null,null,null,null,null,null,null,null,null,null,null,null,null,null,null,null,null,null,null,null,null,null,null,null,null,null,null,null,"SA Bäst Sommar ","kg",2.436E-2,5.2199999999999998E-3,0,335,0.88,4,null,"kraftfoder, spannmål etc.",null,"L Magda 121 ","kg",2.3330333000000002E-2,5.4710000000000002E-3,6.3119999999999999E-3,335,0.88,4,null,null,"inköpt",null,"SF Amino Topp","kg",4.1295999999999999E-2,5.7850000000000002E-3,1.157E-2,335,0.88,5,null,"kraftfoder, spannmål etc."]
[null,null,null,null,null,null,null,null,null,null,null,null,null,null,null,null,null,null,null,null,null,null,null,null,null,null,null,null,null,null,null,null,"SA Bäst Sparsam Vinter ","kg",2.2272E-2,4.5240000000000002E-3,7.4819999999999999E-3,336,0.88,4,null,"kraftfoder, spannmål etc.",null,"L Medly 352   ","kg",2.6262832999999999E-2,5.1686670000000001E-3,5.6033330000000003E-3,336,0.88,4,null,null,"inköpt",null,"SF Energi Balans","kg",2.8160000000000001E-2,4.6639999999999997E-3,8.8000000000000005E-3,336,0.88,5,null,"kraftfoder, spannmål etc."]
[null,null,null,null,null,null,null,null,null,null,null,null,null,null,null,null,null,null,null,null,null,null,null,null,null,null,null,null,null,null,null,null,"SA Bäst Topp 3:an ","kg",3.6887999999999997E-2,5.6550000000000003E-3,0,337,0.88,4,null,"kraftfoder, spannmål etc.",null,"L Medly 354   ","kg",2.6275832999999998E-2,5.1611670000000004E-3,5.6141669999999998E-3,337,0.88,4,null,null,"inköpt",null,"SF Energi Topp","kg",3.7735999999999999E-2,5.7850000000000002E-3,1.157E-2,337,0.88,5,null,"kraftfoder, spannmål etc."]
[null,null,null,null,null,null,null,null,null,null,null,null,null,null,null,null,null,null,null,null,null,null,null,null,null,null,null,null,null,null,null,null,"SA Harmoni 60 ","kg",3.8016000000000001E-2,5.28E-3,0,338,0.88,4,null,"kraftfoder, spannmål etc.",null,"L Meny 433  (Palett 491)  ","kg",6.5164E-2,1.1504E-2,8.0260000000000001E-3,338,0.88,4,null,null,"inköpt",null,"SF Fett Topp","kg",3.8448000000000003E-2,5.7850000000000002E-3,1.157E-2,338,0.88,5,null,"kraftfoder, spannmål etc."]
[null,null,null,null,null,null,null,null,null,null,null,null,null,null,null,null,null,null,null,null,null,null,null,null,null,null,null,null,null,null,null,null,"SA Harmoni 70","kg",4.7168000000000002E-2,6.1599999999999997E-3,0,339,0.88,4,null,"kraftfoder, spannmål etc.",null,"L Milla Avel 020","kg",5.0349832999999997E-2,1.1234333000000001E-2,1.0485667000000001E-2,339,0.88,4,null,null,"inköpt",null,"SF Grund Balans","kg",6.2371200000000002E-2,8.8999999999999999E-3,1.068E-2,339,0.88,5,null,"kraftfoder, spannmål etc."]
[null,null,null,null,null,null,null,null,null,null,null,null,null,null,null,null,null,null,null,null,null,null,null,null,null,null,null,null,null,null,null,null,"SA Harmoni 75","kg",5.0552E-2,5.3400000000000001E-3,0,340,0.88,4,null,"kraftfoder, spannmål etc.",null,"L Milla Di 046","kg",5.3643250000000003E-2,1.0960083000000001E-2,1.1712667E-2,340,0.88,4,null,null,"inköpt",null,"SF Grädd Topp","kg",4.2007999999999997E-2,5.7850000000000002E-3,1.157E-2,340,0.88,5,null,"kraftfoder, spannmål etc."]
[null,null,null,null,null,null,null,null,null,null,null,null,null,null,null,null,null,null,null,null,null,null,null,null,null,null,null,null,null,null,null,null,"SA Harmoni Fyran ","kg",3.3200800000000003E-2,4.4149999999999997E-3,0,341,0.88,4,null,"kraftfoder, spannmål etc.",null,"L Milla Di 060","kg",5.3648833E-2,8.9665000000000005E-3,1.2761583E-2,341,0.88,4,null,null,"inköpt",null,"SF Inga 215 ","kg",3.0272E-2,6.1599999999999997E-3,8.8000000000000005E-3,341,0.88,5,null,"kraftfoder, spannmål etc."]
[null,null,null,null,null,null,null,null,null,null,null,null,null,null,null,null,null,null,null,null,null,null,null,null,null,null,null,null,null,null,null,null,"SA Harmoni Grov","kg",5.0552E-2,5.3400000000000001E-3,0,342,0.88,4,null,"kraftfoder, spannmål etc.",null,"L Milla enh 042","kg",4.9055583E-2,1.2798583000000001E-2,1.0233917E-2,342,0.88,4,null,null,"inköpt",null,"SF Inga 230 ","kg",3.2384000000000003E-2,5.28E-3,8.8000000000000005E-3,342,0.88,5,null,"kraftfoder, spannmål etc."]
[null,null,null,null,null,null,null,null,null,null,null,null,null,null,null,null,null,null,null,null,null,null,null,null,null,null,null,null,null,null,null,null,"SA Harmoni Kalv","kg",2.5055999999999998E-2,5.6550000000000003E-3,0,343,0.88,4,null,"kraftfoder, spannmål etc.",null,"L Millex Di 210  ","kg",4.7911333333333299E-2,9.5036666666666707E-3,1.1326333333333299E-2,343,0.88,4,null,null,"inköpt",null,"SF Inga 290 ","kg",4.1295999999999999E-2,6.6750000000000004E-3,8.8999999999999999E-3,343,0.88,5,null,"kraftfoder, spannmål etc."]
[null,null,null,null,null,null,null,null,null,null,null,null,null,null,null,null,null,null,null,null,null,null,null,null,null,null,null,null,null,null,null,null,"SA Harmoni Kraftig","kg",3.1876799999999997E-2,4.3499999999999997E-3,0,344,0.88,4,null,"kraftfoder, spannmål etc.",null,"L Millex Di 250  ","kg",5.4004166999999999E-2,1.0468999999999999E-2,1.1712833000000001E-2,344,0.88,4,null,null,"inköpt",null,"SF Inga 310 ","kg",4.4144000000000003E-2,6.6750000000000004E-3,8.8999999999999999E-3,344,0.88,5,null,"kraftfoder, spannmål etc."]
[null,null,null,null,null,null,null,null,null,null,null,null,null,null,null,null,null,null,null,null,null,null,null,null,null,null,null,null,null,null,null,null,"SA Harmoni Lagom ","kg",2.63088E-2,4.3499999999999997E-3,0,345,0.88,4,null,"kraftfoder, spannmål etc.",null,"L Nautilus 324 ","kg",2.8350832999999999E-2,5.3449999999999999E-3,6.6033330000000003E-3,345,0.88,4,null,null,"inköpt",null,"SF Kombo Balans","kg",6.2371200000000002E-2,8.4550000000000007E-3,1.068E-2,345,0.88,5,null,"kraftfoder, spannmål etc."]
[null,null,null,null,null,null,null,null,null,null,null,null,null,null,null,null,null,null,null,null,null,null,null,null,null,null,null,null,null,null,null,null,"SA Harmoni Rejäl","kg",4.2720000000000001E-2,5.3400000000000001E-3,0,346,0.88,4,null,"kraftfoder, spannmål etc.",null,"L Nautilus 327 ","kg",2.8590999999999998E-2,7.0996669999999996E-3,7.5393329999999996E-3,346,0.88,4,null,null,"inköpt",null,"SF Mix Inga ","kg",6.0519999999999997E-2,8.8999999999999999E-3,8.8999999999999999E-3,346,0.88,5,null,"kraftfoder, spannmål etc."]
[null,null,null,null,null,null,null,null,null,null,null,null,null,null,null,null,null,null,null,null,null,null,null,null,null,null,null,null,null,null,null,null,"SA Harmoni Tre","kg",2.9928E-2,5.2199999999999998E-3,0,347,0.88,4,null,"kraftfoder, spannmål etc.",null,"L Piggex  ","kg",4.8469222222222198E-2,6.9428888888888899E-3,9.4597777777777805E-3,347,0.88,4,null,null,"inköpt",null,"SF Nora 29","kg",4.1295999999999999E-2,6.6750000000000004E-3,1.2460000000000001E-2,347,0.88,5,null,"kraftfoder, spannmål etc."]
[null,null,null,null,null,null,null,null,null,null,null,null,null,null,null,null,null,null,null,null,null,null,null,null,null,null,null,null,null,null,null,null,"SA Harmoni Två","kg",2.436E-2,4.7850000000000002E-3,0,348,0.88,4,null,"kraftfoder, spannmål etc.",null,"L Rakel 160   ","kg",1.9826111E-2,4.3725559999999997E-3,6.1722219999999998E-3,348,0.88,4,null,null,"inköpt",null,"SF Nora 32","kg",4.4856E-2,6.6750000000000004E-3,1.2460000000000001E-2,348,0.88,5,null,"kraftfoder, spannmål etc."]
[null,null,null,null,null,null,null,null,null,null,null,null,null,null,null,null,null,null,null,null,null,null,null,null,null,null,null,null,null,null,null,null,"SA HARMONI U4 Får","kg",2.6447999999999999E-2,4.0889999999999998E-3,7.8300000000000002E-3,349,0.88,4,null,"kraftfoder, spannmål etc.",null,"L Rakel 165   ","kg",1.9059E-2,3.454333E-3,4.999E-3,349,0.88,4,null,null,"inköpt",null,"SF Nora 35","kg",4.94128E-2,6.6750000000000004E-3,1.2460000000000001E-2,349,0.88,5,null,"kraftfoder, spannmål etc."]
[null,null,null,null,null,null,null,null,null,null,null,null,null,null,null,null,null,null,null,null,null,null,null,null,null,null,null,null,null,null,null,null,"SA Kalvados","kg",0,9.7999999999999997E-3,0,350,0.88,4,null,"kraftfoder, spannmål etc.",null,"L Rappid 320  ","kg",2.9736333333333299E-2,5.6218333333333302E-3,6.5526666666666702E-3,350,0.88,4,null,null,"inköpt",null,"SF Nora Plus","kg",4.4856E-2,6.6750000000000004E-3,1.2460000000000001E-2,350,0.88,5,null,"kraftfoder, spannmål etc."]
[null,null,null,null,null,null,null,null,null,null,null,null,null,null,null,null,null,null,null,null,null,null,null,null,null,null,null,null,null,null,null,null,"SA Kalvamma","kg",0,9.7999999999999997E-3,0,351,0.88,4,null,"kraftfoder, spannmål etc.",null,"L Rappid 321  ","kg",2.9736333333333299E-2,5.6218333333333302E-3,6.5526666666666702E-3,351,0.88,4,null,null,"inköpt",null,"SF PBV Topp","kg",4.5567999999999997E-2,5.7850000000000002E-3,1.157E-2,351,0.88,5,null,"kraftfoder, spannmål etc."]
[null,null,null,null,null,null,null,null,null,null,null,null,null,null,null,null,null,null,null,null,null,null,null,null,null,null,null,null,null,null,null,null,"SA Kalvextra","kg",0,9.7999999999999997E-3,0,352,0.88,4,null,"kraftfoder, spannmål etc.",null,"L Saga A125  ","kg",2.08423333333333E-2,4.7036666666666702E-3,5.4169999999999999E-3,352,0.88,4,null,null,"inköpt",null,"SF Primo Eko Kry","kg",2.7456000000000001E-2,3.784E-3,7.92E-3,352,0.88,5,null,"kraftfoder, spannmål etc."]
[null,null,null,null,null,null,null,null,null,null,null,null,null,null,null,null,null,null,null,null,null,null,null,null,null,null,null,null,null,null,null,null,"SA T Olssons Böna","kg",3.7308800000000003E-2,5.3400000000000001E-3,1.3617000000000001E-2,353,0.88,4,null,"kraftfoder, spannmål etc.",null,"L Saxa ","kg",5.2245E-2,6.7953333333333303E-3,1.05373333333333E-2,353,0.88,4,null,null,"inköpt",null,"SF Primo Intensiv","kg",2.8300800000000001E-2,5.104E-3,8.8000000000000005E-3,353,0.88,5,null,"kraftfoder, spannmål etc."]
[null,null,null,null,null,null,null,null,null,null,null,null,null,null,null,null,null,null,null,null,null,null,null,null,null,null,null,null,null,null,null,null,"SA WG Klassisk","kg",4.0832E-2,6.1599999999999997E-3,1.1440000000000001E-2,354,0.88,4,null,"kraftfoder, spannmål etc.",null,"L Smågris FF  ","kg",2.3746E-2,5.3299999999999997E-3,7.7770000000000001E-3,354,0.88,4,null,null,"inköpt",null,"SF Primo K","kg",4.37168E-2,7.1199999999999996E-3,9.7900000000000001E-3,354,0.88,5,null,"kraftfoder, spannmål etc."]
[null,null,null,null,null,null,null,null,null,null,null,null,null,null,null,null,null,null,null,null,null,null,null,null,null,null,null,null,null,null,null,null,"SA WG Klassisk Nära","kg",4.0832E-2,6.1599999999999997E-3,1.1440000000000001E-2,355,0.88,4,null,"kraftfoder, spannmål etc.",null,"L Sonja  L196 Plus  ","kg",2.6578833333333302E-2,5.63666666666667E-3,6.86816666666667E-3,355,0.88,4,null,null,"inköpt",null,"SF Primo Kalv Start","kg",2.8864000000000001E-2,5.0159999999999996E-3,9.6799999999999994E-3,355,0.88,5,null,"kraftfoder, spannmål etc."]
[null,null,null,null,null,null,null,null,null,null,null,null,null,null,null,null,null,null,null,null,null,null,null,null,null,null,null,null,null,null,null,null,"SA WG Original","kg",2.784E-2,4.3499999999999997E-3,8.2649999999999998E-3,356,0.88,4,null,"kraftfoder, spannmål etc.",null,"L Sonja  L197 Plus  ","kg",2.6610833333333299E-2,5.62E-3,6.8960000000000002E-3,356,0.88,4,null,null,"inköpt",null,"SF Primo Kviga","kg",2.5343999999999998E-2,5.8960000000000002E-3,1.056E-2,356,0.88,5,null,"kraftfoder, spannmål etc."]
[null,null,null,null,null,null,null,null,null,null,null,null,null,null,null,null,null,null,null,null,null,null,null,null,null,null,null,null,null,null,null,null,"SA WG Original Gräddig ","kg",2.784E-2,5.2199999999999998E-3,8.6999999999999994E-3,357,0.88,4,null,"kraftfoder, spannmål etc.",null,"L Sonja L191  ","kg",2.5708000000000002E-2,5.6816666666666699E-3,6.7823333333333303E-3,357,0.88,4,null,null,"inköpt",null,"SF Primo Müsli","kg",3.168E-2,3.6080000000000001E-3,9.6799999999999994E-3,357,0.88,5,null,"kraftfoder, spannmål etc."]
[null,null,null,null,null,null,null,null,null,null,null,null,null,null,null,null,null,null,null,null,null,null,null,null,null,null,null,null,null,null,null,null,"SA WG Original Gräddig Nära","kg",2.784E-2,5.2199999999999998E-3,8.6999999999999994E-3,358,0.88,4,null,"kraftfoder, spannmål etc.",null,"L Sonja Plus 1,5 kg Mycofix  ","kg",2.6532E-2,5.6930000000000001E-3,6.9923333333333296E-3,358,0.88,4,null,null,"inköpt",null,"SF Primo Pektin","kg",2.3513599999999999E-2,5.104E-3,1.056E-2,358,0.88,5,null,"kraftfoder, spannmål etc."]
[null,null,null,null,null,null,null,null,null,null,null,null,null,null,null,null,null,null,null,null,null,null,null,null,null,null,null,null,null,null,null,null,"SA WG Original Nära ","kg",2.784E-2,5.6550000000000003E-3,8.2649999999999998E-3,359,0.88,4,null,"kraftfoder, spannmål etc.",null,"L Spetsa 20","kg",4.4725666999999997E-2,7.5938330000000004E-3,9.4055000000000007E-3,359,0.88,4,null,null,"inköpt",null,"SF Primo Progress","kg",2.6892800000000001E-2,5.104E-3,7.92E-3,359,0.88,5,null,"kraftfoder, spannmål etc."]
[null,null,null,null,null,null,null,null,null,null,null,null,null,null,null,null,null,null,null,null,null,null,null,null,null,null,null,null,null,null,null,null,"SA WG Premium","kg",3.8297600000000001E-2,6.1599999999999997E-3,1.0999999999999999E-2,360,0.88,4,null,"kraftfoder, spannmål etc.",null,"L Stina 180 ","kg",2.2572556000000001E-2,4.9683330000000001E-3,5.2414439999999996E-3,360,0.88,4,null,null,"inköpt",null,"SF ProtiSpar Balans","kg",5.8383999999999998E-2,9.3449999999999991E-3,1.157E-2,360,0.88,5,null,"kraftfoder, spannmål etc."]
[null,null,null,null,null,null,null,null,null,null,null,null,null,null,null,null,null,null,null,null,null,null,null,null,null,null,null,null,null,null,null,null,"SF Amino Topp","kg",4.1295999999999999E-2,5.7850000000000002E-3,1.157E-2,361,0.88,4,null,"kraftfoder, spannmål etc.",null,"L Stina 181 ","kg",2.592825E-2,5.3496669999999998E-3,6.4943329999999997E-3,361,0.88,4,null,null,"inköpt",null,"SF Raps Balans","kg",5.9808E-2,9.1669999999999998E-3,1.068E-2,361,0.88,5,null,"kraftfoder, spannmål etc."]
[null,null,null,null,null,null,null,null,null,null,null,null,null,null,null,null,null,null,null,null,null,null,null,null,null,null,null,null,null,null,null,null,"SF Energi Balans","kg",2.8160000000000001E-2,4.6639999999999997E-3,8.8000000000000005E-3,362,0.88,4,null,"kraftfoder, spannmål etc.",null,"L SUND Grymt ","kg",2.7931444E-2,4.9606670000000002E-3,7.6909999999999999E-3,362,0.88,4,null,null,"inköpt",null,"SF Rosa 126","kg",3.19616E-2,4.8399999999999997E-3,8.8000000000000005E-3,362,0.88,5,null,"kraftfoder, spannmål etc."]
[null,null,null,null,null,null,null,null,null,null,null,null,null,null,null,null,null,null,null,null,null,null,null,null,null,null,null,null,null,null,null,null,"SF Energi Topp","kg",3.7735999999999999E-2,5.7850000000000002E-3,1.157E-2,363,0.88,4,null,"kraftfoder, spannmål etc.",null,"L SUND Grymtex ","kg",6.6185222000000002E-2,1.0193000000000001E-2,1.4906000000000001E-2,363,0.88,4,null,null,"inköpt",null,"SF Rosa 129","kg",3.5481600000000002E-2,4.8399999999999997E-3,1.0120000000000001E-2,363,0.88,5,null,"kraftfoder, spannmål etc."]
[null,null,null,null,null,null,null,null,null,null,null,null,null,null,null,null,null,null,null,null,null,null,null,null,null,null,null,null,null,null,null,null,"SF Fett Topp","kg",3.8448000000000003E-2,5.7850000000000002E-3,1.157E-2,364,0.88,4,null,"kraftfoder, spannmål etc.",null,"L SUND Kultex ","kg",6.8767333E-2,1.5025E-2,1.3738333E-2,364,0.88,4,null,null,"inköpt",null,"SF Rosa Eko Bas","kg",2.5343999999999998E-2,3.96E-3,7.92E-3,364,0.88,5,null,"kraftfoder, spannmål etc."]
[null,null,null,null,null,null,null,null,null,null,null,null,null,null,null,null,null,null,null,null,null,null,null,null,null,null,null,null,null,null,null,null,"SF Grund Balans","kg",6.2371200000000002E-2,8.8999999999999999E-3,1.068E-2,365,0.88,4,null,"kraftfoder, spannmål etc.",null,"L SUND Kulting ","kg",2.8775333E-2,5.8193330000000003E-3,6.3243329999999997E-3,365,0.88,4,null,null,"inköpt",null,"SF Rosa Eko Kapital","kg",3.3792000000000003E-2,3.96E-3,8.8000000000000005E-3,365,0.88,5,null,"kraftfoder, spannmål etc."]
[null,null,null,null,null,null,null,null,null,null,null,null,null,null,null,null,null,null,null,null,null,null,null,null,null,null,null,null,null,null,null,null,"SF Grädd Topp","kg",4.2007999999999997E-2,5.7850000000000002E-3,1.157E-2,366,0.88,4,null,"kraftfoder, spannmål etc.",null,"L SUND Soex ","kg",5.1491110999999999E-2,1.4066E-2,1.7289777999999999E-2,366,0.88,4,null,null,"inköpt",null,"SF Rosa Eko Klöver","kg",2.7174400000000001E-2,3.96E-3,7.4799999999999997E-3,366,0.88,5,null,"kraftfoder, spannmål etc."]
[null,null,null,null,null,null,null,null,null,null,null,null,null,null,null,null,null,null,null,null,null,null,null,null,null,null,null,null,null,null,null,null,"SF Inga 215 ","kg",3.0272E-2,6.1599999999999997E-3,8.8000000000000005E-3,367,0.88,4,null,"kraftfoder, spannmål etc.",null,"L SUND Sofina ","kg",2.5455999999999999E-2,6.1196669999999996E-3,7.6887780000000003E-3,367,0.88,4,null,null,"inköpt",null,"SF Rosa Energi","kg",2.9568000000000001E-2,4.8399999999999997E-3,8.8000000000000005E-3,367,0.88,5,null,"kraftfoder, spannmål etc."]
[null,null,null,null,null,null,null,null,null,null,null,null,null,null,null,null,null,null,null,null,null,null,null,null,null,null,null,null,null,null,null,null,"SF Inga 230 ","kg",3.2384000000000003E-2,5.28E-3,8.8000000000000005E-3,368,0.88,4,null,"kraftfoder, spannmål etc.",null,"L Växtill Med 5 kg Tylan/ton  ","kg",2.7733166666666701E-2,6.8209999999999998E-3,6.5748333333333301E-3,368,0.88,4,null,null,"inköpt",null,"SF Rosa Fett","kg",2.9145600000000001E-2,4.8399999999999997E-3,1.1440000000000001E-2,368,0.88,5,null,"kraftfoder, spannmål etc."]
[null,null,null,null,null,null,null,null,null,null,null,null,null,null,null,null,null,null,null,null,null,null,null,null,null,null,null,null,null,null,null,null,"SF Inga 290 ","kg",4.1295999999999999E-2,6.6750000000000004E-3,8.8999999999999999E-3,369,0.88,4,null,"kraftfoder, spannmål etc.",null,"L Zigge Max 2,5kg Vetzin Med","kg",2.5249166666666701E-2,6.7850000000000002E-3,6.4555000000000003E-3,369,0.88,4,null,null,"inköpt",null,"SF Rosa Grädde","kg",3.168E-2,4.8399999999999997E-3,9.6799999999999994E-3,369,0.88,5,null,"kraftfoder, spannmål etc."]
[null,null,null,null,null,null,null,null,null,null,null,null,null,null,null,null,null,null,null,null,null,null,null,null,null,null,null,null,null,null,null,null,"SF Inga 310 ","kg",4.4144000000000003E-2,6.6750000000000004E-3,8.8999999999999999E-3,370,0.88,4,null,"kraftfoder, spannmål etc.",null,"L Zigge Max 3,0kg Vetzin Med","kg",2.3939333333333299E-2,6.5758333333333302E-3,7.0468333333333303E-3,370,0.88,4,null,null,"inköpt",null,"SF Rosa Norr","kg",2.9145600000000001E-2,5.9839999999999997E-3,8.8000000000000005E-3,370,0.88,5,null,"kraftfoder, spannmål etc."]
[null,null,null,null,null,null,null,null,null,null,null,null,null,null,null,null,null,null,null,null,null,null,null,null,null,null,null,null,null,null,null,null,"SF Kombo Balans","kg",6.2371200000000002E-2,8.4550000000000007E-3,1.068E-2,371,0.88,4,null,"kraftfoder, spannmål etc.",null,"L Zigge Naut 3,0 kg Vetzin Med  ","kg",2.7980499999999998E-2,5.2826666666666699E-3,6.8060000000000004E-3,371,0.88,4,null,null,"inköpt",null,"SF Rosa Rikta","kg",2.5343999999999998E-2,4.8399999999999997E-3,8.8000000000000005E-3,371,0.88,5,null,"kraftfoder, spannmål etc."]
[null,null,null,null,null,null,null,null,null,null,null,null,null,null,null,null,null,null,null,null,null,null,null,null,null,null,null,null,null,null,null,null,"SF Mix Inga ","kg",6.0519999999999997E-2,8.8999999999999999E-3,8.8999999999999999E-3,372,0.88,4,null,"kraftfoder, spannmål etc.",null,"L Zigge Start 3kg Vetzin Med  ","kg",2.92035E-2,6.39116666666667E-3,8.2199999999999999E-3,372,0.88,4,null,null,"inköpt",null,"SF Rosa Smör","kg",3.5200000000000002E-2,4.8399999999999997E-3,9.6799999999999994E-3,372,0.88,5,null,"kraftfoder, spannmål etc."]
[null,null,null,null,null,null,null,null,null,null,null,null,null,null,null,null,null,null,null,null,null,null,null,null,null,null,null,null,null,null,null,null,"SF Nora 29","kg",4.1295999999999999E-2,6.6750000000000004E-3,1.2460000000000001E-2,373,0.88,4,null,"kraftfoder, spannmål etc.",null,"L Ziggex 410","kg",6.6326833000000002E-2,1.8653333000000001E-2,8.5093329999999991E-3,373,0.88,4,null,null,"inköpt",null,"SF Rosa Standard","kg",2.6048000000000002E-2,4.8399999999999997E-3,1.1440000000000001E-2,373,0.88,5,null,"kraftfoder, spannmål etc."]
[null,null,null,null,null,null,null,null,null,null,null,null,null,null,null,null,null,null,null,null,null,null,null,null,null,null,null,null,null,null,null,null,"SF Nora 32","kg",4.4856E-2,6.6750000000000004E-3,1.2460000000000001E-2,374,0.88,4,null,"kraftfoder, spannmål etc.",null,"L Ziggex 415 Vetzin Med","kg",7.5988E-2,1.7631999999999998E-2,7.5329999999999998E-3,374,0.88,4,null,null,{"$f":"inköpt","v":"inköpt"},null,"SF SF 300","kg",4.2720000000000001E-2,6.6750000000000004E-3,9.7900000000000001E-3,374,0.88,5,null,"kraftfoder, spannmål etc."]
[null,null,null,null,null,null,null,null,null,null,null,null,null,null,null,null,null,null,null,null,null,null,null,null,null,null,null,null,null,null,null,null,"SF Nora 35","kg",4.94128E-2,6.6750000000000004E-3,1.2460000000000001E-2,375,0.88,4,null,"kraftfoder, spannmål etc.",null,"L Ziggex Max 3,7kg Vetzin Med","kg",2.9294000000000001E-2,5.76066666666667E-3,6.9610000000000002E-3,375,0.88,4,null,null,"inköpt",null,"SF SmörTopp","kg",4.6991999999999999E-2,5.7850000000000002E-3,1.157E-2,375,0.88,5,null,"kraftfoder, spannmål etc."]
[null,null,null,null,null,null,null,null,null,null,null,null,null,null,null,null,null,null,null,null,null,null,null,null,null,null,null,null,null,null,null,null,"SF Nora Plus","kg",4.4856E-2,6.6750000000000004E-3,1.2460000000000001E-2,376,0.88,4,null,"kraftfoder, spannmål etc.",null,"SF Nutri LPR Smågris T","kg",5.9200000000000003E-2,1.15E-2,1.2E-2,376,0.88,4,null,null,"inköpt",null,"SF Soja Balans","kg",6.2656000000000003E-2,7.1199999999999996E-3,1.3350000000000001E-2,376,0.88,5,null,"kraftfoder, spannmål etc."]
[null,null,null,null,null,null,null,null,null,null,null,null,null,null,null,null,null,null,null,null,null,null,null,null,null,null,null,null,null,null,null,null,"SF PBV Topp","kg",4.5567999999999997E-2,5.7850000000000002E-3,1.157E-2,377,0.88,4,null,"kraftfoder, spannmål etc.",null,"SF Nutri Smågris T","kg",5.9200000000000003E-2,9.0299999999999998E-3,1.1379999999999999E-2,377,0.88,4,null,null,"inköpt",null,"SF Stella 185","kg",2.6048000000000002E-2,5.28E-3,8.8000000000000005E-3,377,0.88,5,null,"kraftfoder, spannmål etc."]
[null,null,null,null,null,null,null,null,null,null,null,null,null,null,null,null,null,null,null,null,null,null,null,null,null,null,null,null,null,null,null,null,"SF Primo Eko Kry","kg",2.7456000000000001E-2,3.784E-3,7.92E-3,378,0.88,4,null,"kraftfoder, spannmål etc.",null,"SF Nya Opti Drank","kg",2.2048000000000002E-2,3.7100000000000002E-3,6.5700000000000003E-3,378,0.88,4,null,null,"inköpt",null,"SF Stella 210 ","kg",2.9568000000000001E-2,5.28E-3,8.8000000000000005E-3,378,0.88,5,null,"kraftfoder, spannmål etc."]
[null,null,null,null,null,null,null,null,null,null,null,null,null,null,null,null,null,null,null,null,null,null,null,null,null,null,null,null,null,null,null,null,"SF Primo Intensiv","kg",2.8300800000000001E-2,5.104E-3,8.8000000000000005E-3,379,0.88,4,null,"kraftfoder, spannmål etc.",null,"SF Opti Basic","kg",2.2384000000000001E-2,4.3800000000000002E-3,7.2899999999999996E-3,379,0.88,4,null,null,"inköpt",null,"SF Stella 235 ","kg",3.3087999999999999E-2,5.28E-3,8.8000000000000005E-3,379,0.88,5,null,"kraftfoder, spannmål etc."]
[null,null,null,null,null,null,null,null,null,null,null,null,null,null,null,null,null,null,null,null,null,null,null,null,null,null,null,null,null,null,null,null,"SF Primo K","kg",4.37168E-2,7.1199999999999996E-3,9.7900000000000001E-3,380,0.88,4,null,"kraftfoder, spannmål etc.",null,"SF Opti Bonus","kg",2.3744000000000001E-2,4.3699999999999998E-3,7.6400000000000001E-3,380,0.88,4,null,null,"inköpt",null,"SF Stråla 245","kg",3.3510400000000003E-2,4.8399999999999997E-3,8.8000000000000005E-3,380,0.88,5,null,"kraftfoder, spannmål etc."]
[null,null,null,null,null,null,null,null,null,null,null,null,null,null,null,null,null,null,null,null,null,null,null,null,null,null,null,null,null,null,null,null,"SF Primo Kalv Start","kg",2.8864000000000001E-2,5.0159999999999996E-3,9.6799999999999994E-3,381,0.88,4,null,"kraftfoder, spannmål etc.",null,"SF Opti Grön KRAV PK","kg",2.7199999999999998E-2,6.4999999999999997E-3,6.4149999999999997E-3,381,0.88,4,null,null,"inköpt",null,"SF Tip Topp","kg",3.7166400000000002E-2,5.3400000000000001E-3,1.157E-2,381,0.88,5,null,"kraftfoder, spannmål etc."]
[null,null,null,null,null,null,null,null,null,null,null,null,null,null,null,null,null,null,null,null,null,null,null,null,null,null,null,null,null,null,null,null,"SF Primo Kviga","kg",2.5343999999999998E-2,5.8960000000000002E-3,1.056E-2,382,0.88,4,null,"kraftfoder, spannmål etc.",null,"SF Opti Maxi drank","kg",1.9696000000000002E-2,3.5799999999999998E-3,5.6699999999999997E-3,382,0.88,4,null,null,"inköpt",null,"SF Topp Eko Balans","kg",5.4823999999999998E-2,4.895E-3,1.3795E-2,382,0.88,5,null,"kraftfoder, spannmål etc."]
[null,null,null,null,null,null,null,null,null,null,null,null,null,null,null,null,null,null,null,null,null,null,null,null,null,null,null,null,null,null,null,null,"SF Primo Müsli","kg",3.168E-2,3.6080000000000001E-3,9.6799999999999994E-3,383,0.88,4,null,"kraftfoder, spannmål etc.",null,"SF Opti Start","kg",2.5264000000000002E-2,4.1200000000000004E-3,7.9100000000000004E-3,383,0.88,4,null,null,"inköpt",null,"SF Topp Eko Böna","kg",4.6707199999999997E-2,5.9630000000000004E-3,1.5129999999999999E-2,383,0.88,5,null,"kraftfoder, spannmål etc."]
[null,null,null,null,null,null,null,null,null,null,null,null,null,null,null,null,null,null,null,null,null,null,null,null,null,null,null,null,null,null,null,null,"SF Primo Pektin","kg",2.3513599999999999E-2,5.104E-3,1.056E-2,384,0.88,4,null,"kraftfoder, spannmål etc.",null,"SF Premix 301 Slakt","kg",4.3520000000000003E-2,6.9199999999999999E-3,8.7600000000000004E-3,384,0.88,4,null,null,"inköpt",null,"SF Topp Eko Pingla","kg",4.2720000000000001E-2,6.2300000000000003E-3,1.3795E-2,384,0.88,5,null,"kraftfoder, spannmål etc."]
[null,null,null,null,null,null,null,null,null,null,null,null,null,null,null,null,null,null,null,null,null,null,null,null,null,null,null,null,null,null,null,null,"SF Primo Progress","kg",2.6892800000000001E-2,5.104E-3,7.92E-3,{"$f":"AL389+1","v":385},0.88,4,null,"kraftfoder, spannmål etc.",null,"SF Premix 302 Slakt","kg",4.3408000000000002E-2,5.9100000000000003E-3,8.3400000000000002E-3,{"$f":"AW389+1","v":385},0.88,4,null,null,"inköpt",null,"SF Tuva 27","kg",3.7735999999999999E-2,6.6750000000000004E-3,1.2460000000000001E-2,{"$f":"BI389+1","v":385},0.88,5,null,"kraftfoder, spannmål etc."]
[null,null,null,null,null,null,null,null,null,null,null,null,null,null,null,null,null,null,null,null,null,null,null,null,null,null,null,null,null,null,null,null,"SF ProtiSpar Balans","kg",5.8383999999999998E-2,9.3449999999999991E-3,1.157E-2,386,0.88,4,null,"kraftfoder, spannmål etc.",null,"SF Premix 303 Slakt","kg",4.3520000000000003E-2,4.3600000000000002E-3,1.095E-2,386,0.88,4,null,null,"inköpt",null,"SF Tuva Eko Grov20","kg",2.6752000000000001E-2,3.96E-3,7.4799999999999997E-3,386,0.88,5,null,"kraftfoder, spannmål etc."]
[null,null,null,null,null,null,null,null,null,null,null,null,null,null,null,null,null,null,null,null,null,null,null,null,null,null,null,null,null,null,null,null,"SF Raps Balans","kg",5.9808E-2,9.1669999999999998E-3,1.068E-2,387,0.88,4,null,"kraftfoder, spannmål etc.",null,"SF Premix 304 Knorr","kg",4.3520000000000003E-2,4.9899999999999996E-3,9.75E-3,387,0.88,4,null,null,"inköpt",null,"SF Tuva Fiber","kg",2.4639999999999999E-2,4.8399999999999997E-3,8.8000000000000005E-3,387,0.88,5,null,"kraftfoder, spannmål etc."]
[null,null,null,null,null,null,null,null,null,null,null,null,null,null,null,null,null,null,null,null,null,null,null,null,null,null,null,null,null,null,null,null,"SF Rosa 126","kg",3.19616E-2,4.8399999999999997E-3,8.8000000000000005E-3,388,0.88,4,null,"kraftfoder, spannmål etc.",null,"SF Premix 305 Slakt","kg",4.3520000000000003E-2,6.9100000000000003E-3,8.9700000000000005E-3,388,0.88,4,null,null,"inköpt",null,"SF Tuva Grov","kg",2.0416E-2,4.8399999999999997E-3,8.8000000000000005E-3,388,0.88,5,null,"kraftfoder, spannmål etc."]
[null,null,null,null,null,null,null,null,null,null,null,null,null,null,null,null,null,null,null,null,null,null,null,null,null,null,null,null,null,null,null,null,"SF Rosa 129","kg",3.5481600000000002E-2,4.8399999999999997E-3,1.0120000000000001E-2,389,0.88,4,null,"kraftfoder, spannmål etc.",null,"SF Premix 401 Sugg","kg",3.5184E-2,6.77E-3,8.7500000000000008E-3,389,0.88,4,null,null,"inköpt",null,"SF Tuva Snabb","kg",2.7456000000000001E-2,4.4000000000000003E-3,8.8000000000000005E-3,389,0.88,5,null,"kraftfoder, spannmål etc."]
[null,null,null,null,null,null,null,null,null,null,null,null,null,null,null,null,null,null,null,null,null,null,null,null,null,null,null,null,null,null,null,null,"SF Rosa Eko Bas","kg",2.5343999999999998E-2,3.96E-3,7.92E-3,390,0.88,4,null,"kraftfoder, spannmål etc.",null,"SF Premix 410 Sugg","kg",3.5200000000000002E-2,5.8599999999999998E-3,8.4899999999999993E-3,390,0.88,4,null,null,"inköpt",null,"Smartamine M","kg",0.12322080000000001,0,0,390,0.88,5,null,"kraftfoder, spannmål etc."]
[null,null,null,null,null,null,null,null,null,null,null,null,null,null,null,null,null,null,null,null,null,null,null,null,null,null,null,null,null,null,null,null,"SF Rosa Eko Kapital","kg",3.3792000000000003E-2,3.96E-3,8.8000000000000005E-3,391,0.88,4,null,"kraftfoder, spannmål etc.",null,"SF Premix Grön KRAV PK","kg",7.0412799999999998E-2,1.9E-2,1.1348E-2,391,0.88,4,null,null,"inköpt",null,"Sp 190 Nova EDEL","kg",2.6447999999999999E-2,4.6979999999999999E-3,9.2219999999999993E-3,391,0.88,5,null,"kraftfoder, spannmål etc."]
[null,null,null,null,null,null,null,null,null,null,null,null,null,null,null,null,null,null,null,null,null,null,null,null,null,null,null,null,null,null,null,null,"SF Rosa Eko Klöver","kg",2.7174400000000001E-2,3.96E-3,7.4799999999999997E-3,392,0.88,4,null,"kraftfoder, spannmål etc.",null,"SF Slakt Bravo","kg",4.7872000000000001E-3,8.0000000000000002E-3,1.2999999999999999E-2,392,0.88,4,null,null,"inköpt",null,"Sp Crystalyx Booster","kg",1.8815999999999999E-2,3.0380000000000001E-2,0,392,0.88,5,null,"kraftfoder, spannmål etc."]
[null,null,null,null,null,null,null,null,null,null,null,null,null,null,null,null,null,null,null,null,null,null,null,null,null,null,null,null,null,null,null,null,"SF Rosa Energi","kg",2.9568000000000001E-2,4.8399999999999997E-3,8.8000000000000005E-3,393,0.88,4,null,"kraftfoder, spannmål etc.",null,"SF Slakt Bravo PK","kg",5.4399999999999997E-2,7.9000000000000008E-3,1.37E-2,393,0.88,4,null,null,"inköpt",null,"Sp Crystalyx Energy","kg",9.4079999999999997E-3,9.9959999999999997E-3,0,393,0.88,5,null,"kraftfoder, spannmål etc."]
[null,null,null,null,null,null,null,null,null,null,null,null,null,null,null,null,null,null,null,null,null,null,null,null,null,null,null,null,null,null,null,null,"SF Rosa Fett","kg",2.9145600000000001E-2,4.8399999999999997E-3,1.1440000000000001E-2,394,0.88,4,null,"kraftfoder, spannmål etc.",null,"SF Slakt Drank","kg",4.8000000000000001E-2,6.3699999999999998E-3,1.2529999999999999E-2,394,0.88,4,null,null,"inköpt",null,"Sp Crystalyx Garlyx","kg",1.8815999999999999E-2,3.0380000000000001E-2,0,394,0.88,5,null,"kraftfoder, spannmål etc."]
[null,null,null,null,null,null,null,null,null,null,null,null,null,null,null,null,null,null,null,null,null,null,null,null,null,null,null,null,null,null,null,null,"SF Rosa Grädde","kg",3.168E-2,4.8399999999999997E-3,9.6799999999999994E-3,395,0.88,4,null,"kraftfoder, spannmål etc.",null,"SF Slakt Maxi","kg",5.6000000000000001E-2,8.4200000000000004E-3,1.3440000000000001E-2,395,0.88,4,null,null,"inköpt",null,"Sp Crystalyx High Mag","kg",1.7247999999999999E-2,1.4994E-2,0,395,0.88,5,null,"kraftfoder, spannmål etc."]
[null,null,null,null,null,null,null,null,null,null,null,null,null,null,null,null,null,null,null,null,null,null,null,null,null,null,null,null,null,null,null,null,"SF Rosa Norr","kg",2.9145600000000001E-2,5.9839999999999997E-3,8.8000000000000005E-3,396,0.88,4,null,"kraftfoder, spannmål etc.",null,"SF Slakt Ärt","kg",5.6800000000000003E-2,7.8100000000000001E-3,1.4189999999999999E-2,396,0.88,4,null,null,"inköpt",null,"Sp Crystalyx Organyx (KRAV)","kg",3.1359999999999999E-3,3.9983999999999999E-2,0,396,0.88,5,null,"kraftfoder, spannmål etc."]
[null,null,null,null,null,null,null,null,null,null,null,null,null,null,null,null,null,null,null,null,null,null,null,null,null,null,null,null,null,null,null,null,"SF Rosa Rikta","kg",2.5343999999999998E-2,4.8399999999999997E-3,8.8000000000000005E-3,397,0.88,4,null,"kraftfoder, spannmål etc.",null,"SF Slaktmix Grön KRAV PK","kg",6.2889600000000004E-2,1.0748000000000001E-2,1.3736999999999999E-2,397,0.88,4,null,null,"inköpt",null,"Sp EDEL Kalv Start","kg",2.6447999999999999E-2,6.96E-3,1.044E-2,397,0.88,5,null,"kraftfoder, spannmål etc."]
[null,null,null,null,null,null,null,null,null,null,null,null,null,null,null,null,null,null,null,null,null,null,null,null,null,null,null,null,null,null,null,null,"SF Rosa Smör","kg",3.5200000000000002E-2,4.8399999999999997E-3,9.6799999999999994E-3,398,0.88,4,null,"kraftfoder, spannmål etc.",null,"SF Smågris Alert T","kg",2.5440000000000001E-2,5.2700000000000004E-3,5.8799999999999998E-3,398,0.88,4,null,null,"inköpt",null,"Sp EDEL Komet 290 (155)","kg",4.0832E-2,6.8640000000000003E-3,1.2319999999999999E-2,398,0.88,5,13.3,"kraftfoder, spannmål etc."]
[null,null,null,null,null,null,null,null,null,null,null,null,null,null,null,null,null,null,null,null,null,null,null,null,null,null,null,null,null,null,null,null,"SF Rosa Standard","kg",2.6048000000000002E-2,4.8399999999999997E-3,1.1440000000000001E-2,399,0.88,4,null,"kraftfoder, spannmål etc.",null,"SF Smågris Grön KRAV P","kg",2.7948799999999999E-2,6.7419999999999997E-3,6.8279999999999999E-3,399,0.88,4,null,null,"inköpt",null,"Sp EDEL Ungnöt 140 (13)","kg",1.9487999999999998E-2,4.8719999999999996E-3,7.4819999999999999E-3,399,0.88,5,null,"kraftfoder, spannmål etc."]
[null,null,null,null,null,null,null,null,null,null,null,null,null,null,null,null,null,null,null,null,null,null,null,null,null,null,null,null,null,null,null,null,"SF SF 300","kg",4.2720000000000001E-2,6.6750000000000004E-3,9.7900000000000001E-3,400,0.88,4,null,"kraftfoder, spannmål etc.",null,"SF Smågris Start T","kg",2.8000000000000001E-2,5.6800000000000002E-3,5.8100000000000001E-3,400,0.88,4,null,null,"inköpt",null,"Sp EDEL Ungnötskoncentrat","kg",4.0832E-2,7.4799999999999997E-3,1.1440000000000001E-2,400,0.88,5,null,"kraftfoder, spannmål etc."]
[null,null,null,null,null,null,null,null,null,null,null,null,null,null,null,null,null,null,null,null,null,null,null,null,null,null,null,null,null,null,null,null,"SF SmörTopp","kg",4.6991999999999999E-2,5.7850000000000002E-3,1.157E-2,401,0.88,4,null,"kraftfoder, spannmål etc.",null,"SF Smågris Syra Express","kg",2.7824000000000002E-2,5.5999999999999999E-3,5.6899999999999997E-3,401,0.88,4,null,null,"inköpt",null,"Sp HARMONI K60","kg",3.8016000000000001E-2,5.4559999999999999E-3,1.0824E-2,401,0.88,5,null,"kraftfoder, spannmål etc."]
[null,null,null,null,null,null,null,null,null,null,null,null,null,null,null,null,null,null,null,null,null,null,null,null,null,null,null,null,null,null,null,null,"SF Soja Balans","kg",6.2656000000000003E-2,7.1199999999999996E-3,1.3350000000000001E-2,402,0.88,4,null,"kraftfoder, spannmål etc.",null,"SF Smågris Triumf","kg",2.5092799999999998E-2,5.1599999999999997E-3,5.1799999999999997E-3,402,0.88,4,null,null,"inköpt",null,"Sp K2 HARMONI","kg",2.4638400000000001E-2,4.9589999999999999E-3,7.4819999999999999E-3,402,0.88,5,null,"kraftfoder, spannmål etc."]
[null,null,null,null,null,null,null,null,null,null,null,null,null,null,null,null,null,null,null,null,null,null,null,null,null,null,null,null,null,null,null,null,"SF Stella 185","kg",2.6048000000000002E-2,5.28E-3,8.8000000000000005E-3,403,0.88,4,null,"kraftfoder, spannmål etc.",null,"SF Småmix Grön KRAV PK","kg",7.1739200000000003E-2,2.0792999999999999E-2,1.1671000000000001E-2,403,0.88,4,null,null,"inköpt",null,"Sp Kalv Start 100+","kg",2.5055999999999998E-2,6.7860000000000004E-3,9.5700000000000004E-3,403,0.88,5,null,"kraftfoder, spannmål etc."]
[null,null,null,null,null,null,null,null,null,null,null,null,null,null,null,null,null,null,null,null,null,null,null,null,null,null,null,null,null,null,null,null,"SF Stella 210 ","kg",2.9568000000000001E-2,5.28E-3,8.8000000000000005E-3,404,0.88,4,null,"kraftfoder, spannmål etc.",null,"SF Sugg Omega 70 PK","kg",4.3839999999999997E-2,5.5199999999999997E-3,1.354E-2,404,0.88,4,null,null,"inköpt",null,"Sp Kalvados","kg",3.3591999999999997E-2,9.025E-3,0,404,0.88,5,null,"kraftfoder, spannmål etc."]
[null,null,null,null,null,null,null,null,null,null,null,null,null,null,null,null,null,null,null,null,null,null,null,null,null,null,null,null,null,null,null,null,"SF Stella 235 ","kg",3.3087999999999999E-2,5.28E-3,8.8000000000000005E-3,405,0.88,4,null,"kraftfoder, spannmål etc.",null,"SF Suggfoder Classic","kg",2.1392000000000001E-2,4.8999999999999998E-3,7.6299999999999996E-3,405,0.88,4,null,null,"inköpt",null,"Sp Kalvamma","kg",3.2072000000000003E-2,6.9350000000000002E-3,0,405,0.88,5,null,"kraftfoder, spannmål etc."]
[null,null,null,null,null,null,null,null,null,null,null,null,null,null,null,null,null,null,null,null,null,null,null,null,null,null,null,null,null,null,null,null,"SF Stråla 245","kg",3.3510400000000003E-2,4.8399999999999997E-3,8.8000000000000005E-3,406,0.88,4,null,"kraftfoder, spannmål etc.",null,"SF Suggfoder Extra PK","kg",2.7424E-2,5.0099999999999997E-3,7.0800000000000004E-3,406,0.88,4,null,null,"inköpt",null,"Sp Kalvextra","kg",3.6783999999999997E-2,8.0750000000000006E-3,0,406,0.88,5,null,"kraftfoder, spannmål etc."]
[null,null,null,null,null,null,null,null,null,null,null,null,null,null,null,null,null,null,null,null,null,null,null,null,null,null,null,null,null,null,null,null,"SF Tip Topp","kg",3.7166400000000002E-2,5.3400000000000001E-3,1.157E-2,407,0.88,4,null,"kraftfoder, spannmål etc.",null,"SF Suggfoder Grön KRAV PK","kg",2.5264000000000002E-2,5.7809999999999997E-3,7.1999999999999998E-3,407,0.88,4,null,null,"inköpt",null,"Sp Ketona Energy","kg",1.4080000000000001E-2,3.0799999999999998E-3,7.0400000000000003E-3,407,0.88,5,null,"kraftfoder, spannmål etc."]
[null,null,null,null,null,null,null,null,null,null,null,null,null,null,null,null,null,null,null,null,null,null,null,null,null,null,null,null,null,null,null,null,"SF Topp Eko Balans","kg",5.4823999999999998E-2,4.895E-3,1.3795E-2,408,0.88,4,null,"kraftfoder, spannmål etc.",null,"SF Suggfoder Intens 70","kg",2.7136E-2,5.1799999999999997E-3,7.7000000000000002E-3,408,0.88,4,null,null,"inköpt",null,"Sp Spanntopp","kg",3.3591999999999997E-2,7.9799999999999992E-3,0,408,0.88,5,null,"kraftfoder, spannmål etc."]
[null,null,null,null,null,null,null,null,null,null,null,null,null,null,null,null,null,null,null,null,null,null,null,null,null,null,null,null,null,null,null,null,"SF Topp Eko Böna","kg",4.6707199999999997E-2,5.9630000000000004E-3,1.5129999999999999E-2,409,0.88,4,null,"kraftfoder, spannmål etc.",null,"SF Suggfoder Laktal PK","kg",2.4799999999999999E-2,4.8999999999999998E-3,8.0000000000000002E-3,409,0.88,4,null,null,"inköpt",null,"Sp Vallberga FosforLåg","kg",0,3.5279999999999999E-2,0,409,0.88,5,null,"kraftfoder, spannmål etc."]
[null,null,null,null,null,null,null,null,null,null,null,null,null,null,null,null,null,null,null,null,null,null,null,null,null,null,null,null,null,null,null,null,"SF Topp Eko Pingla","kg",4.2720000000000001E-2,6.2300000000000003E-3,1.3795E-2,410,0.88,4,null,"kraftfoder, spannmål etc.",null,"SF Suggfoder Total","kg",2.3184E-2,5.0400000000000002E-3,7.7099999999999998E-3,410,0.88,4,null,null,"inköpt",null,"SwA Forma 16 pkr","kg",2.3040000000000001E-2,3.4199999999999999E-3,1.593E-2,410,0.88,5,null,"kraftfoder, spannmål etc."]
[null,null,null,null,null,null,null,null,null,null,null,null,null,null,null,null,null,null,null,null,null,null,null,null,null,null,null,null,null,null,null,null,"SF Tuva 27","kg",3.7735999999999999E-2,6.6750000000000004E-3,1.2460000000000001E-2,411,0.88,4,null,"kraftfoder, spannmål etc.",null,"SF Suggfoder Vital 70","kg",2.3088000000000001E-2,5.2500000000000003E-3,8.6700000000000006E-3,411,0.88,4,null,null,"inköpt",null,"SwA Forma 19 vbm","kg",2.7359999999999999E-2,3.5999999999999999E-3,1.26E-2,411,0.88,5,null,"kraftfoder, spannmål etc."]
[null,null,null,null,null,null,null,null,null,null,null,null,null,null,null,null,null,null,null,null,null,null,null,null,null,null,null,null,null,null,null,null,"SF Tuva Eko Grov20","kg",2.6752000000000001E-2,3.96E-3,7.4799999999999997E-3,412,0.88,4,null,"kraftfoder, spannmål etc.",null,"SF Suggmix Grön KRAV PK","kg",6.08E-2,1.6250000000000001E-2,1.2125E-2,412,0.88,4,null,null,"inköpt",null,"SwA Forma 25 vbm","kg",3.6144000000000003E-2,5.13E-3,1.8630000000000001E-2,412,0.88,5,null,"kraftfoder, spannmål etc."]
[null,null,null,null,null,null,null,null,null,null,null,null,null,null,null,null,null,null,null,null,null,null,null,null,null,null,null,null,null,null,null,null,"SF Tuva Fiber","kg",2.4639999999999999E-2,4.8399999999999997E-3,8.8000000000000005E-3,413,0.88,4,null,"kraftfoder, spannmål etc.",null,"SwA Swedish Basis 83 Pkr","kg",1.8800000000000001E-2,4.2100000000000002E-3,5.2599999999999999E-3,413,0.88,4,null,null,"inköpt",null,"SwA Forma 39 U","kg",5.5316799999999999E-2,9.3392000000000006E-3,1.17638E-2,413,0.88,5,null,"kraftfoder, spannmål etc."]
[null,null,null,null,null,null,null,null,null,null,null,null,null,null,null,null,null,null,null,null,null,null,null,null,null,null,null,null,null,null,null,null,"SF Tuva Grov","kg",2.0416E-2,4.8399999999999997E-3,8.8000000000000005E-3,414,0.88,4,null,"kraftfoder, spannmål etc.",null,"SwA Swedish Basis 831 Vbm","kg",2.2100000000000002E-2,3.8300000000000001E-3,5.2199999999999998E-3,414,0.88,4,null,null,"inköpt",null,"SwA Forma 41 U","kg",5.86688E-2,8.633E-3,1.1748E-2,414,0.88,5,null,"kraftfoder, spannmål etc."]
[null,null,null,null,null,null,null,null,null,null,null,null,null,null,null,null,null,null,null,null,null,null,null,null,null,null,null,null,null,null,null,null,"SF Tuva Snabb","kg",2.7456000000000001E-2,4.4000000000000003E-3,8.8000000000000005E-3,415,0.88,4,null,"kraftfoder, spannmål etc.",null,"SwA Swedish Basis 831+7 Vbm","kg",2.1000000000000001E-2,6.8900000000000003E-3,5.3899999999999998E-3,415,0.88,4,null,null,"inköpt",null,"SwA Forma 43","kg",6.1516800000000003E-2,8.8109999999999994E-3,1.5753E-2,415,0.88,5,null,"kraftfoder, spannmål etc."]
[null,null,null,null,null,null,null,null,null,null,null,null,null,null,null,null,null,null,null,null,null,null,null,null,null,null,null,null,null,null,null,null,"Smartamine M","kg",0.12322080000000001,0,0,416,0.88,4,null,"kraftfoder, spannmål etc.",null,"SwA Swedish Basis 832 Vbm ","kg",2.0400000000000001E-2,3.0300000000000001E-3,3.96E-3,416,0.88,4,null,null,"inköpt",null,"SwA Forma Betformix","kg",3.2039999999999999E-2,5.607E-3,7.7429999999999999E-3,416,0.88,5,null,"kraftfoder, spannmål etc."]
[null,null,null,null,null,null,null,null,null,null,null,null,null,null,null,null,null,null,null,null,null,null,null,null,null,null,null,null,null,null,null,null,"Sp 190 Nova EDEL","kg",2.6447999999999999E-2,4.6979999999999999E-3,9.2219999999999993E-3,417,0.88,4,null,"kraftfoder, spannmål etc.",null,"SwA Swedish Basis 84 Pkr","kg",1.89E-2,4.5500000000000002E-3,6.2700000000000004E-3,417,0.88,4,null,null,"inköpt",null,"SwA Forma Expromix","kg",5.2545599999999998E-2,1.0858E-2,1.2193000000000001E-2,417,0.88,5,null,"kraftfoder, spannmål etc."]
[null,null,null,null,null,null,null,null,null,null,null,null,null,null,null,null,null,null,null,null,null,null,null,null,null,null,null,null,null,null,null,null,"Sp Crystalyx Booster","kg",1.8815999999999999E-2,3.0380000000000001E-2,0,418,0.88,4,null,"kraftfoder, spannmål etc.",null,"SwA Swedish Basis 84 Vbm","kg",1.9E-2,4.3099999999999996E-3,5.8599999999999998E-3,418,0.88,4,null,null,"inköpt",null,"SwA Forma Mega 40","kg",5.6959999999999997E-2,7.5649999999999997E-3,1.4862999999999999E-2,418,0.88,5,null,"kraftfoder, spannmål etc."]
[null,null,null,null,null,null,null,null,null,null,null,null,null,null,null,null,null,null,null,null,null,null,null,null,null,null,null,null,null,null,null,null,"Sp Crystalyx Energy","kg",9.4079999999999997E-3,9.9959999999999997E-3,0,419,0.88,4,null,"kraftfoder, spannmål etc.",null,"SwA Swedish Classic 611 H Pkr","kg",5.04E-2,1.137E-2,1.1639999999999999E-2,419,0.88,4,null,null,"inköpt",null,"SwA Forma Mega 42","kg",5.9875200000000003E-2,8.1972E-3,1.5503400000000001E-2,419,0.88,5,null,"kraftfoder, spannmål etc."]
[null,null,null,null,null,null,null,null,null,null,null,null,null,null,null,null,null,null,null,null,null,null,null,null,null,null,null,null,null,null,null,null,"Sp Crystalyx Garlyx","kg",1.8815999999999999E-2,3.0380000000000001E-2,0,420,0.88,4,null,"kraftfoder, spannmål etc.",null,"SwA Swedish Classic 611 H Vbm","kg",4.58E-2,1.093E-2,1.0019999999999999E-2,420,0.88,4,null,null,"inköpt",null,"SwA Forma Näramix vbm","kg",5.3827199999999999E-2,1.068E-2,1.2371E-2,420,0.88,5,null,"kraftfoder, spannmål etc."]
[null,null,null,null,null,null,null,null,null,null,null,null,null,null,null,null,null,null,null,null,null,null,null,null,null,null,null,null,null,null,null,null,"Sp Crystalyx High Mag","kg",1.7247999999999999E-2,1.4994E-2,0,421,0.88,4,null,"kraftfoder, spannmål etc.",null,"SwA Swedish Classic 62 Pell","kg",4.1300000000000003E-2,4.1799999999999997E-3,9.3100000000000006E-3,421,0.88,4,null,null,"inköpt",null,"SwA Forma Rapsmix Vbm","kg",5.3422079999999997E-2,8.5248000000000008E-3,1.4208E-2,421,0.88,5,null,"kraftfoder, spannmål etc."]
[null,null,null,null,null,null,null,null,null,null,null,null,null,null,null,null,null,null,null,null,null,null,null,null,null,null,null,null,null,null,null,null,"Sp Crystalyx Organyx (KRAV)","kg",3.1359999999999999E-3,3.9983999999999999E-2,0,422,0.88,4,null,"kraftfoder, spannmål etc.",null,"SwA Swedish Classic 63 Pkr","kg",2.5100000000000001E-2,5.0099999999999997E-3,5.96E-3,422,0.88,4,null,null,"inköpt",null,"SwA Glänsa Atlet","kg",2.7315200000000001E-2,6.2480000000000001E-3,8.5360000000000002E-3,422,0.88,5,null,"kraftfoder, spannmål etc."]
[null,null,null,null,null,null,null,null,null,null,null,null,null,null,null,null,null,null,null,null,null,null,null,null,null,null,null,null,null,null,null,null,"Sp EDEL Kalv Start","kg",2.6447999999999999E-2,6.96E-3,1.044E-2,423,0.88,4,null,"kraftfoder, spannmål etc.",null,"SwA Swedish Classic 63 Vbm","kg",2.5100000000000001E-2,5.0099999999999997E-3,5.96E-3,423,0.88,4,null,null,"inköpt",null,"SwA Glänsa Kompax ","kg",4.2007999999999997E-2,7.1199999999999996E-3,1.068E-2,423,0.88,5,null,"kraftfoder, spannmål etc."]
[null,null,null,null,null,null,null,null,null,null,null,null,null,null,null,null,null,null,null,null,null,null,null,null,null,null,null,null,null,null,null,null,"Sp EDEL Komet 290 (155)","kg",4.0832E-2,6.8640000000000003E-3,1.2319999999999999E-2,424,0.88,4,null,"kraftfoder, spannmål etc.",null,"SwA Swedish Classic 631 Vbm","kg",4.7699999999999999E-2,1.1509999999999999E-2,1.193E-2,424,0.88,4,null,null,"inköpt",null,"SwA Glänsa Kviga","kg",2.4579839999999999E-2,5.2392000000000003E-3,8.2584000000000008E-3,424,0.88,5,null,"kraftfoder, spannmål etc."]
[null,null,null,null,null,null,null,null,null,null,null,null,null,null,null,null,null,null,null,null,null,null,null,null,null,null,null,null,null,null,null,null,"Sp EDEL Ungnöt 140 (13)","kg",1.9487999999999998E-2,4.8719999999999996E-3,7.4819999999999999E-3,425,0.88,4,null,"kraftfoder, spannmål etc.",null,"SwA Swedish Classic 632 Vbm  ","kg",3.4000000000000002E-2,4.7200000000000002E-3,7.6400000000000001E-3,425,0.88,4,null,null,"inköpt",null,"SwA Glänsa Muskel ","kg",2.7596800000000001E-2,5.5440000000000003E-3,8.3599999999999994E-3,425,0.88,5,null,"kraftfoder, spannmål etc."]
[null,null,null,null,null,null,null,null,null,null,null,null,null,null,null,null,null,null,null,null,null,null,null,null,null,null,null,null,null,null,null,null,"Sp EDEL Ungnötskoncentrat","kg",4.0832E-2,7.4799999999999997E-3,1.1440000000000001E-2,426,0.88,4,null,"kraftfoder, spannmål etc.",null,"SwA Swedish Classic 64  Pkr","kg",2.2700000000000001E-2,4.3099999999999996E-3,5.4599999999999996E-3,426,0.88,4,null,null,"inköpt",null,"SwA Glänsa NDF","kg",2.6188800000000002E-2,6.1599999999999997E-3,7.8320000000000004E-3,426,0.88,5,null,"kraftfoder, spannmål etc."]
[null,null,null,null,null,null,null,null,null,null,null,null,null,null,null,null,null,null,null,null,null,null,null,null,null,null,null,null,null,null,null,null,"Sp HARMONI K60","kg",3.8016000000000001E-2,5.4559999999999999E-3,1.0824E-2,427,0.88,4,null,"kraftfoder, spannmål etc.",null,"SwA Swedish Classic 64  Vbm","kg",2.2700000000000001E-2,4.3800000000000002E-3,5.4599999999999996E-3,427,0.88,4,null,null,"inköpt",null,"SwA Grunda 170","kg",2.4921599999999999E-2,6.0720000000000001E-3,7.6559999999999996E-3,427,0.88,5,null,"kraftfoder, spannmål etc."]
[null,null,null,null,null,null,null,null,null,null,null,null,null,null,null,null,null,null,null,null,null,null,null,null,null,null,null,null,null,null,null,null,"Sp K2 HARMONI","kg",2.4638400000000001E-2,4.9589999999999999E-3,7.4819999999999999E-3,428,0.88,4,null,"kraftfoder, spannmål etc.",null,"SwA Swedish Classic 64 Pell","kg",2.2599999999999999E-2,4.3800000000000002E-3,5.47E-3,428,0.88,4,null,null,"inköpt",null,"SwA Grunda 190","kg",2.7315200000000001E-2,6.0720000000000001E-3,8.0960000000000008E-3,428,0.88,5,null,"kraftfoder, spannmål etc."]
[null,null,null,null,null,null,null,null,null,null,null,null,null,null,null,null,null,null,null,null,null,null,null,null,null,null,null,null,null,null,null,null,"Sp Kalv Start 100+","kg",2.5055999999999998E-2,6.7860000000000004E-3,9.5700000000000004E-3,429,0.88,4,null,"kraftfoder, spannmål etc.",null,"SwA Swedish Grow 21  G + Zn","kg",2.4899999999999999E-2,6.8500000000000002E-3,6.5199999999999998E-3,429,0.88,4,null,null,"inköpt",null,"SwA Grunda 191","kg",2.6892800000000001E-2,4.7520000000000001E-3,7.92E-3,429,0.88,5,null,"kraftfoder, spannmål etc."]
[null,null,null,null,null,null,null,null,null,null,null,null,null,null,null,null,null,null,null,null,null,null,null,null,null,null,null,null,null,null,null,null,"Sp Kalvados","kg",3.3591999999999997E-2,9.025E-3,0,430,0.88,4,null,"kraftfoder, spannmål etc.",null,"SwA Swedish Grow 21  G + Zn","kg",2.4899999999999999E-2,6.8599999999999998E-3,6.5300000000000002E-3,430,0.88,4,null,null,"inköpt",null,"SwA Grunda 192","kg",2.7033600000000001E-2,5.6319999999999999E-3,8.8880000000000001E-3,430,0.88,5,null,"kraftfoder, spannmål etc."]
[null,null,null,null,null,null,null,null,null,null,null,null,null,null,null,null,null,null,null,null,null,null,null,null,null,null,null,null,null,null,null,null,"Sp Kalvamma","kg",3.2072000000000003E-2,6.9350000000000002E-3,0,431,0.88,4,null,"kraftfoder, spannmål etc.",null,"SwA Swedish Grow 21 Zink Pell","kg",2.4199999999999999E-2,6.8100000000000001E-3,6.3099999999999996E-3,431,0.88,4,null,null,"inköpt",null,"SwA Grunda 210","kg",2.99904E-2,5.8960000000000002E-3,8.4480000000000006E-3,431,0.88,5,null,"kraftfoder, spannmål etc."]
[null,null,null,null,null,null,null,null,null,null,null,null,null,null,null,null,null,null,null,null,null,null,null,null,null,null,null,null,null,null,null,null,"Sp Kalvextra","kg",3.6783999999999997E-2,8.0750000000000006E-3,0,432,0.88,4,null,"kraftfoder, spannmål etc.",null,"SwA Swedish Grow 22 Pell","kg",2.4199999999999999E-2,6.8300000000000001E-3,6.3400000000000001E-3,432,0.88,4,null,null,"inköpt",null,"SwA Grunda 220","kg",3.0976E-2,5.0159999999999996E-3,8.0079999999999995E-3,432,0.88,5,null,"kraftfoder, spannmål etc."]
[null,null,null,null,null,null,null,null,null,null,null,null,null,null,null,null,null,null,null,null,null,null,null,null,null,null,null,null,null,null,null,null,"Sp Ketona Energy","kg",1.4080000000000001E-2,3.0799999999999998E-3,7.0400000000000003E-3,433,0.88,4,null,"kraftfoder, spannmål etc.",null,"SwA Swedish Grow 30 +9 Vbm","kg",2.6599999999999999E-2,5.0099999999999997E-3,5.9100000000000003E-3,433,0.88,4,null,null,"inköpt",null,"SwA Grunda 221","kg",3.19616E-2,6.5120000000000004E-3,9.7680000000000006E-3,433,0.88,5,null,"kraftfoder, spannmål etc."]
[null,null,null,null,null,null,null,null,null,null,null,null,null,null,null,null,null,null,null,null,null,null,null,null,null,null,null,null,null,null,null,null,"Sp Spanntopp","kg",3.3591999999999997E-2,7.9799999999999992E-3,0,434,0.88,4,null,"kraftfoder, spannmål etc.",null,"SwA Swedish Grow 30 Pell","kg",2.6499999999999999E-2,5.0099999999999997E-3,5.9100000000000003E-3,434,0.88,4,null,null,"inköpt",null,"SwA Grunda 240","kg",3.3792000000000003E-2,6.6E-3,8.9759999999999996E-3,434,0.88,5,null,"kraftfoder, spannmål etc."]
[null,null,null,null,null,null,null,null,null,null,null,null,null,null,null,null,null,null,null,null,null,null,null,null,null,null,null,null,null,null,null,null,"Sp Vallberga FosforLåg","kg",0,3.5279999999999999E-2,0,435,0.88,4,null,"kraftfoder, spannmål etc.",null,"SwA Swedish Grow 30 Spec Pell","kg",2.47E-2,4.4000000000000003E-3,5.5900000000000004E-3,435,0.88,4,null,null,"inköpt",null,"SwA Grunda 245 Fiber U* ","kg",3.505424E-2,6.2976999999999998E-3,8.3377999999999994E-3,435,0.88,5,null,"kraftfoder, spannmål etc."]
[null,null,null,null,null,null,null,null,null,null,null,null,null,null,null,null,null,null,null,null,null,null,null,null,null,null,null,null,null,null,null,null,"SwA Forma 16 pkr","kg",2.3040000000000001E-2,3.4199999999999999E-3,1.593E-2,436,0.88,4,null,"kraftfoder, spannmål etc.",null,"SwA Swedish Grow 30+9 Pell","kg",2.6599999999999999E-2,5.0099999999999997E-3,5.9100000000000003E-3,436,0.88,4,null,null,"inköpt",null,"SwA Grunda 250 U","kg",3.5520000000000003E-2,6.0384000000000002E-3,7.548E-3,436,0.88,5,null,"kraftfoder, spannmål etc."]
[null,null,null,null,null,null,null,null,null,null,null,null,null,null,null,null,null,null,null,null,null,null,null,null,null,null,null,null,null,null,null,null,"SwA Forma 19 vbm","kg",2.7359999999999999E-2,3.5999999999999999E-3,1.26E-2,437,0.88,4,null,"kraftfoder, spannmål etc.",null,"SwA Swedish Grow 30+9 PKR","kg",2.6599999999999999E-2,5.0099999999999997E-3,5.9100000000000003E-3,437,0.88,4,null,null,"inköpt",null,"SwA Grunda Adda 195","kg",2.7456000000000001E-2,5.4559999999999999E-3,6.9519999999999998E-3,437,0.88,5,null,"kraftfoder, spannmål etc."]
[null,null,null,null,null,null,null,null,null,null,null,null,null,null,null,null,null,null,null,null,null,null,null,null,null,null,null,null,null,null,null,null,"SwA Forma 25 vbm","kg",3.6144000000000003E-2,5.13E-3,1.8630000000000001E-2,438,0.88,4,null,"kraftfoder, spannmål etc.",null,"SwA Swedish Grow 31 Pell","kg",2.46E-2,4.1999999999999997E-3,5.4200000000000003E-3,438,0.88,4,null,null,{"$f":"inköpt","v":"inköpt"},null,"SwA Grunda Ess 222","kg",3.2102400000000003E-2,5.7200000000000003E-3,8.7119999999999993E-3,438,0.88,5,null,"kraftfoder, spannmål etc."]
[null,null,null,null,null,null,null,null,null,null,null,null,null,null,null,null,null,null,null,null,null,null,null,null,null,null,null,null,null,null,null,null,"SwA Forma 39 U","kg",5.5316799999999999E-2,9.3392000000000006E-3,1.17638E-2,439,0.88,4,null,"kraftfoder, spannmål etc.",null,"SwA Swedish Grow 33 +9 Pell","kg",2.63E-2,5.0699999999999999E-3,5.8199999999999997E-3,439,0.88,4,null,null,"inköpt",null,"SwA Grunda Fiber","kg",2.7315200000000001E-2,6.1599999999999997E-3,8.2719999999999998E-3,439,0.88,5,null,"kraftfoder, spannmål etc."]
[null,null,null,null,null,null,null,null,null,null,null,null,null,null,null,null,null,null,null,null,null,null,null,null,null,null,null,null,null,null,null,null,"SwA Forma 41 U","kg",5.86688E-2,8.633E-3,1.1748E-2,440,0.88,4,null,"kraftfoder, spannmål etc.",null,"SwA Swedish Grow 33 +9 Vbm","kg",2.63E-2,5.0899999999999999E-3,5.6100000000000004E-3,440,0.88,4,null,null,"inköpt",null,"SwA Grunda Kalmar","kg",2.7315200000000001E-2,5.0159999999999996E-3,8.6239999999999997E-3,440,0.88,5,null,"kraftfoder, spannmål etc."]
[null,null,null,null,null,null,null,null,null,null,null,null,null,null,null,null,null,null,null,null,null,null,null,null,null,null,null,null,null,null,null,null,"SwA Forma 43","kg",6.1516800000000003E-2,8.8109999999999994E-3,1.5753E-2,441,0.88,4,null,"kraftfoder, spannmål etc.",null,"SwA Swedish Grow 33 Vbm","kg",2.63E-2,5.1000000000000004E-3,5.8700000000000002E-3,441,0.88,4,null,null,"inköpt",null,"SwA Grunda Mega 180","kg",2.5484799999999998E-2,5.104E-3,7.1279999999999998E-3,441,0.88,5,null,"kraftfoder, spannmål etc."]
[null,null,null,null,null,null,null,null,null,null,null,null,null,null,null,null,null,null,null,null,null,null,null,null,null,null,null,null,null,null,null,null,"SwA Forma Betformix","kg",3.2039999999999999E-2,5.607E-3,7.7429999999999999E-3,442,0.88,4,null,"kraftfoder, spannmål etc.",null,"SwA Swedish Grow 330 PKR","kg",4.8599999999999997E-2,5.5199999999999997E-3,9.6600000000000002E-3,442,0.88,4,null,null,"inköpt",null,"SwA Grunda Mega 211","kg",3.06944E-2,6.8640000000000003E-3,9.2399999999999999E-3,442,0.88,5,null,"kraftfoder, spannmål etc."]
[null,null,null,null,null,null,null,null,null,null,null,null,null,null,null,null,null,null,null,null,null,null,null,null,null,null,null,null,null,null,null,null,"SwA Forma Expromix","kg",5.2545599999999998E-2,1.0858E-2,1.2193000000000001E-2,443,0.88,4,null,"kraftfoder, spannmål etc.",null,"SwA Swedish Grow 330 Vbm","kg",4.5400000000000003E-2,1.089E-2,8.3999999999999995E-3,443,0.88,4,null,null,"inköpt",null,"SwA Grunda Mega 220","kg",3.13984E-2,5.5440000000000003E-3,8.7119999999999993E-3,443,0.88,5,null,"kraftfoder, spannmål etc."]
[null,null,null,null,null,null,null,null,null,null,null,null,null,null,null,null,null,null,null,null,null,null,null,null,null,null,null,null,null,null,null,null,"SwA Forma Mega 40","kg",5.6959999999999997E-2,7.5649999999999997E-3,1.4862999999999999E-2,444,0.88,4,null,"kraftfoder, spannmål etc.",null,"SwA Swedish Grow 43 Pell","kg",2.5100000000000001E-2,5.5999999999999999E-3,5.8599999999999998E-3,444,0.88,4,null,null,"inköpt",null,"SwA Kalmar Maxifett","kg",3.9871999999999998E-2,6.4970000000000002E-3,1.1124999999999999E-2,444,0.88,5,null,"kraftfoder, spannmål etc."]
[null,null,null,null,null,null,null,null,null,null,null,null,null,null,null,null,null,null,null,null,null,null,null,null,null,null,null,null,null,null,null,null,"SwA Forma Mega 42","kg",5.9875200000000003E-2,8.1972E-3,1.5503400000000001E-2,445,0.88,4,null,"kraftfoder, spannmål etc.",null,"SwA Swedish Grow 43 Vbm","kg",2.5100000000000001E-2,5.5999999999999999E-3,5.8599999999999998E-3,445,0.88,4,null,null,"inköpt",null,"SwA Toppa 26 ","kg",3.8875199999999999E-2,8.4550000000000007E-3,1.1214E-2,445,0.88,5,null,"kraftfoder, spannmål etc."]
[null,null,null,null,null,null,null,null,null,null,null,null,null,null,null,null,null,null,null,null,null,null,null,null,null,null,null,null,null,null,null,null,"SwA Forma Näramix vbm","kg",5.3827199999999999E-2,1.068E-2,1.2371E-2,446,0.88,4,null,"kraftfoder, spannmål etc.",null,"SwA Swedish Grow 43+9 Vbm","kg",2.6100000000000002E-2,5.5799999999999999E-3,6.1999999999999998E-3,446,0.88,4,null,null,"inköpt",null,"SwA Toppa 27","kg",3.8016000000000001E-2,8.1840000000000003E-3,1.1351999999999999E-2,446,0.88,5,null,"kraftfoder, spannmål etc."]
[null,null,null,null,null,null,null,null,null,null,null,null,null,null,null,null,null,null,null,null,null,null,null,null,null,null,null,null,null,null,null,null,"SwA Forma Rapsmix Vbm","kg",5.3422079999999997E-2,8.5248000000000008E-3,1.4208E-2,447,0.88,4,null,"kraftfoder, spannmål etc.",null,"SwA Swedish Grow 44 Pkr","kg",2.4899999999999999E-2,5.5900000000000004E-3,5.9100000000000003E-3,447,0.88,4,null,null,"inköpt",null,"SwA Toppa 28 ","kg",4.0441600000000001E-2,7.2090000000000001E-3,1.0769000000000001E-2,447,0.88,5,null,"kraftfoder, spannmål etc."]
[null,null,null,null,null,null,null,null,null,null,null,null,null,null,null,null,null,null,null,null,null,null,null,null,null,null,null,null,null,null,null,null,"SwA Glänsa Atlet","kg",2.7315200000000001E-2,6.2480000000000001E-3,8.5360000000000002E-3,448,0.88,4,null,"kraftfoder, spannmål etc.",null,"SwA Swedish Grow 44 Vbm","kg",2.4899999999999999E-2,5.5900000000000004E-3,5.9100000000000003E-3,448,0.88,4,null,null,"inköpt",null,"SwA Toppa 29","kg",4.0584000000000002E-2,7.7429999999999999E-3,1.0413E-2,448,0.88,5,null,"kraftfoder, spannmål etc."]
[null,null,null,null,null,null,null,null,null,null,null,null,null,null,null,null,null,null,null,null,null,null,null,null,null,null,null,null,null,null,null,null,"SwA Glänsa Kompax ","kg",4.2007999999999997E-2,7.1199999999999996E-3,1.068E-2,{"$f":"AL453+1","v":449},0.88,4,null,"kraftfoder, spannmål etc.",null,"SwA Swedish Grow 53 Pell","kg",2.5000000000000001E-2,4.4600000000000004E-3,5.9500000000000004E-3,{"$f":"AW453+1","v":449},0.88,4,null,null,"inköpt",null,"SwA Toppa 30","kg",4.2720000000000001E-2,7.6540000000000002E-3,1.1214E-2,{"$f":"BI453+1","v":449},0.88,5,null,"kraftfoder, spannmål etc."]
[null,null,null,null,null,null,null,null,null,null,null,null,null,null,null,null,null,null,null,null,null,null,null,null,null,null,null,null,null,null,null,null,"SwA Glänsa Kviga","kg",2.4579839999999999E-2,5.2392000000000003E-3,8.2584000000000008E-3,450,0.88,4,null,"kraftfoder, spannmål etc.",null,"SwA Swedish Grow 54 Pkr","kg",2.5100000000000001E-2,4.47E-3,6.0400000000000002E-3,450,0.88,4,null,null,"inköpt",null,"SwA Toppa 32 ","kg",4.5196800000000002E-2,7.4799999999999997E-3,1.1967999999999999E-2,450,0.88,5,null,"kraftfoder, spannmål etc."]
[null,null,null,null,null,null,null,null,null,null,null,null,null,null,null,null,null,null,null,null,null,null,null,null,null,null,null,null,null,null,null,null,"SwA Glänsa Muskel ","kg",2.7596800000000001E-2,5.5440000000000003E-3,8.3599999999999994E-3,451,0.88,4,null,"kraftfoder, spannmål etc.",null,"SwA Swedish New 10 Pell","kg",2.9000000000000001E-2,4.7299999999999998E-3,4.15E-3,451,0.88,4,null,null,"inköpt",null,"SwA Toppa 34 U","kg",4.6463999999999998E-2,8.1840000000000003E-3,9.9439999999999997E-3,451,0.88,5,null,"kraftfoder, spannmål etc."]
[null,null,null,null,null,null,null,null,null,null,null,null,null,null,null,null,null,null,null,null,null,null,null,null,null,null,null,null,null,null,null,null,"SwA Glänsa NDF","kg",2.6188800000000002E-2,6.1599999999999997E-3,7.8320000000000004E-3,452,0.88,4,null,"kraftfoder, spannmål etc.",null,"SwA Swedish Top 10 Permiat Vbm","kg",2.69E-2,4.7299999999999998E-3,6.5100000000000002E-3,452,0.88,4,null,null,"inköpt",null,"SwA Toppa Adda 24","kg",3.5742400000000001E-2,6.8529999999999997E-3,9.0779999999999993E-3,452,0.88,5,null,"kraftfoder, spannmål etc."]
[null,null,null,null,null,null,null,null,null,null,null,null,null,null,null,null,null,null,null,null,null,null,null,null,null,null,null,null,null,null,null,null,"SwA Grunda 170","kg",2.4921599999999999E-2,6.0720000000000001E-3,7.6559999999999996E-3,453,0.88,4,null,"kraftfoder, spannmål etc.",null,"SwA Swedish Top 65  Vbm","kg",0.02,4.0699999999999998E-3,5.7099999999999998E-3,453,0.88,4,null,null,"inköpt",null,"SwA Toppa Ess 35","kg",4.8416000000000001E-2,6.4970000000000002E-3,1.3528E-2,453,0.88,5,null,"kraftfoder, spannmål etc."]
[null,null,null,null,null,null,null,null,null,null,null,null,null,null,null,null,null,null,null,null,null,null,null,null,null,null,null,null,null,null,null,null,"SwA Grunda 190","kg",2.7315200000000001E-2,6.0720000000000001E-3,8.0960000000000008E-3,454,0.88,4,null,"kraftfoder, spannmål etc.",null,"SwA Swedish Top 700 Vbm","kg",4.1300000000000003E-2,6.2399999999999999E-3,8.1399999999999997E-3,454,0.88,4,null,null,"inköpt",null,"SwA Toppa Mega 28","kg",4.0441600000000001E-2,7.1199999999999996E-3,1.0501999999999999E-2,454,0.88,5,null,"kraftfoder, spannmål etc."]
[null,null,null,null,null,null,null,null,null,null,null,null,null,null,null,null,null,null,null,null,null,null,null,null,null,null,null,null,null,null,null,null,"SwA Grunda 191","kg",2.6892800000000001E-2,4.7520000000000001E-3,7.92E-3,455,0.88,4,null,"kraftfoder, spannmål etc.",null,"SwA Swedish Top 82 Drank Vbm ","kg",2.0899999999999998E-2,3.4199999999999999E-3,5.2399999999999999E-3,455,0.88,4,null,null,"inköpt",null,"SwA Toppa Mega 31","kg",4.4856E-2,4.9839999999999997E-3,1.157E-2,455,0.88,5,null,"kraftfoder, spannmål etc."]
[null,null,null,null,null,null,null,null,null,null,null,null,null,null,null,null,null,null,null,null,null,null,null,null,null,null,null,null,null,null,null,null,"SwA Grunda 192","kg",2.7033600000000001E-2,5.6319999999999999E-3,8.8880000000000001E-3,456,0.88,4,null,"kraftfoder, spannmål etc.",null,"SwA Swedish Top 82 Pell","kg",2.2200000000000001E-2,4.0400000000000002E-3,5.5700000000000003E-3,456,0.88,4,null,null,"inköpt",null,"Swa Viltfoder Pell","kg",1.6299999999999999E-2,4.3699999999999998E-3,4.6800000000000001E-3,456,0.88,5,null,"kraftfoder, spannmål etc."]
[null,null,null,null,null,null,null,null,null,null,null,null,null,null,null,null,null,null,null,null,null,null,null,null,null,null,null,null,null,null,null,null,"SwA Grunda 210","kg",2.99904E-2,5.8960000000000002E-3,8.4480000000000006E-3,457,0.88,4,null,"kraftfoder, spannmål etc.",null,"SwA Swedish Top 82 Vbm","kg",2.1999999999999999E-2,4.0499999999999998E-3,5.6699999999999997E-3,457,0.88,4,null,null,"inköpt",null,"T Kalvados","kg",3.11168E-2,9.4999999999999998E-3,0,457,0.88,5,null,"kraftfoder, spannmål etc."]
[null,null,null,null,null,null,null,null,null,null,null,null,null,null,null,null,null,null,null,null,null,null,null,null,null,null,null,null,null,null,null,null,"SwA Grunda 220","kg",3.0976E-2,5.0159999999999996E-3,8.0079999999999995E-3,458,0.88,4,null,"kraftfoder, spannmål etc.",null,"SwA Swedish Top 83 Pkr","kg",2.1899999999999999E-2,4.2500000000000003E-3,5.8700000000000002E-3,458,0.88,4,null,null,"inköpt",null,"T Kalvamma","kg",2.97088E-2,7.3000000000000001E-3,0,458,0.88,5,null,"kraftfoder, spannmål etc."]
[null,null,null,null,null,null,null,null,null,null,null,null,null,null,null,null,null,null,null,null,null,null,null,null,null,null,null,null,null,null,null,null,"SwA Grunda 221","kg",3.19616E-2,6.5120000000000004E-3,9.7680000000000006E-3,459,0.88,4,null,"kraftfoder, spannmål etc.",null,"SwA Swedish Top 83 Vbm","kg",2.1999999999999999E-2,4.1700000000000001E-3,5.7999999999999996E-3,459,0.88,4,null,null,"inköpt",null,"VF 138 Ungnöt Edel","kg",1.92096E-2,4.8719999999999996E-3,8.0040000000000007E-3,459,0.88,5,null,"kraftfoder, spannmål etc."]
[null,null,null,null,null,null,null,null,null,null,null,null,null,null,null,null,null,null,null,null,null,null,null,null,null,null,null,null,null,null,null,null,"SwA Grunda 240","kg",3.3792000000000003E-2,6.6E-3,8.9759999999999996E-3,460,0.88,4,null,"kraftfoder, spannmål etc.",null,"SwA Swedish Top 830 Permiat","kg",5.2400000000000002E-2,6.8599999999999998E-3,1.119E-2,460,0.88,4,null,null,"inköpt",null,"VF 140 Ungnöt EDEL","kg",1.9487999999999998E-2,4.8719999999999996E-3,7.4819999999999999E-3,460,0.88,5,null,"kraftfoder, spannmål etc."]
[null,null,null,null,null,null,null,null,null,null,null,null,null,null,null,null,null,null,null,null,null,null,null,null,null,null,null,null,null,null,null,null,"SwA Grunda 245 Fiber U* ","kg",3.505424E-2,6.2976999999999998E-3,8.3377999999999994E-3,461,0.88,4,null,"kraftfoder, spannmål etc.",null,"SwA Swedish Top 830 Pkr","kg",4.5199999999999997E-2,6.9199999999999999E-3,9.7099999999999999E-3,461,0.88,4,null,null,"inköpt",null,"VF 156 Ungnöt Edel","kg",2.17152E-2,5.2199999999999998E-3,6.96E-3,461,0.88,5,null,"kraftfoder, spannmål etc."]
[null,null,null,null,null,null,null,null,null,null,null,null,null,null,null,null,null,null,null,null,null,null,null,null,null,null,null,null,null,null,null,null,"SwA Grunda 250 U","kg",3.5520000000000003E-2,6.0384000000000002E-3,7.548E-3,462,0.88,4,null,"kraftfoder, spannmål etc.",null,"SwA Swedish Top 830 Vbm","kg",4.5199999999999997E-2,6.9199999999999999E-3,9.7099999999999999E-3,462,0.88,4,null,null,"inköpt",null,"VF 160 Ungnöt EDEL","kg",2.2272E-2,4.5240000000000002E-3,7.4819999999999999E-3,462,0.88,5,null,"kraftfoder, spannmål etc."]
[null,null,null,null,null,null,null,null,null,null,null,null,null,null,null,null,null,null,null,null,null,null,null,null,null,null,null,null,null,null,null,null,"SwA Grunda Adda 195","kg",2.7456000000000001E-2,5.4559999999999999E-3,6.9519999999999998E-3,463,0.88,4,null,"kraftfoder, spannmål etc.",null,"SwA Swedish Top 830 Ärt Vbm","kg",5.2999999999999999E-2,7.1599999999999997E-3,1.172E-2,463,0.88,4,null,null,"inköpt",null,"VF 176 Ungnöt Edel","kg",2.4499199999999999E-2,5.3940000000000004E-3,7.0470000000000003E-3,463,0.88,5,null,"kraftfoder, spannmål etc."]
[null,null,null,null,null,null,null,null,null,null,null,null,null,null,null,null,null,null,null,null,null,null,null,null,null,null,null,null,null,null,null,null,"SwA Grunda Ess 222","kg",3.2102400000000003E-2,5.7200000000000003E-3,8.7119999999999993E-3,464,0.88,4,null,"kraftfoder, spannmål etc.",null,"SwA Swedish Top 832  Ärt Vbm","kg",4.2500000000000003E-2,5.11E-3,9.2700000000000005E-3,464,0.88,4,null,null,"inköpt",null,"VF 180 Vega EDEL","kg",2.5055999999999998E-2,5.2199999999999998E-3,7.8300000000000002E-3,464,0.88,5,null,"kraftfoder, spannmål etc."]
[null,null,null,null,null,null,null,null,null,null,null,null,null,null,null,null,null,null,null,null,null,null,null,null,null,null,null,null,null,null,null,null,"SwA Grunda Fiber","kg",2.7315200000000001E-2,6.1599999999999997E-3,8.2719999999999998E-3,465,0.88,4,null,"kraftfoder, spannmål etc.",null,"SwA Swedish Top 890 Vbm","kg",5.7500000000000002E-2,7.3800000000000003E-3,1.299E-2,465,0.88,4,null,null,"inköpt",null,"VF 185 Nova EDEL","kg",2.5752000000000001E-2,4.6979999999999999E-3,8.0909999999999992E-3,465,0.88,5,null,"kraftfoder, spannmål etc."]
[null,null,null,null,null,null,null,null,null,null,null,null,null,null,null,null,null,null,null,null,null,null,null,null,null,null,null,null,null,null,null,null,"SwA Grunda Kalmar","kg",2.7315200000000001E-2,5.0159999999999996E-3,8.6239999999999997E-3,466,0.88,4,null,"kraftfoder, spannmål etc.",null,"VL Avel","kg",2.1999999999999999E-2,6.8999999999999999E-3,6.4000000000000003E-3,466,0.88,4,null,null,"inköpt",null,"VF 190 Nova EDEL","kg",2.6447999999999999E-2,4.6979999999999999E-3,9.2219999999999993E-3,466,0.88,5,null,"kraftfoder, spannmål etc."]
[null,null,null,null,null,null,null,null,null,null,null,null,null,null,null,null,null,null,null,null,null,null,null,null,null,null,null,null,null,null,null,null,"SwA Grunda Mega 180","kg",2.5484799999999998E-2,5.104E-3,7.1279999999999998E-3,467,0.88,4,null,"kraftfoder, spannmål etc.",null,"VL Slaktex Hög Vallberga","kg",5.3600000000000002E-2,1.6E-2,1.7000000000000001E-2,467,0.88,4,null,null,"inköpt",null,"VF 193 Nova EDEL","kg",2.68656E-2,4.9589999999999999E-3,9.5700000000000004E-3,467,0.88,5,null,"kraftfoder, spannmål etc."]
[null,null,null,null,null,null,null,null,null,null,null,null,null,null,null,null,null,null,null,null,null,null,null,null,null,null,null,null,null,null,null,null,"SwA Grunda Mega 211","kg",3.06944E-2,6.8640000000000003E-3,9.2399999999999999E-3,468,0.88,4,null,"kraftfoder, spannmål etc.",null,"VL Slaktex Vallberga","kg",5.2900000000000003E-2,1.6E-2,1.7000000000000001E-2,468,0.88,4,null,null,"inköpt",null,"VF 198 Ungnöt Edel","kg",2.7561599999999999E-2,5.9160000000000003E-3,8.6999999999999994E-3,468,0.88,5,null,"kraftfoder, spannmål etc."]
[null,null,null,null,null,null,null,null,null,null,null,null,null,null,null,null,null,null,null,null,null,null,null,null,null,null,null,null,null,null,null,null,"SwA Grunda Mega 220","kg",3.13984E-2,5.5440000000000003E-3,8.7119999999999993E-3,469,0.88,4,null,"kraftfoder, spannmål etc.",null,"VL Slaktfor 1","kg",2.1299999999999999E-2,5.7000000000000002E-3,6.4000000000000003E-3,469,0.88,4,null,null,"inköpt",null,"VF 200 Vega EDEL","kg",2.784E-2,5.2199999999999998E-3,8.9610000000000002E-3,469,0.88,5,null,"kraftfoder, spannmål etc."]
[null,null,null,null,null,null,null,null,null,null,null,null,null,null,null,null,null,null,null,null,null,null,null,null,null,null,null,null,null,null,null,null,"SwA Kalmar Maxifett","kg",3.9871999999999998E-2,6.4970000000000002E-3,1.1124999999999999E-2,470,0.88,4,null,"kraftfoder, spannmål etc.",null,"VL Slaktfor 1 Vassle","kg",2.06E-2,5.7000000000000002E-3,6.4000000000000003E-3,470,0.88,4,null,null,"inköpt",null,"VF 205 Nova EDEL","kg",2.8535999999999999E-2,4.9589999999999999E-3,9.5700000000000004E-3,470,0.88,5,null,"kraftfoder, spannmål etc."]
[null,null,null,null,null,null,null,null,null,null,null,null,null,null,null,null,null,null,null,null,null,null,null,null,null,null,null,null,null,null,null,null,"SwA Toppa 26 ","kg",3.8875199999999999E-2,8.4550000000000007E-3,1.1214E-2,471,0.88,4,null,"kraftfoder, spannmål etc.",null,"VL Slaktfor 2","kg",2.0500000000000001E-2,5.7000000000000002E-3,6.4000000000000003E-3,471,0.88,4,null,null,"inköpt",null,"VF 210 Vega EDEL","kg",2.9232000000000001E-2,5.568E-3,7.9170000000000004E-3,471,0.88,5,null,"kraftfoder, spannmål etc."]
[null,null,null,null,null,null,null,null,null,null,null,null,null,null,null,null,null,null,null,null,null,null,null,null,null,null,null,null,null,null,null,null,"SwA Toppa 27","kg",3.8016000000000001E-2,8.1840000000000003E-3,1.1351999999999999E-2,472,0.88,4,null,"kraftfoder, spannmål etc.",null,"VL Smågris","kg",1.72E-2,6.0000000000000001E-3,6.4000000000000003E-3,472,0.88,4,null,null,"inköpt",null,"VF 215 Nova EDEL","kg",2.9928E-2,5.1330000000000004E-3,1.044E-2,472,0.88,5,null,"kraftfoder, spannmål etc."]
[null,null,null,null,null,null,null,null,null,null,null,null,null,null,null,null,null,null,null,null,null,null,null,null,null,null,null,null,null,null,null,null,"SwA Toppa 28 ","kg",4.0441600000000001E-2,7.2090000000000001E-3,1.0769000000000001E-2,473,0.88,4,null,"kraftfoder, spannmål etc.",null,"VL Smågris Hög","kg",1.72E-2,6.0000000000000001E-3,6.4000000000000003E-3,473,0.88,4,null,null,"inköpt",null,"VF 220 Fett Fiber Nova EDEL","kg",3.0623999999999998E-2,5.2199999999999998E-3,9.1350000000000008E-3,473,0.88,5,null,"kraftfoder, spannmål etc."]
[null,null,null,null,null,null,null,null,null,null,null,null,null,null,null,null,null,null,null,null,null,null,null,null,null,null,null,null,null,null,null,null,"SwA Toppa 29","kg",4.0584000000000002E-2,7.7429999999999999E-3,1.0413E-2,474,0.88,4,null,"kraftfoder, spannmål etc.",null,"VL Smågris Säker","kg",1.8499999999999999E-2,5.4999999999999997E-3,6.4000000000000003E-3,474,0.88,4,null,null,"inköpt",null,"VF 220 fett Nova EDEL","kg",3.0623999999999998E-2,5.2199999999999998E-3,9.1350000000000008E-3,474,0.88,5,null,"kraftfoder, spannmål etc."]
[null,null,null,null,null,null,null,null,null,null,null,null,null,null,null,null,null,null,null,null,null,null,null,null,null,null,null,null,null,null,null,null,"SwA Toppa 30","kg",4.2720000000000001E-2,7.6540000000000002E-3,1.1214E-2,475,0.88,4,null,"kraftfoder, spannmål etc.",null,"VL Startfor Slakt","kg",1.9199999999999998E-2,5.7000000000000002E-3,6.4000000000000003E-3,475,0.88,4,null,null,"inköpt",null,"VF 220 fett protein Nova EDEL","kg",3.2016000000000003E-2,5.2199999999999998E-3,9.1350000000000008E-3,475,0.88,5,null,"kraftfoder, spannmål etc."]
[null,null,null,null,null,null,null,null,null,null,null,null,null,null,null,null,null,null,null,null,null,null,null,null,null,null,null,null,null,null,null,null,"SwA Toppa 32 ","kg",4.5196800000000002E-2,7.4799999999999997E-3,1.1967999999999999E-2,476,0.88,4,null,"kraftfoder, spannmål etc.",null,"VL Suggfor","kg",1.67E-2,6.0000000000000001E-3,6.4000000000000003E-3,476,0.88,4,null,null,"inköpt",null,"VF 220 Nova EDEL","kg",3.0623999999999998E-2,5.2199999999999998E-3,9.1350000000000008E-3,476,0.88,5,null,"kraftfoder, spannmål etc."]
[null,null,null,null,null,null,null,null,null,null,null,null,null,null,null,null,null,null,null,null,null,null,null,null,null,null,null,null,null,null,null,null,"SwA Toppa 34 U","kg",4.6463999999999998E-2,8.1840000000000003E-3,9.9439999999999997E-3,477,0.88,4,null,"kraftfoder, spannmål etc.",null,"VL Suggfor Max","kg",1.7299999999999999E-2,6.0000000000000001E-3,6.4000000000000003E-3,477,0.88,4,null,null,"inköpt",null,"VF 220 Vega EDEL","kg",3.0623999999999998E-2,5.568E-3,9.5700000000000004E-3,477,0.88,5,null,"kraftfoder, spannmål etc."]
[null,null,null,null,null,null,null,null,null,null,null,null,null,null,null,null,null,null,null,null,null,null,null,null,null,null,null,null,null,null,null,null,"SwA Toppa Adda 24","kg",3.5742400000000001E-2,6.8529999999999997E-3,9.0779999999999993E-3,478,0.88,4,null,"kraftfoder, spannmål etc.",null,"VL Suggfor Sin","kg",1.72E-2,6.0000000000000001E-3,6.4000000000000003E-3,478,0.88,4,null,null,"inköpt",null,"VF 225 Nova EDEL","kg",3.1320000000000001E-2,5.2199999999999998E-3,8.9610000000000002E-3,478,0.88,5,null,"kraftfoder, spannmål etc."]
[null,null,null,null,null,null,null,null,null,null,null,null,null,null,null,null,null,null,null,null,null,null,null,null,null,null,null,null,null,null,null,null,"SwA Toppa Ess 35","kg",4.8416000000000001E-2,6.4970000000000002E-3,1.3528E-2,479,0.88,4,null,"kraftfoder, spannmål etc.",null,"VL Suggkonc","kg",4.9500000000000002E-2,2.9000000000000001E-2,0.03,479,0.88,4,null,null,"inköpt",null,"VF 230 Vega EDEL","kg",3.2016000000000003E-2,5.4809999999999998E-3,7.6559999999999996E-3,479,0.88,5,null,"kraftfoder, spannmål etc."]
[null,null,null,null,null,null,null,null,null,null,null,null,null,null,null,null,null,null,null,null,null,null,null,null,null,null,null,null,null,null,null,null,"SwA Toppa Mega 28","kg",4.0441600000000001E-2,7.1199999999999996E-3,1.0501999999999999E-2,480,0.88,4,null,"kraftfoder, spannmål etc.",null,"Bomullsexpeller - frö","kg",6.4768000000000006E-2,1.0947999999999999E-2,1.6559999999999998E-2,480,0.92,7,null,null,"inköpt",null,"VF 235 Nova EDEL","kg",3.2711999999999998E-2,6.0899999999999999E-3,8.7869999999999997E-3,480,0.88,5,null,"kraftfoder, spannmål etc."]
[null,null,null,null,null,null,null,null,null,null,null,null,null,null,null,null,null,null,null,null,null,null,null,null,null,null,null,null,null,null,null,null,"SwA Toppa Mega 31","kg",4.4856E-2,4.9839999999999997E-3,1.157E-2,481,0.88,4,null,"kraftfoder, spannmål etc.",null,"RaPass mjöl","kg",4.8384000000000003E-2,1.1610000000000001E-2,1.35E-2,481,0.9,7,null,null,"inköpt",null,"VF 240 Nova EDEL","kg",3.3408E-2,6.0899999999999999E-3,9.9179999999999997E-3,481,0.88,5,null,"kraftfoder, spannmål etc."]
[null,null,null,null,null,null,null,null,null,null,null,null,null,null,null,null,null,null,null,null,null,null,null,null,null,null,null,null,null,null,null,null,"Swa Viltfoder Pell","kg",1.6299999999999999E-2,4.3699999999999998E-3,4.6800000000000001E-3,482,0.88,4,null,"kraftfoder, spannmål etc.",null,null,null,null,null,null,482,null,null,null,null,null,null,"VF 280 Vega Topp EDEL","kg",3.9424000000000001E-2,7.744E-3,1.1440000000000001E-2,482,0.88,5,null,"kraftfoder, spannmål etc."]
[null,null,null,null,null,null,null,null,null,null,null,null,null,null,null,null,null,null,null,null,null,null,null,null,null,null,null,null,null,null,null,null,"T Kalvados","kg",3.11168E-2,9.4999999999999998E-3,0,483,0.88,4,null,"kraftfoder, spannmål etc.",null,null,null,null,null,null,483,null,null,null,null,null,null,"VF 290 Vega Topp EDEL","kg",4.0832E-2,6.6880000000000004E-3,1.1967999999999999E-2,483,0.88,5,null,"kraftfoder, spannmål etc."]
[null,null,null,null,null,null,null,null,null,null,null,null,null,null,null,null,null,null,null,null,null,null,null,null,null,null,null,null,null,null,null,null,"T Kalvamma","kg",2.97088E-2,7.3000000000000001E-3,0,484,0.88,4,null,"kraftfoder, spannmål etc.",null,null,null,null,null,null,484,null,null,null,null,null,null,"VF 305 Vega Topp EDEL","kg",4.2944000000000003E-2,7.744E-3,1.1440000000000001E-2,484,0.88,5,null,"kraftfoder, spannmål etc."]
[null,null,null,null,null,null,null,null,null,null,null,null,null,null,null,null,null,null,null,null,null,null,null,null,null,null,null,null,null,null,null,null,"VF 138 Ungnöt Edel","kg",1.92096E-2,4.8719999999999996E-3,8.0040000000000007E-3,485,0.88,4,null,"kraftfoder, spannmål etc.",null,null,null,null,null,null,485,null,null,null,null,null,null,"VF 315 Vega Topp EDEL","kg",4.4352000000000003E-2,8.2719999999999998E-3,1.1264E-2,485,0.88,5,null,"kraftfoder, spannmål etc."]
[null,null,null,null,null,null,null,null,null,null,null,null,null,null,null,null,null,null,null,null,null,null,null,null,null,null,null,null,null,null,null,null,"VF 140 Ungnöt EDEL","kg",1.9487999999999998E-2,4.8719999999999996E-3,7.4819999999999999E-3,486,0.88,4,null,"kraftfoder, spannmål etc.",null,null,null,null,null,null,486,null,null,null,null,null,null,"VF 340 Komet EDEL","kg",4.7871999999999998E-2,7.0400000000000003E-3,1.2496E-2,486,0.88,5,null,"kraftfoder, spannmål etc."]
[null,null,null,null,null,null,null,null,null,null,null,null,null,null,null,null,null,null,null,null,null,null,null,null,null,null,null,null,null,null,null,null,"VF 156 Ungnöt Edel","kg",2.17152E-2,5.2199999999999998E-3,6.96E-3,487,0.88,4,null,"kraftfoder, spannmål etc.",null,null,null,null,null,null,487,null,null,null,null,null,null,"VF 397 Vega Topp EDEL","kg",5.6532800000000001E-2,8.2769999999999996E-3,1.1481E-2,487,0.88,5,null,"kraftfoder, spannmål etc."]
[null,null,null,null,null,null,null,null,null,null,null,null,null,null,null,null,null,null,null,null,null,null,null,null,null,null,null,null,null,null,null,null,"VF 160 Ungnöt EDEL","kg",2.2272E-2,4.5240000000000002E-3,7.4819999999999999E-3,488,0.88,4,null,"kraftfoder, spannmål etc.",null,null,null,null,null,null,488,null,null,null,null,null,null,"VF 425 Vega Topp EDEL","kg",6.0519999999999997E-2,8.8999999999999999E-3,7.1199999999999996E-3,488,0.88,5,null,"kraftfoder, spannmål etc."]
[null,null,null,null,null,null,null,null,null,null,null,null,null,null,null,null,null,null,null,null,null,null,null,null,null,null,null,null,null,null,null,null,"VF 176 Ungnöt Edel","kg",2.4499199999999999E-2,5.3940000000000004E-3,7.0470000000000003E-3,489,0.88,4,null,"kraftfoder, spannmål etc.",null,null,null,null,null,null,489,null,null,null,null,null,null,"VF 445 Topp FUFO EDEL","kg",6.3367999999999994E-2,7.3870000000000003E-3,1.3528E-2,489,0.88,5,null,"kraftfoder, spannmål etc."]
[null,null,null,null,null,null,null,null,null,null,null,null,null,null,null,null,null,null,null,null,null,null,null,null,null,null,null,null,null,null,null,null,"VF 180 Vega EDEL","kg",2.5055999999999998E-2,5.2199999999999998E-3,7.8300000000000002E-3,490,0.88,4,null,"kraftfoder, spannmål etc.",null,null,null,null,null,null,490,null,null,null,null,null,null,"VF Alex Topp Eko EDEL","kg",5.6247999999999999E-2,5.8739999999999999E-3,1.7354999999999999E-2,490,0.88,5,null,"kraftfoder, spannmål etc."]
[null,null,null,null,null,null,null,null,null,null,null,null,null,null,null,null,null,null,null,null,null,null,null,null,null,null,null,null,null,null,null,null,"VF 185 Nova EDEL","kg",2.5752000000000001E-2,4.6979999999999999E-3,8.0909999999999992E-3,491,0.88,4,null,"kraftfoder, spannmål etc.",null,null,null,null,null,null,491,null,null,null,null,null,null,"VF Alice Eko EDEL","kg",3.2851199999999997E-2,4.3499999999999997E-3,1.0005E-2,491,0.88,5,null,"kraftfoder, spannmål etc."]
[null,null,null,null,null,null,null,null,null,null,null,null,null,null,null,null,null,null,null,null,null,null,null,null,null,null,null,null,null,null,null,null,"VF 190 Nova EDEL","kg",2.6447999999999999E-2,4.6979999999999999E-3,9.2219999999999993E-3,492,0.88,4,null,"kraftfoder, spannmål etc.",null,null,null,null,null,null,492,null,null,null,null,null,null,"VF Balans Topp EDEL","kg",3.5481600000000002E-2,5.5440000000000003E-3,1.3991999999999999E-2,492,0.88,5,null,"kraftfoder, spannmål etc."]
[null,null,null,null,null,null,null,null,null,null,null,null,null,null,null,null,null,null,null,null,null,null,null,null,null,null,null,null,null,null,null,null,"VF 193 Nova EDEL","kg",2.68656E-2,4.9589999999999999E-3,9.5700000000000004E-3,493,0.88,4,null,"kraftfoder, spannmål etc.",null,null,null,null,null,null,493,null,null,null,null,null,null,"VF Bete Nova EDEL","kg",2.3385599999999999E-2,4.3499999999999997E-3,9.4830000000000001E-3,493,0.88,5,null,"kraftfoder, spannmål etc."]
[null,null,null,null,null,null,null,null,null,null,null,null,null,null,null,null,null,null,null,null,null,null,null,null,null,null,null,null,null,null,null,null,"VF 198 Ungnöt Edel","kg",2.7561599999999999E-2,5.9160000000000003E-3,8.6999999999999994E-3,494,0.88,4,null,"kraftfoder, spannmål etc.",null,null,null,null,null,null,494,null,null,null,null,null,null,"VF Ella Eko Ung EDEL","kg",2.2411199999999999E-2,4.6109999999999996E-3,7.8300000000000002E-3,494,0.88,5,null,"kraftfoder, spannmål etc."]
[null,null,null,null,null,null,null,null,null,null,null,null,null,null,null,null,null,null,null,null,null,null,null,null,null,null,null,null,null,null,null,null,"VF 200 Vega EDEL","kg",2.784E-2,5.2199999999999998E-3,8.9610000000000002E-3,495,0.88,4,null,"kraftfoder, spannmål etc.",null,null,null,null,null,null,495,null,null,null,null,null,null,"VF Elton Topp Eko EDEL","kg",4.1535999999999997E-2,6.1599999999999997E-3,1.1088000000000001E-2,495,0.88,5,null,"kraftfoder, spannmål etc."]
[null,null,null,null,null,null,null,null,null,null,null,null,null,null,null,null,null,null,null,null,null,null,null,null,null,null,null,null,null,null,null,null,"VF 205 Nova EDEL","kg",2.8535999999999999E-2,4.9589999999999999E-3,9.5700000000000004E-3,496,0.88,4,null,"kraftfoder, spannmål etc.",null,null,null,null,null,null,496,null,null,null,null,null,null,"VF Emmi Eko EDEL","kg",2.58912E-2,4.176E-3,7.8300000000000002E-3,496,0.88,5,null,"kraftfoder, spannmål etc."]
[null,null,null,null,null,null,null,null,null,null,null,null,null,null,null,null,null,null,null,null,null,null,null,null,null,null,null,null,null,null,null,null,"VF 210 Vega EDEL","kg",2.9232000000000001E-2,5.568E-3,7.9170000000000004E-3,497,0.88,4,null,"kraftfoder, spannmål etc.",null,null,null,null,null,null,497,null,null,null,null,null,null,"VF Freja Topp EDEL","kg",4.2380800000000003E-2,7.4799999999999997E-3,1.0999999999999999E-2,497,0.88,5,null,"kraftfoder, spannmål etc."]
[null,null,null,null,null,null,null,null,null,null,null,null,null,null,null,null,null,null,null,null,null,null,null,null,null,null,null,null,null,null,null,null,"VF 215 Nova EDEL","kg",2.9928E-2,5.1330000000000004E-3,1.044E-2,498,0.88,4,null,"kraftfoder, spannmål etc.",null,null,null,null,null,null,498,null,null,null,null,null,null,"VF Johan Topp Eko EDEL","kg",3.8438399999999998E-2,6.7759999999999999E-3,1.1440000000000001E-2,498,0.88,5,null,"kraftfoder, spannmål etc."]
[null,null,null,null,null,null,null,null,null,null,null,null,null,null,null,null,null,null,null,null,null,null,null,null,null,null,null,null,null,null,null,null,"VF 220 Fett Fiber Nova EDEL","kg",3.0623999999999998E-2,5.2199999999999998E-3,9.1350000000000008E-3,499,0.88,4,null,"kraftfoder, spannmål etc.",null,null,null,null,null,null,499,null,null,null,null,null,null,"VF Kalv 100+","kg",2.5055999999999998E-2,6.96E-3,1.0527E-2,499,0.88,5,null,"kraftfoder, spannmål etc."]
[null,null,null,null,null,null,null,null,null,null,null,null,null,null,null,null,null,null,null,null,null,null,null,null,null,null,null,null,null,null,null,null,"VF 220 fett Nova EDEL","kg",3.0623999999999998E-2,5.2199999999999998E-3,9.1350000000000008E-3,500,0.88,4,null,"kraftfoder, spannmål etc.",null,null,null,null,null,null,500,null,null,null,null,null,null,"VF Kalvstart EDEL","kg",2.784E-2,6.96E-3,1.0527E-2,500,0.88,5,null,"kraftfoder, spannmål etc."]
[null,null,null,null,null,null,null,null,null,null,null,null,null,null,null,null,null,null,null,null,null,null,null,null,null,null,null,null,null,null,null,null,"VF 220 fett protein Nova EDEL","kg",3.2016000000000003E-2,5.2199999999999998E-3,9.1350000000000008E-3,501,0.88,4,null,"kraftfoder, spannmål etc.",null,null,null,null,null,null,501,null,null,null,null,null,null,"VF Kalvstart Vega EDEL","kg",2.6447999999999999E-2,6.0899999999999999E-3,8.8739999999999999E-3,501,0.88,5,null,"kraftfoder, spannmål etc."]
[null,null,null,null,null,null,null,null,null,null,null,null,null,null,null,null,null,null,null,null,null,null,null,null,null,null,null,null,null,null,null,null,"VF 220 Nova EDEL","kg",3.0623999999999998E-2,5.2199999999999998E-3,9.1350000000000008E-3,502,0.88,4,null,"kraftfoder, spannmål etc.",null,null,null,null,null,null,502,null,null,null,null,null,null,"VF Malte Topp Eko EDEL","kg",5.1263999999999997E-2,7.1199999999999996E-3,1.3439E-2,502,0.88,5,null,"kraftfoder, spannmål etc."]
[null,null,null,null,null,null,null,null,null,null,null,null,null,null,null,null,null,null,null,null,null,null,null,null,null,null,null,null,null,null,null,null,"VF 220 Vega EDEL","kg",3.0623999999999998E-2,5.568E-3,9.5700000000000004E-3,503,0.88,4,null,"kraftfoder, spannmål etc.",null,null,null,null,null,null,503,null,null,null,null,null,null,"VF Miljö Pro Topp EDEL","kg",3.19616E-2,5.0159999999999996E-3,1.1440000000000001E-2,503,0.88,5,null,"kraftfoder, spannmål etc."]
[null,null,null,null,null,null,null,null,null,null,null,null,null,null,null,null,null,null,null,null,null,null,null,null,null,null,null,null,null,null,null,null,"VF 225 Nova EDEL","kg",3.1320000000000001E-2,5.2199999999999998E-3,8.9610000000000002E-3,504,0.88,4,null,"kraftfoder, spannmål etc.",null,null,null,null,null,null,504,null,null,null,null,null,null,"VF Nelli Eko EDEL","kg",2.9232000000000001E-2,4.5240000000000002E-3,8.2649999999999998E-3,504,0.88,5,null,"kraftfoder, spannmål etc."]
[null,null,null,null,null,null,null,null,null,null,null,null,null,null,null,null,null,null,null,null,null,null,null,null,null,null,null,null,null,null,null,null,"VF 230 Vega EDEL","kg",3.2016000000000003E-2,5.4809999999999998E-3,7.6559999999999996E-3,505,0.88,4,null,"kraftfoder, spannmål etc.",null,null,null,null,null,null,505,null,null,null,null,null,null,"VF Norr Komet EDEL","kg",3.9424000000000001E-2,6.1599999999999997E-3,1.056E-2,505,0.88,5,null,"kraftfoder, spannmål etc."]
[null,null,null,null,null,null,null,null,null,null,null,null,null,null,null,null,null,null,null,null,null,null,null,null,null,null,null,null,null,null,null,null,"VF 235 Nova EDEL","kg",3.2711999999999998E-2,6.0899999999999999E-3,8.7869999999999997E-3,506,0.88,4,null,"kraftfoder, spannmål etc.",null,null,null,null,null,null,506,null,null,null,null,null,null,"VF Näsland Komet EDEL","kg",3.6185599999999998E-2,6.1599999999999997E-3,8.8880000000000001E-3,506,0.88,5,null,"kraftfoder, spannmål etc."]
[null,null,null,null,null,null,null,null,null,null,null,null,null,null,null,null,null,null,null,null,null,null,null,null,null,null,null,null,null,null,null,null,"VF 240 Nova EDEL","kg",3.3408E-2,6.0899999999999999E-3,9.9179999999999997E-3,507,0.88,4,null,"kraftfoder, spannmål etc.",null,"*","*","*","*","*",null,null,null,null,null,null,null,"VF PBV Fett Topp EDEL","kg",4.1817600000000003E-2,5.6319999999999999E-3,1.2496E-2,507,0.88,5,null,"kraftfoder, spannmål etc."]
[null,null,null,null,null,null,null,null,null,null,null,null,null,null,null,null,null,null,null,null,null,null,null,null,null,null,null,null,null,null,null,null,"VF 280 Vega Topp EDEL","kg",3.9424000000000001E-2,7.744E-3,1.1440000000000001E-2,508,0.88,4,null,"kraftfoder, spannmål etc.",null,null,null,null,null,null,null,null,null,null,null,null,null,"VF PBV Topp EDEL","kg",4.1817600000000003E-2,5.9839999999999997E-3,1.2496E-2,508,0.88,5,null,"kraftfoder, spannmål etc."]
[null,null,null,null,null,null,null,null,null,null,null,null,null,null,null,null,null,null,null,null,null,null,null,null,null,null,null,null,null,null,null,null,"VF 290 Vega Topp EDEL","kg",4.0832E-2,6.6880000000000004E-3,1.1967999999999999E-2,509,0.88,4,null,"kraftfoder, spannmål etc.",null,null,null,null,null,null,null,null,null,null,null,null,null,"VF Pro Topp EDEL","kg",3.8438399999999998E-2,5.0159999999999996E-3,1.1528E-2,509,0.88,5,null,"kraftfoder, spannmål etc."]
[null,null,null,null,null,null,null,null,null,null,null,null,null,null,null,null,null,null,null,null,null,null,null,null,null,null,null,null,null,null,null,null,"VF 305 Vega Topp EDEL","kg",4.2944000000000003E-2,7.744E-3,1.1440000000000001E-2,510,0.88,4,null,"kraftfoder, spannmål etc.",null,null,null,null,null,null,null,null,null,null,null,null,null,"VF Pärla FUFO EDEL","kg",6.1943999999999999E-2,7.1199999999999996E-3,1.2905E-2,510,0.88,5,null,"kraftfoder, spannmål etc."]
[null,null,null,null,null,null,null,null,null,null,null,null,null,null,null,null,null,null,null,null,null,null,null,null,null,null,null,null,null,null,null,null,"VF 315 Vega Topp EDEL","kg",4.4352000000000003E-2,8.2719999999999998E-3,1.1264E-2,511,0.88,4,null,"kraftfoder, spannmål etc.",null,null,null,null,null,null,null,null,null,null,null,null,null,"VF Pärla Nova EDEL","kg",2.9232000000000001E-2,4.6979999999999999E-3,9.2219999999999993E-3,511,0.88,5,null,"kraftfoder, spannmål etc."]
[null,null,null,null,null,null,null,null,null,null,null,null,null,null,null,null,null,null,null,null,null,null,null,null,null,null,null,null,null,null,null,null,"VF 340 Komet EDEL","kg",4.7871999999999998E-2,7.0400000000000003E-3,1.2496E-2,512,0.88,4,null,"kraftfoder, spannmål etc.",null,null,null,null,null,null,null,null,null,null,null,null,null,"VF Pärla Topp EDEL","kg",4.1817600000000003E-2,5.6319999999999999E-3,1.1440000000000001E-2,512,0.88,5,null,"kraftfoder, spannmål etc."]
[null,null,null,null,null,null,null,null,null,null,null,null,null,null,null,null,null,null,null,null,null,null,null,null,null,null,null,null,null,null,null,null,"VF 397 Vega Topp EDEL","kg",5.6532800000000001E-2,8.2769999999999996E-3,1.1481E-2,{"$f":"AL517+1","v":513},0.88,4,null,"kraftfoder, spannmål etc.",null,null,null,null,null,null,null,null,null,null,null,null,null,"VF Robot Nova EDEL","kg",2.8535999999999999E-2,4.6979999999999999E-3,1.0005E-2,{"$f":"BI517+1","v":513},0.88,5,null,"kraftfoder, spannmål etc."]
[null,null,null,null,null,null,null,null,null,null,null,null,null,null,null,null,null,null,null,null,null,null,null,null,null,null,null,null,null,null,null,null,"VF 425 Vega Topp EDEL","kg",6.0519999999999997E-2,8.8999999999999999E-3,7.1199999999999996E-3,514,0.88,4,null,"kraftfoder, spannmål etc.",null,null,null,null,null,null,null,null,null,null,null,null,null,"VF Robot Topp EDEL","kg",3.9142400000000001E-2,5.28E-3,1.188E-2,514,0.88,5,null,"kraftfoder, spannmål etc."]
[null,null,null,null,null,null,null,null,null,null,null,null,null,null,null,null,null,null,null,null,null,null,null,null,null,null,null,null,null,null,null,null,"VF 445 Topp FUFO EDEL","kg",6.3367999999999994E-2,7.3870000000000003E-3,1.3528E-2,515,0.88,4,null,"kraftfoder, spannmål etc.",null,null,null,null,null,null,null,null,null,null,null,null,null,"VF Singel Topp EDEL","kg",4.0832E-2,5.5440000000000003E-3,1.3024000000000001E-2,515,0.88,5,null,"kraftfoder, spannmål etc."]
[null,null,null,null,null,null,null,null,null,null,null,null,null,null,null,null,null,null,null,null,null,null,null,null,null,null,null,null,null,null,null,null,"VF Alex Topp Eko EDEL","kg",5.6247999999999999E-2,5.8739999999999999E-3,1.7354999999999999E-2,516,0.88,4,null,"kraftfoder, spannmål etc.",null,null,null,null,null,null,null,null,null,null,null,null,null,"VF Standard Topp EDEL","kg",4.02688E-2,5.6319999999999999E-3,1.2496E-2,516,0.88,5,null,"kraftfoder, spannmål etc."]
[null,null,null,null,null,null,null,null,null,null,null,null,null,null,null,null,null,null,null,null,null,null,null,null,null,null,null,null,null,null,null,null,"VF Alice Eko EDEL","kg",3.2851199999999997E-2,4.3499999999999997E-3,1.0005E-2,517,0.88,4,null,"kraftfoder, spannmål etc.",null,null,null,null,null,null,null,null,null,null,null,null,null,"VF Tuva Eko Edel","kg",2.5612800000000002E-2,5.6550000000000003E-3,8.6999999999999994E-3,517,0.88,5,null,"kraftfoder, spannmål etc."]
[null,null,null,null,null,null,null,null,null,null,null,null,null,null,null,null,null,null,null,null,null,null,null,null,null,null,null,null,null,null,null,null,"VF Balans Topp EDEL","kg",3.5481600000000002E-2,5.5440000000000003E-3,1.3991999999999999E-2,518,0.88,4,null,"kraftfoder, spannmål etc.",null,null,null,null,null,null,null,null,null,null,null,null,null,"VF Ungnötskoncentrat EDEL","kg",4.224E-2,7.4799999999999997E-3,1.1440000000000001E-2,518,0.88,5,null,"kraftfoder, spannmål etc."]
[null,null,null,null,null,null,null,null,null,null,null,null,null,null,null,null,null,null,null,null,null,null,null,null,null,null,null,null,null,null,null,null,"VF Bete Nova EDEL","kg",2.3385599999999999E-2,4.3499999999999997E-3,9.4830000000000001E-3,519,0.88,4,null,"kraftfoder, spannmål etc.",null,null,null,null,null,null,null,null,null,null,null,null,null,"VF Vega Ungnöt EDEL","kg",2.0879999999999999E-2,5.0460000000000001E-3,7.9170000000000004E-3,519,0.88,5,null,"kraftfoder, spannmål etc."]
[null,null,null,null,null,null,null,null,null,null,null,null,null,null,null,null,null,null,null,null,null,null,null,null,null,null,null,null,null,null,null,null,"VF Ella Eko Ung EDEL","kg",2.2411199999999999E-2,4.6109999999999996E-3,7.8300000000000002E-3,520,0.88,4,null,"kraftfoder, spannmål etc.",null,null,null,null,null,null,null,null,null,null,null,null,null,"VL 20 TOP V PELLETS BK","kg",4.3647999999999999E-2,8.0079999999999995E-3,1.2056000000000001E-2,520,0.88,5,null,"kraftfoder, spannmål etc."]
[null,null,null,null,null,null,null,null,null,null,null,null,null,null,null,null,null,null,null,null,null,null,null,null,null,null,null,null,null,null,null,null,"VF Elton Topp Eko EDEL","kg",4.1535999999999997E-2,6.1599999999999997E-3,1.1088000000000001E-2,521,0.88,4,null,"kraftfoder, spannmål etc.",null,null,null,null,null,null,null,null,null,null,null,null,null,"VL Eko Basfoder","kg",2.6752000000000001E-2,4.1359999999999999E-3,9.2399999999999999E-3,521,0.88,5,null,"kraftfoder, spannmål etc."]
[null,null,null,null,null,null,null,null,null,null,null,null,null,null,null,null,null,null,null,null,null,null,null,null,null,null,null,null,null,null,null,null,"VF Emmi Eko EDEL","kg",2.58912E-2,4.176E-3,7.8300000000000002E-3,522,0.88,4,null,"kraftfoder, spannmål etc.",null,null,null,null,null,null,null,null,null,null,null,null,null,"VL Eko Koncentrat","kg",4.3631999999999997E-2,5.0400000000000002E-3,1.494E-2,522,0.88,5,null,"kraftfoder, spannmål etc."]
[null,null,null,null,null,null,null,null,null,null,null,null,null,null,null,null,null,null,null,null,null,null,null,null,null,null,null,null,null,null,null,null,"VF Freja Topp EDEL","kg",4.2380800000000003E-2,7.4799999999999997E-3,1.0999999999999999E-2,523,0.88,4,null,"kraftfoder, spannmål etc.",null,null,null,null,null,null,null,null,null,null,null,null,null,"VL Eko Proteinmix","kg",5.6784000000000001E-2,5.5510000000000004E-3,1.8200000000000001E-2,523,0.88,5,null,"kraftfoder, spannmål etc."]
[null,null,null,null,null,null,null,null,null,null,null,null,null,null,null,null,null,null,null,null,null,null,null,null,null,null,null,null,null,null,null,null,"VF Johan Topp Eko EDEL","kg",3.8438399999999998E-2,6.7759999999999999E-3,1.1440000000000001E-2,524,0.88,4,null,"kraftfoder, spannmål etc.",null,null,null,null,null,null,null,null,null,null,null,null,null,"VL ERIKBERG KROSS DRANKBL.","kg",2.639712E-2,4.7010999999999997E-3,7.6281999999999999E-3,524,0.88,5,null,"kraftfoder, spannmål etc."]
[null,null,null,null,null,null,null,null,null,null,null,null,null,null,null,null,null,null,null,null,null,null,null,null,null,null,null,null,null,null,null,null,"VF Kalv 100+","kg",2.5055999999999998E-2,6.96E-3,1.0527E-2,525,0.88,4,null,"kraftfoder, spannmål etc.",null,null,null,null,null,null,null,null,null,null,null,null,null,"VL Fiber Pellets","kg",1.99136E-2,4.5339000000000004E-3,7.9121E-3,525,0.88,5,null,"kraftfoder, spannmål etc."]
[null,null,null,null,null,null,null,null,null,null,null,null,null,null,null,null,null,null,null,null,null,null,null,null,null,null,null,null,null,null,null,null,"VF Kalvstart EDEL","kg",2.784E-2,6.96E-3,1.0527E-2,526,0.88,4,null,"kraftfoder, spannmål etc.",null,null,null,null,null,null,null,null,null,null,null,null,null,"VL HÖG TOP FETT PELLETS BK","kg",3.8016000000000001E-2,7.744E-3,1.0296E-2,526,0.88,5,null,"kraftfoder, spannmål etc."]
[null,null,null,null,null,null,null,null,null,null,null,null,null,null,null,null,null,null,null,null,null,null,null,null,null,null,null,null,null,null,null,null,"VF Kalvstart Vega EDEL","kg",2.6447999999999999E-2,6.0899999999999999E-3,8.8739999999999999E-3,527,0.88,4,null,"kraftfoder, spannmål etc.",null,null,null,null,null,null,null,null,null,null,null,null,null,"VL HÖG TOP PELLETS BK","kg",3.8515199999999999E-2,7.9649999999999999E-3,1.0796999999999999E-2,527,0.88,5,null,"kraftfoder, spannmål etc."]
[null,null,null,null,null,null,null,null,null,null,null,null,null,null,null,null,null,null,null,null,null,null,null,null,null,null,null,null,null,null,null,null,"VF Malte Topp Eko EDEL","kg",5.1263999999999997E-2,7.1199999999999996E-3,1.3439E-2,528,0.88,4,null,"kraftfoder, spannmål etc.",null,null,null,null,null,null,null,null,null,null,null,null,null,"VL KALV START PELLETS BK","kg",2.6752000000000001E-2,5.9839999999999997E-3,8.9759999999999996E-3,528,0.88,5,null,"kraftfoder, spannmål etc."]
[null,null,null,null,null,null,null,null,null,null,null,null,null,null,null,null,null,null,null,null,null,null,null,null,null,null,null,null,null,null,null,null,"VF Miljö Pro Topp EDEL","kg",3.19616E-2,5.0159999999999996E-3,1.1440000000000001E-2,529,0.88,4,null,"kraftfoder, spannmål etc.",null,null,null,null,null,null,null,null,null,null,null,null,null,"VL KO 100 FETT PELLETS BK","kg",2.954E-2,5.7749999999999998E-3,8.6625000000000001E-3,529,0.88,5,null,"kraftfoder, spannmål etc."]
[null,null,null,null,null,null,null,null,null,null,null,null,null,null,null,null,null,null,null,null,null,null,null,null,null,null,null,null,null,null,null,null,"VF Nelli Eko EDEL","kg",2.9232000000000001E-2,4.5240000000000002E-3,8.2649999999999998E-3,530,0.88,4,null,"kraftfoder, spannmål etc.",null,null,null,null,null,null,null,null,null,null,null,null,null,"VL KO 117 PELLETS BK","kg",3.2303039999999998E-2,5.9432E-3,9.4392E-3,530,0.88,5,null,"kraftfoder, spannmål etc."]
[null,null,null,null,null,null,null,null,null,null,null,null,null,null,null,null,null,null,null,null,null,null,null,null,null,null,null,null,null,null,null,null,"VF Norr Komet EDEL","kg",3.9424000000000001E-2,6.1599999999999997E-3,1.056E-2,531,0.88,4,null,"kraftfoder, spannmål etc.",null,null,null,null,null,null,null,null,null,null,null,null,null,"VL KO 122 PELLETS BK","kg",3.4540479999999998E-2,5.9432E-3,9.7014000000000006E-3,531,0.88,5,null,"kraftfoder, spannmål etc."]
[null,null,null,null,null,null,null,null,null,null,null,null,null,null,null,null,null,null,null,null,null,null,null,null,null,null,null,null,null,null,null,null,"VF Näsland Komet EDEL","kg",3.6185599999999998E-2,6.1599999999999997E-3,8.8880000000000001E-3,532,0.88,4,null,"kraftfoder, spannmål etc.",null,null,null,null,null,null,null,null,null,null,null,null,null,"VL KO 82 PELLETS BK","kg",2.2967999999999999E-2,4.9589999999999999E-3,7.4819999999999999E-3,532,0.88,5,null,"kraftfoder, spannmål etc."]
[null,null,null,null,null,null,null,null,null,null,null,null,null,null,null,null,null,null,null,null,null,null,null,null,null,null,null,null,null,null,null,null,"VF PBV Fett Topp EDEL","kg",4.1817600000000003E-2,5.6319999999999999E-3,1.2496E-2,533,0.88,4,null,"kraftfoder, spannmål etc.",null,null,null,null,null,null,null,null,null,null,null,null,null,"VL KO 97 PELLETS BK","kg",2.8535999999999999E-2,5.3070000000000001E-3,8.5260000000000006E-3,533,0.88,5,null,"kraftfoder, spannmål etc."]
[null,null,null,null,null,null,null,null,null,null,null,null,null,null,null,null,null,null,null,null,null,null,null,null,null,null,null,null,null,null,null,null,"VF PBV Topp EDEL","kg",4.1817600000000003E-2,5.9839999999999997E-3,1.2496E-2,534,0.88,4,null,"kraftfoder, spannmål etc.",null,null,null,null,null,null,null,null,null,null,null,null,null,"VL KO BAS 2015","kg",2.7390879999999999E-2,5.0401999999999999E-3,8.0817000000000007E-3,534,0.88,5,null,"kraftfoder, spannmål etc."]
[null,null,null,null,null,null,null,null,null,null,null,null,null,null,null,null,null,null,null,null,null,null,null,null,null,null,null,null,null,null,null,null,"VF Pro Topp EDEL","kg",3.8438399999999998E-2,5.0159999999999996E-3,1.1528E-2,535,0.88,4,null,"kraftfoder, spannmål etc.",null,null,null,null,null,null,null,null,null,null,null,null,null,"VL Ko Energi Bas Pellets","kg",2.642976E-2,4.8069999999999996E-3,7.7786000000000001E-3,535,0.88,5,null,"kraftfoder, spannmål etc."]
[null,null,null,null,null,null,null,null,null,null,null,null,null,null,null,null,null,null,null,null,null,null,null,null,null,null,null,null,null,null,null,null,"VF Pärla FUFO EDEL","kg",6.1943999999999999E-2,7.1199999999999996E-3,1.2905E-2,536,0.88,4,null,"kraftfoder, spannmål etc.",null,null,null,null,null,null,null,null,null,null,null,null,null,"VL Ko Energi Hög Top Pellets","kg",3.7024000000000001E-2,7.0309999999999999E-3,1.1214E-2,536,0.88,5,null,"kraftfoder, spannmål etc."]
[null,null,null,null,null,null,null,null,null,null,null,null,null,null,null,null,null,null,null,null,null,null,null,null,null,null,null,null,null,null,null,null,"VF Pärla Nova EDEL","kg",2.9232000000000001E-2,4.6979999999999999E-3,9.2219999999999993E-3,537,0.88,4,null,"kraftfoder, spannmål etc.",null,null,null,null,null,null,null,null,null,null,null,null,null,"VL Ko Energi Medium Pellets","kg",2.9059359999999999E-2,5.4746999999999999E-3,8.2555000000000007E-3,537,0.88,5,null,"kraftfoder, spannmål etc."]
[null,null,null,null,null,null,null,null,null,null,null,null,null,null,null,null,null,null,null,null,null,null,null,null,null,null,null,null,null,null,null,null,"VF Pärla Topp EDEL","kg",4.1817600000000003E-2,5.6319999999999999E-3,1.1440000000000001E-2,538,0.88,4,null,"kraftfoder, spannmål etc.",null,null,null,null,null,null,null,null,null,null,null,null,null,"VL Ko Energi Nyhem Pellets","kg",3.8117600000000001E-2,7.3718000000000004E-3,1.01587E-2,538,0.88,5,null,"kraftfoder, spannmål etc."]
[null,null,null,null,null,null,null,null,null,null,null,null,null,null,null,null,null,null,null,null,null,null,null,null,null,null,null,null,null,null,null,null,"VF Robot Nova EDEL","kg",2.8535999999999999E-2,4.6979999999999999E-3,1.0005E-2,539,0.88,4,null,"kraftfoder, spannmål etc.",null,null,null,null,null,null,null,null,null,null,null,null,null,"VL Ko Energi Top Pellets","kg",3.8359999999999998E-2,7.9625000000000008E-3,1.0500000000000001E-2,539,0.88,5,null,"kraftfoder, spannmål etc."]
[null,null,null,null,null,null,null,null,null,null,null,null,null,null,null,null,null,null,null,null,null,null,null,null,null,null,null,null,null,null,null,null,"VF Robot Topp EDEL","kg",3.9142400000000001E-2,5.28E-3,1.188E-2,540,0.88,4,null,"kraftfoder, spannmål etc.",null,null,null,null,null,null,null,null,null,null,null,null,null,"VL Ko Fiber 190 Pellets","kg",2.70864E-2,5.6132999999999999E-3,8.8208999999999996E-3,540,0.88,5,null,"kraftfoder, spannmål etc."]
[null,null,null,null,null,null,null,null,null,null,null,null,null,null,null,null,null,null,null,null,null,null,null,null,null,null,null,null,null,null,null,null,"VF Singel Topp EDEL","kg",4.0832E-2,5.5440000000000003E-3,1.3024000000000001E-2,541,0.88,4,null,"kraftfoder, spannmål etc.",null,null,null,null,null,null,null,null,null,null,null,null,null,"VL Ko Fiber Bas Pellets","kg",2.4976000000000002E-2,5.2627999999999998E-3,8.5632E-3,541,0.88,5,null,"kraftfoder, spannmål etc."]
[null,null,null,null,null,null,null,null,null,null,null,null,null,null,null,null,null,null,null,null,null,null,null,null,null,null,null,null,null,null,null,null,"VF Standard Topp EDEL","kg",4.02688E-2,5.6319999999999999E-3,1.2496E-2,542,0.88,4,null,"kraftfoder, spannmål etc.",null,null,null,null,null,null,null,null,null,null,null,null,null,"VL Ko Fiber Grund Mjöl","kg",2.3091199999999999E-2,4.9610000000000001E-3,1.1365200000000001E-2,542,0.88,5,null,"kraftfoder, spannmål etc."]
[null,null,null,null,null,null,null,null,null,null,null,null,null,null,null,null,null,null,null,null,null,null,null,null,null,null,null,null,null,null,null,null,"VF Tuva Eko Edel","kg",2.5612800000000002E-2,5.6550000000000003E-3,8.6999999999999994E-3,543,0.88,4,null,"kraftfoder, spannmål etc.",null,null,null,null,null,null,null,null,null,null,null,null,null,"VL KO ROBOT BAS","kg",2.433024E-2,5.0112000000000004E-3,7.6032000000000001E-3,543,0.88,5,null,"kraftfoder, spannmål etc."]
[null,null,null,null,null,null,null,null,null,null,null,null,null,null,null,null,null,null,null,null,null,null,null,null,null,null,null,null,null,null,null,null,"VF Ungnötskoncentrat EDEL","kg",4.224E-2,7.4799999999999997E-3,1.1440000000000001E-2,544,0.88,4,null,"kraftfoder, spannmål etc.",null,null,null,null,null,null,null,null,null,null,null,null,null,"VL Ko Robot bas Plus Pellets","kg",2.6107200000000001E-2,5.0273999999999996E-3,7.8498000000000005E-3,544,0.88,5,null,"kraftfoder, spannmål etc."]
[null,null,null,null,null,null,null,null,null,null,null,null,null,null,null,null,null,null,null,null,null,null,null,null,null,null,null,null,null,null,null,null,"VF Vega Ungnöt EDEL","kg",2.0879999999999999E-2,5.0460000000000001E-3,7.9170000000000004E-3,545,0.88,4,null,"kraftfoder, spannmål etc.",null,null,null,null,null,null,null,null,null,null,null,null,null,"VL KO ROBOT MEDIUM PELLETS","kg",3.0866879999999999E-2,5.0401999999999999E-3,9.4721000000000007E-3,545,0.88,5,null,"kraftfoder, spannmål etc."]
[null,null,null,null,null,null,null,null,null,null,null,null,null,null,null,null,null,null,null,null,null,null,null,null,null,null,null,null,null,null,null,null,"VL 20 TOP V PELLETS BK","kg",4.3647999999999999E-2,8.0079999999999995E-3,1.2056000000000001E-2,546,0.88,4,null,"kraftfoder, spannmål etc.",null,null,null,null,null,null,null,null,null,null,null,null,null,"VL Ko Robot Medium Småland","kg",2.737728E-2,5.1155999999999997E-3,8.6435999999999995E-3,546,0.88,5,null,"kraftfoder, spannmål etc."]
[null,null,null,null,null,null,null,null,null,null,null,null,null,null,null,null,null,null,null,null,null,null,null,null,null,null,null,null,null,null,null,null,"VL Eko Basfoder","kg",2.6752000000000001E-2,4.1359999999999999E-3,9.2399999999999999E-3,547,0.88,4,null,"kraftfoder, spannmål etc.",null,null,null,null,null,null,null,null,null,null,null,null,null,"VL KO ROBOT TOP","kg",4.271792E-2,7.0073000000000002E-3,1.18858E-2,547,0.88,5,null,"kraftfoder, spannmål etc."]
[null,null,null,null,null,null,null,null,null,null,null,null,null,null,null,null,null,null,null,null,null,null,null,null,null,null,null,null,null,null,null,null,"VL Eko Koncentrat","kg",4.3631999999999997E-2,5.0400000000000002E-3,1.494E-2,548,0.88,4,null,"kraftfoder, spannmål etc.",null,null,null,null,null,null,null,null,null,null,null,null,null,"VL KO TOP PLUS PELLETS BK","kg",4.2091839999999998E-2,6.7298000000000002E-3,1.15368E-2,548,0.88,5,null,"kraftfoder, spannmål etc."]
[null,null,null,null,null,null,null,null,null,null,null,null,null,null,null,null,null,null,null,null,null,null,null,null,null,null,null,null,null,null,null,null,"VL Eko Proteinmix","kg",5.6784000000000001E-2,5.5510000000000004E-3,1.8200000000000001E-2,549,0.88,4,null,"kraftfoder, spannmål etc.",null,null,null,null,null,null,null,null,null,null,null,null,null,"VL KO TOP SPANNMÅL PELLETS BK","kg",4.2000000000000003E-2,7.9625000000000008E-3,1.1375E-2,549,0.88,5,null,"kraftfoder, spannmål etc."]
[null,null,null,null,null,null,null,null,null,null,null,null,null,null,null,null,null,null,null,null,null,null,null,null,null,null,null,null,null,null,null,null,"VL ERIKBERG KROSS DRANKBL.","kg",2.639712E-2,4.7010999999999997E-3,7.6281999999999999E-3,550,0.88,4,null,"kraftfoder, spannmål etc.",null,null,null,null,null,null,null,null,null,null,null,null,null,"VL MEGA TOP PELLETS BK","kg",4.1300000000000003E-2,8.3125000000000004E-3,1.1112500000000001E-2,550,0.88,5,null,"kraftfoder, spannmål etc."]
[null,null,null,null,null,null,null,null,null,null,null,null,null,null,null,null,null,null,null,null,null,null,null,null,null,null,null,null,null,null,null,null,"VL Fiber Pellets","kg",1.99136E-2,4.5339000000000004E-3,7.9121E-3,551,0.88,4,null,"kraftfoder, spannmål etc.",null,null,null,null,null,null,null,null,null,null,null,null,null,"VL Mix 35 Mjöl","kg",5.0751360000000002E-2,9.6228000000000008E-3,1.30086E-2,551,0.88,5,null,"kraftfoder, spannmål etc."]
[null,null,null,null,null,null,null,null,null,null,null,null,null,null,null,null,null,null,null,null,null,null,null,null,null,null,null,null,null,null,null,null,"VL HÖG TOP FETT PELLETS BK","kg",3.8016000000000001E-2,7.744E-3,1.0296E-2,552,0.88,4,null,"kraftfoder, spannmål etc.",null,null,null,null,null,null,null,null,null,null,null,null,null,"VL MIX 37 MJÖL BK","kg",5.8799999999999998E-2,7.9625000000000008E-3,1.61875E-2,552,0.88,5,null,"kraftfoder, spannmål etc."]
[null,null,null,null,null,null,null,null,null,null,null,null,null,null,null,null,null,null,null,null,null,null,null,null,null,null,null,null,null,null,null,null,"VL HÖG TOP PELLETS BK","kg",3.8515199999999999E-2,7.9649999999999999E-3,1.0796999999999999E-2,553,0.88,4,null,"kraftfoder, spannmål etc.",null,null,null,null,null,null,null,null,null,null,null,null,null,"VL MIX 40 MJÖL BK","kg",6.5174399999999993E-2,7.5335999999999997E-3,1.29648E-2,553,0.88,5,null,"kraftfoder, spannmål etc."]
[null,null,null,null,null,null,null,null,null,null,null,null,null,null,null,null,null,null,null,null,null,null,null,null,null,null,null,null,null,null,null,null,"VL KALV START PELLETS BK","kg",2.6752000000000001E-2,5.9839999999999997E-3,8.9759999999999996E-3,554,0.88,4,null,"kraftfoder, spannmål etc.",null,null,null,null,null,null,null,null,null,null,null,null,null,"VL MIX 45 MJÖL BK","kg",7.1400000000000005E-2,7.0875E-3,1.6712500000000002E-2,554,0.88,5,null,"kraftfoder, spannmål etc."]
[null,null,null,null,null,null,null,null,null,null,null,null,null,null,null,null,null,null,null,null,null,null,null,null,null,null,null,null,null,null,null,null,"VL KO 100 FETT PELLETS BK","kg",2.954E-2,5.7749999999999998E-3,8.6625000000000001E-3,555,0.88,4,null,"kraftfoder, spannmål etc.",null,null,null,null,null,null,null,null,null,null,null,null,null,"VL PROTEIN TOP PELLETS BK","kg",4.4940000000000001E-2,8.4875000000000003E-3,1.1900000000000001E-2,555,0.88,5,null,"kraftfoder, spannmål etc."]
[null,null,null,null,null,null,null,null,null,null,null,null,null,null,null,null,null,null,null,null,null,null,null,null,null,null,null,null,null,null,null,null,"VL KO 117 PELLETS BK","kg",3.2303039999999998E-2,5.9432E-3,9.4392E-3,556,0.88,4,null,"kraftfoder, spannmål etc.",null,null,null,null,null,null,null,null,null,null,null,null,null,"VL Protein Top Urea Pellets BK","kg",4.5465600000000002E-2,7.9920000000000008E-3,1.11E-2,556,0.88,5,null,"kraftfoder, spannmål etc."]
[null,null,null,null,null,null,null,null,null,null,null,null,null,null,null,null,null,null,null,null,null,null,null,null,null,null,null,null,null,null,null,null,"VL KO 122 PELLETS BK","kg",3.4540479999999998E-2,5.9432E-3,9.7014000000000006E-3,557,0.88,4,null,"kraftfoder, spannmål etc.",null,null,null,null,null,null,null,null,null,null,null,null,null,"VL Proteinblandning Änganäs","kg",3.2126399999999999E-2,6.6347999999999997E-3,8.2062000000000003E-3,557,0.88,5,null,"kraftfoder, spannmål etc."]
[null,null,null,null,null,null,null,null,null,null,null,null,null,null,null,null,null,null,null,null,null,null,null,null,null,null,null,null,null,null,null,null,"VL KO 82 PELLETS BK","kg",2.2967999999999999E-2,4.9589999999999999E-3,7.4819999999999999E-3,558,0.88,4,null,"kraftfoder, spannmål etc.",null,null,null,null,null,null,null,null,null,null,null,null,null,"VL ROLF JÖNSSON KROSSBL","kg",2.2527999999999999E-2,7.0400000000000003E-3,8.5360000000000002E-3,558,0.88,5,null,"kraftfoder, spannmål etc."]
[null,null,null,null,null,null,null,null,null,null,null,null,null,null,null,null,null,null,null,null,null,null,null,null,null,null,null,null,null,null,null,null,"VL KO 97 PELLETS BK","kg",2.8535999999999999E-2,5.3070000000000001E-3,8.5260000000000006E-3,559,0.88,4,null,"kraftfoder, spannmål etc.",null,null,null,null,null,null,null,null,null,null,null,null,null,"VL SKOTTORP 122","kg",3.3012800000000002E-2,6.5849999999999997E-3,1.0360400000000001E-2,559,0.88,5,null,"kraftfoder, spannmål etc."]
[null,null,null,null,null,null,null,null,null,null,null,null,null,null,null,null,null,null,null,null,null,null,null,null,null,null,null,null,null,null,null,null,"VL KO BAS 2015","kg",2.7390879999999999E-2,5.0401999999999999E-3,8.0817000000000007E-3,560,0.88,4,null,"kraftfoder, spannmål etc.",null,null,null,null,null,null,null,null,null,null,null,null,null,"VL UNG 1 PELLETS BK","kg",2.5055999999999998E-2,5.9160000000000003E-3,8.2649999999999998E-3,560,0.88,5,null,"kraftfoder, spannmål etc."]
[null,null,null,null,null,null,null,null,null,null,null,null,null,null,null,null,null,null,null,null,null,null,null,null,null,null,null,null,null,null,null,null,"VL Ko Energi Bas Pellets","kg",2.642976E-2,4.8069999999999996E-3,7.7786000000000001E-3,561,0.88,4,null,"kraftfoder, spannmål etc.",null,null,null,null,null,null,null,null,null,null,null,null,null,"VL UNG 2 PELLETS BK","kg",2.2272E-2,5.3070000000000001E-3,7.221E-3,561,0.88,5,null,"kraftfoder, spannmål etc."]
[null,null,null,null,null,null,null,null,null,null,null,null,null,null,null,null,null,null,null,null,null,null,null,null,null,null,null,null,null,null,null,null,"VL Ko Energi Hög Top Pellets","kg",3.7024000000000001E-2,7.0309999999999999E-3,1.1214E-2,562,0.88,4,null,"kraftfoder, spannmål etc.",null,null,null,null,null,null,null,null,null,null,null,null,null,"VL Ung Energi Pellets","kg",2.8000000000000001E-2,5.7749999999999998E-3,8.9250000000000006E-3,562,0.88,5,null,"kraftfoder, spannmål etc."]
[null,null,null,null,null,null,null,null,null,null,null,null,null,null,null,null,null,null,null,null,null,null,null,null,null,null,null,null,null,null,null,null,"VL Ko Energi Medium Pellets","kg",2.9059359999999999E-2,5.4746999999999999E-3,8.2555000000000007E-3,563,0.88,4,null,"kraftfoder, spannmål etc.",null,null,null,null,null,null,null,null,null,null,null,null,null,"VL UNGNÖTSKONC PELLETS BK","kg",4.3041599999999999E-2,9.5256000000000004E-3,1.11132E-2,563,0.88,5,null,"kraftfoder, spannmål etc."]
[null,null,null,null,null,null,null,null,null,null,null,null,null,null,null,null,null,null,null,null,null,null,null,null,null,null,null,null,null,null,null,null,"VL Ko Energi Nyhem Pellets","kg",3.8117600000000001E-2,7.3718000000000004E-3,1.01587E-2,564,0.88,4,null,"kraftfoder, spannmål etc.",null,null,null,null,null,null,null,null,null,null,null,null,null,"VL Vallerstad Ko Robot Top","kg",3.7583999999999999E-2,6.8399999999999997E-3,1.0529999999999999E-2,564,0.88,5,"*","kraftfoder, spannmål etc."]
[null,null,null,null,null,null,null,null,null,null,null,null,null,null,null,null,null,null,null,null,null,null,null,null,null,null,null,null,null,null,null,null,"VL Ko Energi Top Pellets","kg",3.8359999999999998E-2,7.9625000000000008E-3,1.0500000000000001E-2,565,0.88,4,null,"kraftfoder, spannmål etc."]
[null,null,null,null,null,null,null,null,null,null,null,null,null,null,null,null,null,null,null,null,null,null,null,null,null,null,null,null,null,null,null,null,"VL Ko Fiber 190 Pellets","kg",2.70864E-2,5.6132999999999999E-3,8.8208999999999996E-3,566,0.88,4,null,"kraftfoder, spannmål etc."]
[null,null,null,null,null,null,null,null,null,null,null,null,null,null,null,null,null,null,null,null,null,null,null,null,null,null,null,null,null,null,null,null,"VL Ko Fiber Bas Pellets","kg",2.4976000000000002E-2,5.2627999999999998E-3,8.5632E-3,567,0.88,4,null,"kraftfoder, spannmål etc."]
[null,null,null,null,null,null,null,null,null,null,null,null,null,null,null,null,null,null,null,null,null,null,null,null,null,null,null,null,null,null,null,null,"VL Ko Fiber Grund Mjöl","kg",2.3091199999999999E-2,4.9610000000000001E-3,1.1365200000000001E-2,568,0.88,4,null,"kraftfoder, spannmål etc."]
[null,null,null,null,null,null,null,null,null,null,null,null,null,null,null,null,null,null,null,null,null,null,null,null,null,null,null,null,null,null,null,null,"VL KO ROBOT BAS","kg",2.433024E-2,5.0112000000000004E-3,7.6032000000000001E-3,569,0.88,4,null,"kraftfoder, spannmål etc."]
[null,null,null,null,null,null,null,null,null,null,null,null,null,null,null,null,null,null,null,null,null,null,null,null,null,null,null,null,null,null,null,null,"VL Ko Robot bas Plus Pellets","kg",2.6107200000000001E-2,5.0273999999999996E-3,7.8498000000000005E-3,570,0.88,4,null,"kraftfoder, spannmål etc."]
[null,null,null,null,null,null,null,null,null,null,null,null,null,null,null,null,null,null,null,null,null,null,null,null,null,null,null,null,null,null,null,null,"VL KO ROBOT MEDIUM PELLETS","kg",3.0866879999999999E-2,5.0401999999999999E-3,9.4721000000000007E-3,571,0.88,4,null,"kraftfoder, spannmål etc."]
[null,null,null,null,null,null,null,null,null,null,null,null,null,null,null,null,null,null,null,null,null,null,null,null,null,null,null,null,null,null,null,null,"VL Ko Robot Medium Småland","kg",2.737728E-2,5.1155999999999997E-3,8.6435999999999995E-3,572,0.88,4,null,"kraftfoder, spannmål etc."]
[null,null,null,null,null,null,null,null,null,null,null,null,null,null,null,null,null,null,null,null,null,null,null,null,null,null,null,null,null,null,null,null,"VL KO ROBOT TOP","kg",4.271792E-2,7.0073000000000002E-3,1.18858E-2,573,0.88,4,null,"kraftfoder, spannmål etc."]
[null,null,null,null,null,null,null,null,null,null,null,null,null,null,null,null,null,null,null,null,null,null,null,null,null,null,null,null,null,null,null,null,"VL KO TOP PLUS PELLETS BK","kg",4.2091839999999998E-2,6.7298000000000002E-3,1.15368E-2,574,0.88,4,null,"kraftfoder, spannmål etc."]
[null,null,null,null,null,null,null,null,null,null,null,null,null,null,null,null,null,null,null,null,null,null,null,null,null,null,null,null,null,null,null,null,"VL KO TOP SPANNMÅL PELLETS BK","kg",4.2000000000000003E-2,7.9625000000000008E-3,1.1375E-2,575,0.88,4,null,"kraftfoder, spannmål etc."]
[null,null,null,null,null,null,null,null,null,null,null,null,null,null,null,null,null,null,null,null,null,null,null,null,null,null,null,null,null,null,null,null,"VL MEGA TOP PELLETS BK","kg",4.1300000000000003E-2,8.3125000000000004E-3,1.1112500000000001E-2,576,0.88,4,null,"kraftfoder, spannmål etc."]
[null,null,null,null,null,null,null,null,null,null,null,null,null,null,null,null,null,null,null,null,null,null,null,null,null,null,null,null,null,null,null,null,"VL Mix 35 Mjöl","kg",5.0751360000000002E-2,9.6228000000000008E-3,1.30086E-2,{"$f":"AL581+1","v":577},0.88,4,null,"kraftfoder, spannmål etc."]
[null,null,null,null,null,null,null,null,null,null,null,null,null,null,null,null,null,null,null,null,null,null,null,null,null,null,null,null,null,null,null,null,"VL MIX 37 MJÖL BK","kg",5.8799999999999998E-2,7.9625000000000008E-3,1.61875E-2,578,0.88,4,null,"kraftfoder, spannmål etc."]
[null,null,null,null,null,null,null,null,null,null,null,null,null,null,null,null,null,null,null,null,null,null,null,null,null,null,null,null,null,null,null,null,"VL MIX 40 MJÖL BK","kg",6.5174399999999993E-2,7.5335999999999997E-3,1.29648E-2,579,0.88,4,null,"kraftfoder, spannmål etc."]
[null,null,null,null,null,null,null,null,null,null,null,null,null,null,null,null,null,null,null,null,null,null,null,null,null,null,null,null,null,null,null,null,"VL MIX 45 MJÖL BK","kg",7.1400000000000005E-2,7.0875E-3,1.6712500000000002E-2,580,0.88,4,null,"kraftfoder, spannmål etc."]
[null,null,null,null,null,null,null,null,null,null,null,null,null,null,null,null,null,null,null,null,null,null,null,null,null,null,null,null,null,null,null,null,"VL PROTEIN TOP PELLETS BK","kg",4.4940000000000001E-2,8.4875000000000003E-3,1.1900000000000001E-2,581,0.88,4,null,"kraftfoder, spannmål etc."]
[null,null,null,null,null,null,null,null,null,null,null,null,null,null,null,null,null,null,null,null,null,null,null,null,null,null,null,null,null,null,null,null,"VL Protein Top Urea Pellets BK","kg",4.5465600000000002E-2,7.9920000000000008E-3,1.11E-2,582,0.88,4,null,"kraftfoder, spannmål etc."]
[null,null,null,null,null,null,null,null,null,null,null,null,null,null,null,null,null,null,null,null,null,null,null,null,null,null,null,null,null,null,null,null,"VL Proteinblandning Änganäs","kg",3.2126399999999999E-2,6.6347999999999997E-3,8.2062000000000003E-3,583,0.88,4,null,"kraftfoder, spannmål etc."]
[null,null,null,null,null,null,null,null,null,null,null,null,null,null,null,null,null,null,null,null,null,null,null,null,null,null,null,null,null,null,null,null,"VL ROLF JÖNSSON KROSSBL","kg",2.2527999999999999E-2,7.0400000000000003E-3,8.5360000000000002E-3,584,0.88,4,null,"kraftfoder, spannmål etc."]
[null,null,null,null,null,null,null,null,null,null,null,null,null,null,null,null,null,null,null,null,null,null,null,null,null,null,null,null,null,null,null,null,"VL SKOTTORP 122","kg",3.3012800000000002E-2,6.5849999999999997E-3,1.0360400000000001E-2,585,0.88,4,null,"kraftfoder, spannmål etc."]
[null,null,null,null,null,null,null,null,null,null,null,null,null,null,null,null,null,null,null,null,null,null,null,null,null,null,null,null,null,null,null,null,"VL UNG 1 PELLETS BK","kg",2.5055999999999998E-2,5.9160000000000003E-3,8.2649999999999998E-3,586,0.88,4,null,"kraftfoder, spannmål etc."]
[null,null,null,null,null,null,null,null,null,null,null,null,null,null,null,null,null,null,null,null,null,null,null,null,null,null,null,null,null,null,null,null,"VL UNG 2 PELLETS BK","kg",2.2272E-2,5.3070000000000001E-3,7.221E-3,587,0.88,4,null,"kraftfoder, spannmål etc."]
[null,null,null,null,null,null,null,null,null,null,null,null,null,null,null,null,null,null,null,null,null,null,null,null,null,null,null,null,null,null,null,null,"VL Ung Energi Pellets","kg",2.8000000000000001E-2,5.7749999999999998E-3,8.9250000000000006E-3,588,0.88,4,null,"kraftfoder, spannmål etc."]
[null,null,null,null,null,null,null,null,null,null,null,null,null,null,null,null,null,null,null,null,null,null,null,null,null,null,null,null,null,null,null,null,"VL UNGNÖTSKONC PELLETS BK","kg",4.3041599999999999E-2,9.5256000000000004E-3,1.11132E-2,589,0.88,4,null,"kraftfoder, spannmål etc."]
[null,null,null,null,null,null,null,null,null,null,null,null,null,null,null,null,null,null,null,null,null,null,null,null,null,null,null,null,null,null,null,null,"VL Vallerstad Ko Robot Top","kg",3.7583999999999999E-2,6.8399999999999997E-3,1.0529999999999999E-2,590,0.88,4,null,"kraftfoder, spannmål etc."]
[null,null,null,null,null,null,null,null,null,null,null,null,null,null,null,null,null,null,null,null,null,null,null,null,null,null,null,null,null,null,null,null,"Klövergräs pellets, Genevad","kg",3.6358399999999999E-2,2.5760000000000002E-3,2.2079999999999999E-2,591,1,7,null,"kraftfoder, spannmål etc."]
[null,null,null,null,null,null,null,null,null,null,null,null,null,null,null,null,null,null,null,null,null,null,null,null,null,null,null,null,null,null,null,null,"Melassmix","kg",6.7999999999999996E-3,2.0000000000000001E-4,3.2000000000000001E-2,592,0.75,7,null,"kraftfoder, spannmål etc."]
[null,null,null,null,null,null,null,null,null,null,null,null,null,null,null,null,null,null,null,null,null,null,null,null,null,null,null,null,null,null,null,null,"RaPass mjöl","kg",4.8384000000000003E-2,1.1610000000000001E-2,1.35E-2,593,0.9,7,null,"kraftfoder, spannmål etc."]
[null,null,null,null,null,null,null,null,null,null,null,null,null,null,null,null,null,null,null,null,null,null,null,null,null,null,null,null,null,null,null,null,"Rapskaka","kg",4.7399999999999998E-2,1.03E-2,4.7000000000000002E-3,594,0.94,7,null,"kraftfoder, spannmål etc."]
[null,null,null,null,null,null,null,null,null,null,null,null,null,null,null,null,null,null,null,null,null,null,null,null,null,null,null,null,null,null,null,null,"Sojabönexpeller","kg",6.8966559999999996E-2,6.4609999999999997E-3,1.9936800000000001E-2,595,0.87,7,null,"kraftfoder, spannmål etc."]
[null,null,null,null,null,null,null,null,null,null,null,null,null,null,null,null,null,null,null,null,null,null,null,null,null,null,null,null,null,null,null,null,"Soy Pass","kg",6.9678080000000003E-2,5.3558E-3,1.95794E-2,596,0.87,7,null,"kraftfoder, spannmål etc."]
[null,null,null,null,null,null,null,null,null,null,null,null,null,null,null,null,null,null,null,null,null,null,null,null,null,null,null,null,null,null,null,null,"Bomullsexpeller - frö","kg",6.4768000000000006E-2,1.0947999999999999E-2,1.6559999999999998E-2,597,0.92,7,null,"kraftfoder, spannmål etc."]
[null,null,null,null,null,null,null,null,null,null,null,null,null,null,null,null,null,null,null,null,null,null,null,null,null,null,null,null,null,null,null,null,"Hampa, frö","kg",3.7150719999999998E-2,1.0430500000000001E-2,9.3421000000000008E-3,598,0.93,7,null,"kraftfoder, spannmål etc."]
[null,null,null,null,null,null,null,null,null,null,null,null,null,null,null,null,null,null,null,null,null,null,null,null,null,null,null,null,null,null,null,null,"Hampfrökaka","kg",5.121792E-2,0,0,599,0.93,7,null,"kraftfoder, spannmål etc."]
[null,null,null,null,null,null,null,null,null,null,null,null,null,null,null,null,null,null,null,null,null,null,null,null,null,null,null,null,null,null,null,null,"Havre, 12 % prot","kg",1.6500000000000001E-2,3.3E-3,4.3E-3,600,0.87,7,null,"kraftfoder, spannmål etc."]
[null,null,null,null,null,null,null,null,null,null,null,null,null,null,null,null,null,null,null,null,null,null,null,null,null,null,null,null,null,null,null,null,"Havremjöl","kg",1.9151999999999999E-2,4.8599999999999997E-3,3.5999999999999999E-3,601,0.87,7,null,"kraftfoder, spannmål etc."]
[null,null,null,null,null,null,null,null,null,null,null,null,null,null,null,null,null,null,null,null,null,null,null,null,null,null,null,null,null,null,null,null,"Höstvete foder, 11 % prot","kg",1.5100000000000001E-2,3.0999999999999999E-3,4.3E-3,602,0.87,7,null,"kraftfoder, spannmål etc."]
[null,null,null,null,null,null,null,null,null,null,null,null,null,null,null,null,null,null,null,null,null,null,null,null,null,null,null,null,null,null,null,null,"Klövergräsensilage, ts","kg ts",2.7200000000000002E-2,2.0999999999999999E-3,2.5000000000000001E-2,603,1,7,null,"grovfoder"]
[null,null,null,null,null,null,null,null,null,null,null,null,null,null,null,null,null,null,null,null,null,null,null,null,null,null,null,null,null,null,null,null,"Klövergräshö, ts","kg ts",1.9199999999999998E-2,2.5999999999999999E-3,2.5000000000000001E-2,604,1,7,null,"grovfoder"]
[null,null,null,null,null,null,null,null,null,null,null,null,null,null,null,null,null,null,null,null,null,null,null,null,null,null,null,null,null,null,null,null,"Kokosexpeller","kg",3.3500000000000002E-2,5.1000000000000004E-3,3.0999999999999999E-3,605,0.92,7,null,"kraftfoder, spannmål etc."]
[null,null,null,null,null,null,null,null,null,null,null,null,null,null,null,null,null,null,null,null,null,null,null,null,null,null,null,null,null,null,null,null,"Kokosmjöl","kg",3.8300000000000001E-2,5.8999999999999999E-3,3.3E-3,606,0.92,7,null,"kraftfoder, spannmål etc."]
[null,null,null,null,null,null,null,null,null,null,null,null,null,null,null,null,null,null,null,null,null,null,null,null,null,null,null,null,null,null,null,null,"Korn, 11,9 % prot","kg",1.6400000000000001E-2,3.3999999999999998E-3,4.3E-3,607,0.87,7,null,"kraftfoder, spannmål etc."]
[null,null,null,null,null,null,null,null,null,null,null,null,null,null,null,null,null,null,null,null,null,null,null,null,null,null,null,null,null,null,null,null,"Kornkli","kg",1.4524799999999999E-2,7.1199999999999996E-3,0,608,0.87,7,null,"kraftfoder, spannmål etc."]
[null,null,null,null,null,null,null,null,null,null,null,null,null,null,null,null,null,null,null,null,null,null,null,null,null,null,null,null,null,null,null,null,"Majsgluten","kg",9.8900000000000002E-2,3.0000000000000001E-3,1.1000000000000001E-3,609,0.92,7,null,"kraftfoder, spannmål etc."]
[null,null,null,null,null,null,null,null,null,null,null,null,null,null,null,null,null,null,null,null,null,null,null,null,null,null,null,null,null,null,null,null,"Majsstärkelse","kg",7.0399999999999998E-4,1.408E-3,8.8000000000000003E-4,610,0.92,7,null,"kraftfoder, spannmål etc."]
[null,null,null,null,null,null,null,null,null,null,null,null,null,null,null,null,null,null,null,null,null,null,null,null,null,null,null,null,null,null,null,null,"rapskaka","kg",4.7399999999999998E-2,1.03E-2,4.7000000000000002E-3,611,0.9,7,null,"kraftfoder, spannmål etc."]
[null,null,null,null,null,null,null,null,null,null,null,null,null,null,null,null,null,null,null,null,null,null,null,null,null,null,null,null,null,null,null,null,"rapsmjöl","kg",5.4702399999999998E-2,1.0699999999999999E-2,5.4000000000000003E-3,612,0.9,7,null,"kraftfoder, spannmål etc."]
[null,null,null,null,null,null,null,null,null,null,null,null,null,null,null,null,null,null,null,null,null,null,null,null,null,null,null,null,null,null,null,null,"Åkerbönor","kg",4.5999999999999999E-2,4.0000000000000001E-3,0.01,613,0.76,7,null,"kraftfoder, spannmål etc."]
[null,null,null,null,null,null,null,null,null,null,null,null,null,null,null,null,null,null,null,null,null,null,null,null,null,null,null,null,null,null,null,null,"Ärter","kg",3.5000000000000003E-2,3.5999999999999999E-3,0.01,614,0.87,7,null,"kraftfoder, spannmål etc."]
[null,null,null,null,null,null,null,null,null,null,null,null,null,null,null,null,null,null,null,null,null,null,null,null,null,null,null,null,null,null,null,null,null,null,null,null,null,615,null,9,null,"kraftfoder, spannmål etc."]
[null,null,null,null,null,null,null,null,null,null,null,null,null,null,null,null,null,null,null,null,null,null,null,null,null,null,null,null,null,null,null,null,null,null,null,null,null,616,null,9,null,"kraftfoder, spannmål etc."]
[null,null,null,null,null,null,null,null,null,null,null,null,null,null,null,null,null,null,null,null,null,null,null,null,null,null,null,null,null,null,null,null,null,null,null,null,null,617,null,9,null,"kraftfoder, spannmål etc."]
[null,null,null,null,null,null,null,null,null,null,null,null,null,null,null,null,null,null,null,null,null,null,null,null,null,null,null,null,null,null,null,null,null,null,null,null,null,618,null,9,null,"kraftfoder, spannmål etc."]
[null,null,null,null,null,null,null,null,null,null,null,null,null,null,null,null,null,null,null,null,null,null,null,null,null,null,null,null,null,null,null,null,null,null,null,null,null,619,null,9,null,"kraftfoder, spannmål etc."]
[null,null,null,null,null,null,null,null,null,null,null,null,null,null,null,null,null,null,null,null,null,null,null,null,null,null,null,null,null,null,null,null,null,null,null,null,null,620,null,9,null,"kraftfoder, spannmål etc."]
[null,null,null,null,null,null,null,null,null,null,null,null,null,null,null,null,null,null,null,null,null,null,null,null,null,null,null,null,null,null,null,null,null,null,null,null,null,621,null,9,null,"kraftfoder, spannmål etc."]
[null,null,null,null,null,null,null,null,null,null,null,null,null,null,null,null,null,null,null,null,null,null,null,null,null,null,null,null,null,null,null,null,null,null,null,null,null,622,null,9,null,"kraftfoder, spannmål etc."]
[null,null,null,null,null,null,null,null,null,null,null,null,null,null,null,null,null,null,null,null,null,null,null,null,null,null,null,null,null,null,null,null,null,null,null,null,null,623,null,9,null,"kraftfoder, spannmål etc."]
[null,null,null,null,null,null,null,null,null,null,null,null,null,null,null,null,null,null,null,null,null,null,null,null,null,null,null,null,null,null,null,null,null,null,null,null,null,624,null,9,null,"kraftfoder, spannmål etc."]
[null,null,null,null,null,null,null,null,null,null,null,null,null,null,null,null,null,null,null,null,null,null,null,null,null,null,null,null,null,null,null,null,null,null,null,null,null,625,null,9,null,"kraftfoder, spannmål etc."]
[null,null,null,null,null,null,null,null,null,null,null,null,null,null,null,null,null,null,null,null,null,null,null,null,null,null,null,null,null,null,null,null,null,null,null,null,null,626,null,9,null,"kraftfoder, spannmål etc."]

{"sheet":"diagramunderlag N","index":21,"n_rows":138,"n_cols":28,"rows_kept":138,"cut":false,"hidden":true,"merged":[]}
[]
[]
[]
[]
[]
[null,null,null,null,null,"Egen kommentar",null,null,"resultat","mål",null,null,null,"resultat","mål"]
[null,null,null,null,null,{"$f":"IF(ISNUMBER('6 Resultat'!C81),'6 Resultat'!C81,AVERAGEIF('6 Resultat'!D81:F81,\">0\"))","v":{"$error":"#DIV/0!"}},{"$f":"'6 Resultat'!A81","v":"Avvanda kalvar per betäckt hondjur"},{"$f":"\"Mål \" &ROUND(F7*100,1)&\" %. \"&K7&\" = bra\"","v":{"$error":"#DIV/0!"}},null,{"$f":"$F$7","v":{"$error":"#DIV/0!"}},"högt",{"$f":"'6 Resultat'!A82","v":"Inkalvningsålder"},{"$f":"\"Mål \" &ROUND(F8,1)&\" \" &'6 Resultat'!B82","v":"Mål 26 månader"},null,1]
[null,null,null,null,null,{"$f":"IF(ISNUMBER('6 Resultat'!C82),'6 Resultat'!C82,'6 Resultat'!I82)","v":26},null,{"$f":"period_1","v":"Period 1"},{"$f":"'6 Resultat'!D81","v":0},null,null,null,{"$f":"period_1","v":"Period 1"},{"$f":"IF(ISNUMBER($F8),'6 Resultat'!D82/$F8,0)","v":0}]
[null,null,null,null,null,{"$f":"IF(ISNUMBER('6 Resultat'!C83),'6 Resultat'!C83,'6 Resultat'!I83)","v":90},null,{"$f":"period_2","v":"Period 2"},{"$f":"'6 Resultat'!E81","v":0},null,null,null,{"$f":"period_2","v":"Period 2"},{"$f":"IF(ISNUMBER($F8),'6 Resultat'!E82/$F8,0)","v":0}]
[null,null,null,null,null,{"$f":"IF(ISNUMBER('6 Resultat'!C84),'6 Resultat'!C84,AVERAGEIF('6 Resultat'!D84:F84,\">0\"))","v":{"$error":"#DIV/0!"}},null,{"$f":"period_3","v":"Period 3"},{"$f":"'6 Resultat'!F81","v":0},null,null,null,{"$f":"period_3","v":"Period 3"},{"$f":"IF(ISNUMBER($F8),'6 Resultat'!F82/$F8,0)","v":0}]
[null,null,null,null,null,{"$f":"IF(ISNUMBER('6 Resultat'!C85),'6 Resultat'!C85,'6 Resultat'!I85)","v":0.25},{"$f":"'6 Resultat'!A84","v":"Dräktighetsprocent"},{"$f":"\"Mål \" &ROUND(F10*100,1)&\" %. \"&K11&\" = bra\"","v":{"$error":"#DIV/0!"}},null,{"$f":"$F$10","v":{"$error":"#DIV/0!"}},"högt",{"$f":"'6 Resultat'!A83","v":"Kalvningsperiodens längd"},{"$f":"\"Mål \" &ROUND(F9,1)&\" \" &'6 Resultat'!B83","v":"Mål 90 dagar"},null,1]
[null,null,null,null,null,null,null,{"$f":"period_1","v":"Period 1"},{"$f":"'6 Resultat'!D84","v":0},null,null,null,{"$f":"period_1","v":"Period 1"},{"$f":"IF(ISNUMBER($F9),'6 Resultat'!D83/$F9,0)","v":0}]
[null,null,null,null,null,null,null,{"$f":"period_2","v":"Period 2"},{"$f":"'6 Resultat'!E84","v":0},null,null,null,{"$f":"period_2","v":"Period 2"},{"$f":"IF(ISNUMBER($F9),'6 Resultat'!E83/$F9,0)","v":0}]
[null,null,null,null,null,null,null,{"$f":"period_3","v":"Period 3"},{"$f":"'6 Resultat'!F84","v":0},null,null,null,{"$f":"period_3","v":"Period 3"},{"$f":"IF(ISNUMBER($F9),'6 Resultat'!F83/$F9,0)","v":0}]
[null,null,null,null,null,null,{"$f":"'6 Resultat'!A85","v":"Rekryteringsprocent"},{"$f":"\"Mål \" &ROUND(F11*100,1)&\" %. \"&K15&\" = bra\"","v":"Mål 25 %. lågt = bra"},null,{"$f":"$F$11","v":0.25},"lågt"]
[null,null,null,null,null,null,null,{"$f":"period_1","v":"Period 1"},{"$f":"'6 Resultat'!D85","v":0}]
[null,null,null,null,null,null,null,{"$f":"period_2","v":"Period 2"},{"$f":"'6 Resultat'!E85","v":0}]
[null,null,null,null,null,null,null,{"$f":"period_3","v":"Period 3"},{"$f":"'6 Resultat'!F85","v":0}]
[]
[]
[]
[]
[]
[]
[]
[]
[]
[]
[]
[]
[]
[]
[null,null,null,null,null,null,null,"Resultat ","Mål"]
[null,null,null,null,null,"Kalv t o m avvänjning/försälning","mål",null,{"$f":"IF(ISNUMBER('6 Resultat'!C110),'6 Resultat'!C110,VLOOKUP('6 Resultat'!B31,'Teknisk administration'!$M$116:$N$121,2,FALSE))","v":1350}]
[null,null,null,null,null,null,{"$f":"period_1","v":"Period 1"},{"$f":"'6 Resultat'!D110","v":0}]
[null,null,null,null,null,null,{"$f":"period_2","v":"Period 2"},{"$f":"'6 Resultat'!E110","v":0}]
[null,null,null,null,null,null,{"$f":"period_3","v":"Period 3"},{"$f":"'6 Resultat'!F110","v":0}]
[null,null,null,null,null,{"$f":"'6 Resultat'!A111","v":"Ungtjur"},"mål",null,{"$f":"IF(ISNUMBER('6 Resultat'!C111),'6 Resultat'!C111,VLOOKUP('6 Resultat'!B32,'Teknisk administration'!$M$133:$P$135,3,FALSE))","v":1700}]
[null,null,null,null,null,null,{"$f":"period_1","v":"Period 1"},{"$f":"'6 Resultat'!D111","v":0}]
[null,null,null,null,null,null,{"$f":"period_2","v":"Period 2"},{"$f":"'6 Resultat'!E111","v":0}]
[null,null,null,null,null,null,{"$f":"period_3","v":"Period 3"},{"$f":"'6 Resultat'!F111","v":0}]
[null,null,null,null,null,{"$f":"'6 Resultat'!A112","v":"Stutar & kvigor"},"mål",null,{"$f":"IF(ISNUMBER('6 Resultat'!C112),'6 Resultat'!C112,VLOOKUP('6 Resultat'!B32,'Teknisk administration'!$M$133:$P$135,4,FALSE))","v":900}]
[null,null,null,null,null,null,{"$f":"period_1","v":"Period 1"},{"$f":"'6 Resultat'!D112","v":0}]
[null,null,null,null,null,null,{"$f":"period_2","v":"Period 2"},{"$f":"'6 Resultat'!E112","v":0}]
[null,null,null,null,null,null,{"$f":"period_3","v":"Period 3"},{"$f":"'6 Resultat'!F112","v":0}]
[null,null,null,null,null,"Per godkänd stallplats","mål",null,{"$f":"'6 Resultat'!C113","v":0}]
[null,null,null,null,null,null,{"$f":"period_1","v":"Period 1"},{"$f":"'6 Resultat'!D113","v":0}]
[null,null,null,null,null,null,{"$f":"period_2","v":"Period 2"},{"$f":"'6 Resultat'!E113","v":0}]
[null,null,null,null,null,null,{"$f":"period_3","v":"Period 3"},{"$f":"'6 Resultat'!F113","v":0}]
[null,null,null,null,null,"Per stallplats, önskad beläggning","mål",null,{"$f":"'6 Resultat'!C114","v":0}]
[null,null,null,null,null,null,{"$f":"period_1","v":"Period 1"},{"$f":"'6 Resultat'!D114","v":0}]
[null,null,null,null,null,null,{"$f":"period_2","v":"Period 2"},{"$f":"'6 Resultat'!E114","v":0}]
[null,null,null,null,null,null,{"$f":"period_3","v":"Period 3"},{"$f":"'6 Resultat'!F114","v":0}]
[]
[]
[]
[]
[]
[]
[]
[]
[null,null,null,null,null,{"$f":"Bakgrund!R$7","v":"Period 1"},{"$f":"Bakgrund!S$7","v":"Period 2"},{"$f":"Bakgrund!T$7","v":"Period 3"}]
[null,null,null,"Lagring","Grovfoder",{"$f":"'6 Resultat'!D200","v":0},{"$f":"'6 Resultat'!E200","v":0},{"$f":"'6 Resultat'!F200","v":0}]
[null,null,null,null,"Övrigt eget foder",{"$f":"'6 Resultat'!D201","v":0},{"$f":"'6 Resultat'!E201","v":0},{"$f":"'6 Resultat'!F201","v":0}]
[null,null,null,"Kasserat före utfodring","Kasserade storbalar",{"$f":"'6 Resultat'!D211","v":0},{"$f":"'6 Resultat'!E211","v":0},{"$f":"'6 Resultat'!F211","v":0}]
[null,null,null,null,"Dåligt grovfoder från plan- och tornsilo",{"$f":"'6 Resultat'!D212","v":0},{"$f":"'6 Resultat'!E212","v":0},{"$f":"'6 Resultat'!F212","v":0}]
[null,null,null,null,"Övrigt kasserat foder",{"$f":"'6 Resultat'!D213","v":0},{"$f":"'6 Resultat'!E213","v":0},{"$f":"'6 Resultat'!F213","v":0}]
[null,null,null,"Spill vid utfodring","Grovfoder",{"$f":"'6 Resultat'!D214","v":0},{"$f":"'6 Resultat'!E214","v":0},{"$f":"'6 Resultat'!F214","v":0}]
[null,null,null,null,"Övrigt foder",{"$f":"'6 Resultat'!D215","v":0},{"$f":"'6 Resultat'!E215","v":0},{"$f":"'6 Resultat'!F215","v":0}]
[]
[]
[]
[]
[null,null,null,null,null,{"$f":"Bakgrund!R$7","v":"Period 1"},{"$f":"Bakgrund!S$7","v":"Period 2"},{"$f":"Bakgrund!T$7","v":"Period 3"}]
[null,null,null,"Lagring","Grovfoder",{"$f":"'6 Resultat'!D202","v":0},{"$f":"'6 Resultat'!E202","v":0},{"$f":"'6 Resultat'!F202","v":0}]
[null,null,null,null,"Övrigt eget foder",{"$f":"'6 Resultat'!D203","v":0},{"$f":"'6 Resultat'!E203","v":0},{"$f":"'6 Resultat'!F203","v":0}]
[null,null,null,"Kasserat före utfodring","Kasserade storbalar",{"$f":"'6 Resultat'!D216","v":0},{"$f":"'6 Resultat'!E216","v":0},{"$f":"'6 Resultat'!F216","v":0}]
[null,null,null,null,"Dåligt grovfoder från plan- och tornsilo",{"$f":"'6 Resultat'!D217","v":0},{"$f":"'6 Resultat'!E217","v":0},{"$f":"'6 Resultat'!F217","v":0}]
[null,null,null,null,"Övrigt kasserat foder",{"$f":"'6 Resultat'!D218","v":0},{"$f":"'6 Resultat'!E218","v":0},{"$f":"'6 Resultat'!F218","v":0}]
[null,null,null,"Spill vid utfodring","Grovfoder",{"$f":"'6 Resultat'!D219","v":0},{"$f":"'6 Resultat'!E219","v":0},{"$f":"'6 Resultat'!F219","v":0}]
[null,null,null,null,"Övrigt foder",{"$f":"'6 Resultat'!D220","v":0},{"$f":"'6 Resultat'!E220","v":0},{"$f":"'6 Resultat'!F220","v":0}]
[]
[]
[null,null,null,null,null,{"$f":"Bakgrund!R$7","v":"Period 1"},{"$f":"Bakgrund!S$7","v":"Period 2"},{"$f":"Bakgrund!T$7","v":"Period 3"}]
[null,null,null,"Förluster under lagring","% av ts bärgat",{"$f":"'6 Resultat'!D206","v":0},{"$f":"'6 Resultat'!E206","v":0},{"$f":"'6 Resultat'!F206","v":0}]
[null,null,null,null,"% av MJ bärgat",{"$f":"'6 Resultat'!D207","v":0},{"$f":"'6 Resultat'!E207","v":0},{"$f":"'6 Resultat'!F207","v":0}]
[null,null,null,"Kasserat och spill vid utfodring","% av ts utfodrat",{"$f":"'6 Resultat'!D223","v":0},{"$f":"'6 Resultat'!E223","v":0},{"$f":"'6 Resultat'!F223","v":0}]
[null,null,null,null,"% av MJ utfodrat",{"$f":"'6 Resultat'!D224","v":0},{"$f":"'6 Resultat'!E224","v":0},{"$f":"'6 Resultat'!F224","v":0}]
[]
[]
[null,null,null,null,null,null,null,null,null,null,null,null,null,null,null,null,null,null,null,null,null,null,null,null,null,null,null,"g växtnäring per kg kött"]
[null,null,null,null,null,null,null,null,null,null,null,null,null,null,null,null,null,null,null,null,null,null,null,null,null,null,null,"%"]
[null,null,null,null,null,null,null,null,null,null,null,null,null,null,null,null,null,null,null,null,null,null,null,null,null,null,null,"g växtnäring per kg kött"]
[null,null,null,null,null,null,null,null,null,null,null,null,null,null,null,null,null,null,null,null,null,null,null,null,null,null,null,"%"]
[null,null,null,null,null,null,null,null,null,null,null,null,null,null,null,null,null,null,null,null,null,null,null,null,null,null,null,"g växtnäring per kg kött"]
[null,null,null,null,null,null,"kg kväve","kg fosfor","kg kalium",null,null,null,null,null,null,null,null,null,"kg kväve","kg fosfor","kg kalium",null,null,null,null,null,null,"%"]
[null,null,null,null,{"$f":"period_1","v":"Period 1"},"Växtnärings-\ninsats",{"$f":"'6 Resultat'!D295","v":0},{"$f":"'6 Resultat'!E295","v":0},{"$f":"'6 Resultat'!F295","v":0},null,"kg växtnäring",null,null,null,null,null,{"$f":"period_1","v":"Period 1"},"Växtnärings-\ninsats",{"$f":"'6 Resultat'!D295","v":0},{"$f":"'6 Resultat'!E295","v":0},{"$f":"'6 Resultat'!F295","v":0},null,"kg växtnäring"]
[null,null,null,null,null,"Växtnäring \ni köttet",{"$f":"'6 Resultat'!D296","v":0},{"$f":"'6 Resultat'!E296","v":0},{"$f":"'6 Resultat'!F296","v":0},null,"kg växtnäring",null,null,null,null,null,null,"Växtnäring \ni köttet",{"$f":"'6 Resultat'!D296","v":0},{"$f":"'6 Resultat'!E296","v":0},{"$f":"'6 Resultat'!F296","v":0},null,"kg växtnäring"]
[null,null,null,null,{"$f":"period_2","v":"Period 2"},"Växtnärings-\ninsats",{"$f":"'6 Resultat'!D300","v":0},{"$f":"'6 Resultat'!E300","v":0},{"$f":"'6 Resultat'!F300","v":0},null,"kg växtnäring",null,null,null,null,null,{"$f":"period_2","v":"Period 2"},"Växtnärings-\ninsats",{"$f":"'6 Resultat'!D300","v":0},{"$f":"'6 Resultat'!E300","v":0},{"$f":"'6 Resultat'!F300","v":0},null,"kg växtnäring"]
[null,null,null,null,null,"Växtnäring \ni köttet",{"$f":"'6 Resultat'!D301","v":0},{"$f":"'6 Resultat'!E301","v":0},{"$f":"'6 Resultat'!F301","v":0},null,"kg växtnäring",null,null,null,null,null,null,"Växtnäring \ni köttet",{"$f":"'6 Resultat'!D301","v":0},{"$f":"'6 Resultat'!E301","v":0},{"$f":"'6 Resultat'!F301","v":0},null,"kg växtnäring"]
[null,null,null,null,{"$f":"period_3","v":"Period 3"},"Växtnärings-\ninsats",{"$f":"'6 Resultat'!D305","v":0},{"$f":"'6 Resultat'!E305","v":0},{"$f":"'6 Resultat'!F305","v":0},null,"kg växtnäring",null,null,null,null,null,{"$f":"period_3","v":"Period 3"},"Växtnärings-\ninsats",{"$f":"'6 Resultat'!D305","v":0},{"$f":"'6 Resultat'!E305","v":0},{"$f":"'6 Resultat'!F305","v":0},null,"kg växtnäring"]
[null,null,null,null,null,"Växtnäring \ni köttet",{"$f":"'6 Resultat'!D306","v":0},{"$f":"'6 Resultat'!E306","v":0},{"$f":"'6 Resultat'!F306","v":0},null,"kg växtnäring",null,null,null,null,null,null,"Växtnäring \ni köttet",{"$f":"'6 Resultat'!D306","v":0},{"$f":"'6 Resultat'!E306","v":0},{"$f":"'6 Resultat'!F306","v":0},null,"kg växtnäring"]
[]
[null,null,null,null,null,null,"g införd kväve/kg kött","g införd fosfor/kg kött","g införd kalium/kg kött","% införd kväve av N i kött","% införd fosfor av P i kött","% införd kalium av K i kött",null,null,null,null,null,null,"g införd kväve/kg kött","g införd fosfor/kg kött","g införd kalium/kg kött","% införd kväve av N i kött","% införd fosfor av P i kött","% införd kalium av K i kött"]
[null,null,null,null,{"$f":"period_1","v":"Period 1"},"Insats per \nkg kött",{"$f":"'6 Resultat'!D297","v":0},{"$f":"'6 Resultat'!E297","v":0},{"$f":"'6 Resultat'!F297","v":0},null,null,null,null,null,null,null,{"$f":"period_1","v":"Period 1"},"Insats per \nkg kött",{"$f":"'6 Resultat'!D297","v":0},{"$f":"'6 Resultat'!E297","v":0},{"$f":"'6 Resultat'!F297","v":0}]
[null,null,null,null,null,"Insats / växt-\nnäring i köttet",null,null,null,{"$f":"'6 Resultat'!D298","v":0},{"$f":"'6 Resultat'!E298","v":0},{"$f":"'6 Resultat'!F298","v":0},null,null,null,null,null,"Insats / växt-\nnäring i köttet",null,null,null,{"$f":"'6 Resultat'!D298","v":0},{"$f":"'6 Resultat'!E298","v":0},{"$f":"'6 Resultat'!F298","v":0}]
[null,null,null,null,{"$f":"period_2","v":"Period 2"},"Insats per \nkg kött",{"$f":"'6 Resultat'!D302","v":0},{"$f":"'6 Resultat'!E302","v":0},{"$f":"'6 Resultat'!F302","v":0},null,null,null,null,null,null,null,{"$f":"period_2","v":"Period 2"},"Insats per \nkg kött",{"$f":"'6 Resultat'!D302","v":0},{"$f":"'6 Resultat'!E302","v":0},{"$f":"'6 Resultat'!F302","v":0}]
[null,null,null,null,null,"Insats / växt-\nnäring i köttet",null,null,null,{"$f":"'6 Resultat'!D303","v":0},{"$f":"'6 Resultat'!E303","v":0},{"$f":"'6 Resultat'!F303","v":0},null,null,null,null,null,"Insats / växt-\nnäring i köttet",null,null,null,{"$f":"'6 Resultat'!D303","v":0},{"$f":"'6 Resultat'!E303","v":0},{"$f":"'6 Resultat'!F303","v":0}]
[null,null,null,null,{"$f":"period_3","v":"Period 3"},"Insats per \nkg kött",{"$f":"'6 Resultat'!D307","v":0},{"$f":"'6 Resultat'!E307","v":0},{"$f":"'6 Resultat'!F307","v":0},null,null,null,null,null,null,null,{"$f":"period_3","v":"Period 3"},"Insats per \nkg kött",{"$f":"'6 Resultat'!D307","v":0},{"$f":"'6 Resultat'!E307","v":0},{"$f":"'6 Resultat'!F307","v":0}]
[null,null,null,null,null,"Insats / växt-\nnäring i köttet",null,null,null,{"$f":"'6 Resultat'!D308","v":0},{"$f":"'6 Resultat'!E308","v":0},{"$f":"'6 Resultat'!F308","v":0},null,null,null,null,null,"Insats / växt-\nnäring i köttet",null,null,null,{"$f":"'6 Resultat'!D308","v":0},{"$f":"'6 Resultat'!E308","v":0},{"$f":"'6 Resultat'!F308","v":0}]
[]
[]
[]
[]
[]
[]
[]
[]
[null,null,null,null,null,null,{"$f":"period_1","v":"Period 1"},{"$f":"period_2","v":"Period 2"},{"$f":"period_3","v":"Period 3"},null,null,null,null,null,null,null,null,null,{"$f":"period_1","v":"Period 1"},{"$f":"period_2","v":"Period 2"},{"$f":"period_3","v":"Period 3"}]
[null,null,null,null,null,"El",{"$f":"'6 Resultat'!D353","v":0},{"$f":"'6 Resultat'!E353","v":0},{"$f":"'6 Resultat'!F353","v":0},null,null,null,null,null,null,null,null,"El",{"$f":"'6 Resultat'!D353","v":0},{"$f":"'6 Resultat'!E353","v":0},{"$f":"'6 Resultat'!F353","v":0}]
[null,null,null,null,null,"Drivmedel",{"$f":"'6 Resultat'!D354","v":0},{"$f":"'6 Resultat'!E354","v":0},{"$f":"'6 Resultat'!F354","v":0},null,null,null,null,null,null,null,null,"Drivmedel",{"$f":"'6 Resultat'!D354","v":0},{"$f":"'6 Resultat'!E354","v":0},{"$f":"'6 Resultat'!F354","v":0}]
[null,null,null,null,null,"Bränsle för värme",{"$f":"'6 Resultat'!D355","v":0},{"$f":"'6 Resultat'!E355","v":0},{"$f":"'6 Resultat'!F355","v":0},null,null,null,null,null,null,null,null,"Bränsle för värme",{"$f":"'6 Resultat'!D355","v":0},{"$f":"'6 Resultat'!E355","v":0},{"$f":"'6 Resultat'!F355","v":0}]
[]
[]
[]
[]
[]
[]
[]
[]
[]
[null,null,null,null,null,{"$f":"'6 Resultat'!C381","v":"Eget mål"},{"$f":"'6 Resultat'!D381","v":"Period 1"},{"$f":"'6 Resultat'!E381","v":"Period 2"},{"$f":"'6 Resultat'!F381","v":"Period 3"}]
[null,null,null,null,"Total vattenförbrukning, liter",{"$f":"'6 Resultat'!C382","v":0},{"$f":"'6 Resultat'!D382","v":0},{"$f":"'6 Resultat'!E382","v":0},{"$f":"'6 Resultat'!F382","v":0}]
[null,null,null,null,"Vattenförbrukning per djur, liter/djur",{"$f":"'6 Resultat'!C383","v":0},{"$f":"'6 Resultat'!D383","v":0},{"$f":"'6 Resultat'!E383","v":0},{"$f":"'6 Resultat'!F383","v":0}]
[null,null,null,null,null,{"$f":"'6 Resultat'!C381","v":"Eget mål"},{"$f":"'6 Resultat'!D381","v":"Period 1"},{"$f":"'6 Resultat'!E381","v":"Period 2"},{"$f":"'6 Resultat'!F381","v":"Period 3"}]
[null,null,null,null,"Dricksvatten",{"$f":"'6 Resultat'!C385","v":0},{"$f":"'6 Resultat'!D385","v":0},{"$f":"'6 Resultat'!E385","v":0},{"$f":"'6 Resultat'!F385","v":0}]
[null,null,null,null,"Tvätt + övrigt",{"$f":"'6 Resultat'!C386","v":0},{"$f":"'6 Resultat'!D386","v":0},{"$f":"'6 Resultat'!E386","v":0},{"$f":"'6 Resultat'!F386","v":0}]
[null,null,null,null,"Ej specificerat",{"$f":"IF(SUM(F136:F137)=0,'6 Resultat'!C384,0)","v":0},{"$f":"IF(SUM(G136:G137)=0,'6 Resultat'!D384,0)","v":0},{"$f":"IF(SUM(H136:H137)=0,'6 Resultat'!E384,0)","v":0},{"$f":"IF(SUM(I136:I137)=0,'6 Resultat'!F384,0)","v":0}]