{"text_format":"1","workbook":"xlsx","n_sheets":22,"sheets":["Instruktion","Bakgrund","1 Intro djuren","1.1 Kött","1.2 Tillväxt & förökning","1.3 Hälsa & dödlighet","2 Intro foder","2.1 Odling foder","2.1b Halm, odling grovfoder","2.2 Förluster vid lagring","2.3 Utfodrat","2.4 Kasserat foder och spill","3 Växtnäringsutnyttjande (1)","3 Växtnäringsutnyttjande (2)","3 Växtnäringsutnyttjande (3)","4 Energi och bränsle","5 Vattenanvändning","6 Resultat","6B Klimat","tekn adm - produktlistor","Teknisk administration","diagramunderlag G"],"not_rendered":{"charts":17,"images":4,"macros":1,"external_links":0,"defined_names":128,"comments":0,"pivot_tables":0},"unopened":[],"bounds":{"document_bytes":16777216,"sheet_cells":100000,"rows_first":2000,"rows_last":500,"rows_between":2000,"halvings":0,"cell_chars":16384,"cell_head_chars":4096},"cells_cut":0,"cells_raw":0,"read":"whole","date_system":"1900"}

{"sheet":"Instruktion","index":0,"n_rows":54,"n_cols":16,"rows_kept":54,"cut":false,"hidden":false,"merged":[[53,0,53,6],[7,0,7,7],[8,0,8,7],[10,0,10,7],[11,0,11,7],[27,4,27,6],[11,9,11,10],[1,0,1,7],[2,0,2,7],[3,0,3,7],[4,0,4,7],[5,0,5,7],[6,9,6,10],[7,9,7,10],[8,9,8,10],[9,9,9,10],[10,9,10,10],[1,9,1,10],[2,9,2,10],[3,9,3,10],[4,9,4,10],[5,9,5,10]]}
["Instruktion - Så här använder du verktyget",null,null,null,null,null,null,null,null,"Det här betyder färgerna:",null,null,null,null,null,"Snabblänkar till bladen i verktyget:"]
["Verktyget är indelat i delar, d v s blad med samma färg och nummer:",null,null,null,null,null,null,null,null,"Cell med värden hämtade från annan cell",null,null,null,null,null,"Instruktion"]
["Börja med Bakgrund. Uppgifterna som du fyller i där guidar dig vidare genom resten av verktyget.",null,null,null,null,null,null,null,null,"Beräkning",null,null,null,null,null,"Bakgrund"]
["Fyll sedan i 1 Intro djuren och 1.1 Kött. De uppgifterna behövs för att beräkna nyckeltal per djur eller kg kött i resten av verktyget",null,null,null,null,null,null,null,null,"Fyll i din egen siffra",null,null,null,null,null,"1 Intro djuren"]
["Sen kan du välja att fylla i en eller flera delar av verktyget. På vissa blad är det många uppgifter som ska fyllas i för att få fram bra nyckeltal. Det går dock bra att välja ut vissa delar av verktyget och att fylla i delarna efterhand. ",null,null,null,null,null,null,null,null,"Fyll i egen siffra - frivilligt, t ex om du har tillgång till uppgift eller om du vill räkna med annat värde än det schablonvärde som visas i angränsande cell",null,null,null,null,null,"1.1 Kött"]
["Resultaten presenteras i samlad form på bladet Resultat. Där får du en överblick över alla de resultat som verktyget hittills har räknat ut åt dig.",null,null,null,null,null,null,null,null,"Egen uppgift, men välj värde ur rullista. ",null,null,null,null,null,"1.2 Tillväxt & förökning"]
[null,null,null,null,null,null,null,null,null,"Resultat/uträkning",null,null,null,null,null,"1.3 Hälsa & dödlighet"]
["Fyll i data så noga du kan! Ju säkrare du är på den ingående datan desto mer nytta kommer du att ha av nyckeltalen. ",null,null,null,null,null,null,null,null,"Schablonvärde",null,null,null,null,null,"2 Intro foder"]
["Använd verktyget för att jämföra dig med dig själv under flera perioder. En del av nyckeltalen som du får fram är nya i och med det här verktyget. Därför kan det vara bra att ta hjälp av en rådgivare för att tolka resultaten och jämföra dig med andra som använder verktyget. Genom att använda verktyget flera perioder i rad skapar du dessutom egna medelvärden och du kommer att kunna se både snabba och långsamma förändringar på gården. ",null,null,null,null,null,null,null,null,"Förklaringar till raden",null,null,null,null,null,"2.1 Odling foder"]
[null,null,null,null,null,null,null,null,null,"Plats för egna kommentarer",null,null,null,null,null,"2.1b Halm, odling grovfoder"]
["Tips när du använder Excel:",null,null,null,null,null,null,null,null,"Glöm inte att fylla i värde! (Här krävs ett värde för att andra beräkningar ska fungera",null,null,null,null,null,"2.2 Förluster vid lagring"]
["För att ta bort siffror eller text som du har skrivit i kan du trycka på Delete. Det fungerar även om du har valt ur en lista (orange cell).\nSe manualen för fler tips!",null,null,null,null,null,null,null,null,"grå text, ev vit bakgrund: Avsnittet är inte relevant för dig baserat på svaren på ja/nej-frågor på bladet Bakgrund",null,null,null,null,null,"2.3 Utfodrat"]
[null,null,null,null,null,null,null,null,null,null,null,null,null,null,null,"2.4 Kasserat foder och spill"]
[null,null,null,null,null,null,null,null,null,null,null,null,null,null,null,"3 Växtnäringsutnyttjande (1)"]
[null,null,null,null,null,null,null,null,null,null,null,null,null,null,null,"3 Växtnäringsutnyttjande (2)"]
[null,null,null,null,null,null,null,null,null,null,null,null,null,null,null,"3 Växtnäringsutnyttjande (3)"]
[null,null,null,null,null,null,null,null,null,null,null,null,null,null,null,"4 Energi och bränsle"]
[null,null,null,null,null,null,null,null,null,null,null,null,null,null,null,"5 Vattenanvändning"]
[null,null,null,null,null,null,null,null,null,null,null,null,null,null,null,"6 Resultat"]
[null,null,null,null,null,null,null,null,null,null,null,null,null,null,null,"6B Klimat"]
[]
[]
[]
[]
[]
[]
[]
[null,null,null,null,"Period",null,null,null,"Egen kommentar ","Förklaring","WinPig Sugg/Slakt 2019*"]
[null,null,"Tillväxt","Enhet","20xx","20yy","Period3",null,null,null,"Medel","Sugg Bästa 25 %","Slakt Bästa 25% på tillväxt","Slakt Bästa 25 % på foder per kg tillv"]
[null,null,"Producerade slaktgrisar under perioden","antal",2500,3000,0]
[null,null,"Beräknad tillväxt slaktsvin","g/dag",948,920,null,null,null,"Har du redan siffror på beräknad tillväxt - ange det här",948,null,1030,999]
[null,null,"Foderdagar per slaktgris","dagar",96,null,null,null,null,null,96,null,90,93]
[null,null,"Beräknad total tillväxt slaktgrisar","kg",{"$f":"E30*E31*E32/1000","v":227520},{"$f":"F30*F31*F32/1000","v":0},0]
[null,null,"Antal stallplatser enligt djurskyddslag","stallplatser",null,null,null,null,null,"Max antal djur enligt djurskyddslag, se din förprövning. Fylls i om du har tillgång till uppgiften "]
[]
[]
[]
[]
[]
[]
[]
[]
[]
[]
[]
[]
[]
[]
[]
[]
[]
[]
[]
["Om projektet: Projektet Effektivare resurshantering på gård pågick 2020-2021 och genomfördes av Hushållningssällskapet på uppdrag av Jordbruksverket. Syftet med projektet var att skapa ett verktyg som genom att samla mätdata på en plats kan ge nya insikter om vilka resurser som kan användas effektivare på djurgårdar. Förutom verktyget finns en manual, en rapport, en kort borschyr, och en kortare sammanfattning av rapporten."]

{"sheet":"Bakgrund","index":1,"n_rows":57,"n_cols":69,"rows_kept":57,"cut":false,"hidden":false,"merged":[[11,4,12,4]]}
["Bakgrund",null,null,null,null,null,null,null,null,"Det här betyder färgerna:"]
["Obligatoriskt blad",null,null,null,null,null,null,null,null,"Cell med värden hämtade från annan cell"]
["Börja med detta blad. ",null,null,null,null,null,null,null,null,"Beräkning"]
["Här bestämmer du vilken period du vill räkna på samt får svar på vilka delar i verktyget som kan vara mest användbara för dig. ",null,null,null,null,null,null,null,null,"Fyll i din egen siffra"]
[null,null,null,null,null,null,null,null,null,"Egen uppgift, men välj värde ur rullista. "]
[null,null,null,null,null,null,null,null,null,"Förklaringar till raden"]
["1.1 Period",null,null,null,null,null,null,null,null,"Plats för egna kommentarer",null,null,null,null,null,null,null,{"$f":"IF(ISBLANK(B11),B10,B11)","v":"Period 1"},{"$f":"IF(ISBLANK(C11),C10,C11)","v":"Period 2"},"Period 3",null,null,"intervall"]
["I verktyget kan du fylla i uppgifter för tre perioder. En period kan vara ett år (t ex 1 jan-31 dec, 1 juni-31 maj), en omgång, en säsong (t ex betesperioden) eller en del av produktionen. Välj själv!",null,null,null,null,null,null,null,null,"Schablonvärde",null,null,null,null,null,null,null,{"$f":"R7","v":"Period 1"},{"$f":"S7","v":"Period 2"},{"$f":"T7","v":"Period 3"}]
["Börja med att namnge perioden du ska jobba med. Namnet kommer sedan att följa med i rubrikerna i hela verktyget",null,null,null,null,null,null,null,null,null,null,null,null,null,null,null,"start dag",{"$f":"DAY(B12)","v":0},{"$f":"DAY(C12)","v":0},{"$f":"DAY(D12)","v":0}]
["Om perioden","Period 1","Period 2","Period 3","Förklaring","Egen kommentar",null,null,null,null,null,null,null,null,null,null,"start månad",{"$f":"MONTH(B12)","v":1},{"$f":"MONTH(C12)","v":1},{"$f":"MONTH(D12)","v":1}]
["Periodens namn. År, omgång, säsong etc.",null,null,null,"Skriv vilken period som du vill att beräkningarna ska göras för, använd siffror och/eller bokstäver. Kan t ex vara ett år (t ex 2021), en omgång (t ex Omgång 1 2021) eller något annat (t ex Betesperioden). Det som du skriver här kommer att kopieras till de efterföljande bladen.",null,null,null,null,"Snabblänkar till bladen i verktyget:",null,null,null,null,null,null,"slut dag",{"$f":"DAY(B13)","v":0},{"$f":"DAY(C13)","v":0},{"$f":"DAY(D13)","v":0}]
["Startdatum",null,null,null,"Här anger datum för första respektive sista dagen i perioden. Kan t ex skrivas som \"01-01-21\", \"2021-01-01\", \"1 jan -21\", \"1 januari 2021\", visas som \"2021-01-01\". Perioden kan vara ett kalenderår, ett odlingsår, en omgång eller liknande. Uppgifterna används på vissa platser för guida hur du ska fylla i verktyget"," ",null,null,null,"Instruktion",null,null,null,null,null,null,"slut månad",{"$f":"MONTH(B13)","v":1},{"$f":"MONTH(C13)","v":1},{"$f":"MONTH(D13)","v":1}]
["Slutdatum",null,null,null,null,null,null,null,null,"Bakgrund",null,null,null,null,null,null,"Helt år",{"$f":"IF(AND(B14>350,B14<370),1,0)","v":0},{"$f":"IF(AND(C14>350,C14<370),1,0)","v":0},0]
["Periodens längd (dagar)",{"$f":"_xlfn.DAYS(B13,B12)+IF(B12>1,1,0)","v":0},{"$f":"_xlfn.DAYS(C13,C12)+IF(C12>1,1,0)","v":0},{"$f":"_xlfn.DAYS(D13,D12)+IF(D12>1,1,0)","v":0},"Antal dagar i perioden. Beräknas utifrån start- och slutdatum. Om fältet är rött behöver du kontrollera så att start- och slutdatum är rätt och har rätt årtal.",null,null,null,null,"1 Intro djuren",null,null,null,null,null,null,"kalenderår",{"$f":"IF(R13=1,IF(OR(R10=1,R10=12),1,0),0)","v":0},{"$f":"IF(S13=1,IF(OR(S10=1,S10=12),1,0),0)","v":0},0]
[null,null,null,null,null,null,null,null,null,"1.1 Kött",null,null,null,null,null,null,"växtodlingsår",{"$f":"IF(R13=1,IF(AND(R10>$W15,R10<$X15),1,0),0)","v":0},{"$f":"IF(S13=1,IF(AND(S10>$W15,S10<$X15),1,0),0)","v":0},{"$f":"IF(T13=1,IF(AND(T10>$W15,T10<$X15),1,0),0)","v":0},null,null,4.9000000000000004,9.9]
[null,null,null,null,null,null,null,null,null,"1.2 Tillväxt & förökning"]
["1.2 Guidning till verktyget",null,null,null,null,null,null,null,null,"1.3 Hälsa & dödlighet"]
["Inledande frågor",null,null,null,null,null,null,null,null,"2 Intro foder"]
["Svara på följande ja/nej-frågor. Svaren kommer att guida dig genom verktyget och används för att visa vilka delar som är användbara för just dig. ",null,null,null,null,null,null,null,null,"2.1 Odling foder"]
["Dina svar avgör om det står Obligatoriskt, Frivilligt eller Inte relevant i cell A2 på varje blad. Svaren används även för att \"släcka\" (d v s grå text och vit bakgrund) vissa tabeller och rader som inte är relevanta för dig. ",null,null,null,null,null,null,null,null,"2.1b Halm, odling grovfoder"]
["Om du är osäker på vad du ska svara är det bäst att välja \"ja\". Då visas alla avsnitt senare i verktyget som hör till frågan, och du kan själv välja om du vill fylla i avsnittet.",null,null,null,null,null,null,null,null,"2.2 Förluster vid lagring"]
["Klicka i cellen så visas en grå ruta med pil till höger om cellen. Klicka på pilen och välj alternativ ur listan! Ändra svar genom att göra ett nytt val. Ta bort ett svar genom att radera det. ",null,null,null,null,null,null,null,null,"2.3 Utfodrat"]
["Generellt","Svar (ja/nej)","Förklaring till frågan och svaret",null,null,null,null,null,null,"2.4 Kasserat foder och spill",null,null,null,null,null,null,null,null,null,null,null,null,null,null,null,null,null,null,null,null,null,null,null,null,null,null,null,null,null,"Ja","Nej","Har uppföljningssystem","Har mark","Skördar grödor","Köper foder","Säljre grödor","växtnäringbalans period1","växtnäringbalans period2","växtnäringbalans period3","vatten","energi","Nöt: hondjur","Nöt: inköp kalvar","Bete?","Smågrisa","Slaktgrisa","Klimat","vinterlamm","Intresserad av foderåtgång","Intresserad av foderförluster","Intresserad växtnäring","Visa bladet Halm & grovfoder"]
[{"$f":"'Teknisk administration'!A504","v":"Vill du ta fram nyckeltal om foderåtgång?"},null,{"$f":"IF(ISTEXT(B24),IF(B24='Teknisk administration'!B$502,'Teknisk administration'!B504,'Teknisk administration'!C504),IF(ISTEXT(A24),'Teknisk administration'!D504,'Teknisk administration'!$A$501))","v":"Ja = del 2 i verktyget (om foder) kommer att visas. Nej = del 2 i verktyget är inte relevant för dig"},null,null,null,null,null,null,"3 Växtnäringsutnyttjande (1)",null,null,null,null,null,null,null,null,null,null,null,null,null,null,null,null,null,null,null,null,null,null,null,null,null,null,null,null,null,{"$f":"IF(B24=AN$23,1,0)","v":0},{"$f":"IF(B24=AO$23,1,0)","v":0},null,{"$f":"(1-$AO24)*'Teknisk administration'!I504","v":0},{"$f":"(1-$AO24)*'Teknisk administration'!J504","v":0},{"$f":"$AN24*'Teknisk administration'!K504","v":0},{"$f":"(1-$AO24)*'Teknisk administration'!L504","v":0},{"$f":"$AN24*'Teknisk administration'!M504","v":0},{"$f":"$AN24*'Teknisk administration'!N504","v":0},{"$f":"$AN24*'Teknisk administration'!O504","v":0},{"$f":"(1-$AO24)*'Teknisk administration'!P504","v":0},{"$f":"(1-$AO24)*'Teknisk administration'!Q504","v":0},null,null,null,null,null,null,null,{"$f":"(1-$AO24)*'Teknisk administration'!Y504","v":1},{"$f":"(1-$AO24)*'Teknisk administration'!Z504","v":0},{"$f":"$AN24*'Teknisk administration'!AA504","v":0},{"$f":"$AN24*'Teknisk administration'!AB504","v":0}]
[{"$f":"'Teknisk administration'!A505","v":"Vill du beräkna förlusterna i foderkedjan?"},null,{"$f":"IF(ISTEXT(B25),IF(B25='Teknisk administration'!B$502,'Teknisk administration'!B505,'Teknisk administration'!C505),IF(ISTEXT(A25),'Teknisk administration'!D505,'Teknisk administration'!$A$501))","v":"Ja = del 2 i verktyget (om foder) kommer att visas. Nej = del 2 i verktyget är inte relevant för dig"},null,null,null,null,null,null,"3 Växtnäringsutnyttjande (2)",null,null,null,null,null,null,null,null,null,null,null,null,null,null,null,null,null,null,null,null,null,null,null,null,null,null,null,null,null,0,0,null,{"$f":"(1-AO25)*'Teknisk administration'!I505","v":0},{"$f":"(1-$AO25)*'Teknisk administration'!J505","v":0},{"$f":"AN25*'Teknisk administration'!K505","v":0},{"$f":"(1-$AO25)*'Teknisk administration'!L505","v":0},{"$f":"$AN25*'Teknisk administration'!M505","v":0},{"$f":"$AN25*'Teknisk administration'!N505","v":0},{"$f":"$AN25*'Teknisk administration'!O505","v":0},{"$f":"(1-$AO25)*'Teknisk administration'!P505","v":0},{"$f":"(1-$AO25)*'Teknisk administration'!Q505","v":0},null,null,null,null,null,null,null,{"$f":"(1-AO25)*'Teknisk administration'!Y505","v":0},{"$f":"(1-$AO25)*'Teknisk administration'!Z505","v":1},{"$f":"$AN25*'Teknisk administration'!AA505","v":0},{"$f":"$AN25*'Teknisk administration'!AB505","v":0}]
[{"$f":"'Teknisk administration'!A506","v":"Skördar du eget foder till djuren?"},null,{"$f":"IF(ISTEXT(B26),IF(B26='Teknisk administration'!B$502,'Teknisk administration'!B506,'Teknisk administration'!C506),IF(ISTEXT(A26),'Teknisk administration'!D506,'Teknisk administration'!$A$501))","v":"Välj \"ja\" eller \"nej\" i den orange cellen"},null,null,null,null,null,null,"3 Växtnäringsutnyttjande (3)",null,null,null,null,null,null,null,null,null,null,null,null,null,null,null,null,null,null,null,null,null,null,null,null,null,null,null,null,null,0,0,null,{"$f":"(1-AO26)*'Teknisk administration'!I506","v":1},{"$f":"(1-$AO26)*'Teknisk administration'!J506","v":1},{"$f":"AN26*'Teknisk administration'!K506","v":0},{"$f":"(1-$AO26)*'Teknisk administration'!L506","v":0},{"$f":"$AN26*'Teknisk administration'!M506","v":0},{"$f":"$AN26*'Teknisk administration'!N506","v":0},{"$f":"$AN26*'Teknisk administration'!O506","v":0},{"$f":"(1-$AO26)*'Teknisk administration'!P506","v":0},{"$f":"(1-$AO26)*'Teknisk administration'!Q506","v":0},null,null,null,null,null,null,null,{"$f":"(1-AO26)*'Teknisk administration'!Y506","v":0},{"$f":"(1-$AO26)*'Teknisk administration'!Z506","v":0},{"$f":"$AN26*'Teknisk administration'!AA506","v":0},{"$f":"$AN26*'Teknisk administration'!AB506","v":0}]
[{"$f":"'Teknisk administration'!A507","v":"Bärgar du halm?"},null,{"$f":"IF(ISTEXT(B27),IF(B27='Teknisk administration'!B$502,'Teknisk administration'!B507,'Teknisk administration'!C507),IF(ISTEXT(A27),'Teknisk administration'!D507,'Teknisk administration'!$A$501))","v":"Välj \"ja\" eller \"nej\" i den orange cellen"},null,null,null,null,null,null,"4 Energi och bränsle",null,null,null,null,null,null,null,null,null,null,null,null,null,null,null,null,null,null,null,null,null,null,null,null,null,null,null,null,null,0,0,null,{"$f":"(1-AO27)*'Teknisk administration'!I507","v":0},{"$f":"(1-$AO27)*'Teknisk administration'!J507","v":0},{"$f":"AN27*'Teknisk administration'!K507","v":0},{"$f":"(1-$AO27)*'Teknisk administration'!L507","v":0},{"$f":"$AN27*'Teknisk administration'!M507","v":0},{"$f":"$AN27*'Teknisk administration'!N507","v":0},{"$f":"$AN27*'Teknisk administration'!O507","v":0},{"$f":"(1-$AO27)*'Teknisk administration'!P507","v":0},{"$f":"(1-$AO27)*'Teknisk administration'!Q507","v":0},null,null,null,null,null,null,null,{"$f":"(1-AO27)*'Teknisk administration'!Y507","v":0},{"$f":"(1-$AO27)*'Teknisk administration'!Z507","v":0},{"$f":"$AN27*'Teknisk administration'!AA507","v":0},{"$f":"$AN27*'Teknisk administration'!AB507","v":0}]
[{"$f":"'Teknisk administration'!A508","v":"Skördar du ensilage, hö, hösilage eller grönfoder?"},null,{"$f":"IF(ISTEXT(B28),IF(B28='Teknisk administration'!B$502,'Teknisk administration'!B508,'Teknisk administration'!C508),IF(ISTEXT(A28),'Teknisk administration'!D508,'Teknisk administration'!$A$501))","v":"Välj \"ja\" eller \"nej\" i den orange cellen"},null,null,null,null,null,null,"5 Vattenanvändning",null,null,null,null,null,null,null,null,null,null,null,null,null,null,null,null,null,null,null,null,null,null,null,null,null,null,null,null,null,0,0,null,{"$f":"(1-AO28)*'Teknisk administration'!I508","v":0},{"$f":"(1-$AO28)*'Teknisk administration'!J508","v":0},{"$f":"AN28*'Teknisk administration'!K508","v":0},{"$f":"(1-$AO28)*'Teknisk administration'!L508","v":0},{"$f":"$AN28*'Teknisk administration'!M508","v":0},{"$f":"$AN28*'Teknisk administration'!N508","v":0},{"$f":"$AN28*'Teknisk administration'!O508","v":0},{"$f":"(1-$AO28)*'Teknisk administration'!P508","v":0},{"$f":"(1-$AO28)*'Teknisk administration'!Q508","v":0},null,null,null,null,null,null,null,{"$f":"(1-AO28)*'Teknisk administration'!Y508","v":0},{"$f":"(1-$AO28)*'Teknisk administration'!Z508","v":0},{"$f":"$AN28*'Teknisk administration'!AA508","v":0},{"$f":"$AN28*'Teknisk administration'!AB508","v":0}]
[{"$f":"'Teknisk administration'!A509","v":"Säljer du grödor som du har odlat?"},null,{"$f":"IF(ISTEXT(B29),IF(B29='Teknisk administration'!B$502,'Teknisk administration'!B509,'Teknisk administration'!C509),IF(ISTEXT(A29),'Teknisk administration'!D509,'Teknisk administration'!$A$501))","v":"Välj \"ja\" eller \"nej\" i den orange cellen"},null,null,null,null,null,null,"6 Resultat",null,null,null,null,null,null,null,null,null,null,null,null,null,null,null,null,null,null,null,null,null,null,null,null,null,null,null,null,null,0,0,null,{"$f":"(1-AO29)*'Teknisk administration'!I509","v":1},{"$f":"(1-$AO29)*'Teknisk administration'!J509","v":1},{"$f":"AN29*'Teknisk administration'!K509","v":0},{"$f":"(1-$AO29)*'Teknisk administration'!L509","v":1},{"$f":"$AN29*'Teknisk administration'!M509","v":0},{"$f":"$AN29*'Teknisk administration'!N509","v":0},{"$f":"$AN29*'Teknisk administration'!O509","v":0},{"$f":"(1-$AO29)*'Teknisk administration'!P509","v":0},{"$f":"(1-$AO29)*'Teknisk administration'!Q509","v":0},null,null,null,null,null,null,null,{"$f":"(1-AO29)*'Teknisk administration'!Y509","v":0},{"$f":"(1-$AO29)*'Teknisk administration'!Z509","v":0},{"$f":"$AN29*'Teknisk administration'!AA509","v":0},{"$f":"$AN29*'Teknisk administration'!AB509","v":0}]
[{"$f":"'Teknisk administration'!A510","v":"Vill du beräkna växtnäringsutnyttjandet?"},null,{"$f":"IF(ISTEXT(B30),IF(B30='Teknisk administration'!B$502,'Teknisk administration'!B510,'Teknisk administration'!C510),IF(ISTEXT(A30),'Teknisk administration'!D510,'Teknisk administration'!$A$501))","v":"Ja = del 3 i verktyget (om växtnäringsutnyttjande) kommer att visas. Nej = del 3 är inte relevant för dig"},null,null,null,null,null,null,"6B Klimat",null,null,null,null,null,null,null,null,null,null,null,null,null,null,null,null,null,null,null,null,null,null,null,null,null,null,null,null,null,0,0,null,{"$f":"(1-AO30)*'Teknisk administration'!I510","v":0},{"$f":"(1-$AO30)*'Teknisk administration'!J510","v":0},{"$f":"AN30*'Teknisk administration'!K510","v":0},{"$f":"(1-$AO30)*'Teknisk administration'!L510","v":0},{"$f":"$AN30*'Teknisk administration'!M510","v":0},{"$f":"$AN30*'Teknisk administration'!N510","v":0},{"$f":"$AN30*'Teknisk administration'!O510","v":0},{"$f":"(1-$AO30)*'Teknisk administration'!P510","v":0},{"$f":"(1-$AO30)*'Teknisk administration'!Q510","v":0},null,null,null,null,null,null,null,{"$f":"(1-AO30)*'Teknisk administration'!Y510","v":0},{"$f":"(1-$AO30)*'Teknisk administration'!Z510","v":0},{"$f":"$AN30*'Teknisk administration'!AA510","v":0},{"$f":"$AN30*'Teknisk administration'!AB510","v":0}]
[{"$f":"'Teknisk administration'!A511","v":"Har du en aktuell växtnäringsbalans för perioden:"},null,{"$f":"IF(ISTEXT(B31),IF(B31='Teknisk administration'!B$502,'Teknisk administration'!B511,'Teknisk administration'!C511),IF(ISTEXT(A31),'Teknisk administration'!D511,'Teknisk administration'!$A$501))","v":"T ex från Greppa Näringen. Användbart om du vill beräkna växtnäringsutnyttjande"},null,null,null,null,null,null,null,null,null,null,null,null,null,null,null,null,null,null,null,null,null,null,null,null,null,null,null,null,null,null,null,null,null,null,null,null,0,0,null,{"$f":"(1-AO31)*'Teknisk administration'!I511","v":0},{"$f":"(1-$AO31)*'Teknisk administration'!J511","v":0},{"$f":"AN31*'Teknisk administration'!K511","v":0},{"$f":"(1-$AO31)*'Teknisk administration'!L511","v":0},{"$f":"$AN31*'Teknisk administration'!M511","v":0},{"$f":"$AN31*'Teknisk administration'!N511","v":0},{"$f":"$AN31*'Teknisk administration'!O511","v":0},{"$f":"(1-$AO31)*'Teknisk administration'!P511","v":0},{"$f":"(1-$AO31)*'Teknisk administration'!Q511","v":0},null,null,null,null,null,null,null,{"$f":"(1-AO31)*'Teknisk administration'!Y511","v":0},{"$f":"(1-$AO31)*'Teknisk administration'!Z511","v":0},{"$f":"$AN31*'Teknisk administration'!AA511","v":0},{"$f":"$AN31*'Teknisk administration'!AB511","v":0}]
[{"$f":"'Teknisk administration'!A512","v":"     - Period 1"},null,{"$f":"IF(ISTEXT(B32),IF(B32='Teknisk administration'!B$502,'Teknisk administration'!B512,'Teknisk administration'!C512),IF(ISTEXT(A32),'Teknisk administration'!D512,'Teknisk administration'!$A$501))","v":"Svara ja eller nej när du ska fylla i uppgifter för period 1"},null,null,null,null,null,null,null,null,null,null,null,null,null,null,null,null,null,null,null,null,null,null,null,null,null,null,null,null,null,null,null,null,null,null,null,null,0,0,null,{"$f":"(1-AO32)*'Teknisk administration'!I512","v":0},{"$f":"(1-$AO32)*'Teknisk administration'!J512","v":0},{"$f":"AN32*'Teknisk administration'!K512","v":0},{"$f":"(1-$AO32)*'Teknisk administration'!L512","v":0},{"$f":"$AN32*'Teknisk administration'!M512","v":0},{"$f":"$AN32*'Teknisk administration'!N512","v":0},{"$f":"$AN32*'Teknisk administration'!O512","v":0},{"$f":"(1-$AO32)*'Teknisk administration'!P512","v":0},{"$f":"(1-$AO32)*'Teknisk administration'!Q512","v":0},null,null,null,null,null,null,null,{"$f":"(1-AO32)*'Teknisk administration'!Y512","v":0},{"$f":"(1-$AO32)*'Teknisk administration'!Z512","v":0},{"$f":"$AN32*'Teknisk administration'!AA512","v":0},{"$f":"$AN32*'Teknisk administration'!AB512","v":0}]
[{"$f":"'Teknisk administration'!A513","v":"     - Period 2"},null,{"$f":"IF(ISTEXT(B33),IF(B33='Teknisk administration'!B$502,'Teknisk administration'!B513,'Teknisk administration'!C513),IF(ISTEXT(A33),'Teknisk administration'!D513,'Teknisk administration'!$A$501))","v":"Svara ja eller nej när du ska fylla i uppgifter för period 2"},null,null,null,null,null,null,null,null,null,null,null,null,null,null,null,null,null,null,null,null,null,null,null,null,null,null,null,null,null,null,null,null,null,null,null,null,0,0,null,{"$f":"(1-AO33)*'Teknisk administration'!I513","v":0},{"$f":"(1-$AO33)*'Teknisk administration'!J513","v":0},{"$f":"AN33*'Teknisk administration'!K513","v":0},{"$f":"(1-$AO33)*'Teknisk administration'!L513","v":0},{"$f":"$AN33*'Teknisk administration'!M513","v":0},{"$f":"$AN33*'Teknisk administration'!N513","v":0},{"$f":"$AN33*'Teknisk administration'!O513","v":0},{"$f":"(1-$AO33)*'Teknisk administration'!P513","v":0},{"$f":"(1-$AO33)*'Teknisk administration'!Q513","v":0},null,null,null,null,null,null,null,{"$f":"(1-AO33)*'Teknisk administration'!Y513","v":0},{"$f":"(1-$AO33)*'Teknisk administration'!Z513","v":0},{"$f":"$AN33*'Teknisk administration'!AA513","v":0},{"$f":"$AN33*'Teknisk administration'!AB513","v":0}]
[{"$f":"'Teknisk administration'!A514","v":"     - Period 3"},null,{"$f":"IF(ISTEXT(B34),IF(B34='Teknisk administration'!B$502,'Teknisk administration'!B514,'Teknisk administration'!C514),IF(ISTEXT(A34),'Teknisk administration'!D514,'Teknisk administration'!$A$501))","v":"Svara ja eller nej när du ska fylla i uppgifter för period 3"},null,null,null,null,null,null,null,null,null,null,null,null,null,null,null,null,null,null,null,null,null,null,null,null,null,null,null,null,null,null,null,null,null,null,null,null,0,0,null,{"$f":"(1-AO34)*'Teknisk administration'!I514","v":0},{"$f":"(1-$AO34)*'Teknisk administration'!J514","v":0},{"$f":"AN34*'Teknisk administration'!K514","v":0},{"$f":"(1-$AO34)*'Teknisk administration'!L514","v":0},{"$f":"$AN34*'Teknisk administration'!M514","v":0},{"$f":"$AN34*'Teknisk administration'!N514","v":0},{"$f":"$AN34*'Teknisk administration'!O514","v":0},{"$f":"(1-$AO34)*'Teknisk administration'!P514","v":0},{"$f":"(1-$AO34)*'Teknisk administration'!Q514","v":0},null,null,null,null,null,null,null,{"$f":"(1-AO34)*'Teknisk administration'!Y514","v":0},{"$f":"(1-$AO34)*'Teknisk administration'!Z514","v":0},{"$f":"$AN34*'Teknisk administration'!AA514","v":0},{"$f":"$AN34*'Teknisk administration'!AB514","v":0}]
[{"$f":"'Teknisk administration'!A515","v":"Är du intresserad av vattenfrågor ?"},null,{"$f":"IF(ISTEXT(B35),IF(B35='Teknisk administration'!B$502,'Teknisk administration'!B515,'Teknisk administration'!C515),IF(ISTEXT(A35),'Teknisk administration'!D515,'Teknisk administration'!$A$501))","v":"Välj \"ja\" eller \"nej\" i den orange cellen"},null,null,null,null,null,null,null,null,null,null,null,null,null,null,null,null,null,null,null,null,null,null,null,null,null,null,null,null,null,null,null,null,null,null,null,null,0,0,null,{"$f":"(1-AO35)*'Teknisk administration'!I515","v":0},{"$f":"(1-$AO35)*'Teknisk administration'!J515","v":0},{"$f":"AN35*'Teknisk administration'!K515","v":0},{"$f":"(1-$AO35)*'Teknisk administration'!L515","v":0},{"$f":"$AN35*'Teknisk administration'!M515","v":0},{"$f":"$AN35*'Teknisk administration'!N515","v":0},{"$f":"$AN35*'Teknisk administration'!O515","v":0},{"$f":"(1-$AO35)*'Teknisk administration'!P515","v":1},{"$f":"(1-$AO35)*'Teknisk administration'!Q515","v":0},null,null,null,null,null,null,null,{"$f":"(1-AO35)*'Teknisk administration'!Y515","v":0},{"$f":"(1-$AO35)*'Teknisk administration'!Z515","v":0},{"$f":"$AN35*'Teknisk administration'!AA515","v":0},{"$f":"$AN35*'Teknisk administration'!AB515","v":0}]
[{"$f":"'Teknisk administration'!A516","v":"Är du intresserad av energifrågor ?"},null,{"$f":"IF(ISTEXT(B36),IF(B36='Teknisk administration'!B$502,'Teknisk administration'!B516,'Teknisk administration'!C516),IF(ISTEXT(A36),'Teknisk administration'!D516,'Teknisk administration'!$A$501))","v":"Välj \"ja\" eller \"nej\" i den orange cellen"},null,null,null,null,null,null,null,null,null,null,null,null,null,null,null,null,null,null,null,null,null,null,null,null,null,null,null,null,null,null,null,null,null,null,null,null,0,0,null,{"$f":"(1-AO36)*'Teknisk administration'!I516","v":0},{"$f":"(1-$AO36)*'Teknisk administration'!J516","v":0},{"$f":"AN36*'Teknisk administration'!K516","v":0},{"$f":"(1-$AO36)*'Teknisk administration'!L516","v":0},{"$f":"$AN36*'Teknisk administration'!M516","v":0},{"$f":"$AN36*'Teknisk administration'!N516","v":0},{"$f":"$AN36*'Teknisk administration'!O516","v":0},{"$f":"(1-$AO36)*'Teknisk administration'!P516","v":0},{"$f":"(1-$AO36)*'Teknisk administration'!Q516","v":1},null,null,null,null,null,null,null,{"$f":"(1-AO36)*'Teknisk administration'!Y516","v":0},{"$f":"(1-$AO36)*'Teknisk administration'!Z516","v":0},{"$f":"$AN36*'Teknisk administration'!AA516","v":0},{"$f":"$AN36*'Teknisk administration'!AB516","v":0}]
[null,null,null,null,null,null,null,null,null,null,null,null,null,null,null,null,null,null,null,null,null,null,null,null,null,null,null,null,null,null,null,null,null,null,null,null,null,null,null,null,null,null,{"$f":"SUM(AQ24:AQ36)","v":2},2,0,1,0,0,0,1,1,null,null,null,null,null,null,null,{"$f":"SUM(BG24:BG36)","v":1},{"$f":"SUM(BH24:BH36)","v":1},{"$f":"SUM(BI24:BI36)","v":0},{"$f":"SUM(BJ24:BJ36)","v":0}]
[]
["Om djuren","Svar (ja/nej)","Förklaring till frågan och svaret",null,null,null,null,null,null,null,null,null,null,null,null,null,null,null,null,null,null,null,null,null,null,null,null,null,null,null,null,null,null,null,null,null,null,null,null,"Ja","Nej","Har uppföljningssystem","Har mark","Skördar grödor","Köper foder","Säljre grödor","växtnäringbalans period1","växtnäringbalans period2","växtnäringbalans period3","vatten","energi","Nöt: hondjur","Nöt: inköp kalvar","Bete?","Smågrisa","Slaktgrisa","Klimat","vinterlamm","Intresserad av foderåtgång","Intresserad av foderförluster","Intresserad växtnäring","Kolumn19","Kolumn19","Kolumn19","Kolumn19","Kolumn19","Kolumn19","Kolumn19","Kolumn19"]
[{"$f":"'Teknisk administration'!A520","v":"Har du smågrisproduktion?"},null,{"$f":"IF(ISTEXT(B40),IF(B40='Teknisk administration'!B$502,'Teknisk administration'!B520,'Teknisk administration'!C520),IF(ISTEXT(A40),'Teknisk administration'!D520,'Teknisk administration'!$A$501))","v":"Välj \"ja\" eller \"nej\" i den orange cellen"},null,null,null,null,null,null,null,null,null,null,null,null,null,null,null,null,null,null,null,null,null,null,null,null,null,null,null,null,null,null,null,null,null,null,null,null,{"$f":"IF(B40=AN$39,1,0)","v":0},{"$f":"IF(B40=AO$39,1,0)","v":0},{"$f":"$AN40*'Teknisk administration'!H520","v":0},null,null,null,null,null,null,null,null,null,null,null,{"$f":"AN40*'Teknisk administration'!T520","v":0},{"$f":"(1-$AO40)*'Teknisk administration'!U520","v":1},{"$f":"(1-AO40)*'Teknisk administration'!V520","v":0}]
[{"$f":"'Teknisk administration'!A521","v":"Har du slaktgrisproduktion?"},null,{"$f":"IF(ISTEXT(B41),IF(B41='Teknisk administration'!B$502,'Teknisk administration'!B521,'Teknisk administration'!C521),IF(ISTEXT(A41),'Teknisk administration'!D521,'Teknisk administration'!$A$501))","v":"Välj \"ja\" eller \"nej\" i den orange cellen"},null,null,null,null,null,null,null,null,null,null,null,null,null,null,null,null,null,null,null,null,null,null,null,null,null,null,null,null,null,null,null,null,null,null,null,null,0,0,{"$f":"$AN41*'Teknisk administration'!H521","v":0},null,null,null,null,null,null,null,null,null,null,null,{"$f":"AN41*'Teknisk administration'!T521","v":0},{"$f":"(1-$AO41)*'Teknisk administration'!U521","v":0},{"$f":"(1-AO41)*'Teknisk administration'!V521","v":1}]
[{"$f":"'Teknisk administration'!A522","v":"Har du ett uppföljningsprogram (t ex WinPig eller PigWin) där du kan hämta uppgifter om tillväxt"},null,{"$f":"IF(ISTEXT(B42),IF(B42='Teknisk administration'!B$502,'Teknisk administration'!B522,'Teknisk administration'!C522),IF(ISTEXT(A42),'Teknisk administration'!D522,'Teknisk administration'!$A$501))","v":"Välj \"ja\" eller \"nej\" i den orange cellen"},null,null,null,null,null,null,null,null,null,null,null,null,null,null,null,null,null,null,null,null,null,null,null,null,null,null,null,null,null,null,null,null,null,null,null,null,0,0,{"$f":"$AN42*'Teknisk administration'!H522","v":0},null,null,null,null,null,null,null,null,null,null,null,{"$f":"AN42*'Teknisk administration'!T522","v":0},{"$f":"(1-$AO42)*'Teknisk administration'!U522","v":0},{"$f":"(1-AO42)*'Teknisk administration'!V522","v":0}]
[{"$f":"'Teknisk administration'!A523","v":"Går djuren utomhus?"},null,{"$f":"IF(ISTEXT(B43),IF(B43='Teknisk administration'!B$502,'Teknisk administration'!B523,'Teknisk administration'!C523),IF(ISTEXT(A43),'Teknisk administration'!D523,'Teknisk administration'!$A$501))","v":"Välj \"ja\" eller \"nej\" i den orange cellen"},null,null,null,null,null,null,null,null,null,null,null,null,null,null,null,null,null,null,null,null,null,null,null,null,null,null,null,null,null,null,null,null,null,null,null,null,0,0,{"$f":"$AN43*'Teknisk administration'!H523","v":0},null,null,null,null,null,null,null,null,null,null,null,{"$f":"AN43*'Teknisk administration'!T523","v":0},{"$f":"(1-$AO43)*'Teknisk administration'!U523","v":0},{"$f":"(1-AO43)*'Teknisk administration'!V523","v":0}]
[{"$f":"'Teknisk administration'!A524","v":"Är du intresserad av klimatfrågor?"},null,{"$f":"IF(ISTEXT(B44),IF(B44='Teknisk administration'!B$502,'Teknisk administration'!B524,'Teknisk administration'!C524),IF(ISTEXT(A44),'Teknisk administration'!D524,'Teknisk administration'!$A$501))","v":"Välj \"ja\" eller \"nej\" i den orange cellen"},null,null,null,null,null,null,null,null,null,null,null,null,null,null,null,null,null,null,null,null,null,null,null,null,null,null,null,null,null,null,null,null,null,null,null,null,0,0,{"$f":"$AN44*'Teknisk administration'!H524","v":0},null,null,null,null,null,null,null,null,null,null,null,{"$f":"AN44*'Teknisk administration'!T524","v":0},{"$f":"(1-$AO44)*'Teknisk administration'!U524","v":0},{"$f":"(1-AO44)*'Teknisk administration'!V524","v":0}]
[null,null,null,null,null,null,null,null,null,null,null,null,null,null,null,null,null,null,null,null,null,null,null,null,null,null,null,null,null,null,null,null,null,null,null,null,null,null,null,0,0,{"$f":"$AN45*'Teknisk administration'!H525","v":0},null,null,null,null,null,null,null,null,null,null,null,{"$f":"AN45*'Teknisk administration'!T525","v":0},{"$f":"(1-$AO45)*'Teknisk administration'!U525","v":0},{"$f":"(1-AO45)*'Teknisk administration'!V525","v":0}]
[null,null,null,null,null,null,null,null,null,null,null,null,null,null,null,null,null,null,null,null,null,null,null,null,null,null,null,null,null,null,null,null,null,null,null,null,null,null,null,0,0,{"$f":"$AN46*'Teknisk administration'!H526","v":0},null,null,null,null,null,null,null,null,null,null,null,{"$f":"AN46*'Teknisk administration'!T526","v":0},{"$f":"(1-$AO46)*'Teknisk administration'!U526","v":0},{"$f":"(1-AO46)*'Teknisk administration'!V526","v":0}]
[null,null,null,null,null,null,null,null,null,null,null,null,null,null,null,null,null,null,null,null,null,null,null,null,null,null,null,null,null,null,null,null,null,null,null,null,null,null,null,null,null,{"$f":"SUM(AP40:AP46)","v":0},null,null,null,null,null,null,null,null,null,null,null,{"$f":"SUM(BB40:BB46)","v":0},{"$f":"SUM(BC40:BC46)","v":1},{"$f":"SUM(BD40:BD46)","v":1}]
[]
[]
[]
[]
[]
[]
[]
[]
[]
[null,null,null,null,null,null,null,null,null,null,null,null,null,null,null,null,null,null,null,null,null,null,null,null,null,null,null,null,null,null,null,null,null,null,null,null,null,null,null,null,null,null,null,null,null,null,null,null,null,null,null,null,null,0,null,null,null,0]

{"sheet":"1 Intro djuren","index":2,"n_rows":37,"n_cols":9,"rows_kept":37,"cut":false,"hidden":false,"merged":[[41,7,41,8],[13,2,13,5],[11,2,11,5],[2,0,2,5],[3,0,4,5],[10,0,10,5],[14,2,14,5],[15,2,15,5],[6,0,6,6]]}
["1 Intro djuren"]
["Obligatoriskt blad",null,null,null,null,null,null,null,"Det här betyder färgerna:"]
["På detta blad fyller du i uppgifter om djuren. Vissa uppgifter används på flera platser, så därför ska du fylla i dem på detta blad så förs de över till kommande blad.",null,null,null,null,null,null,null,"Cell med värden hämtade från annan cell"]
["På bladet \"Tillväxt och förökning\" beräknar du bland annat mängden producerat kött. Uppgiften används i många nyckeltal i resultatdelen, så därför är det viktigt att du fyller i noggrant för att resultatet ska bli så bra som möjligt.",null,null,null,null,null,null,null,"Fyll i din egen siffra"]
[null,null,null,null,null,null,null,null,"Möjligt fylla i eget värde, om du har"]
[null,null,null,null,null,null,null,null,"Resultat/uträkning"]
["Obligatoriska och frivilliga blad: En del blad har markerats som obligatoriska, och data som du lägger in på dem kommer automatiskt att dyka upp på flera platser där de behövs. Det finns även blad som är frivilliga eftersom de inte är relevanta för alla produktionsinriktningar. Data som du lägger in på frivilliga blad kan du behöva skriva in flera gånger, eftersom verktyget inte vet på förhand vad som kommer att vara relevant och inte för just dig.  ",null,null,null,null,null,null,null,"Förklaringar till raden"]
["Ljusgrå text och vit bakgrund - avsnittet är inte relevant för dig baserat på svaren på Ja/Nej-frågorna på Bakgrund",null,null,null,null,null,null,null,"Plats för egna kommentarer"]
[null,null,null,null,null,null,null,null,"grå text, ev vit bakgrund: Avsnittet är inte relevant för dig baserat på svaren på ja/nej-frågor på bladet Bakgrund"]
[]
["I tabellen nedan får du en kort beskrivning av bladen i del 1, och instruktion huruvida du behöver fylla i bladet.",null,null,null,null,null,null,null,"Snabblänkar till bladen i verktyget:"]
["Del 1. Djuren","Ska bladet fyllas i?","Om bladet",null,null,null,null,null,"Instruktion"]
["1 Intro djuren",{"$f":"'Teknisk administration'!G4","v":"obligatoriskt"},"Ange antal djur. Uppgifterna används på andra blad",null,null,null,null,null,"Bakgrund"]
["1.1 Kött",{"$f":"'Teknisk administration'!G4","v":"obligatoriskt"},"Ange eller beräkna mängd producerat kött. Resultatet används i många nyckeltal",null,null,null,null,null,"1 Intro djuren"]
["1.2 Tillväxt & förökning",{"$f":"'Teknisk administration'!G5","v":"frivilligt"},"Nyckeltal för tillväxt, suggornas produktivitet, rekrytering",null,null,null,null,null,"1.1 Kött"]
["1.3 Hälsa & dödlighet",{"$f":"'Teknisk administration'!G5","v":"frivilligt"},"Förekomst och kostnader för sjukdomar och ohälsa. Dödlighet i olika åldersgrupper",null,null,null,null,null,"1.2 Tillväxt & förökning"]
[null,null,null,null,null,null,null,null,"1.3 Hälsa & dödlighet"]
[null,null,null,null,null,null,null,null,"2 Intro foder"]
[null,null,null,null,null,null,null,null,"2.1 Odling foder"]
[null,null,null,null,null,null,null,null,"2.1b Halm, odling grovfoder"]
[null,null,null,null,null,null,null,null,"2.2 Förluster vid lagring"]
[null,null,null,null,null,null,null,null,"2.3 Utfodrat"]
["Fyll i antal djur samt stallplatser i gula celler. Om en kategori inte är relavant lämnar du cellen tom. ",null,null,null,null,null,null,null,"2.4 Kasserat foder och spill"]
["Antal grisar","Enhet",{"$f":"Bakgrund!R$7","v":"Period 1"},{"$f":"Bakgrund!S$7","v":"Period 2"},{"$f":"Bakgrund!T$7","v":"Period 3"},"Förklaring","Egen kommentar",null,"3 Växtnäringsutnyttjande (1)"]
["Medelantal suggor under perioden (SIP)","antal",null,null,null,null,null,null,"3 Växtnäringsutnyttjande (2)"]
["Producerade smågrisar per årssugga WinPig (frivilligt)","smågrisar/årssugga",null,null,null,null,null,null,"3 Växtnäringsutnyttjande (3)"]
["Producerade smågrisar under perioden","antal",null,null,null,null,null,null,"4 Energi och bränsle"]
["Antal kullar per sugga under perioden","antal",null,null,null,null,null,null,"5 Vattenanvändning"]
["Sålda smågrisar under perioden","antal",null,null,null,null,null,null,"6 Resultat"]
["Köpta smågrisar under perioden","antal",null,null,null,null,null,null,"6B Klimat"]
["Producerade slaktgrisar under perioden","antal"]
["Antal omgångar per slaktsvinsplats under perioden","antal"]
["Totalt antal djur i besättningen","antal",{"$f":"(C25+C27/IF(C28=0,1,C28)+ C31/IF(C32=0,1,C32))","v":0},{"$f":"(D25+D27/IF(D28=0,1,D28)+ D31/IF(D32=0,1,D32))","v":0},{"$f":"(E25+E27/IF(E28=0,1,E28)+ E31/IF(E32=0,1,E32))","v":0},"Används på bladet Vattenanvändning"]
[]
["Stallplatser"]
["Antal stallplatser enligt djurskyddslag","stallplatser",null,null,null,"Max antal djur enligt djurskyddslag, se din förprövning. Fylls i om du har tillgång till uppgiften "]
["Eget mål för antal stallplatser","stallplatser",null,null,null,"Så många djur som i praktiken önskas/bedöms lagom"]

{"sheet":"1.1 Kött","index":3,"n_rows":107,"n_cols":25,"rows_kept":107,"cut":false,"hidden":false,"merged":[[90,5,90,9],[75,5,75,9],[80,5,80,9],[81,5,81,9],[84,5,84,9],[85,5,85,9],[77,5,77,9],[60,5,60,9],[64,5,64,9],[65,5,65,9],[66,5,66,9],[67,5,67,9],[55,5,55,9],[56,5,56,9],[57,5,57,9],[58,5,58,9],[59,5,59,9],[31,5,31,9],[38,5,38,9],[33,5,33,9],[39,5,45,9],[26,5,26,9],[27,5,27,9],[28,5,28,9],[29,5,29,9],[30,5,30,9],[21,5,21,9],[22,5,22,9],[23,5,23,9],[24,5,24,9],[25,5,25,9],[14,5,14,9],[15,5,15,9],[16,5,16,9],[19,5,19,9],[20,5,20,9],[9,5,9,9],[10,5,10,9],[11,5,11,9],[12,5,12,9],[13,5,13,9],[100,7,101,7],[100,8,101,8],[100,9,101,9],[63,13,63,16],[100,0,101,0],[100,1,100,2],[100,3,101,3],[100,4,101,4],[70,5,70,9],[71,5,71,9],[72,5,72,9],[73,5,73,9],[74,5,74,9],[87,5,87,9],[88,5,88,9],[89,5,89,9],[53,5,53,9],[54,5,54,9],[48,5,48,9],[49,5,49,9],[50,5,50,9],[51,5,51,9],[52,5,52,9]]}
["1.1 Kött",null,null,null,null,null,null,null,null,null,null,null,{"$f":"C10","v":"Period 1"},{"$f":"D10","v":"Period 2"},{"$f":"E10","v":"Period 3"},"slaktgris","smågris","livdjur",null,null,null,null,null,null,"Det här betyder färgerna:"]
[{"$f":"VLOOKUP('1 Intro djuren'!B14,'Teknisk administration'!G4:H6,2,FALSE)","v":"Obligatoriskt blad"},null,null,null,null,null,null,null,null,null,null,null,null,null,null,null,null,null,null,null,null,null,null,null,"Cell med värden hämtade från annan cell"]
["Här beräknas hur mycket kött som producerats under perioden. De flesta nyckeltal räknas på kg kött, och det betyder att det är viktigt att fylla i noggrant för att få rättvisande nyckeltal ",null,null,null,null,null,null,null,null,null,null,null,null,null,null,null,null,null,null,null,null,null,null,null,"Fyll i din egen siffra"]
["Mängden beräknas som netto, d v s sålda djur till liv och slakt minus inköpta djur. Hänsyn kan även tas till förändring i levandelager, så om djurantalet ökat kan man räkna med en större mängd producerat kött.",null,null,null,null,null,null,null,null,null,null,null,null,null,null,null,null,null,null,null,null,null,null,null,"Fyll i egen siffra - frivilligt, t ex om du har tillgång till uppgift eller om du vill räkna med annat värde än det schablonvärde som visas i angränsande cell"]
["Mängden uttrycks som kg kött (kg slaktvikt), och omräkning gör därför från levandevikt till slaktvikt för att få en gemensam räknebas. ",null,null,null,null,null,null,null,null,null,null,null,null,null,null,null,null,null,null,null,null,null,null,null,"Resultat/uträkning"]
["Ljusgrå text och vit bakgrund - avsnittet är inte relevant för dig baserat på svaren på Ja/Nej-frågorna på Bakgrund",null,null,null,null,null,null,null,null,null,null,null,null,null,null,null,null,null,null,null,null,null,null,null,"Schablonvärde"]
[null,null,null,null,null,null,null,null,null,null,null,null,null,null,null,null,null,null,null,null,null,null,null,null,"Förklaringar till raden"]
["Inköpta djur",null,null,null,null,null,null,null,null,null,null,null,null,null,null,null,null,null,null,null,null,null,null,null,"Plats för egna kommentarer"]
["Alternativ 1: Har du verklig mängd inköpta smågrisar och livdjur i levande vikt - ange det här",null,null,null,null,"Förklaring",null,null,null,null,"Egen kommentar",null,null,null,null,null,null,null,null,null,null,null,null,null,"grå text, ev vit bakgrund: Avsnittet är inte relevant för dig baserat på svaren på ja/nej-frågor på bladet Bakgrund"]
["Djurkategori","Enhet",{"$f":"Bakgrund!R$7","v":"Period 1"},{"$f":"Bakgrund!S$7","v":"Period 2"},{"$f":"Bakgrund!T$7","v":"Period 3"},"Här anger du inköpta djur. Uppgifterna används för att beräkna hur mycket kött som producerats netto, d v s efter avdrag för inköpta djur"]
["Smågrisar","kg",null,null,null,null,null,null,null,null,null,null,{"$f":"-C11/1.34","v":0},0,0,1,null,null,null,null,null,null,null,null,"Snabblänkar till bladen i verktyget:"]
["Gyltämnen","kg",null,null,null,null,null,null,null,null,null,null,0,0,0,null,null,1,null,null,null,null,null,null,"Instruktion"]
["Obetäcka gyltor","kg",null,null,null,null,null,null,null,null,null,null,0,0,0,null,null,1,null,null,null,null,null,null,"Bakgrund"]
["Betäckningsfärdiga gyltor","kg",null,null,null,null,null,null,null,null,null,null,0,0,0,null,null,1,null,null,null,null,null,null,"1 Intro djuren"]
["Dräktiga gyltor","kg",null,null,null,null,null,null,null,null,null,null,0,0,0,null,null,1,null,null,null,null,null,null,"1.1 Kött"]
["Totalt inköpta djur i levande vikt","kg",{"$f":"SUM(C11:C15)","v":0},{"$f":"SUM(D11:D15)","v":0},0,null,null,null,null,null,null,null,null,null,null,null,null,null,null,null,null,null,null,null,"1.2 Tillväxt & förökning"]
["Total  inköpta djur omräknat till kött","kg",{"$f":"C16/1.34","v":0},{"$f":"D16/1.34","v":0},0,"Omräknat till kg kött, slaktutbytesfaktor 1,34",null,null,null,null,null,null,null,null,null,null,null,null,null,null,null,null,null,null,"1.3 Hälsa & dödlighet"]
[null,null,null,null,null,null,null,null,null,null,null,null,null,null,null,null,null,null,null,null,null,null,null,null,"2 Intro foder"]
["Alternativ 2: Vill du beräkna mängden inköpta grisar i levande vikt utifrån antal och medelvikt - gör det här",null,null,null,null,null,null,null,null,null,null,null,null,null,null,null,null,null,null,null,null,null,null,null,"2.1 Odling foder"]
["Djurkategori och medelvikt","Enhet",{"$f":"Bakgrund!R$7","v":"Period 1"},{"$f":"Bakgrund!S$7","v":"Period 2"},{"$f":"Bakgrund!T$7","v":"Period 3"},"Här anger du antal inköpta djur och derasmedelvikt. Uppgifterna används för att beräkna hur mycket kött som producerats netto, d v s efter avdrag för inköpta djur",null,null,null,null,null,null,null,null,null,null,null,null,null,null,null,null,null,null,"2.1b Halm, odling grovfoder"]
["Antal inköpta smågrisar ","styck",{"$f":"'1 Intro djuren'!C30","v":0},{"$f":"'1 Intro djuren'!D30","v":0},{"$f":"'1 Intro djuren'!E30","v":0},"Antal inköpta smågrisar under hela perioden",null,null,null,null,null,null,{"$f":"IF(M11=0,-C21*C22/1.34,0)","v":0},{"$f":"IF(N11=0,-D21*D22/1.34,0)","v":0},0,1,null,null,null,null,null,null,null,null,"2.2 Förluster vid lagring"]
["Smågrisarnas vikt","kg per djur",30,30,30,"Genomsnittlig vikt. Behåll värde eller ändra",null,null,null,null,null,null,null,null,null,null,null,null,null,null,null,null,null,null,"2.3 Utfodrat"]
["Antal inköpta gyltämnen","styck",null,null,null,null,null,null,null,null,null,null,{"$f":"IF(M12=0,-C23*C24/1.34,0)","v":0},{"$f":"IF(N12=0,-D23*D24/1.34,0)","v":0},0,null,null,1,null,null,null,null,null,null,"2.4 Kasserat foder och spill"]
["Gyltämnens vikt","kg per djur",30,30,30,"Genomsnittlig vikt. Behåll värde eller ändra",null,null,null,null,null,null,null,null,null,null,null,null,null,null,null,null,null,null,"3 Växtnäringsutnyttjande (1)"]
["Antal inköpta obetäckta gyltor","styck",null,null,null,null,null,null,null,null,null,null,{"$f":"IF(M13=0,-C25*C26/1.34,0)","v":0},{"$f":"IF(N13=0,-D25*D26/1.34,0)","v":0},0,null,null,1,null,null,null,null,null,null,"3 Växtnäringsutnyttjande (2)"]
["Obetäckta gyltors medelvikt","kg per djur",90,90,90,"Genomsnittlig vikt. Behåll värde eller ändra",null,null,null,null,null,null,null,null,null,null,null,null,null,null,null,null,null,null,"3 Växtnäringsutnyttjande (3)"]
["Antal inköpta betäckningsfärdiga gyltor","styck",null,null,null,null,null,null,null,null,null,null,{"$f":"IF(M14=0,-C27*C28/1.34,0)","v":0},{"$f":"IF(N14=0,-D27*D28/1.34,0)","v":0},0,null,null,1,null,null,null,null,null,null,"4 Energi och bränsle"]
["Betäckningsfärdiga gyltors vikt","kg per djur",125,125,125,"Genomsnittlig vikt. Behåll värde eller ändra",null,null,null,null,null,null,null,null,null,null,null,null,null,null,null,null,null,null,"5 Vattenanvändning"]
["Antal inköpta dräktiga gyltor","styck",null,null,null,"Antal inköpta gyltor under perioden",null,null,null,null,null,null,{"$f":"IF(M15=0,-C29*C30/1.34,0)","v":0},{"$f":"IF(N15=0,-D29*D30/1.34,0)","v":0},0,null,null,1,null,null,null,null,null,null,"6 Resultat"]
["Dräktiga gyltornas vikt","kg per djur",170,170,170,"Genomsnittlig vikt. Behåll värde eller ändra",null,null,null,null,null,null,null,null,null,null,null,null,null,null,null,null,null,null,"6B Klimat"]
["Totalt inköpta djur i levande vikt","kg levandevikt",{"$f":"C23*C24+C25*C26+C27*C28+C29*C30+C21*C22","v":0},{"$f":"D23*D24+D25*D26+D27*D28+D29*D30+D21*D22","v":0},0,"Summering av vikten på inköpta gyltor och smågrisar",null,null,null,null,null,null,null,null,null,null,null,null,{"$f":"C23*C24+C25*C26+C27*C28+C29*C30+C21*C22","v":0},{"$f":"D23*D24+D25*D26+D27*D28+D29*D30+D21*D22","v":0},{"$f":"E23*E24+E25*E26+E27*E28+E29*E30+E21*E22","v":0}]
["Totalt inköpta djur omräknat till kött","kg kött",{"$f":"C31/1.34","v":0},{"$f":"D31/1.34","v":0},0,"Omräknat till kg kött, slaktutbytesfaktor 1,34",null,null,null,null,null,null,null,null,null,null,null,null,{"$f":"S31/1.34","v":0},{"$f":"T31/1.34","v":0},{"$f":"U31/1.34","v":0}]
[]
["Totalt inköpta djur omräknat till kött",null,{"$f":"-SUM(M11:M30)","v":0},{"$f":"-SUM(N11:N30)","v":0},0,"Omräknat till kg kött, slaktutbytesfaktor 1,34. Om du fyllt i alternativ 1 används de uppgifterna, annars alternativ 2.",null,null,null,null,null,null,null,null,null,null,null,null,{"$f":"-SUM(M11:M30)","v":0},{"$f":"-SUM(N11:N30)","v":0},{"$f":"-SUM(O11:O30)","v":0}]
[]
[]
["Sålda djur"]
["Alternativ 1. Har du verklig mängd sålda tillväxtgrisar och livdjur i levandevikt - ange det här"]
["Djurkategori","Enhet",{"$f":"Bakgrund!R$7","v":"Period 1"},{"$f":"Bakgrund!S$7","v":"Period 2"},{"$f":"Bakgrund!T$7","v":"Period 3"},"Här anger du sålda djur. Uppgifterna används för att beräkna hur mycket kött som producerats netto, d v s efter avdrag för inköpta djur"]
["Smågrisar","kg",null,null,null,"I beräkningen görs en korrigering för slaktvikt som inte producerats på gården utan kommer till gården med inköpta smågrisar. Smågrisarnas levande vikt räknas även om till slaktvikt med omräkningsfaktorn 1,34. Det är inte helt korrekt för grisar i denna storlek men ger en uppskattning om \"mängd kött\" från smågrisar. ",null,null,null,null,null,null,{"$f":"C40/1.34","v":0},0,0,null,1]
["Gyltämnen","kg",null,null,null,null,null,null,null,null,null,null,{"$f":"C41/1.34","v":0},0,0,null,null,1]
["Obetäcka gyltor","kg",null,null,null,null,null,null,null,null,null,null,{"$f":"C42/1.34","v":0},0,0,null,null,1]
["Betäckningsfärdiga gyltor","kg",null,null,null,null,null,null,null,null,null,null,{"$f":"C43/1.34","v":0},0,0,null,null,1]
["Dräktiga gyltor","kg",null,null,null,null,null,null,null,null,null,null,{"$f":"C44/1.34","v":0},0,0,null,null,1]
["Totalt sålda djur i levande vikt","kg",{"$f":"SUM(C40:C44)","v":0},{"$f":"SUM(D40:D44)","v":0},0,null,null,null,null,null,null,null,null,null,null,null,null,null,{"$f":"SUM(C40:C44)","v":0},{"$f":"SUM(D40:D44)","v":0},{"$f":"SUM(E40:E44)","v":0}]
["Total  sålda djur omräknat till kött","kg",{"$f":"C45/1.34","v":0},{"$f":"D45/1.34","v":0},0,null,null,null,null,null,null,null,null,null,null,null,null,null,{"$f":"S45/1.34","v":0},{"$f":"T45/1.34","v":0},{"$f":"U45/1.34","v":0}]
[]
["Alternativ 2. Vill du beräkna mängden sålda djur i levandevikt utifrån antal och medelvikt - gör det här"]
["Djurkategori och medelvikt","Enhet",{"$f":"Bakgrund!R$7","v":"Period 1"},{"$f":"Bakgrund!S$7","v":"Period 2"},{"$f":"Bakgrund!T$7","v":"Period 3"},"Här anger du hur många djur du du sålt till liv under perioden och vad de vägde i genomsnitt. Döda och kasserade djur ska inte tas med."]
["Antal sålda smågrisar ","styck",{"$f":"'1 Intro djuren'!C29","v":0},{"$f":"'1 Intro djuren'!D29","v":0},{"$f":"'1 Intro djuren'!E29","v":0},null,null,null,null,null,null,null,{"$f":"IF(M40=0,C50*C51/1.34,0)","v":0},{"$f":"IF(N40=0,D50*D51/1.34,0)","v":0},0,null,1]
["Smågrisarnas vikt","kg per djur",30,30,30,"Genomsnittlig vikt. Behåll värde eller ändra"]
["Antal sålda gyltämnen","styck",null,null,null,"Totalt antal sålda under perioden",null,null,null,null,null,null,{"$f":"IF(M41=0,C52*C53/1.34,0)","v":0},{"$f":"IF(N41=0,D52*D53/1.34,0)","v":0},0,null,null,1]
["Gyltämnens vikt","kg per djur",30,30,30,"Genomsnittlig vikt. Behåll värde eller ändra"]
["Antal sålda obetäckta gyltor","styck",null,null,null,null,null,null,null,null,null,null,{"$f":"IF(M42=0,C54*C55/1.34,0)","v":0},{"$f":"IF(N42=0,D54*D55/1.34,0)","v":0},0,null,null,1]
["Obetäckta gyltors medelvikt","kg per djur",90,90,90,"Genomsnittlig vikt. Behåll värde eller ändra"]
["Antal sålda betäckningsfärdiga gyltor","styck",null,null,null,"Totalt antal sålda under perioden",null,null,null,null,null,null,{"$f":"IF(M43=0,C56*C57/1.34,0)","v":0},{"$f":"IF(N43=0,D56*D57/1.34,0)","v":0},0,null,null,1]
["Betäckningsfärdiga gyltors vikt","kg per djur",125,125,125,"Genomsnittlig vikt. Behåll värde eller ändra"]
["Antal sålda dräktiga gyltor","styck",null,null,null,null,null,null,null,null,null,null,{"$f":"IF(M44=0,C58*C59/1.34,0)","v":0},{"$f":"IF(N44=0,D58*D59/1.34,0)","v":0},0,null,null,1]
["Dräktiga gyltornas vikt","kg per djur",170,170,170,"Genomsnittlig vikt. Behåll värde eller ändra"]
["Totalt sålda djur i levande vikt","kg levandevikt",{"$f":"C50*C51+C52*C53+C54*C55+C56*C57+C58*C59","v":0},{"$f":"D50*D51+D52*D53+D54*D55+D56*D57+D58*D59","v":0},0,null,null,null,null,null,null,null,null,null,null,null,null,null,{"$f":"C50*C51+C52*C53+C54*C55+C56*C57+C58*C59","v":0},{"$f":"D50*D51+D52*D53+D54*D55+D56*D57+D58*D59","v":0},{"$f":"E50*E51+E52*E53+E54*E55+E56*E57+E58*E59","v":0}]
["Totalt sålda djur omräknat till kött","kg kött",{"$f":"C60/1.34","v":0},{"$f":"D60/1.34","v":0},{"$f":"E60/1.34","v":0},"Total mängd sålda grisar, omräknat till kg kött. Antagit slaktutbytesfaktor 1,34 för att räkna om smågrisar till kg kött",null,null,null,null,null,null,null,null,null,null,null,null,{"$f":"S60/1.34","v":0},{"$f":"T60/1.34","v":0},0]
[]
["Slaktade djur"]
["Alternativ 1. Har du verklig mängd slaktade tillväxtgrisar och livdjur - ange det här",null,null,null,null,"Förklaring",null,null,null,null,"Egen kommentar"]
["Djurkategori","Enhet",{"$f":"Bakgrund!R$7","v":"Period 1"},{"$f":"Bakgrund!S$7","v":"Period 2"},{"$f":"Bakgrund!T$7","v":"Period 3"},"Här anger du slaktade djur. Uppgifterna används för att beräkna hur mycket kött som producerats netto, d v s efter avdrag för inköpta djur"]
["Slaktade livdjur","kg slaktvikt",null,null,null,null,null,null,null,null,null,null,{"$f":"C66","v":0},{"$f":"D66","v":0},{"$f":"E66","v":0},null,null,1]
["Slaktsvin","kg slaktvikt",null,null,null,null,null,null,null,null,null,null,0,0,0,1]
["Totalt slaktade djur i slaktvikt","kg kött",null,null,null,null,null,null,null,null,null,null,null,null,null,null,null,null,{"$f":"SUM(C66:C67)","v":0},{"$f":"SUM(D66:D67)","v":0},{"$f":"SUM(E66:E67)","v":0}]
[]
["Alternativ 2. Vill du beräkna mängden slaktade djur utifrån antal och medelvikt - gör det här"]
["Djurkategori och medelvikt","Enhet",{"$f":"Bakgrund!R$7","v":"Period 1"},{"$f":"Bakgrund!S$7","v":"Period 2"},{"$f":"Bakgrund!T$7","v":"Period 3"},"Här anger du slaktade djur. Uppgifterna används för att beräkna hur mycket kött som producerats netto, d v s efter avdrag för inköpta djur"]
["Antal slaktade livdjur","styck",null,null,null,"Totalt antal slaktade livdjur under perioden",null,null,null,null,null,null,{"$f":"IF(M66=0,C72*C73,0)","v":0},{"$f":"IF(N66=0,D72*D73,0)","v":0},0,null,null,1]
["Livdjurens vikt","kg slaktvikt per djur",null,null,null,"Genomsnittlig vikt. "]
["Antal producerade slaktsvin","styck",{"$f":"'1 Intro djuren'!C31","v":0},{"$f":"'1 Intro djuren'!D31","v":0},{"$f":"'1 Intro djuren'!E31","v":0},"Totalt antal slaktade under perioden",null,null,null,null,null,null,{"$f":"IF(M67=0,C74*C75,0)","v":0},{"$f":"IF(N67=0,D74*D75,0)","v":0},0,1]
["Slaktgrisarnas vikt","kg slaktvikt per djur",91.6,91.6,91.6,"Genomsnittlig vikt. Behåll värde eller ändra"]
["Totalt slaktade djur i slaktvikt, dvs kött","kg kött",{"$f":"C72*C73+C74*C75","v":0},{"$f":"D72*D73+D74*D75","v":0},0,null,null,null,null,null,null,null,null,null,null,null,null,null,{"$f":"C72*C73+C74*C75","v":0},{"$f":"D72*D73+D74*D75","v":0},{"$f":"E72*E73+E74*E75","v":0}]
[]
["Totalt sålda och slaktade djur omräknat till kött",null,{"$f":"SUM(M50:M74)","v":0},{"$f":"SUM(N50:N74)","v":0},0,"Sålda djur plus slaktade djur. Om du fyllt i alternativ 1 används de uppgifterna, annars alternativ 2.",null,null,null,null,null,null,null,null,null,null,null,null,{"$f":"SUM(M50:M74)","v":0},{"$f":"SUM(N50:N74)","v":0},0]
[]
[]
["Förändring levandelager","Enhet",{"$f":"Bakgrund!R$7","v":"Period 1"},{"$f":"Bakgrund!S$7","v":"Period 2"},{"$f":"Bakgrund!T$7","v":"Period 3"}]
["Förändring levandelager djur i kg","kg slaktvikt",null,null,null,"För att räkna ut förändringen använd verktyget till nederst. Behöver inte fyllas i om det inte har skett någon stor förändring på gården",null,null,null,null,null,null,{"$f":"C82","v":0},{"$f":"D82","v":0},{"$f":"E82","v":0}]
[]
[]
["Producerat kött under perioden",null,{"$f":"Bakgrund!R$7","v":"Period 1"},{"$f":"Bakgrund!S$7","v":"Period 2"},{"$f":"Bakgrund!T$7","v":"Period 3"}]
["Totalt, inkl ev förändring i levandelager","kg kött",{"$f":"C78+C82-C34","v":0},{"$f":"T86","v":0},0,null,null,null,null,null,null,null,null,null,null,null,null,null,{"$f":"S78+C82-S34","v":0},{"$f":"T78+D82-T34","v":0},{"$f":"U78+E82-U34","v":0}]
["Varav:"]
["slaktgris","kg kött",{"$f":"S88","v":0},{"$f":"T88","v":0},{"$f":"U88","v":0},null,null,null,null,null,null,null,null,null,null,null,null,null,{"$f":"SUMPRODUCT(M11:M74,$P$11:$P$74)","v":0},{"$f":"SUMPRODUCT(N11:N74,$P$11:$P$74)","v":0},{"$f":"SUMPRODUCT(O11:O74,$P$11:$P$74)","v":0}]
["smågris","kg kött",{"$f":"S89","v":0},0,0,null,null,null,null,null,null,null,null,null,null,null,null,null,{"$f":"SUMPRODUCT(M11:M74,$Q$11:$Q$74)","v":0},{"$f":"SUMPRODUCT(N11:N74,$Q$11:$Q$74)","v":0},{"$f":"SUMPRODUCT(O11:O74,$Q$11:$Q$74)","v":0}]
["gyltor/suggor","kg kött",0,0,0,null,null,null,null,null,null,null,null,null,null,null,null,null,{"$f":"SUMPRODUCT(M11:M74,$R$11:$R$74)","v":0},{"$f":"SUMPRODUCT(N11:N74,$R$11:$R$74)","v":0},{"$f":"SUMPRODUCT(O11:O74,$R$11:$R$74)","v":0}]
["förändringar i levandelager","kg kött",0,0,0,null,null,null,null,null,null,null,null,null,null,null,null,null,{"$f":"C82","v":0},{"$f":"D82","v":0},{"$f":"E82","v":0}]
[]
[]
[]
[]
[]
[]
[]
["Förändring levandelager djur omräknat till kg producerat kött"]
["Fyll i antal, t ex antal suggor, i början av perioden och deras vikt, och antal suggor i slutet av perioden och deras vikt då. Slaktutbytet = 1/slaktutbytesfaktorn = 1/1,34"]
["Djurslag, fritext (t ex suggor)","Periodens start",null,"Slaktutbyte (%)","kg kött vid periodens start","Periodens slut",null,"Slaktutbyte (%)","kg kött vid periodens slut","Förändring (kg kött)"]
[null,"Antal","Vikt (kg levande vikt)",null,null,"Antal","Vikt (kg levande vikt)",null,null,null,"Egen kommentar"]
[null,null,null,0.74,{"$f":"B103*C103*D103","v":0},null,null,0.74,{"$f":"F103*G103*H103","v":0},{"$f":"I103-E103","v":0}]
[null,null,null,0.74,{"$f":"B104*C104*D104","v":0},null,null,0.74,{"$f":"F104*G104*H104","v":0},{"$f":"I104-E104","v":0}]
[null,null,null,0.74,{"$f":"B105*C105*D105","v":0},null,null,0.74,{"$f":"F105*G105*H105","v":0},{"$f":"I105-E105","v":0}]
[null,null,null,0.74,{"$f":"B106*C106*D106","v":0},null,null,0.74,0,{"$f":"I106-E106","v":0}]
["Summa",null,null,null,{"$f":"SUM(E103:E106)","v":0},null,null,null,{"$f":"SUM(I103:I106)","v":0},{"$f":"SUM(J103:J106)","v":0}]

{"sheet":"1.2 Tillväxt & förökning","index":4,"n_rows":61,"n_cols":14,"rows_kept":61,"cut":false,"hidden":false,"merged":[[12,8,12,11],[37,3,37,5],[55,2,55,4],[32,8,32,11],[60,5,60,6],[59,7,60,7],[56,5,56,6],[57,5,57,6],[12,3,12,5],[58,5,58,6],[59,5,59,6]]}
["1.2 Tillväxt & förökning",null,null,null,null,null,null,null,null,null,null,null,null,"Det här betyder färgerna:"]
["Bladet är obligatoriskt",null,null,null,null,null,null,null,null,null,null,null,null,"Cell med värden hämtade från annan cell"]
["Här beräknar eller anger du tillväxten samt mängden producerat kött. Resultatet används i många nyckeltal, och det är därmed viktigt att du fyller i uppgifterna så noggrant som möjligt.",null,null,null,null,null,null,null,null,null,null,null,null,"Fyll i din egen siffra"]
["På bladet Bakgrund har du svarat på ja/nej-frågor om du har uppföljningssystem samt om du har smågrisar och/eller slaktgrisar. Beroende på ditt svar får texten i tabellerna olika färg: ",null,null,null,null,null,null,null,null,null,null,null,null,"Resultat/uträkning"]
["Svart text = läs och fyll i uppgifter. Om en fråga inte är relevant för dig lämnar du cellen tom",null,null,null,null,null,null,null,null,null,null,null,null,"Schablonvärde"]
["Ljusgrå text = avsnittet är inte relevant för dig, baserat på ditt svar på Bakgrund. Du kan alltid gå tillbaka och ändra svar om det inte stämmer!",null,null,null,null,null,null,null,null,null,null,null,null,"Förklaringar till raden"]
["Resultaten visas i gröna celler, och nyckeltalen sammanställs även på bladet Resultat",null,null,null,null,null,null,null,null,null,null,null,null,"Plats för egna kommentarer"]
[null,null,null,null,null,null,null,null,null,null,null,null,null,"grå text, ev vit bakgrund: Avsnittet är inte relevant för dig baserat på svaren på ja/nej-frågor på bladet Bakgrund"]
[null,null,null,null,null,null,null,null,null,null,null,null,null,"Glöm inte att fylla i värde! (Här krävs ett värde för att andra beräkningar ska fungera"]
[]
["Tillväxt smågrisar och slaktsvin",null,null,null,null,null,null,null,null,null,null,null,null,"Snabblänkar till bladen i verktyget:"]
["Röd cell = Fyll i ålder så släcks varningen!",null,null,null,null,null,null,null,null,null,null,null,null,"Instruktion"]
[null,null,null,"Period",null,null,null,null,"WinPig Sugg/Slakt 2019*",null,null,null,null,"Bakgrund"]
["Har du redan siffror på beräknad tillväxt - ange det här","Enhet","Exempel",{"$f":"period_1","v":"Period 1"},{"$f":"period_2","v":"Period 2"},{"$f":"period_3","v":"Period 3"},"Egen kommentar","Förklaring","Medel","Sugg Bästa 25 %","Slakt Bästa 25% på tillväxt","Slakt Bästa 25 % på foder per kg tillv",null,"1 Intro djuren"]
["Beräknad tillväxt diande grisar","g/dag",250,null,null,null,null,null,null,null,null,null,null,"1.1 Kött"]
["Beräknad tillväxt avvanda grisar","g/dag",473,null,null,null,null,null,473,null,481,481,null,"1.2 Tillväxt & förökning"]
["Beräknad tillväxt slaktsvin","g/dag",948,null,null,null,null,null,948,null,1030,999,null,"1.3 Hälsa & dödlighet"]
["Ålder vid avvänjning","dagar",35,null,null,null,null,null,35,null,null,null,null,"2 Intro foder"]
["Ålder vid 30 kg","dagar",78,null,null,null,null,null,78,77,null,null,null,"2.1 Odling foder"]
["Foderdagar per slaktgris","dagar",96,null,null,null,null,null,96,null,90,93,null,"2.1b Halm, odling grovfoder"]
[null,null,null,null,null,null,null,null,null,null,null,null,null,"2.2 Förluster vid lagring"]
["Vill du beräkna tillväxten gör du det här",null,null,null,null,null,null,null,null,null,null,null,null,"2.3 Utfodrat"]
["Medelvikt vid födsel","kg",1,null,null,null,null,"Smågrisarna väger ca 1 kg vid födseln",null,null,null,null,null,"2.4 Kasserat foder och spill"]
["Digivningstid ","dagar",33,null,null,null,null,"5 veckors ditid  är vanligast",32.6,32.700000000000003,null,null,null,"3 Växtnäringsutnyttjande (1)"]
["Medelvikt vid avvänjning","kg",10,null,null,null,null,null,null,null,null,null,null,"3 Växtnäringsutnyttjande (2)"]
["Dagar från avvänjning till leverans","dagar",48,null,null,null,null,"Jämförelsetalet är beräknat utifrån ålder vid 30 kg minus digivningstiden",47.72558139534884,80,null,null,null,"3 Växtnäringsutnyttjande (3)"]
["Medelvikt vid leverans/insättning i slaktsvinsstall","kg",31,null,null,null,null,null,31.1,null,32.299999999999997,29.8,null,"4 Energi och bränsle"]
["Dagar som slaktsvin","dagar",96,null,null,null,null,null,96,null,90,93,null,"5 Vattenanvändning"]
["Medelvikt vid slakt","kg",123,null,null,null,null,"Jämförelsetalet omräknat från WinPigs Nyckeltal för slaktvikt till levandevikt med slaktutbytesfaktorn 1,34",122.744,null,122.744,122.744,null,"6 Resultat"]
["Beräknad tillväxt diande grisar","g/dag",{"$f":"IF(ISNUMBER(C15),C15,IF(C24=0,0,(C25-C23)*1000/C24))","v":250},{"$f":"IF(ISNUMBER(D15),D15,IF(D24=0,0,(D25-D23)*1000/D24))","v":0},{"$f":"IF(ISNUMBER(E15),E15,IF(E24=0,0,(E25-E23)*1000/E24))","v":0},{"$f":"IF(ISNUMBER(F15),F15,IF(F24=0,0,(F25-F23)*1000/F24))","v":0},null,null,null,null,null,null,null,"6B Klimat"]
["Beräknad tillväxt avvanda grisar","g/dag",{"$f":"IF(ISNUMBER(C16),C16,IF(C26=0,0,(C27-C25)*1000/C26))","v":473},{"$f":"IF(ISNUMBER(D16),D16,IF(D26=0,0,(D27-D25)*1000/D26))","v":0},{"$f":"IF(ISNUMBER(E16),E16,IF(E26=0,0,(E27-E25)*1000/E26))","v":0},{"$f":"IF(ISNUMBER(F16),F16,IF(F26=0,0,(F27-F25)*1000/F26))","v":0},null,null,473,481]
["Beräknad tillväxt slaktsvin","g/dag",{"$f":"IF(ISNUMBER(C17),C17,IF(C28=0,0,(C29-C27)*1000/C28))","v":948},{"$f":"IF(ISNUMBER(D17),D17,IF(D28=0,0,(D29-D27)*1000/D28))","v":0},{"$f":"IF(ISNUMBER(E17),E17,IF(E28=0,0,(E29-E27)*1000/E28))","v":0},{"$f":"IF(ISNUMBER(F17),F17,IF(F28=0,0,(F29-F27)*1000/F28))","v":0},null,null,948,null,1030,999]
[null,null,null,null,null,null,null,null,"*Jämförelsetalen från WinPig Sugg har bara Bästa 25 % medan jämförelsetalen från WinPig Slakt har både Bästa 25 % på tillväxt och Bästa 25 % på foder/kg tillväxt"]
[]
[]
[]
["Beräkning av producerat kött utifrån tillväxt "]
[]
["Beräkning utifrån tidigare angivna nyckeltal för tillväxt","Enhet","Exempel",{"$f":"period_1","v":"Period 1"},{"$f":"period_2","v":"Period 2"},{"$f":"period_3","v":"Period 3"},"Egen kommentar","Förklaring"]
["Beräknad total tillväxt smågrisar ","kg",{"$f":"IF(C15=0,0,1)*2500+2500*C18*C15/1000+2500*(C19-C18)*C16/1000","v":75222.5},{"$f":"IF(D15=0,0,1)*'1 Intro djuren'!C27+'1 Intro djuren'!C27*D18*D15/1000+'1 Intro djuren'!C27*(D19-D18)*D16/1000","v":0},{"$f":"IF(E15=0,0,1)*'1 Intro djuren'!D27+'1 Intro djuren'!D27*E18*E15/1000+'1 Intro djuren'!D27*(E19-E18)*E16/1000","v":0},{"$f":"IF(F15=0,0,1)*'1 Intro djuren'!E27+'1 Intro djuren'!E27*F18*F15/1000+'1 Intro djuren'!E27*(F19-F18)*F16/1000","v":0}]
["Beräknad total tillväxt slaktsvin","kg",{"$f":"3000*C20*C17/1000","v":273024},{"$f":"'1 Intro djuren'!C31*D20*D17/1000","v":0},{"$f":"'1 Intro djuren'!D31*E20*E17/1000","v":0},{"$f":"'1 Intro djuren'!E31*F20*F17/1000","v":0}]
["Beräknad total tillväxt på gården under perioden","kg",{"$f":"C40+C41","v":348246.5},{"$f":"D40+D41","v":0},{"$f":"E40+E41","v":0},{"$f":"F40+F41","v":0}]
["Beräknad total tillväxt omräknat till slaktvikt","kg",{"$f":"C42/1.34","v":259885.44776119402},{"$f":"D42/1.34","v":0},{"$f":"E42/1.34","v":0},{"$f":"F42/1.34","v":0},null,"Levande vikt omräknat till slaktvikt med slaktutbytesfaktor 1,34"]
[]
["Beräkning utifrån tidigare gjorda egna tillväxtberäkningar","Enhet","Exempel",{"$f":"period_1","v":"Period 1"},{"$f":"period_2","v":"Period 2"},{"$f":"period_3","v":"Period 3"},"Egen kommentar","Förklaring"]
["Beräknad total tillväxt smågrisar ","kg",{"$f":"2500*C24*C30/1000+2500*C26*C31/1000","v":77385},{"$f":"'1 Intro djuren'!C27*D23+'1 Intro djuren'!C27*D24*D30/1000+'1 Intro djuren'!C27*D26*D31/1000","v":0},{"$f":"'1 Intro djuren'!D27*E23+'1 Intro djuren'!D27*E24*E30/1000+'1 Intro djuren'!D27*E26*E31/1000","v":0},{"$f":"'1 Intro djuren'!E27*F23+'1 Intro djuren'!E27*F24*F30/1000+'1 Intro djuren'!E27*F26*F31/1000","v":0}]
["Beräknad total tillväxt slaktsvin","kg",{"$f":"3000*C28*C32/1000","v":273024},{"$f":"'1 Intro djuren'!C31*D28*D32/1000","v":0},{"$f":"'1 Intro djuren'!D31*E28*E32/1000","v":0},{"$f":"'1 Intro djuren'!E31*F28*F32/1000","v":0}]
["Beräknad total tillväxt på gården under perioden","kg",{"$f":"C46+C47","v":350409},{"$f":"D46+D47","v":0},{"$f":"E46+E47","v":0},{"$f":"F46+F47","v":0}]
["Beräknad total tillväxt omräknat till slaktvikt","kg",{"$f":"C48/1.34","v":261499.25373134325},{"$f":"D48/1.34","v":0},{"$f":"E48/1.34","v":0},{"$f":"F48/1.34","v":0},null,"Levande vikt omräknat till slaktvikt med slaktutbytesfaktor 1,34"]
[]
[]
[]
[]
[]
[]
["Tillväxt per slaktplats"]
[null,"Enhet",{"$f":"period_1","v":"Period 1"},{"$f":"period_2","v":"Period 2"},{"$f":"period_3","v":"Period 3"},"Egen kommentar",null,"Förklaring"]
["Antal stallplatser enligt djurskyddslag","antal",{"$f":"'1 Intro djuren'!C36","v":0},{"$f":"'1 Intro djuren'!D36","v":0},{"$f":"'1 Intro djuren'!E36","v":0},null,null,{"$f":"\"Antal stallplatser hämtas från \"&B_G_Intro_djur","v":"Antal stallplatser hämtas från 1 Intro djuren"}]
["Eget mål för antal stallplatser","antal",{"$f":"'1 Intro djuren'!C37","v":0},{"$f":"'1 Intro djuren'!D37","v":0},{"$f":"'1 Intro djuren'!E37","v":0},null,null,{"$f":"\"Antal stallplatser hämtas från \"&B_G_Intro_djur","v":"Antal stallplatser hämtas från 1 Intro djuren"}]
["Tillväxt per dag i g per godkänd stallplats enligt förprövning","g/dag/ godkänd stallplats",{"$f":"IF(C58=0,0,(IF((D17*D20)=0,D32*D28,D17*D20)*'1 Intro djuren'!C31+IF((D16*D18*D19)=0,D31*D26,D16*(D19-D18))*'1 Intro djuren'!C27+IF((D15*D18)=0,D30*D24,D15*D18)*'1 Intro djuren'!C27)/C58/Bakgrund!B14)","v":0},{"$f":"IF(D58=0,0,(IF((E17*E20)=0,E32*E28,E17*E20)*'1 Intro djuren'!D31+IF((E16*E18*E19)=0,E31*E26,E16*(E19-E18))*'1 Intro djuren'!D27+IF((E15*E18)=0,E30*E24,E15*E18)*'1 Intro djuren'!D27)/D58/Bakgrund!C14)","v":0},{"$f":"IF(E58=0,0,(IF((F17*F20)=0,F32*F28,F17*F20)*'1 Intro djuren'!E31+IF((F16*F18*F19)=0,F31*F26,F16*(F19-F18))*'1 Intro djuren'!E27+IF((F15*F18)=0,F30*F24,F15*F18)*'1 Intro djuren'!E27)/E58/Bakgrund!D14)","v":0},null,null,"Genomsnittlig tillväxt för alla tillväxtgrisar under hela perioden. Beräknas som antal diande grisar, avvanda grisar resp slaktgrisar*tillväxt per åldersgrupp*uppfödningstid per åldersgrupp dividerat med periodens längd*antal stallplatser.\nOm du får resultatet #DIVISION/0! beror det på att du inte angett start- och slutdatum för perioden på bladet Bakgrund"]
["Tillväxt per dag i g per egen önskad beläggning","g/dag/önskad stallplats",{"$f":"IF(C59=0,0,(IF((D17*D20)=0,D32*D28,D17*D20)*'1 Intro djuren'!C31+IF((D16*D18*D19)=0,D31*D26,D16*(D19-D18))*'1 Intro djuren'!C27+IF((D15*D18)=0,D30*D24,D15*D18)*'1 Intro djuren'!C27)/C59/Bakgrund!B14)","v":0},{"$f":"IF(D59=0,0,(IF((E17*E20)=0,E32*E28,E17*E20)*'1 Intro djuren'!D31+IF((E16*E18*E19)=0,E31*E26,E16*(E19-E18))*'1 Intro djuren'!D27+IF((E15*E18)=0,E30*E24,E15*E18)*'1 Intro djuren'!D27)/D59/Bakgrund!C14)","v":0},{"$f":"IF(E59=0,0,(IF((F17*F20)=0,F32*F28,F17*F20)*'1 Intro djuren'!E31+IF((F16*F18*F19)=0,F31*F26,F16*(F19-F18))*'1 Intro djuren'!E27+IF((F15*F18)=0,F30*F24,F15*F18)*'1 Intro djuren'!E27)/E59/Bakgrund!D14)","v":0}]

{"sheet":"1.3 Hälsa & dödlighet","index":5,"n_rows":60,"n_cols":11,"rows_kept":60,"cut":false,"hidden":false,"merged":[[50,7,50,9],[30,9,30,11],[40,6,41,6]]}
["1.3 Hälsa & dödlighet",null,null,null,null,null,null,null,null,null,"Det här betyder färgerna:"]
["Bladet är frivilligt att fylla i",null,null,null,null,null,null,null,null,null,"Cell med värden hämtade från annan cell"]
["Här beräknas nyckeltal för veterinärkostnader samt svinn i form av döda djur som ej blivit säljbart kött.",null,null,null,null,null,null,null,null,null,"Fyll i din egen siffra"]
["Ljusgrå text och vit bakgrund - avsnittet är inte relevant för dig baserat på svaren på Ja/Nej-frågorna på Bakgrund",null,null,null,null,null,null,null,null,null,"Resultat/uträkning"]
[null,null,null,null,null,null,null,null,null,null,"Schablonvärde"]
[null,null,null,null,null,null,null,null,null,null,"Förklaringar till raden"]
[null,null,null,null,null,null,null,null,null,null,"Plats för egna kommentarer"]
[null,null,null,null,null,null,null,null,null,null,"grå text, ev vit bakgrund: Avsnittet är inte relevant för dig baserat på svaren på ja/nej-frågor på bladet Bakgrund"]
["Veterinärkostnader smågrisproduktion","Enhet",{"$f":"(Bakgrund!R7)","v":"Period 1"},{"$f":"(Bakgrund!S7)","v":"Period 2"},{"$f":"(Bakgrund!T7)","v":"Period 3"},"Egen kommentar","Förklaring","Jämförelsetal ekonomikonstant i PigWin Sugg 2012"]
[{"$f":"'1 Intro djuren'!A27","v":"Producerade smågrisar under perioden"},"antal",{"$f":"'1 Intro djuren'!C27","v":0},{"$f":"'1 Intro djuren'!D27","v":0},{"$f":"'1 Intro djuren'!E27","v":0},null,{"$f":"\"Summering från \" &B_G_Intro_djur","v":"Summering från 1 Intro djuren"},null,null,null,"Snabblänkar till bladen i verktyget:"]
[{"$f":"'1 Intro djuren'!A25","v":"Medelantal suggor under perioden (SIP)"},{"$f":"'1 Intro djuren'!B25","v":"antal"},{"$f":"'1 Intro djuren'!C25","v":0},{"$f":"'1 Intro djuren'!D25","v":0},{"$f":"'1 Intro djuren'!E25","v":0},null,null,null,null,null,"Instruktion"]
["Rådgivning","kr",null,null,null,null,"Veterinärbesök",null,null,null,"Bakgrund"]
["Förebyggande behandlingar","kr",null,null,null,null,"T.ex. vaccin, järn, avmaskning",null,null,null,"1 Intro djuren"]
["Behandlingar av sjuka djur","kr",null,null,null,null,"T.ex. antibiotika",null,null,null,"1.1 Kött"]
["Annan veterinärkostnad","kr",null,null,null,null,"Kan du inte särskilja olika poster så lägg in alla veterinärrelaterade kostnader som \"Annan veterinärkostnad\"",null,null,null,"1.2 Tillväxt & förökning"]
["Total kostnad för veterinär och behandlingar","kr",{"$f":"C12+C13+C14+C15","v":0},{"$f":"D12+D13+D14+D15","v":0},{"$f":"E12+E13+E14+E15","v":0},null,null,null,null,null,"1.3 Hälsa & dödlighet"]
["Veterinärkostnad per smågris","kr/djur",{"$f":"IF(C10=0,0,C15/C10)","v":0},{"$f":"IF(D10=0,0,D15/D10)","v":0},0,null,null,null,null,null,"2 Intro foder"]
["Veterinärkostnad per sugga","kr/djur",{"$f":"IF(C11=0,0,C16/C11)","v":0},{"$f":"IF(D11=0,0,D16/D11)","v":0},0,null,null,{"$f":"260+450+180","v":890},null,null,"2.1 Odling foder"]
[null,null,null,null,null,null,null,null,null,null,"2.1b Halm, odling grovfoder"]
[null,null,null,null,null,null,null,null,null,null,"2.2 Förluster vid lagring"]
["Veterinärkostnader slaktsvinsproduktion","Enhet",{"$f":"(Bakgrund!R7)","v":"Period 1"},{"$f":"(Bakgrund!S7)","v":"Period 2"},{"$f":"(Bakgrund!T7)","v":"Period 3"},"Egen kommentar","Förklaring",null,null,null,"2.3 Utfodrat"]
[{"$f":"'1 Intro djuren'!A31","v":"Producerade slaktgrisar under perioden"},"antal",{"$f":"'1 Intro djuren'!C31","v":0},{"$f":"'1 Intro djuren'!D31","v":0},{"$f":"'1 Intro djuren'!E31","v":0},null,{"$f":"\"Summering från \" &B_G_Intro_djur","v":"Summering från 1 Intro djuren"},null,null,null,"2.4 Kasserat foder och spill"]
["Rådgivning","kr",null,null,null,null,"Veterinärbesök",null,null,null,"3 Växtnäringsutnyttjande (1)"]
["Förebyggande behandlingar","kr",null,null,null,null,"T.ex. vaccin, järn, avmaskning",null,null,null,"3 Växtnäringsutnyttjande (2)"]
["Behandlingar av sjuka djur","kr",null,null,null,null,"T.ex. antibiotika",null,null,null,"3 Växtnäringsutnyttjande (3)"]
["Annan veterinärkostnad","kr",null,null,null,null,"Kan du inte särskilja olika poster så lägg in alla veterinärrelaterade kostnader som \"Annan veterinärkostnad\"",null,null,null,"4 Energi och bränsle"]
["Total kostnad för veterinär och behandlingar","kr",{"$f":"C23+C24+C25+C26","v":0},{"$f":"D23+D24+D25+D26","v":0},{"$f":"E23+E24+E25+E26","v":0},null,null,null,null,null,"5 Vattenanvändning"]
["Veterinärkostnad/slaktsvin","kr/djur",{"$f":"IF(C22=0,0,C27/C22)","v":0},{"$f":"IF(D22=0,0,D27/D22)","v":0},{"$f":"IF(E22=0,0,E27/E22)","v":0},null,null,null,null,null,"6 Resultat"]
[null,null,null,null,null,null,null,null,null,null,"6B Klimat"]
["Levererad kg kött","kg",{"$f":"'6 Resultat'!Q34","v":0},{"$f":"'6 Resultat'!R34","v":0},{"$f":"'6 Resultat'!S34","v":0}]
["Veterinärkostnad per kg kött","kr/kg kött",{"$f":"IF(C30=0,0,(C27+C16)/C30)","v":0},{"$f":"IF(D30=0,0,(D27+D16)/D30)","v":0},{"$f":"IF(E30=0,0,(E27+E16)/E30)","v":0}]
[]
[]
[null,null,null,null,null,null,null,"Jämförelsetal WinPig Sugg 2019"]
["Dödlighet smågrisproduktion","Enhet",{"$f":"(Bakgrund!R7)","v":"Period 1"},{"$f":"(Bakgrund!S7)","v":"Period 2"},{"$f":"(Bakgrund!T7)","v":"Period 3"},"Egen kommentar","Förklaring","Medel","Bästa 25% "]
[{"$f":"'1 Intro djuren'!A25","v":"Medelantal suggor under perioden (SIP)"},"antal",{"$f":"'1 Intro djuren'!C25","v":0},{"$f":"'1 Intro djuren'!D25","v":0},{"$f":"'1 Intro djuren'!E25","v":0},null,{"$f":"\"Summering från \" &B_G_Intro_djur","v":"Summering från 1 Intro djuren"},371,452]
["Avlivade och självdöda suggor","antal",null,null,null,null,"Antalet som självdött under perioden och suggor som avlivats pga sjukdom, olycka eller andra oplanerade händelser."]
["Nyckeltal: Dödlighet suggor ","%",{"$f":"IF(C36=0,0,C37/C36)","v":0},{"$f":"IF(D36=0,0,D37/D36)","v":0},0]
["Nyckeltal: Svinn potentiellt kött från suggor","kg",{"$f":"C36*C38*300/1.34","v":0},{"$f":"D36*D38*300/1.34","v":0},{"$f":"E36*E38*300/1.34","v":0},null,"Antal avlivade/självdöda * 300 kg levande vikt omräknat till slaktvikt med slaktutbytesfaktor 1,34"]
[]
["Levande födda smågrisar under perioden","antal",null,null,null,null,"Fyll i antal levande födda samt avvanda smågrisar för att nyckeltalet Svinn producerade smågrisar ska beräknas"]
["Avvanda smågrisar under perioden","antal"]
[{"$f":"'1 Intro djuren'!A27","v":"Producerade smågrisar under perioden"},"antal",{"$f":"'1 Intro djuren'!C27","v":0},{"$f":"'1 Intro djuren'!D27","v":0},{"$f":"'1 Intro djuren'!E27","v":0}]
["Dödlighet diande","%",{"$f":"IF(C41=0,0,(C41-C42)/C41)","v":0},{"$f":"IF(D41=0,0,(D41-D42)/D41)","v":0},0,null,null,0.17699999999999999,0.14399999999999999]
["Dödlighet avvanda","%",{"$f":"IF(C42=0,0,(C42-C43)/C42)","v":0},{"$f":"IF(D42=0,0,(D42-D43)/D42)","v":0},0,null,null,0.02,1.7000000000000001E-2]
["Nyckeltal: Dödlighet - producerade smågrisar","%",{"$f":"IF(C41=0,0,(C41-C43)/C41)","v":0},{"$f":"IF(D41=0,0,(D41-D43)/D41)","v":0},{"$f":"IF(E41=0,0,(E41-E43)/E41)","v":0}]
["Nyckeltal: Svinn levande vikt producerade smågrisar","kg",{"$f":"IF(C41=0,0,(C41-C43)*30)","v":0},{"$f":"IF(D41=0,0,(D41-D43)*30)","v":0},{"$f":"IF(E41=0,0,(E41-E43)*30)","v":0},null,"Antal avlivade/självdöda grisar omräknat till 30 kg levande vikt levererade smågrisar"]
["Nyckeltal: Svinn potentiellt kött från smågrisar","kg",{"$f":"C47/1.34","v":0},{"$f":"D47/1.34","v":0},{"$f":"E47/1.34","v":0},null,"Levande vikt omräknat till \"slaktvikt\" med slaktutbytesfaktor 1,34"]
[]
[]
[null,null,null,null,null,null,null,"Jämförelsetal WinPig Slakt 2019"]
["Dödlighet slaktsvinsproduktion","Enhet",{"$f":"(Bakgrund!R7)","v":"Period 1"},{"$f":"(Bakgrund!S7)","v":"Period 2"},{"$f":"(Bakgrund!T7)","v":"Period 3"},"Egen kommentar","Förklaring","Medel","Bästa 25% på tillväxt","Bästa 25 % på foder/kg tillv"]
[{"$f":"'1 Intro djuren'!A31","v":"Producerade slaktgrisar under perioden"},"st",{"$f":"'1 Intro djuren'!C31","v":0},{"$f":"'1 Intro djuren'!D31","v":0},{"$f":"'1 Intro djuren'!E31","v":0},null,{"$f":"\"Antal hämtas från \"&B_G_Intro_djur","v":"Antal hämtas från 1 Intro djuren"}]
["Antal avlivade och självdöda slaktgrisar","st",null,null,null,null,"Slaktgrisar som avlivats pga sjukdom, olycka eller andra oplanerade händelser. "]
["Nyckeltal: Dödlighet - Slaktsvin","%",{"$f":"IF(C53=0,0,C54/(C53+C54))","v":0},{"$f":"IF(D53=0,0,D54/(D53+D54))","v":0},{"$f":"IF(E53=0,0,E54/(E53+E54))","v":0},null,"Antal slaktgrisar som avlivats eller gått till oönskad slakt och som inte kan bli livsmedel",1.7000000000000001E-2,1.4999999999999999E-2,1.4999999999999999E-2]
["Antal kasserade slaktsvin","st"]
["Kasserade","%",{"$f":"IF(C53=0,0,C56/C53)","v":0},{"$f":"IF(D53=0,0,D56/D53)","v":0},0,null,null,1.8E-3,1.1999999999999999E-3,1.6000000000000001E-3]
["Nyckeltal: Svinn potentiellt kött från slaktsvin","kg",{"$f":"(C55*(C53+C54)+C57*C53)*90","v":0},{"$f":"(D55*(D53+D54)+D57*D53)*90","v":0},0,null,"Antal avlivade/självdöda och kasserade grisar omräknat till 90 kg slaktkropp"]
[]
["Nyckeltal: Totalt svinn potentiellt kött från gården ","kg",{"$f":"C39+C48+C58","v":0},{"$f":"D39+D48+D58","v":0},0,null,"Kött fån suggor och slaktsvin"]

{"sheet":"2 Intro foder","index":6,"n_rows":29,"n_cols":16,"rows_kept":29,"cut":false,"hidden":false,"merged":[[13,2,13,5],[14,2,14,5],[8,2,8,5],[12,2,12,5],[10,2,10,5],[9,2,9,5],[11,2,11,5]]}
["2 Intro foder",null,null,null,null,null,null,null,"Det här betyder färgerna:"]
[{"$f":"VLOOKUP(B10,'Teknisk administration'!G4:H6,2,FALSE)","v":"Obligatoriskt blad"},null,null,null,null,null,null,null,"Cell med värden hämtade från annan cell"]
["I del 2 fyller du i uppgifter om foder till djuren, inklusive bete och växtodling. Vissa uppgifter används på flera platser, så därför ska du fylla i dem på detta blad så förs de över till kommande blad.",null,null,null,null,null,null,null,"Fyll i din egen siffra"]
[null,null,null,null,null,null,null,null,"Möjligt fylla i eget värde, om du har"]
[null,null,null,null,null,null,null,null,"Resultat för nyckeltalet (cellen innehåller en formel)"]
["I tabellen nedan får du en kort beskrivning av bladen i del 2, och instruktion huruvida du behöver fylla i bladet. ",null,null,null,null,null,null,null,"Förklaringar till raden"]
[{"$f":"\"Instruktionen stryrs av dina svar på ja/nej-frågorna på Bakgrund, så gå tillbaks till Bakgrund om du vill ändra dina svar. \" & IF(Bakgrund!BG37=0,\"Du svarade att du inte är intresserad av foderfrågor så därför markeras bladen som ej relevanta för dig\",\"\")","v":"Instruktionen stryrs av dina svar på ja/nej-frågorna på Bakgrund, så gå tillbaks till Bakgrund om du vill ändra dina svar. "},null,null,null,null,null,null,null,"Plats för egna kommentarer"]
["Om du svarat att du vill ta fram nyckeltal om foderåtgång, förluster i foderkedjan och/eller växtnäringsutnyttjande kommer de blad som behöver fyllas i att markeras som obligatoriska"]
["Del 2. Foder","Ska bladet fyllas i?","Om bladet",null,null,null,null,null,"Snabblänkar till bladen i verktyget:"]
[{"$f":"C_Foder","v":"2 Intro foder"},{"$f":"IF(AND(Bakgrund!BG37=0,Bakgrund!BH37=0),'Teknisk administration'!G6,'Teknisk administration'!G4)","v":"obligatoriskt"},"Sammanställning av arealen åkermark, åkerbete och naturbete",null,null,null,null,null,"Instruktion"]
[{"$f":"C_Odling_foder","v":"2.1 Odling foder"},{"$f":"IF(B10='Teknisk administration'!$G$6,'Teknisk administration'!G6,IF(Bakgrund!AR37=0,'Teknisk administration'!$G$6,IF(SUM(Bakgrund!BG37:BH37)=0,'Teknisk administration'!$G$5,'Teknisk administration'!$G$4)))","v":"obligatoriskt"},"Mängden odlat foder (kg ts och MJ). Underlag för beräkna förluster i foderkedjan.",null,null,null,null,null,"Bakgrund"]
[{"$f":"'2.1b Halm, odling grovfoder'!A1","v":"2.1b Halm, odling grovfoder"},{"$f":"IF(Bakgrund!BJ37=0,inte_relevant,frivilligt)","v":"inte relevant för dig"},"Mängden bärgad halm och ev odlat grovfoder. Underlag för att beräkna förluster, men ger inga särskilda nyckeltal",null,null,null,null,null,"1 Intro djuren"]
[{"$f":"C_forluster_lagring","v":"2.2 Förluster vid lagring"},{"$f":"IF(B11=inte_relevant,inte_relevant,IF(Bakgrund!BH37>0,obligatoriskt,frivilligt))","v":"obligatoriskt"},"Förluster vid lagring av odlat foder, före uttag. Underlag för att beräkna förluster i foderkedjan",null,null,null,null,null,"1.1 Kött"]
[{"$f":"C_G_Summering","v":"2.3 Utfodrat"},{"$f":"IF(Bakgrund!BG37>0,'Teknisk administration'!G4,'Teknisk administration'!G5)","v":"obligatoriskt"},"Beräknad foderåtgång. Underlag för beräkningar av förluster och växtnäringsutnyttjande",null,null,null,null,null,"1.2 Tillväxt & förökning"]
[{"$f":"'2.4 Kasserat foder och spill'!A1","v":"2.4 Kasserat foder och spill"},{"$f":"IF(Bakgrund!BH37>0,obligatoriskt,frivilligt)","v":"obligatoriskt"},"Kasserat foder (mögligt foder, skrotbalar etc.) och spill vid utfodring",null,null,null,null,null,"1.3 Hälsa & dödlighet"]
[null,null,null,null,null,null,null,null,"2 Intro foder"]
[null,null,null,null,null,null,null,null,"2.1 Odling foder"]
[null,null,null,null,null,null,null,null,"2.1b Halm, odling grovfoder"]
[null,null,null,null,null,null,null,null,"2.2 Förluster vid lagring"]
["Fyll i areal åkermark respektive naturbetesmark i gula celler. Om en kategori inte är relavant lämnar du cellen tom. ",null,null,null,null,null,null,null,"2.3 Utfodrat"]
["Areal åkermark","Enhet",{"$f":"Bakgrund!R$7","v":"Period 1"},{"$f":"Bakgrund!S$7","v":"Period 2"},{"$f":"Bakgrund!T$7","v":"Period 3"},"Förklaring","Egen kommentar",null,"2.4 Kasserat foder och spill"]
["Avsalugrödor","hektar åker",null,null,null,"Arealer med slåttervall, spannmål, oljeväxter etc. som säljs och som inte används till eget foder",null,null,"3 Växtnäringsutnyttjande (1)"]
["Spannmål till tröskning","hektar åker",null,null,null,"Spannmål som går till eget foder",null,null,"3 Växtnäringsutnyttjande (2)"]
["Proteingrödor till tröskning","hektar åker",null,null,null,"Proteingrödor som tröskas och går till eget foder",null,null,"3 Växtnäringsutnyttjande (3)"]
["Grödor till ensilage, hö, hösilage, grönfoder - eget foder","hektar åker",null,null,null,"Grödor som inte tröskas. T ex vall eller spannmål/blandsäd/proteingrödor som ensilieras.",null,null,"4 Energi och bränsle"]
["Övriga grödor, ej foder","hektar åker",null,null,null,"Ej foder, t ex salix, gröngödsling",null,null,"5 Vattenanvändning"]
["Träda","hektar åker",null,null,null,null,null,null,"6 Resultat"]
["Total åkerareal","hektar åker",{"$f":"SUM(C22:C27)","v":0},{"$f":"SUM(D22:D27)","v":0},0,"Summering av alla rader ovan.",null,null,"6B Klimat",null,null,null,null,{"$f":"SUM(C22:C27)","v":0},{"$f":"SUM(D22:D27)","v":0},{"$f":"SUM(E22:E27)","v":0}]
["Varav areal åker för egen foderproduktion","hektar åker",{"$f":"SUM(C23:C24)","v":0},{"$f":"SUM(D23:D24)","v":0},0,"summering av raderna ovan, exklusive Areal avsalugrödor, träda och övriga grödor",null,null,null,null,null,null,null,{"$f":"SUM(C23:C24)","v":0},{"$f":"SUM(D23:D25)","v":0},{"$f":"SUM(E23:E25)","v":0}]

{"sheet":"2.1 Odling foder","index":7,"n_rows":67,"n_cols":15,"rows_kept":67,"cut":false,"hidden":false,"merged":[]}
["2.1 Odling foder",null,null,null,null,null,null,null,null,null,null,null,null,null,"Det här betyder färgerna:"]
[{"$f":"VLOOKUP('2 Intro foder'!B11,'Teknisk administration'!$G$4:$H$6,2,FALSE)","v":"Obligatoriskt blad"},null,null,null,null,null,null,null,null,null,null,null,null,null,"Cell med värden hämtade från annan cell"]
["Här beräknar du mängden foder (MJ och kg ts) som tröskats.",null,null,null,null,null,null,null,null,null,null,null,null,null,"Fyll i din egen siffra"]
[{"$f":"\"Mängd bärgad halm och ev slåttervall, grönfoder etc. sammanställs på bladet \"&'2.1b Halm, odling grovfoder'!A1","v":"Mängd bärgad halm och ev slåttervall, grönfoder etc. sammanställs på bladet 2.1b Halm, odling grovfoder"},null,null,null,null,null,null,null,null,null,null,null,null,null,"Resultat/uträkning"]
["Avsalugrödor, t ex brödspannmål, kan men behöver inte tas med. ",null,null,null,null,null,null,null,null,null,null,null,null,null,"Förklaringar till raden"]
["Räcker inte raderna till? Ta bort bladets skrivskydd (Granska/Skydda), inget lösenord krävs. Högerklicka i tabellen och välj Infoga > Infoga rad ovanför",null,null,null,null,null,null,null,null,null,null,null,null,null,"Plats för egna kommentarer"]
["Perioderna ligger under varandra på detta blad",null,null,null,null,null,null,null,null,null,null,null,null,null,"Egen uppgift, men välj värde ur rullista. "]
[]
[null,null,null,null,null,null,null,null,null,null,null,null,null,null,"Snabblänkar till bladen i verktyget:"]
[{"$f":"\"Tröskat \"&period_1","v":"Tröskat Period 1"},null,null,null,null,null,null,null,null,null,null,null,null,null,"Instruktion"]
["Välj typ av ur lista och mängden bärgat foder aktuell period (enhet visas när du valt ett foder ur listan). Enhet och ts-halt hämtas från en databas. ",null,null,null,null,"Växande grisar","Suggor",null,null,null,null,null,null,null,"Bakgrund"]
["Typ av foder - välj ur lista","Mängd","Enhet och ts-halt","Egen kommentar","ts-halt","MJ NE","MJ NE2","typ av foder","spannmål","trindsäd","oljeväxter","rotfrukter",null,null,"1 Intro djuren"]
[null,null,{"$f":"IF(ISTEXT(A13),VLOOKUP(A13,'Teknisk administration'!$B$323:$G$338,2,FALSE),\"\")","v":""},null,{"$f":"IF(ISTEXT(A13),VLOOKUP(A13,'Teknisk administration'!$B$323:$G$338,3,FALSE),\"\")","v":""},{"$f":"IF(ISTEXT($A13),VLOOKUP($A13,'Teknisk administration'!$B$323:$I$338,5,FALSE)*$B13,\"\")","v":""},{"$f":"IF(ISTEXT($A13),VLOOKUP($A13,'Teknisk administration'!$B$323:$I$338,6,FALSE)*$B13,\"\")","v":""},{"$f":"IF(ISTEXT(A13),VLOOKUP(A13,'Teknisk administration'!$B$323:$I$338,8,FALSE),\"\")","v":""},{"$f":"IF($H13=I$12,1,0)","v":0},0,0,0,null,null,"1.1 Kött"]
[null,null,{"$f":"IF(ISTEXT(A14),VLOOKUP(A14,'Teknisk administration'!$B$323:$G$338,2,FALSE),\"\")","v":""},null,{"$f":"IF(ISTEXT(A14),VLOOKUP(A14,'Teknisk administration'!$B$323:$G$338,3,FALSE),\"\")","v":""},{"$f":"IF(ISTEXT($A14),VLOOKUP($A14,'Teknisk administration'!$B$323:$I$338,5,FALSE)*$B14,\"\")","v":""},{"$f":"IF(ISTEXT($A14),VLOOKUP($A14,'Teknisk administration'!$B$323:$I$338,6,FALSE)*$B14,\"\")","v":""},{"$f":"IF(ISTEXT(A14),VLOOKUP(A14,'Teknisk administration'!$B$323:$I$338,8,FALSE),\"\")","v":""},0,0,0,0,null,null,"1.2 Tillväxt & förökning"]
[null,null,{"$f":"IF(ISTEXT(A15),VLOOKUP(A15,'Teknisk administration'!$B$323:$G$338,2,FALSE),\"\")","v":""},null,{"$f":"IF(ISTEXT(A15),VLOOKUP(A15,'Teknisk administration'!$B$323:$G$338,3,FALSE),\"\")","v":""},{"$f":"IF(ISTEXT($A15),VLOOKUP($A15,'Teknisk administration'!$B$323:$I$338,5,FALSE)*$B15,\"\")","v":""},{"$f":"IF(ISTEXT($A15),VLOOKUP($A15,'Teknisk administration'!$B$323:$I$338,6,FALSE)*$B15,\"\")","v":""},{"$f":"IF(ISTEXT(A15),VLOOKUP(A15,'Teknisk administration'!$B$323:$I$338,8,FALSE),\"\")","v":""},0,0,0,0,null,null,"1.3 Hälsa & dödlighet"]
[null,null,{"$f":"IF(ISTEXT(A16),VLOOKUP(A16,'Teknisk administration'!$B$323:$G$338,2,FALSE),\"\")","v":""},null,{"$f":"IF(ISTEXT(A16),VLOOKUP(A16,'Teknisk administration'!$B$323:$G$338,3,FALSE),\"\")","v":""},{"$f":"IF(ISTEXT($A16),VLOOKUP($A16,'Teknisk administration'!$B$323:$I$338,5,FALSE)*$B16,\"\")","v":""},{"$f":"IF(ISTEXT($A16),VLOOKUP($A16,'Teknisk administration'!$B$323:$I$338,6,FALSE)*$B16,\"\")","v":""},{"$f":"IF(ISTEXT(A16),VLOOKUP(A16,'Teknisk administration'!$B$323:$I$338,8,FALSE),\"\")","v":""},0,0,0,0,null,null,"2 Intro foder"]
[null,null,{"$f":"IF(ISTEXT(A17),VLOOKUP(A17,'Teknisk administration'!$B$323:$G$338,2,FALSE),\"\")","v":""},null,{"$f":"IF(ISTEXT(A17),VLOOKUP(A17,'Teknisk administration'!$B$323:$G$338,3,FALSE),\"\")","v":""},{"$f":"IF(ISTEXT($A17),VLOOKUP($A17,'Teknisk administration'!$B$323:$I$338,5,FALSE)*$B17,\"\")","v":""},{"$f":"IF(ISTEXT($A17),VLOOKUP($A17,'Teknisk administration'!$B$323:$I$338,6,FALSE)*$B17,\"\")","v":""},{"$f":"IF(ISTEXT(A17),VLOOKUP(A17,'Teknisk administration'!$B$323:$I$338,8,FALSE),\"\")","v":""},0,0,0,0,null,null,"2.1 Odling foder"]
[null,null,{"$f":"IF(ISTEXT(A18),VLOOKUP(A18,'Teknisk administration'!$B$323:$G$338,2,FALSE),\"\")","v":""},null,{"$f":"IF(ISTEXT(A18),VLOOKUP(A18,'Teknisk administration'!$B$323:$G$338,3,FALSE),\"\")","v":""},{"$f":"IF(ISTEXT($A18),VLOOKUP($A18,'Teknisk administration'!$B$323:$I$338,5,FALSE)*$B18,\"\")","v":""},{"$f":"IF(ISTEXT($A18),VLOOKUP($A18,'Teknisk administration'!$B$323:$I$338,6,FALSE)*$B18,\"\")","v":""},{"$f":"IF(ISTEXT(A18),VLOOKUP(A18,'Teknisk administration'!$B$323:$I$338,8,FALSE),\"\")","v":""},0,0,0,0,null,null,"2.1b Halm, odling grovfoder"]
[null,null,{"$f":"IF(ISTEXT(A19),VLOOKUP(A19,'Teknisk administration'!$B$323:$G$338,2,FALSE),\"\")","v":""},null,{"$f":"IF(ISTEXT(A19),VLOOKUP(A19,'Teknisk administration'!$B$323:$G$338,3,FALSE),\"\")","v":""},{"$f":"IF(ISTEXT($A19),VLOOKUP($A19,'Teknisk administration'!$B$323:$I$338,5,FALSE)*$B19,\"\")","v":""},{"$f":"IF(ISTEXT($A19),VLOOKUP($A19,'Teknisk administration'!$B$323:$I$338,6,FALSE)*$B19,\"\")","v":""},{"$f":"IF(ISTEXT(A19),VLOOKUP(A19,'Teknisk administration'!$B$323:$I$338,8,FALSE),\"\")","v":""},0,0,0,0,null,null,"2.2 Förluster vid lagring"]
[null,null,{"$f":"IF(ISTEXT(A20),VLOOKUP(A20,'Teknisk administration'!$B$323:$G$338,2,FALSE),\"\")","v":""},null,{"$f":"IF(ISTEXT(A20),VLOOKUP(A20,'Teknisk administration'!$B$323:$G$338,3,FALSE),\"\")","v":""},{"$f":"IF(ISTEXT($A20),VLOOKUP($A20,'Teknisk administration'!$B$323:$I$338,5,FALSE)*$B20,\"\")","v":""},{"$f":"IF(ISTEXT($A20),VLOOKUP($A20,'Teknisk administration'!$B$323:$I$338,6,FALSE)*$B20,\"\")","v":""},{"$f":"IF(ISTEXT(A20),VLOOKUP(A20,'Teknisk administration'!$B$323:$I$338,8,FALSE),\"\")","v":""},0,0,0,0,null,null,"2.3 Utfodrat"]
[null,null,{"$f":"IF(ISTEXT(A21),VLOOKUP(A21,'Teknisk administration'!$B$323:$G$338,2,FALSE),\"\")","v":""},null,{"$f":"IF(ISTEXT(A21),VLOOKUP(A21,'Teknisk administration'!$B$323:$G$338,3,FALSE),\"\")","v":""},{"$f":"IF(ISTEXT($A21),VLOOKUP($A21,'Teknisk administration'!$B$323:$I$338,5,FALSE)*$B21,\"\")","v":""},{"$f":"IF(ISTEXT($A21),VLOOKUP($A21,'Teknisk administration'!$B$323:$I$338,6,FALSE)*$B21,\"\")","v":""},{"$f":"IF(ISTEXT(A21),VLOOKUP(A21,'Teknisk administration'!$B$323:$I$338,8,FALSE),\"\")","v":""},0,0,0,0,null,null,"2.4 Kasserat foder och spill"]
[null,null,{"$f":"IF(ISTEXT(A22),VLOOKUP(A22,'Teknisk administration'!$B$323:$G$338,2,FALSE),\"\")","v":""},null,{"$f":"IF(ISTEXT(A22),VLOOKUP(A22,'Teknisk administration'!$B$323:$G$338,3,FALSE),\"\")","v":""},{"$f":"IF(ISTEXT($A22),VLOOKUP($A22,'Teknisk administration'!$B$323:$I$338,5,FALSE)*$B22,\"\")","v":""},{"$f":"IF(ISTEXT($A22),VLOOKUP($A22,'Teknisk administration'!$B$323:$I$338,6,FALSE)*$B22,\"\")","v":""},{"$f":"IF(ISTEXT(A22),VLOOKUP(A22,'Teknisk administration'!$B$323:$I$338,8,FALSE),\"\")","v":""},0,0,0,0,null,null,"3 Växtnäringsutnyttjande (1)"]
[null,null,{"$f":"IF(ISTEXT(A23),VLOOKUP(A23,'Teknisk administration'!$B$323:$G$338,2,FALSE),\"\")","v":""},null,{"$f":"IF(ISTEXT(A23),VLOOKUP(A23,'Teknisk administration'!$B$323:$G$338,3,FALSE),\"\")","v":""},{"$f":"IF(ISTEXT($A23),VLOOKUP($A23,'Teknisk administration'!$B$323:$I$338,5,FALSE)*$B23,\"\")","v":""},{"$f":"IF(ISTEXT($A23),VLOOKUP($A23,'Teknisk administration'!$B$323:$I$338,6,FALSE)*$B23,\"\")","v":""},{"$f":"IF(ISTEXT(A23),VLOOKUP(A23,'Teknisk administration'!$B$323:$I$338,8,FALSE),\"\")","v":""},0,0,0,0,null,null,"3 Växtnäringsutnyttjande (2)"]
[null,null,{"$f":"IF(ISTEXT(A24),VLOOKUP(A24,'Teknisk administration'!$B$323:$G$338,2,FALSE),\"\")","v":""},null,{"$f":"IF(ISTEXT(A24),VLOOKUP(A24,'Teknisk administration'!$B$323:$G$338,3,FALSE),\"\")","v":""},{"$f":"IF(ISTEXT($A24),VLOOKUP($A24,'Teknisk administration'!$B$323:$I$338,5,FALSE)*$B24,\"\")","v":""},{"$f":"IF(ISTEXT($A24),VLOOKUP($A24,'Teknisk administration'!$B$323:$I$338,6,FALSE)*$B24,\"\")","v":""},{"$f":"IF(ISTEXT(A24),VLOOKUP(A24,'Teknisk administration'!$B$323:$I$338,8,FALSE),\"\")","v":""},0,0,0,0,null,null,"3 Växtnäringsutnyttjande (3)"]
["totalt, kg ts",{"$f":"SUMPRODUCT(B13:B24,E13:E24)","v":0},null,null,null,{"$f":"SUM(F13:F24)","v":0},{"$f":"SUM(G13:G24)","v":0},null,null,null,null,null,null,null,"4 Energi och bränsle"]
[null,null,null,null,null,null,null,null,null,null,null,null,null,null,"5 Vattenanvändning"]
[null,null,null,null,null,null,null,null,null,null,null,null,null,null,"6 Resultat"]
[null,null,null,null,null,null,null,null,null,null,null,null,null,null,"6B Klimat"]
[]
[{"$f":"\"Tröskat \"&period_2","v":"Tröskat Period 2"}]
["Välj typ av ur lista och mängden bärgat foder aktuell period (enhet visas när du valt ett foder ur listan). Enhet och ts-halt hämtas från en databas. ",null,null,null,null,"Växande grisar","Suggor"]
["Typ av foder - välj ur lista","Mängd","Enhet och ts-halt","Egen kommentar","ts-halt","MJ NE","MJ NE2","typ av foder","spannmål","trindsäd","oljeväxter","rotfrukter"]
[null,null,{"$f":"IF(ISTEXT(A33),VLOOKUP(A33,'Teknisk administration'!$B$323:$G$338,2,FALSE),\"\")","v":""},null,{"$f":"IF(ISTEXT(A33),VLOOKUP(A33,'Teknisk administration'!$B$323:$G$338,3,FALSE),\"\")","v":""},{"$f":"IF(ISTEXT($A33),VLOOKUP($A33,'Teknisk administration'!$B$323:$I$338,5,FALSE)*$B33,\"\")","v":""},{"$f":"IF(ISTEXT($A33),VLOOKUP($A33,'Teknisk administration'!$B$323:$I$338,6,FALSE)*$B33,\"\")","v":""},{"$f":"IF(ISTEXT(A33),VLOOKUP(A33,'Teknisk administration'!$B$323:$I$338,8,FALSE),\"\")","v":""},{"$f":"IF($H33=I$12,1,0)","v":0},0,0,0]
[null,null,{"$f":"IF(ISTEXT(A34),VLOOKUP(A34,'Teknisk administration'!$B$323:$G$338,2,FALSE),\"\")","v":""},null,{"$f":"IF(ISTEXT(A34),VLOOKUP(A34,'Teknisk administration'!$B$323:$G$338,3,FALSE),\"\")","v":""},{"$f":"IF(ISTEXT($A34),VLOOKUP($A34,'Teknisk administration'!$B$323:$I$338,5,FALSE)*$B34,\"\")","v":""},{"$f":"IF(ISTEXT($A34),VLOOKUP($A34,'Teknisk administration'!$B$323:$I$338,6,FALSE)*$B34,\"\")","v":""},{"$f":"IF(ISTEXT(A34),VLOOKUP(A34,'Teknisk administration'!$B$323:$I$338,8,FALSE),\"\")","v":""},0,0,0,0]
[null,null,{"$f":"IF(ISTEXT(A35),VLOOKUP(A35,'Teknisk administration'!$B$323:$G$338,2,FALSE),\"\")","v":""},null,{"$f":"IF(ISTEXT(A35),VLOOKUP(A35,'Teknisk administration'!$B$323:$G$338,3,FALSE),\"\")","v":""},{"$f":"IF(ISTEXT($A35),VLOOKUP($A35,'Teknisk administration'!$B$323:$I$338,5,FALSE)*$B35,\"\")","v":""},{"$f":"IF(ISTEXT($A35),VLOOKUP($A35,'Teknisk administration'!$B$323:$I$338,6,FALSE)*$B35,\"\")","v":""},{"$f":"IF(ISTEXT(A35),VLOOKUP(A35,'Teknisk administration'!$B$323:$I$338,8,FALSE),\"\")","v":""},0,0,0,0]
[null,null,{"$f":"IF(ISTEXT(A36),VLOOKUP(A36,'Teknisk administration'!$B$323:$G$338,2,FALSE),\"\")","v":""},null,{"$f":"IF(ISTEXT(A36),VLOOKUP(A36,'Teknisk administration'!$B$323:$G$338,3,FALSE),\"\")","v":""},{"$f":"IF(ISTEXT($A36),VLOOKUP($A36,'Teknisk administration'!$B$323:$I$338,5,FALSE)*$B36,\"\")","v":""},{"$f":"IF(ISTEXT($A36),VLOOKUP($A36,'Teknisk administration'!$B$323:$I$338,6,FALSE)*$B36,\"\")","v":""},{"$f":"IF(ISTEXT(A36),VLOOKUP(A36,'Teknisk administration'!$B$323:$I$338,8,FALSE),\"\")","v":""},0,0,0,0]
[null,null,{"$f":"IF(ISTEXT(A37),VLOOKUP(A37,'Teknisk administration'!$B$323:$G$338,2,FALSE),\"\")","v":""},null,{"$f":"IF(ISTEXT(A37),VLOOKUP(A37,'Teknisk administration'!$B$323:$G$338,3,FALSE),\"\")","v":""},{"$f":"IF(ISTEXT($A37),VLOOKUP($A37,'Teknisk administration'!$B$323:$I$338,5,FALSE)*$B37,\"\")","v":""},{"$f":"IF(ISTEXT($A37),VLOOKUP($A37,'Teknisk administration'!$B$323:$I$338,6,FALSE)*$B37,\"\")","v":""},{"$f":"IF(ISTEXT(A37),VLOOKUP(A37,'Teknisk administration'!$B$323:$I$338,8,FALSE),\"\")","v":""},0,0,0,0]
[null,null,{"$f":"IF(ISTEXT(A38),VLOOKUP(A38,'Teknisk administration'!$B$323:$G$338,2,FALSE),\"\")","v":""},null,{"$f":"IF(ISTEXT(A38),VLOOKUP(A38,'Teknisk administration'!$B$323:$G$338,3,FALSE),\"\")","v":""},{"$f":"IF(ISTEXT($A38),VLOOKUP($A38,'Teknisk administration'!$B$323:$I$338,5,FALSE)*$B38,\"\")","v":""},{"$f":"IF(ISTEXT($A38),VLOOKUP($A38,'Teknisk administration'!$B$323:$I$338,6,FALSE)*$B38,\"\")","v":""},{"$f":"IF(ISTEXT(A38),VLOOKUP(A38,'Teknisk administration'!$B$323:$I$338,8,FALSE),\"\")","v":""},0,0,0,0]
[null,null,{"$f":"IF(ISTEXT(A39),VLOOKUP(A39,'Teknisk administration'!$B$323:$G$338,2,FALSE),\"\")","v":""},null,{"$f":"IF(ISTEXT(A39),VLOOKUP(A39,'Teknisk administration'!$B$323:$G$338,3,FALSE),\"\")","v":""},{"$f":"IF(ISTEXT($A39),VLOOKUP($A39,'Teknisk administration'!$B$323:$I$338,5,FALSE)*$B39,\"\")","v":""},{"$f":"IF(ISTEXT($A39),VLOOKUP($A39,'Teknisk administration'!$B$323:$I$338,6,FALSE)*$B39,\"\")","v":""},{"$f":"IF(ISTEXT(A39),VLOOKUP(A39,'Teknisk administration'!$B$323:$I$338,8,FALSE),\"\")","v":""},0,0,0,0]
[null,null,{"$f":"IF(ISTEXT(A40),VLOOKUP(A40,'Teknisk administration'!$B$323:$G$338,2,FALSE),\"\")","v":""},null,{"$f":"IF(ISTEXT(A40),VLOOKUP(A40,'Teknisk administration'!$B$323:$G$338,3,FALSE),\"\")","v":""},{"$f":"IF(ISTEXT($A40),VLOOKUP($A40,'Teknisk administration'!$B$323:$I$338,5,FALSE)*$B40,\"\")","v":""},{"$f":"IF(ISTEXT($A40),VLOOKUP($A40,'Teknisk administration'!$B$323:$I$338,6,FALSE)*$B40,\"\")","v":""},{"$f":"IF(ISTEXT(A40),VLOOKUP(A40,'Teknisk administration'!$B$323:$I$338,8,FALSE),\"\")","v":""},0,0,0,0]
[null,null,{"$f":"IF(ISTEXT(A41),VLOOKUP(A41,'Teknisk administration'!$B$323:$G$338,2,FALSE),\"\")","v":""},null,{"$f":"IF(ISTEXT(A41),VLOOKUP(A41,'Teknisk administration'!$B$323:$G$338,3,FALSE),\"\")","v":""},{"$f":"IF(ISTEXT($A41),VLOOKUP($A41,'Teknisk administration'!$B$323:$I$338,5,FALSE)*$B41,\"\")","v":""},{"$f":"IF(ISTEXT($A41),VLOOKUP($A41,'Teknisk administration'!$B$323:$I$338,6,FALSE)*$B41,\"\")","v":""},{"$f":"IF(ISTEXT(A41),VLOOKUP(A41,'Teknisk administration'!$B$323:$I$338,8,FALSE),\"\")","v":""},0,0,0,0]
[null,null,{"$f":"IF(ISTEXT(A42),VLOOKUP(A42,'Teknisk administration'!$B$323:$G$338,2,FALSE),\"\")","v":""},null,{"$f":"IF(ISTEXT(A42),VLOOKUP(A42,'Teknisk administration'!$B$323:$G$338,3,FALSE),\"\")","v":""},{"$f":"IF(ISTEXT($A42),VLOOKUP($A42,'Teknisk administration'!$B$323:$I$338,5,FALSE)*$B42,\"\")","v":""},{"$f":"IF(ISTEXT($A42),VLOOKUP($A42,'Teknisk administration'!$B$323:$I$338,6,FALSE)*$B42,\"\")","v":""},{"$f":"IF(ISTEXT(A42),VLOOKUP(A42,'Teknisk administration'!$B$323:$I$338,8,FALSE),\"\")","v":""},0,0,0,0]
[null,null,{"$f":"IF(ISTEXT(A43),VLOOKUP(A43,'Teknisk administration'!$B$323:$G$338,2,FALSE),\"\")","v":""},null,{"$f":"IF(ISTEXT(A43),VLOOKUP(A43,'Teknisk administration'!$B$323:$G$338,3,FALSE),\"\")","v":""},{"$f":"IF(ISTEXT($A43),VLOOKUP($A43,'Teknisk administration'!$B$323:$I$338,5,FALSE)*$B43,\"\")","v":""},{"$f":"IF(ISTEXT($A43),VLOOKUP($A43,'Teknisk administration'!$B$323:$I$338,6,FALSE)*$B43,\"\")","v":""},{"$f":"IF(ISTEXT(A43),VLOOKUP(A43,'Teknisk administration'!$B$323:$I$338,8,FALSE),\"\")","v":""},0,0,0,0]
[null,null,{"$f":"IF(ISTEXT(A44),VLOOKUP(A44,'Teknisk administration'!$B$323:$G$338,2,FALSE),\"\")","v":""},null,{"$f":"IF(ISTEXT(A44),VLOOKUP(A44,'Teknisk administration'!$B$323:$G$338,3,FALSE),\"\")","v":""},{"$f":"IF(ISTEXT($A44),VLOOKUP($A44,'Teknisk administration'!$B$323:$I$338,5,FALSE)*$B44,\"\")","v":""},{"$f":"IF(ISTEXT($A44),VLOOKUP($A44,'Teknisk administration'!$B$323:$I$338,6,FALSE)*$B44,\"\")","v":""},{"$f":"IF(ISTEXT(A44),VLOOKUP(A44,'Teknisk administration'!$B$323:$I$338,8,FALSE),\"\")","v":""},0,0,0,0]
["totalt, kg ts",{"$f":"SUMPRODUCT(B33:B44,E33:E44)","v":0},null,null,null,{"$f":"SUM(F33:F44)","v":0},{"$f":"SUM(G33:G44)","v":0}]
[]
[]
[]
[]
[]
[]
[{"$f":"\"Tröskat \"&period_3","v":"Tröskat Period 3"}]
["Välj typ av ur lista och mängden bärgat foder aktuell period (enhet visas när du valt ett foder ur listan). Enhet och ts-halt hämtas från en databas. ",null,null,null,null,"Växande grisar","Suggor"]
["Typ av foder - välj ur lista","Mängd","Enhet och ts-halt","Egen kommentar","ts-halt","MJ NE","MJ NE2","typ av foder","spannmål","trindsäd","oljeväxter","rotfrukter"]
[null,null,{"$f":"IF(ISTEXT(A55),VLOOKUP(A55,'Teknisk administration'!$B$323:$G$338,2,FALSE),\"\")","v":""},null,{"$f":"IF(ISTEXT(A55),VLOOKUP(A55,'Teknisk administration'!$B$323:$G$338,3,FALSE),\"\")","v":""},{"$f":"IF(ISTEXT($A55),VLOOKUP($A55,'Teknisk administration'!$B$323:$I$338,5,FALSE)*$B55,\"\")","v":""},{"$f":"IF(ISTEXT($A55),VLOOKUP($A55,'Teknisk administration'!$B$323:$I$338,6,FALSE)*$B55,\"\")","v":""},{"$f":"IF(ISTEXT(A55),VLOOKUP(A55,'Teknisk administration'!$B$323:$I$338,8,FALSE),\"\")","v":""},{"$f":"IF($H55=I$12,1,0)","v":0},0,0,0]
[null,null,{"$f":"IF(ISTEXT(A56),VLOOKUP(A56,'Teknisk administration'!$B$323:$G$338,2,FALSE),\"\")","v":""},null,{"$f":"IF(ISTEXT(A56),VLOOKUP(A56,'Teknisk administration'!$B$323:$G$338,3,FALSE),\"\")","v":""},{"$f":"IF(ISTEXT($A56),VLOOKUP($A56,'Teknisk administration'!$B$323:$I$338,5,FALSE)*$B56,\"\")","v":""},{"$f":"IF(ISTEXT($A56),VLOOKUP($A56,'Teknisk administration'!$B$323:$I$338,6,FALSE)*$B56,\"\")","v":""},{"$f":"IF(ISTEXT(A56),VLOOKUP(A56,'Teknisk administration'!$B$323:$I$338,8,FALSE),\"\")","v":""},0,0,0,0]
[null,null,{"$f":"IF(ISTEXT(A57),VLOOKUP(A57,'Teknisk administration'!$B$323:$G$338,2,FALSE),\"\")","v":""},null,{"$f":"IF(ISTEXT(A57),VLOOKUP(A57,'Teknisk administration'!$B$323:$G$338,3,FALSE),\"\")","v":""},{"$f":"IF(ISTEXT($A57),VLOOKUP($A57,'Teknisk administration'!$B$323:$I$338,5,FALSE)*$B57,\"\")","v":""},{"$f":"IF(ISTEXT($A57),VLOOKUP($A57,'Teknisk administration'!$B$323:$I$338,6,FALSE)*$B57,\"\")","v":""},{"$f":"IF(ISTEXT(A57),VLOOKUP(A57,'Teknisk administration'!$B$323:$I$338,8,FALSE),\"\")","v":""},0,0,0,0]
[null,null,{"$f":"IF(ISTEXT(A58),VLOOKUP(A58,'Teknisk administration'!$B$323:$G$338,2,FALSE),\"\")","v":""},null,{"$f":"IF(ISTEXT(A58),VLOOKUP(A58,'Teknisk administration'!$B$323:$G$338,3,FALSE),\"\")","v":""},{"$f":"IF(ISTEXT($A58),VLOOKUP($A58,'Teknisk administration'!$B$323:$I$338,5,FALSE)*$B58,\"\")","v":""},{"$f":"IF(ISTEXT($A58),VLOOKUP($A58,'Teknisk administration'!$B$323:$I$338,6,FALSE)*$B58,\"\")","v":""},{"$f":"IF(ISTEXT(A58),VLOOKUP(A58,'Teknisk administration'!$B$323:$I$338,8,FALSE),\"\")","v":""},0,0,0,0]
[null,null,{"$f":"IF(ISTEXT(A59),VLOOKUP(A59,'Teknisk administration'!$B$323:$G$338,2,FALSE),\"\")","v":""},null,{"$f":"IF(ISTEXT(A59),VLOOKUP(A59,'Teknisk administration'!$B$323:$G$338,3,FALSE),\"\")","v":""},{"$f":"IF(ISTEXT($A59),VLOOKUP($A59,'Teknisk administration'!$B$323:$I$338,5,FALSE)*$B59,\"\")","v":""},{"$f":"IF(ISTEXT($A59),VLOOKUP($A59,'Teknisk administration'!$B$323:$I$338,6,FALSE)*$B59,\"\")","v":""},{"$f":"IF(ISTEXT(A59),VLOOKUP(A59,'Teknisk administration'!$B$323:$I$338,8,FALSE),\"\")","v":""},0,0,0,0]
[null,null,{"$f":"IF(ISTEXT(A60),VLOOKUP(A60,'Teknisk administration'!$B$323:$G$338,2,FALSE),\"\")","v":""},null,{"$f":"IF(ISTEXT(A60),VLOOKUP(A60,'Teknisk administration'!$B$323:$G$338,3,FALSE),\"\")","v":""},{"$f":"IF(ISTEXT($A60),VLOOKUP($A60,'Teknisk administration'!$B$323:$I$338,5,FALSE)*$B60,\"\")","v":""},{"$f":"IF(ISTEXT($A60),VLOOKUP($A60,'Teknisk administration'!$B$323:$I$338,6,FALSE)*$B60,\"\")","v":""},{"$f":"IF(ISTEXT(A60),VLOOKUP(A60,'Teknisk administration'!$B$323:$I$338,8,FALSE),\"\")","v":""},0,0,0,0]
[null,null,{"$f":"IF(ISTEXT(A61),VLOOKUP(A61,'Teknisk administration'!$B$323:$G$338,2,FALSE),\"\")","v":""},null,{"$f":"IF(ISTEXT(A61),VLOOKUP(A61,'Teknisk administration'!$B$323:$G$338,3,FALSE),\"\")","v":""},{"$f":"IF(ISTEXT($A61),VLOOKUP($A61,'Teknisk administration'!$B$323:$I$338,5,FALSE)*$B61,\"\")","v":""},{"$f":"IF(ISTEXT($A61),VLOOKUP($A61,'Teknisk administration'!$B$323:$I$338,6,FALSE)*$B61,\"\")","v":""},{"$f":"IF(ISTEXT(A61),VLOOKUP(A61,'Teknisk administration'!$B$323:$I$338,8,FALSE),\"\")","v":""},0,0,0,0]
[null,null,{"$f":"IF(ISTEXT(A62),VLOOKUP(A62,'Teknisk administration'!$B$323:$G$338,2,FALSE),\"\")","v":""},null,{"$f":"IF(ISTEXT(A62),VLOOKUP(A62,'Teknisk administration'!$B$323:$G$338,3,FALSE),\"\")","v":""},{"$f":"IF(ISTEXT($A62),VLOOKUP($A62,'Teknisk administration'!$B$323:$I$338,5,FALSE)*$B62,\"\")","v":""},{"$f":"IF(ISTEXT($A62),VLOOKUP($A62,'Teknisk administration'!$B$323:$I$338,6,FALSE)*$B62,\"\")","v":""},{"$f":"IF(ISTEXT(A62),VLOOKUP(A62,'Teknisk administration'!$B$323:$I$338,8,FALSE),\"\")","v":""},0,0,0,0]
[null,null,{"$f":"IF(ISTEXT(A63),VLOOKUP(A63,'Teknisk administration'!$B$323:$G$338,2,FALSE),\"\")","v":""},null,{"$f":"IF(ISTEXT(A63),VLOOKUP(A63,'Teknisk administration'!$B$323:$G$338,3,FALSE),\"\")","v":""},{"$f":"IF(ISTEXT($A63),VLOOKUP($A63,'Teknisk administration'!$B$323:$I$338,5,FALSE)*$B63,\"\")","v":""},{"$f":"IF(ISTEXT($A63),VLOOKUP($A63,'Teknisk administration'!$B$323:$I$338,6,FALSE)*$B63,\"\")","v":""},{"$f":"IF(ISTEXT(A63),VLOOKUP(A63,'Teknisk administration'!$B$323:$I$338,8,FALSE),\"\")","v":""},0,0,0,0]
[null,null,{"$f":"IF(ISTEXT(A64),VLOOKUP(A64,'Teknisk administration'!$B$323:$G$338,2,FALSE),\"\")","v":""},null,{"$f":"IF(ISTEXT(A64),VLOOKUP(A64,'Teknisk administration'!$B$323:$G$338,3,FALSE),\"\")","v":""},{"$f":"IF(ISTEXT($A64),VLOOKUP($A64,'Teknisk administration'!$B$323:$I$338,5,FALSE)*$B64,\"\")","v":""},{"$f":"IF(ISTEXT($A64),VLOOKUP($A64,'Teknisk administration'!$B$323:$I$338,6,FALSE)*$B64,\"\")","v":""},{"$f":"IF(ISTEXT(A64),VLOOKUP(A64,'Teknisk administration'!$B$323:$I$338,8,FALSE),\"\")","v":""},0,0,0,0]
[null,null,{"$f":"IF(ISTEXT(A65),VLOOKUP(A65,'Teknisk administration'!$B$323:$G$338,2,FALSE),\"\")","v":""},null,{"$f":"IF(ISTEXT(A65),VLOOKUP(A65,'Teknisk administration'!$B$323:$G$338,3,FALSE),\"\")","v":""},{"$f":"IF(ISTEXT($A65),VLOOKUP($A65,'Teknisk administration'!$B$323:$I$338,5,FALSE)*$B65,\"\")","v":""},{"$f":"IF(ISTEXT($A65),VLOOKUP($A65,'Teknisk administration'!$B$323:$I$338,6,FALSE)*$B65,\"\")","v":""},{"$f":"IF(ISTEXT(A65),VLOOKUP(A65,'Teknisk administration'!$B$323:$I$338,8,FALSE),\"\")","v":""},0,0,0,0]
[null,null,{"$f":"IF(ISTEXT(A66),VLOOKUP(A66,'Teknisk administration'!$B$323:$G$338,2,FALSE),\"\")","v":""},null,{"$f":"IF(ISTEXT(A66),VLOOKUP(A66,'Teknisk administration'!$B$323:$G$338,3,FALSE),\"\")","v":""},{"$f":"IF(ISTEXT($A66),VLOOKUP($A66,'Teknisk administration'!$B$323:$I$338,5,FALSE)*$B66,\"\")","v":""},{"$f":"IF(ISTEXT($A66),VLOOKUP($A66,'Teknisk administration'!$B$323:$I$338,6,FALSE)*$B66,\"\")","v":""},{"$f":"IF(ISTEXT(A66),VLOOKUP(A66,'Teknisk administration'!$B$323:$I$338,8,FALSE),\"\")","v":""},0,0,0,0]
["totalt, kg ts",{"$f":"SUMPRODUCT(B55:B66,E55:E66)","v":0},null,null,null,{"$f":"SUM(F55:F66)","v":0},{"$f":"SUM(G55:G66)","v":0}]

{"sheet":"2.1b Halm, odling grovfoder","index":8,"n_rows":152,"n_cols":48,"rows_kept":152,"cut":false,"hidden":false,"merged":[[7,11,7,14],[8,11,8,14],[9,11,9,14],[10,11,10,14],[1,11,1,14],[2,11,2,14],[3,11,3,14],[4,11,4,14],[5,11,5,14],[6,11,6,14]]}
["2.1b Halm, odling grovfoder",null,null,null,null,null,null,null,null,null,null,"Det här betyder färgerna:"]
[{"$f":"IF(Bakgrund!BJ37=0,'Teknisk administration'!H6,'Teknisk administration'!H5)","v":"Bladet är inte relevant för dig"},null,null,null,null,null,null,null,null,null,null,"Cell med värden hämtade från annan cell"]
["Här beräknar du mängden halm (kg ts) och ev grovfoder (MJ och kg ts) som bärgats. Beräkningarna är de samma som i verktygen för Nöt och Lamm, därav tyngdpunkten på grovfoder",null,null,null,null,null,null,null,null,null,null,"Fyll i din egen siffra"]
[null,null,null,null,null,null,null,null,null,null,null,"Fyll i egen siffra - frivilligt, t ex om du har tillgång till uppgift eller om du vill räkna med annat värde än det schablonvärde som visas i angränsande cell"]
["Räcker inte raderna till?! Högerklicka i tabellen och välj Infoga > Infoga rad ovanför",null,null,null,null,null,null,null,null,null,null,"Egen uppgift, men välj värde ur rullista. "]
["Perioderna ligger under varandra på detta blad",null,null,null,null,null,null,null,null,null,null,"Resultat/uträkning"]
[null,null,null,null,null,null,null,null,null,null,null,"Schablonvärde"]
[null,null,null,null,null,null,null,null,null,null,null,"Förklaringar till raden"]
[null,null,null,null,null,null,null,null,null,null,null,"Plats för egna kommentarer"]
[null,null,null,null,null,null,null,null,null,null,null,"Glöm inte att fylla i värde! (Här krävs ett värde för att andra beräkningar ska fungera"]
[null,null,null,null,null,null,null,null,null,null,null,"grå text, ev vit bakgrund: Avsnittet är inte relevant för dig baserat på svaren på ja/nej-frågor på bladet Bakgrund"]
[]
[null,null,null,null,null,null,null,null,null,null,null,"Snabblänkar till bladen i verktyget:"]
[null,null,null,null,null,null,null,null,null,null,null,"Instruktion","2.3 Utfodrat"]
[{"$f":"Bakgrund!R7","v":"Period 1"},null,null,null,null,null,null,null,null,null,null,"Bakgrund","2.4 Kasserat foder och spill"]
["Mängd halm och grovfoder",null,null,null,null,null,null,null,null,null,null,"1 Intro djuren","3 Växtnäringsutnyttjande (1)"]
["Skördemängden kan anges med två olika alternativ: ",null,null,null,null,null,null,null,null,null,null,"1.1 Kött","3 Växtnäringsutnyttjande (2)"]
["1. Fyll i färdigt värde om du mätt skörden som lagts in (kg och ts). ",null,null,null,null,null,null,null,null,null,null,"1.2 Tillväxt & förökning","3 Växtnäringsutnyttjande (3)"]
["2. Uppskatta mängden (kg och ts) genom att beräkna volymen inlagt grovfoder och direktutfodrad grönmassa. ",null,null,null,null,null,null,null,null,null,null,"1.3 Hälsa & dödlighet","4 Energi och bränsle"]
["Du kan ha en kombination av alternativ under en och samma period, t ex om du inte vägt mängden vid varje skörd.  ",null,null,null,null,null,null,null,null,null,null,"2 Intro foder","5 Vattenanvändning"]
["Börja med att välja typ av system (plansilo, rundbal, halm etc. i den vänstraste kolumnen. Då tänds de celler du ska skriva siffror i (gula celler) eller där du ska välja ur en lista (orange celler). Övriga celler i lämnar du tomma.",null,null,null,null,null,null,null,null,null,null,"2.1 Odling foder","6 Resultat"]
["När det gäller energi i fodret kan du antingen välja ur lista (orange cell) eller skriva in ett eget värde (ljusgul cell)",null,null,null,null,null,null,null,null,null,null,"2.1b Halm, odling grovfoder","6B Klimat"]
["Du kan lägga in flera rader med samma system, t ex om du vill särkilja 1:a 2:a och 3:e skörd eller vill räkna separat för olika skriften. Om du hellre vill det kan du lägga allt på en rad. ",null,null,null,null,null,null,null,null,null,null,"2.2 Förluster vid lagring"]
[]
[]
["Alternativ 1. Har vägt skörden och har ts-analys"]
["Mängden ts och MJ beräknas först när MJ/kg ts, ts-halt och kg grönmassa fyllts i.",null,null,null,null,null,null,null,null,null,null,null,null,null,null,null,null,null,null,null,null,null,null,null,null,null,null,null,null,null,null,null,null,null,null,null,null,null,null,null,null,null,"Gruppering av system"]
[null,null,"Energi - välj ur lista eller skriv eget värde",null,"TS-halt (%)",null,"Mängd","Beräknad mängd",null,null,null,null,null,null,null,null,null,null,null,null,null,null,null,null,null,null,null,null,null,null,null,null,null,null,null,null,null,null,null,null,null,null,"Plansilo","Torn","Storbalar (rund- och fyrkantsbalar)","Hö","Direktutfodrad grönmassa","Halm till foder"]
["System - välj alternativ ur listan!","Egen kommentar","Välj ur lista","Eget värde (MJ/kg ts)","% ts","Förklaring","kg grönmassa","kg ts","MJ","  ","   ","    "," ","     ","      ","       ","        ","Kolumn9","Kolumn10","Kolumn11","Kolumn12","  2","TS-halt","Kolumn15","Kolumn16","Kolumn17","Kolumn18","Kolumn19","Kolumn20","Kolumn21","Kolumn22","Kolumn23","Kolumn24","Kolumn25","Kolumn26","Kolumn27","Kolumn28","Kolumn29","Kolumn30","Kolumn31","Kolumn32","MJ/kg ts","Plansilo12","Torn13","Storbalar (rund- och fyrkantsbalar)","Hö14","Direktutfodrad grönmassa15","Halm"]
[null,null,null,null,null,{"$f":"IF(ISTEXT(A30),VLOOKUP(A30,Tabell203[],3,FALSE),\"\")","v":""},null,{"$f":"W30*G30","v":0},{"$f":"H30*IF(D30>0,D30,IF(AND(ISTEXT(A30),(OR(ISTEXT(C30),ISNUMBER(D30)))),IF(D30>0,D46,VLOOKUP(C30,INDIRECT(A30),2,FALSE)),0))","v":0},null,null,null,null,null,null,null,null,null,null,null,null,null,{"$f":"IF(ISTEXT(A30),IF(E30>0.000001,E30,VLOOKUP(A30,Tabell203[],2,FALSE)),0)","v":0},null,null,null,null,null,null,null,null,null,null,null,null,null,null,null,null,null,null,{"$f":"IF(AND(ISTEXT(A30),(OR(ISTEXT(C30),ISNUMBER(D30)))),IF(D30>0,D30,VLOOKUP(C30,INDIRECT(A30),2,FALSE)),0)","v":0},{"$f":"IF(ISTEXT($A30),VLOOKUP($A30,Tabell203[],11,FALSE),0)","v":0},{"$f":"IF(ISTEXT($A30),VLOOKUP($A30,Tabell203[],12,FALSE),0)","v":0},{"$f":"IF(ISTEXT($A30),VLOOKUP($A30,Tabell203[],13,FALSE),0)","v":0},{"$f":"IF(ISTEXT($A30),VLOOKUP($A30,Tabell203[],14,FALSE),0)","v":0},{"$f":"IF(ISTEXT($A30),VLOOKUP($A30,Tabell203[],15,FALSE),0)","v":0},{"$f":"IF(ISTEXT($A30),VLOOKUP($A30,Tabell203[],16,FALSE),0)","v":0}]
[null,null,null,null,null,{"$f":"IF(ISTEXT(A31),VLOOKUP(A31,Tabell203[],3,FALSE),\"\")","v":""},null,0,0,null,null,null,null,null,null,null,null,null,null,null,null,null,{"$f":"IF(ISTEXT(A31),IF(E31>0.000001,E31,VLOOKUP(A31,Tabell203[],2,FALSE)),0)","v":0},null,null,null,null,null,null,null,null,null,null,null,null,null,null,null,null,null,null,0,{"$f":"IF(ISTEXT($A31),VLOOKUP($A31,Tabell203[],11,FALSE),0)","v":0},{"$f":"IF(ISTEXT($A31),VLOOKUP($A31,Tabell203[],12,FALSE),0)","v":0},{"$f":"IF(ISTEXT($A31),VLOOKUP($A31,Tabell203[],13,FALSE),0)","v":0},{"$f":"IF(ISTEXT($A31),VLOOKUP($A31,Tabell203[],14,FALSE),0)","v":0},{"$f":"IF(ISTEXT($A31),VLOOKUP($A31,Tabell203[],15,FALSE),0)","v":0},{"$f":"IF(ISTEXT($A31),VLOOKUP($A31,Tabell203[],16,FALSE),0)","v":0}]
[null,null,null,null,null,{"$f":"IF(ISTEXT(A32),VLOOKUP(A32,Tabell203[],3,FALSE),\"\")","v":""},null,0,0,null,null,null,null,null,null,null,null,null,null,null,null,null,{"$f":"IF(ISTEXT(A32),IF(E32>0.000001,E32,VLOOKUP(A32,Tabell203[],2,FALSE)),0)","v":0},null,null,null,null,null,null,null,null,null,null,null,null,null,null,null,null,null,null,0,{"$f":"IF(ISTEXT($A32),VLOOKUP($A32,Tabell203[],11,FALSE),0)","v":0},{"$f":"IF(ISTEXT($A32),VLOOKUP($A32,Tabell203[],12,FALSE),0)","v":0},{"$f":"IF(ISTEXT($A32),VLOOKUP($A32,Tabell203[],13,FALSE),0)","v":0},{"$f":"IF(ISTEXT($A32),VLOOKUP($A32,Tabell203[],14,FALSE),0)","v":0},{"$f":"IF(ISTEXT($A32),VLOOKUP($A32,Tabell203[],15,FALSE),0)","v":0},{"$f":"IF(ISTEXT($A32),VLOOKUP($A32,Tabell203[],16,FALSE),0)","v":0}]
[null,null,null,null,null,{"$f":"IF(ISTEXT(A33),VLOOKUP(A33,Tabell203[],3,FALSE),\"\")","v":""},null,0,0,null,null,null,null,null,null,null,null,null,null,null,null,null,{"$f":"IF(ISTEXT(A33),IF(E33>0.000001,E33,VLOOKUP(A33,Tabell203[],2,FALSE)),0)","v":0},null,null,null,null,null,null,null,null,null,null,null,null,null,null,null,null,null,null,0,{"$f":"IF(ISTEXT($A33),VLOOKUP($A33,Tabell203[],11,FALSE),0)","v":0},{"$f":"IF(ISTEXT($A33),VLOOKUP($A33,Tabell203[],12,FALSE),0)","v":0},{"$f":"IF(ISTEXT($A33),VLOOKUP($A33,Tabell203[],13,FALSE),0)","v":0},{"$f":"IF(ISTEXT($A33),VLOOKUP($A33,Tabell203[],14,FALSE),0)","v":0},{"$f":"IF(ISTEXT($A33),VLOOKUP($A33,Tabell203[],15,FALSE),0)","v":0},{"$f":"IF(ISTEXT($A33),VLOOKUP($A33,Tabell203[],16,FALSE),0)","v":0}]
[null,null,null,null,null,{"$f":"IF(ISTEXT(A34),VLOOKUP(A34,Tabell203[],3,FALSE),\"\")","v":""},null,0,0,null,null,null,null,null,null,null,null,null,null,null,null,null,{"$f":"IF(ISTEXT(A34),IF(E34>0.000001,E34,VLOOKUP(A34,Tabell203[],2,FALSE)),0)","v":0},null,null,null,null,null,null,null,null,null,null,null,null,null,null,null,null,null,null,0,{"$f":"IF(ISTEXT($A34),VLOOKUP($A34,Tabell203[],11,FALSE),0)","v":0},{"$f":"IF(ISTEXT($A34),VLOOKUP($A34,Tabell203[],12,FALSE),0)","v":0},{"$f":"IF(ISTEXT($A34),VLOOKUP($A34,Tabell203[],13,FALSE),0)","v":0},{"$f":"IF(ISTEXT($A34),VLOOKUP($A34,Tabell203[],14,FALSE),0)","v":0},{"$f":"IF(ISTEXT($A34),VLOOKUP($A34,Tabell203[],15,FALSE),0)","v":0},{"$f":"IF(ISTEXT($A34),VLOOKUP($A34,Tabell203[],16,FALSE),0)","v":0}]
[null,null,null,null,null,{"$f":"IF(ISTEXT(A35),VLOOKUP(A35,Tabell203[],3,FALSE),\"\")","v":""},null,0,0,null,null,null,null,null,null,null,null,null,null,null,null,null,{"$f":"IF(ISTEXT(A35),IF(E35>0.000001,E35,VLOOKUP(A35,Tabell203[],2,FALSE)),0)","v":0},null,null,null,null,null,null,null,null,null,null,null,null,null,null,null,null,null,null,0,{"$f":"IF(ISTEXT($A35),VLOOKUP($A35,Tabell203[],11,FALSE),0)","v":0},{"$f":"IF(ISTEXT($A35),VLOOKUP($A35,Tabell203[],12,FALSE),0)","v":0},{"$f":"IF(ISTEXT($A35),VLOOKUP($A35,Tabell203[],13,FALSE),0)","v":0},{"$f":"IF(ISTEXT($A35),VLOOKUP($A35,Tabell203[],14,FALSE),0)","v":0},{"$f":"IF(ISTEXT($A35),VLOOKUP($A35,Tabell203[],15,FALSE),0)","v":0},{"$f":"IF(ISTEXT($A35),VLOOKUP($A35,Tabell203[],16,FALSE),0)","v":0}]
[null,null,null,null,null,{"$f":"IF(ISTEXT(A36),VLOOKUP(A36,Tabell203[],3,FALSE),\"\")","v":""},null,0,0,null,null,null,null,null,null,null,null,null,null,null,null,null,{"$f":"IF(ISTEXT(A36),IF(E36>0.000001,E36,VLOOKUP(A36,Tabell203[],2,FALSE)),0)","v":0},null,null,null,null,null,null,null,null,null,null,null,null,null,null,null,null,null,null,0,{"$f":"IF(ISTEXT($A36),VLOOKUP($A36,Tabell203[],11,FALSE),0)","v":0},{"$f":"IF(ISTEXT($A36),VLOOKUP($A36,Tabell203[],12,FALSE),0)","v":0},{"$f":"IF(ISTEXT($A36),VLOOKUP($A36,Tabell203[],13,FALSE),0)","v":0},{"$f":"IF(ISTEXT($A36),VLOOKUP($A36,Tabell203[],14,FALSE),0)","v":0},{"$f":"IF(ISTEXT($A36),VLOOKUP($A36,Tabell203[],15,FALSE),0)","v":0},{"$f":"IF(ISTEXT($A36),VLOOKUP($A36,Tabell203[],16,FALSE),0)","v":0}]
[null,null,null,null,null,{"$f":"IF(ISTEXT(A37),VLOOKUP(A37,Tabell203[],3,FALSE),\"\")","v":""},null,0,0,null,null,null,null,null,null,null,null,null,null,null,null,null,{"$f":"IF(ISTEXT(A37),IF(E37>0.000001,E37,VLOOKUP(A37,Tabell203[],2,FALSE)),0)","v":0},null,null,null,null,null,null,null,null,null,null,null,null,null,null,null,null,null,null,0,{"$f":"IF(ISTEXT($A37),VLOOKUP($A37,Tabell203[],11,FALSE),0)","v":0},{"$f":"IF(ISTEXT($A37),VLOOKUP($A37,Tabell203[],12,FALSE),0)","v":0},{"$f":"IF(ISTEXT($A37),VLOOKUP($A37,Tabell203[],13,FALSE),0)","v":0},{"$f":"IF(ISTEXT($A37),VLOOKUP($A37,Tabell203[],14,FALSE),0)","v":0},{"$f":"IF(ISTEXT($A37),VLOOKUP($A37,Tabell203[],15,FALSE),0)","v":0},{"$f":"IF(ISTEXT($A37),VLOOKUP($A37,Tabell203[],16,FALSE),0)","v":0}]
["Totalt",null,null,null,null,null,null,{"$f":"SUM(H30:H37)","v":0},{"$f":"SUM(I30:I37)","v":0}]
[]
[]
[]
["Alternativ 2. Har inte vägt skörden, behöver räkna ut mängden skördat",null,null,null,null,null,null,null,null,null,null,null,null,null,null,null,null,"ska dölja"]
["Om det står \"Saknas!\" eller \"0\" under rubriken \"Beräknad mängd foder\" beror det på att någon uppgift saknas. Kontrollera då att du fyllt i alla gula celler på raden samt valt något i alla orange celler på raden",null,null,null,null,null,null,null,null,null,null,null,null,null,null,null,null,"Beskrivning av systemet",null,null,null,null,"TS-halt","Vilket system? 1=ja, 0=nej",null,null,null,null,null,null,null,null,"Volymvikt (kg ts/m3)",null,null,null,null,null,null,null,null,"Energi","Gruppering av system"]
[null,null,"Energi - välj ur lista eller skriv eget värde",null,"TS-halt (%)",null,"Antal balar ","Teknik","Lagrets respektive balarnas storlek",null,null,null,"Beräknad mängd foder",null,null,null,null,null,null,null,null,null,null,"Halm","Plansilo","Torn","Rundbalar","Fyrkantsbalar_ensilage","Fyrkantsbalar_hö","Hö","tom","tom",{"$f":"X44","v":"Halm"},"Plansilo","Torn","Rundbalar","Fyrkantsbalar_ensilage","Fyrkantsbalar_hö","Hö","tom","tom","MJ/kg ts","Plansilo","Torn","Storbalar (rund- och fyrkantsbalar)","Hö","Direktutfodrad","Halm till foder"]
["System - välj alternativ ur listan!","Egen kommentar","Välj ur lista","Eget värde (MJ/kg ts)","% ts","Förklaring","stycken","välj ur listan i orange celler!","Höjd (m)","Bredd (m)","Längd (m)","Förklaring för volymberäkning","Volym (m3)","Volymvikt (kg ts/m3)","Mängd (kg ts)","Mängd (MJ)","m3","Antal","Mängd per lass","Teknik","rätblock","cylinder","TS-halt","Plansilo","Torn","Rundbalar","Fyrkantsbalar","Hö","Grönfoder","Halm","Fyrkantsbalar_hö","tom","Plansilo3","Torn4","Rundbalar5","Fyrkantsbalar6","Hö7","Direktutfodrat","Kolumn1","Fyrkantsbalar_hö2","Visa ts?","MJ/kg ts","Plansilo12","Torn13","Storbalar (rund- och fyrkantsbalar)","Hö14","Direktutfodrad","Halm2"]
[null,null,null,null,null,{"$f":"IF(ISTEXT(A46),VLOOKUP(A46,Tabell203[],3,FALSE),\"\")","v":""},null,null,null,null,null,{"$f":"IF(ISTEXT(A46),VLOOKUP(A46,Tabell203[],10,FALSE),\"\")","v":""},{"$f":"IF(ISTEXT(A46),IF(U46=1,I46*J46*K46,IF(V46=1,I46*(J46/2)^2*PI(),1))*IF(R46=1,G46,1)*IF(S46=1,Q46,1),0)","v":0},{"$f":"SUM(AG46:AN46)","v":0},{"$f":"M46*N46","v":0},{"$f":"O46*AP46","v":0},null,{"$f":"IF(ISTEXT(A46),VLOOKUP(A46,Tabell203[],4,FALSE),0)","v":0},{"$f":"IF(ISTEXT(A46),VLOOKUP(A46,Tabell203[],6,FALSE),0)","v":0},{"$f":"IF(ISTEXT(A46),VLOOKUP(A46,Tabell203[],5,FALSE),0)","v":0},{"$f":"IF(ISTEXT(A46),VLOOKUP(A46,Tabell203[],8,FALSE),0)","v":0},{"$f":"IF(ISTEXT(A46),VLOOKUP(A46,Tabell203[],9,FALSE),0)","v":0},{"$f":"IF(ISTEXT(A46),IF(E46>0.000001,E46,VLOOKUP(A46,Tabell203[],2,FALSE)),0)","v":0},{"$f":"IF($A46=X$44,1,0)","v":0},0,0,0,0,0,0,0,0,{"$f":"IF(X46=1,VLOOKUP(H46,Tabell220[],2,FALSE),0)","v":0},{"$f":"IF(Y46=1,IF(OR(W46<'Teknisk administration'!$P$262,W46>'Teknisk administration'!$P$263),'Teknisk administration'!$Q$262*I46^2+'Teknisk administration'!$R$262*I46+'Teknisk administration'!$S$262,'Teknisk administration'!$Q$263*I46^2+'Teknisk administration'!$R$263*I46+'Teknisk administration'!$S$263),0)","v":0},{"$f":"IF(Z46=1,VLOOKUP(H46,Tabell214[],2,FALSE)*W46+VLOOKUP(H46,Tabell214[],3,FALSE),0)","v":0},{"$f":"IF(AA46=1,VLOOKUP(H46,Tabell215[],2,FALSE)*W46+VLOOKUP(H46,Tabell215[],3,FALSE),0)","v":0},{"$f":"IF(AB46=1,VLOOKUP(H46,Tabell216[],2,FALSE)*W46,0)","v":0},{"$f":"IF(AC46=1,'Teknisk administration'!$AP$378,0)","v":0},{"$f":"IF(AD46=1,VLOOKUP($H46,Tabell217[],2,FALSE)*$W46,0)","v":0},{"$f":"IF(AE46=1,VLOOKUP($H46,Tabell29[],2,FALSE)*$W46,0)","v":0},{"$f":"IF(ISTEXT(A46),VLOOKUP(A46,Tabell203[],7,FALSE),0)","v":0},{"$f":"IF(AND(ISTEXT(A46),(OR(ISTEXT(C46),ISNUMBER(D46)))),IF(D46>0,D46,VLOOKUP(C46,INDIRECT(A46),2,FALSE)),0)","v":0},{"$f":"IF(ISTEXT($A46),VLOOKUP($A46,Tabell203[],11,FALSE),0)","v":0},{"$f":"IF(ISTEXT($A46),VLOOKUP($A46,Tabell203[],12,FALSE),0)","v":0},{"$f":"IF(ISTEXT($A46),VLOOKUP($A46,Tabell203[],13,FALSE),0)","v":0},{"$f":"IF(ISTEXT($A46),VLOOKUP($A46,Tabell203[],14,FALSE),0)","v":0},{"$f":"IF(ISTEXT($A46),VLOOKUP($A46,Tabell203[],15,FALSE),0)","v":0},{"$f":"IF(ISTEXT($A46),VLOOKUP($A46,Tabell203[],16,FALSE),0)","v":0}]
[null,null,null,null,null,{"$f":"IF(ISTEXT(A47),VLOOKUP(A47,Tabell203[],3,FALSE),\"\")","v":""},null,null,null,null,null,{"$f":"IF(ISTEXT(A47),VLOOKUP(A47,Tabell203[],10,FALSE),\"\")","v":""},0,0,0,0,null,{"$f":"IF(ISTEXT(A47),VLOOKUP(A47,Tabell203[],4,FALSE),0)","v":0},{"$f":"IF(ISTEXT(A47),VLOOKUP(A47,Tabell203[],6,FALSE),0)","v":0},{"$f":"IF(ISTEXT(A47),VLOOKUP(A47,Tabell203[],5,FALSE),0)","v":0},{"$f":"IF(ISTEXT(A47),VLOOKUP(A47,Tabell203[],8,FALSE),0)","v":0},{"$f":"IF(ISTEXT(A47),VLOOKUP(A47,Tabell203[],9,FALSE),0)","v":0},{"$f":"IF(ISTEXT(A47),IF(E47>0.000001,E47,VLOOKUP(A47,Tabell203[],2,FALSE)),0)","v":0},0,0,0,0,0,0,0,0,0,{"$f":"IF(X47=1,VLOOKUP(H47,Tabell220[],2,FALSE),0)","v":0},{"$f":"IF(Y47=1,IF(OR(W47<'Teknisk administration'!$P$262,W47>'Teknisk administration'!$P$263),'Teknisk administration'!$Q$262*I47^2+'Teknisk administration'!$R$262*I47+'Teknisk administration'!$S$262,'Teknisk administration'!$Q$263*I47^2+'Teknisk administration'!$R$263*I47+'Teknisk administration'!$S$263),0)","v":0},{"$f":"IF(Z47=1,VLOOKUP(H47,Tabell214[],2,FALSE)*W47+VLOOKUP(H47,Tabell214[],3,FALSE),0)","v":0},{"$f":"IF(AA47=1,VLOOKUP(H47,Tabell215[],2,FALSE)*W47+VLOOKUP(H47,Tabell215[],3,FALSE),0)","v":0},{"$f":"IF(AB47=1,VLOOKUP(H47,Tabell216[],2,FALSE)*W47,0)","v":0},{"$f":"IF(AC47=1,'Teknisk administration'!$AP$378,0)","v":0},{"$f":"IF(AD47=1,VLOOKUP($H47,Tabell217[],2,FALSE)*$W47,0)","v":0},{"$f":"IF(AE47=1,VLOOKUP($H47,Tabell29[],2,FALSE)*$W47,0)","v":0},{"$f":"IF(ISTEXT(A47),VLOOKUP(A47,Tabell203[],7,FALSE),0)","v":0},0,{"$f":"IF(ISTEXT($A47),VLOOKUP($A47,Tabell203[],11,FALSE),0)","v":0},{"$f":"IF(ISTEXT($A47),VLOOKUP($A47,Tabell203[],12,FALSE),0)","v":0},{"$f":"IF(ISTEXT($A47),VLOOKUP($A47,Tabell203[],13,FALSE),0)","v":0},{"$f":"IF(ISTEXT($A47),VLOOKUP($A47,Tabell203[],14,FALSE),0)","v":0},{"$f":"IF(ISTEXT($A47),VLOOKUP($A47,Tabell203[],15,FALSE),0)","v":0},{"$f":"IF(ISTEXT($A47),VLOOKUP($A47,Tabell203[],16,FALSE),0)","v":0}]
[null,null,null,null,null,{"$f":"IF(ISTEXT(A48),VLOOKUP(A48,Tabell203[],3,FALSE),\"\")","v":""},null,null,null,null,null,{"$f":"IF(ISTEXT(A48),VLOOKUP(A48,Tabell203[],10,FALSE),\"\")","v":""},{"$f":"IF(ISTEXT(A48),IF(U48=1,I48*J48*K48,IF(V48=1,I48*(J48/2)^2*PI(),1))*IF(R48=1,G48,1)*IF(S48=1,Q48,1),0)","v":0},0,0,0,null,{"$f":"IF(ISTEXT(A48),VLOOKUP(A48,Tabell203[],4,FALSE),0)","v":0},{"$f":"IF(ISTEXT(A48),VLOOKUP(A48,Tabell203[],6,FALSE),0)","v":0},{"$f":"IF(ISTEXT(A48),VLOOKUP(A48,Tabell203[],5,FALSE),0)","v":0},{"$f":"IF(ISTEXT(A48),VLOOKUP(A48,Tabell203[],8,FALSE),0)","v":0},{"$f":"IF(ISTEXT(A48),VLOOKUP(A48,Tabell203[],9,FALSE),0)","v":0},{"$f":"IF(ISTEXT(A48),IF(E48>0.000001,E48,VLOOKUP(A48,Tabell203[],2,FALSE)),0)","v":0},0,0,0,0,0,0,0,0,0,{"$f":"IF(X48=1,VLOOKUP(H48,Tabell220[],2,FALSE),0)","v":0},{"$f":"IF(Y48=1,IF(OR(W48<'Teknisk administration'!$P$262,W48>'Teknisk administration'!$P$263),'Teknisk administration'!$Q$262*I48^2+'Teknisk administration'!$R$262*I48+'Teknisk administration'!$S$262,'Teknisk administration'!$Q$263*I48^2+'Teknisk administration'!$R$263*I48+'Teknisk administration'!$S$263),0)","v":0},{"$f":"IF(Z48=1,VLOOKUP(H48,Tabell214[],2,FALSE)*W48+VLOOKUP(H48,Tabell214[],3,FALSE),0)","v":0},{"$f":"IF(AA48=1,VLOOKUP(H48,Tabell215[],2,FALSE)*W48+VLOOKUP(H48,Tabell215[],3,FALSE),0)","v":0},{"$f":"IF(AB48=1,VLOOKUP(H48,Tabell216[],2,FALSE)*W48,0)","v":0},{"$f":"IF(AC48=1,'Teknisk administration'!$AP$378,0)","v":0},{"$f":"IF(AD48=1,VLOOKUP($H48,Tabell217[],2,FALSE)*$W48,0)","v":0},{"$f":"IF(AE48=1,VLOOKUP($H48,Tabell29[],2,FALSE)*$W48,0)","v":0},{"$f":"IF(ISTEXT(A48),VLOOKUP(A48,Tabell203[],7,FALSE),0)","v":0},0,{"$f":"IF(ISTEXT($A48),VLOOKUP($A48,Tabell203[],11,FALSE),0)","v":0},{"$f":"IF(ISTEXT($A48),VLOOKUP($A48,Tabell203[],12,FALSE),0)","v":0},{"$f":"IF(ISTEXT($A48),VLOOKUP($A48,Tabell203[],13,FALSE),0)","v":0},{"$f":"IF(ISTEXT($A48),VLOOKUP($A48,Tabell203[],14,FALSE),0)","v":0},{"$f":"IF(ISTEXT($A48),VLOOKUP($A48,Tabell203[],15,FALSE),0)","v":0},{"$f":"IF(ISTEXT($A48),VLOOKUP($A48,Tabell203[],16,FALSE),0)","v":0}]
[null,null,null,null,null,{"$f":"IF(ISTEXT(A49),VLOOKUP(A49,Tabell203[],3,FALSE),\"\")","v":""},null,null,null,null,null,{"$f":"IF(ISTEXT(A49),VLOOKUP(A49,Tabell203[],10,FALSE),\"\")","v":""},0,0,0,0,null,{"$f":"IF(ISTEXT(A49),VLOOKUP(A49,Tabell203[],4,FALSE),0)","v":0},{"$f":"IF(ISTEXT(A49),VLOOKUP(A49,Tabell203[],6,FALSE),0)","v":0},{"$f":"IF(ISTEXT(A49),VLOOKUP(A49,Tabell203[],5,FALSE),0)","v":0},{"$f":"IF(ISTEXT(A49),VLOOKUP(A49,Tabell203[],8,FALSE),0)","v":0},{"$f":"IF(ISTEXT(A49),VLOOKUP(A49,Tabell203[],9,FALSE),0)","v":0},{"$f":"IF(ISTEXT(A49),IF(E49>0.000001,E49,VLOOKUP(A49,Tabell203[],2,FALSE)),0)","v":0},0,0,0,0,0,0,0,0,0,{"$f":"IF(X49=1,VLOOKUP(H49,Tabell220[],2,FALSE),0)","v":0},{"$f":"IF(Y49=1,IF(OR(W49<'Teknisk administration'!$P$262,W49>'Teknisk administration'!$P$263),'Teknisk administration'!$Q$262*I49^2+'Teknisk administration'!$R$262*I49+'Teknisk administration'!$S$262,'Teknisk administration'!$Q$263*I49^2+'Teknisk administration'!$R$263*I49+'Teknisk administration'!$S$263),0)","v":0},{"$f":"IF(Z49=1,VLOOKUP(H49,Tabell214[],2,FALSE)*W49+VLOOKUP(H49,Tabell214[],3,FALSE),0)","v":0},{"$f":"IF(AA49=1,VLOOKUP(H49,Tabell215[],2,FALSE)*W49+VLOOKUP(H49,Tabell215[],3,FALSE),0)","v":0},{"$f":"IF(AB49=1,VLOOKUP(H49,Tabell216[],2,FALSE)*W49,0)","v":0},{"$f":"IF(AC49=1,'Teknisk administration'!$AP$378,0)","v":0},{"$f":"IF(AD49=1,VLOOKUP($H49,Tabell217[],2,FALSE)*$W49,0)","v":0},{"$f":"IF(AE49=1,VLOOKUP($H49,Tabell29[],2,FALSE)*$W49,0)","v":0},{"$f":"IF(ISTEXT(A49),VLOOKUP(A49,Tabell203[],7,FALSE),0)","v":0},0,{"$f":"IF(ISTEXT($A49),VLOOKUP($A49,Tabell203[],11,FALSE),0)","v":0},{"$f":"IF(ISTEXT($A49),VLOOKUP($A49,Tabell203[],12,FALSE),0)","v":0},{"$f":"IF(ISTEXT($A49),VLOOKUP($A49,Tabell203[],13,FALSE),0)","v":0},{"$f":"IF(ISTEXT($A49),VLOOKUP($A49,Tabell203[],14,FALSE),0)","v":0},{"$f":"IF(ISTEXT($A49),VLOOKUP($A49,Tabell203[],15,FALSE),0)","v":0},{"$f":"IF(ISTEXT($A49),VLOOKUP($A49,Tabell203[],16,FALSE),0)","v":0}]
[null,null,null,null,null,{"$f":"IF(ISTEXT(A50),VLOOKUP(A50,Tabell203[],3,FALSE),\"\")","v":""},null,null,null,null,null,{"$f":"IF(ISTEXT(A50),VLOOKUP(A50,Tabell203[],10,FALSE),\"\")","v":""},0,0,0,0,null,{"$f":"IF(ISTEXT(A50),VLOOKUP(A50,Tabell203[],4,FALSE),0)","v":0},{"$f":"IF(ISTEXT(A50),VLOOKUP(A50,Tabell203[],6,FALSE),0)","v":0},{"$f":"IF(ISTEXT(A50),VLOOKUP(A50,Tabell203[],5,FALSE),0)","v":0},{"$f":"IF(ISTEXT(A50),VLOOKUP(A50,Tabell203[],8,FALSE),0)","v":0},{"$f":"IF(ISTEXT(A50),VLOOKUP(A50,Tabell203[],9,FALSE),0)","v":0},{"$f":"IF(ISTEXT(A50),IF(E50>0.000001,E50,VLOOKUP(A50,Tabell203[],2,FALSE)),0)","v":0},0,0,0,0,0,0,0,0,0,{"$f":"IF(X50=1,VLOOKUP(H50,Tabell220[],2,FALSE),0)","v":0},{"$f":"IF(Y50=1,IF(OR(W50<'Teknisk administration'!$P$262,W50>'Teknisk administration'!$P$263),'Teknisk administration'!$Q$262*I50^2+'Teknisk administration'!$R$262*I50+'Teknisk administration'!$S$262,'Teknisk administration'!$Q$263*I50^2+'Teknisk administration'!$R$263*I50+'Teknisk administration'!$S$263),0)","v":0},{"$f":"IF(Z50=1,VLOOKUP(H50,Tabell214[],2,FALSE)*W50+VLOOKUP(H50,Tabell214[],3,FALSE),0)","v":0},{"$f":"IF(AA50=1,VLOOKUP(H50,Tabell215[],2,FALSE)*W50+VLOOKUP(H50,Tabell215[],3,FALSE),0)","v":0},{"$f":"IF(AB50=1,VLOOKUP(H50,Tabell216[],2,FALSE)*W50,0)","v":0},{"$f":"IF(AC50=1,'Teknisk administration'!$AP$378,0)","v":0},{"$f":"IF(AD50=1,VLOOKUP($H50,Tabell217[],2,FALSE)*$W50,0)","v":0},{"$f":"IF(AE50=1,VLOOKUP($H50,Tabell29[],2,FALSE)*$W50,0)","v":0},{"$f":"IF(ISTEXT(A50),VLOOKUP(A50,Tabell203[],7,FALSE),0)","v":0},0,{"$f":"IF(ISTEXT($A50),VLOOKUP($A50,Tabell203[],11,FALSE),0)","v":0},{"$f":"IF(ISTEXT($A50),VLOOKUP($A50,Tabell203[],12,FALSE),0)","v":0},{"$f":"IF(ISTEXT($A50),VLOOKUP($A50,Tabell203[],13,FALSE),0)","v":0},{"$f":"IF(ISTEXT($A50),VLOOKUP($A50,Tabell203[],14,FALSE),0)","v":0},{"$f":"IF(ISTEXT($A50),VLOOKUP($A50,Tabell203[],15,FALSE),0)","v":0},{"$f":"IF(ISTEXT($A50),VLOOKUP($A50,Tabell203[],16,FALSE),0)","v":0}]
[null,null,null,null,null,{"$f":"IF(ISTEXT(A51),VLOOKUP(A51,Tabell203[],3,FALSE),\"\")","v":""},null,null,null,null,null,{"$f":"IF(ISTEXT(A51),VLOOKUP(A51,Tabell203[],10,FALSE),\"\")","v":""},0,0,0,0,null,{"$f":"IF(ISTEXT(A51),VLOOKUP(A51,Tabell203[],4,FALSE),0)","v":0},{"$f":"IF(ISTEXT(A51),VLOOKUP(A51,Tabell203[],6,FALSE),0)","v":0},{"$f":"IF(ISTEXT(A51),VLOOKUP(A51,Tabell203[],5,FALSE),0)","v":0},{"$f":"IF(ISTEXT(A51),VLOOKUP(A51,Tabell203[],8,FALSE),0)","v":0},{"$f":"IF(ISTEXT(A51),VLOOKUP(A51,Tabell203[],9,FALSE),0)","v":0},{"$f":"IF(ISTEXT(A51),IF(E51>0.000001,E51,VLOOKUP(A51,Tabell203[],2,FALSE)),0)","v":0},0,0,0,0,0,0,0,0,0,{"$f":"IF(X51=1,VLOOKUP(H51,Tabell220[],2,FALSE),0)","v":0},{"$f":"IF(Y51=1,IF(OR(W51<'Teknisk administration'!$P$262,W51>'Teknisk administration'!$P$263),'Teknisk administration'!$Q$262*I51^2+'Teknisk administration'!$R$262*I51+'Teknisk administration'!$S$262,'Teknisk administration'!$Q$263*I51^2+'Teknisk administration'!$R$263*I51+'Teknisk administration'!$S$263),0)","v":0},{"$f":"IF(Z51=1,VLOOKUP(H51,Tabell214[],2,FALSE)*W51+VLOOKUP(H51,Tabell214[],3,FALSE),0)","v":0},{"$f":"IF(AA51=1,VLOOKUP(H51,Tabell215[],2,FALSE)*W51+VLOOKUP(H51,Tabell215[],3,FALSE),0)","v":0},{"$f":"IF(AB51=1,VLOOKUP(H51,Tabell216[],2,FALSE)*W51,0)","v":0},{"$f":"IF(AC51=1,'Teknisk administration'!$AP$378,0)","v":0},{"$f":"IF(AD51=1,VLOOKUP($H51,Tabell217[],2,FALSE)*$W51,0)","v":0},{"$f":"IF(AE51=1,VLOOKUP($H51,Tabell29[],2,FALSE)*$W51,0)","v":0},{"$f":"IF(ISTEXT(A51),VLOOKUP(A51,Tabell203[],7,FALSE),0)","v":0},0,{"$f":"IF(ISTEXT($A51),VLOOKUP($A51,Tabell203[],11,FALSE),0)","v":0},{"$f":"IF(ISTEXT($A51),VLOOKUP($A51,Tabell203[],12,FALSE),0)","v":0},{"$f":"IF(ISTEXT($A51),VLOOKUP($A51,Tabell203[],13,FALSE),0)","v":0},{"$f":"IF(ISTEXT($A51),VLOOKUP($A51,Tabell203[],14,FALSE),0)","v":0},{"$f":"IF(ISTEXT($A51),VLOOKUP($A51,Tabell203[],15,FALSE),0)","v":0},{"$f":"IF(ISTEXT($A51),VLOOKUP($A51,Tabell203[],16,FALSE),0)","v":0}]
[null,null,null,null,null,{"$f":"IF(ISTEXT(A52),VLOOKUP(A52,Tabell203[],3,FALSE),\"\")","v":""},null,null,null,null,null,{"$f":"IF(ISTEXT(A52),VLOOKUP(A52,Tabell203[],10,FALSE),\"\")","v":""},0,0,0,0,null,{"$f":"IF(ISTEXT(A52),VLOOKUP(A52,Tabell203[],4,FALSE),0)","v":0},{"$f":"IF(ISTEXT(A52),VLOOKUP(A52,Tabell203[],6,FALSE),0)","v":0},{"$f":"IF(ISTEXT(A52),VLOOKUP(A52,Tabell203[],5,FALSE),0)","v":0},{"$f":"IF(ISTEXT(A52),VLOOKUP(A52,Tabell203[],8,FALSE),0)","v":0},{"$f":"IF(ISTEXT(A52),VLOOKUP(A52,Tabell203[],9,FALSE),0)","v":0},{"$f":"IF(ISTEXT(A52),IF(E52>0.000001,E52,VLOOKUP(A52,Tabell203[],2,FALSE)),0)","v":0},0,0,0,0,0,0,0,0,0,{"$f":"IF(X52=1,VLOOKUP(H52,Tabell220[],2,FALSE),0)","v":0},{"$f":"IF(Y52=1,IF(OR(W52<'Teknisk administration'!$P$262,W52>'Teknisk administration'!$P$263),'Teknisk administration'!$Q$262*I52^2+'Teknisk administration'!$R$262*I52+'Teknisk administration'!$S$262,'Teknisk administration'!$Q$263*I52^2+'Teknisk administration'!$R$263*I52+'Teknisk administration'!$S$263),0)","v":0},{"$f":"IF(Z52=1,VLOOKUP(H52,Tabell214[],2,FALSE)*W52+VLOOKUP(H52,Tabell214[],3,FALSE),0)","v":0},{"$f":"IF(AA52=1,VLOOKUP(H52,Tabell215[],2,FALSE)*W52+VLOOKUP(H52,Tabell215[],3,FALSE),0)","v":0},{"$f":"IF(AB52=1,VLOOKUP(H52,Tabell216[],2,FALSE)*W52,0)","v":0},{"$f":"IF(AC52=1,'Teknisk administration'!$AP$378,0)","v":0},{"$f":"IF(AD52=1,VLOOKUP($H52,Tabell217[],2,FALSE)*$W52,0)","v":0},{"$f":"IF(AE52=1,VLOOKUP($H52,Tabell29[],2,FALSE)*$W52,0)","v":0},{"$f":"IF(ISTEXT(A52),VLOOKUP(A52,Tabell203[],7,FALSE),0)","v":0},0,{"$f":"IF(ISTEXT($A52),VLOOKUP($A52,Tabell203[],11,FALSE),0)","v":0},{"$f":"IF(ISTEXT($A52),VLOOKUP($A52,Tabell203[],12,FALSE),0)","v":0},{"$f":"IF(ISTEXT($A52),VLOOKUP($A52,Tabell203[],13,FALSE),0)","v":0},{"$f":"IF(ISTEXT($A52),VLOOKUP($A52,Tabell203[],14,FALSE),0)","v":0},{"$f":"IF(ISTEXT($A52),VLOOKUP($A52,Tabell203[],15,FALSE),0)","v":0},{"$f":"IF(ISTEXT($A52),VLOOKUP($A52,Tabell203[],16,FALSE),0)","v":0}]
[null,null,null,null,null,{"$f":"IF(ISTEXT(A53),VLOOKUP(A53,Tabell203[],3,FALSE),\"\")","v":""},null,null,null,null,null,{"$f":"IF(ISTEXT(A53),VLOOKUP(A53,Tabell203[],10,FALSE),\"\")","v":""},0,0,0,0,null,{"$f":"IF(ISTEXT(A53),VLOOKUP(A53,Tabell203[],4,FALSE),0)","v":0},{"$f":"IF(ISTEXT(A53),VLOOKUP(A53,Tabell203[],6,FALSE),0)","v":0},{"$f":"IF(ISTEXT(A53),VLOOKUP(A53,Tabell203[],5,FALSE),0)","v":0},{"$f":"IF(ISTEXT(A53),VLOOKUP(A53,Tabell203[],8,FALSE),0)","v":0},{"$f":"IF(ISTEXT(A53),VLOOKUP(A53,Tabell203[],9,FALSE),0)","v":0},{"$f":"IF(ISTEXT(A53),IF(E53>0.000001,E53,VLOOKUP(A53,Tabell203[],2,FALSE)),0)","v":0},0,0,0,0,0,0,0,0,0,{"$f":"IF(X53=1,VLOOKUP(H53,Tabell220[],2,FALSE),0)","v":0},{"$f":"IF(Y53=1,IF(OR(W53<'Teknisk administration'!$P$262,W53>'Teknisk administration'!$P$263),'Teknisk administration'!$Q$262*I53^2+'Teknisk administration'!$R$262*I53+'Teknisk administration'!$S$262,'Teknisk administration'!$Q$263*I53^2+'Teknisk administration'!$R$263*I53+'Teknisk administration'!$S$263),0)","v":0},{"$f":"IF(Z53=1,VLOOKUP(H53,Tabell214[],2,FALSE)*W53+VLOOKUP(H53,Tabell214[],3,FALSE),0)","v":0},{"$f":"IF(AA53=1,VLOOKUP(H53,Tabell215[],2,FALSE)*W53+VLOOKUP(H53,Tabell215[],3,FALSE),0)","v":0},{"$f":"IF(AB53=1,VLOOKUP(H53,Tabell216[],2,FALSE)*W53,0)","v":0},{"$f":"IF(AC53=1,'Teknisk administration'!$AP$378,0)","v":0},{"$f":"IF(AD53=1,VLOOKUP($H53,Tabell217[],2,FALSE)*$W53,0)","v":0},{"$f":"IF(AE53=1,VLOOKUP($H53,Tabell29[],2,FALSE)*$W53,0)","v":0},{"$f":"IF(ISTEXT(A53),VLOOKUP(A53,Tabell203[],7,FALSE),0)","v":0},0,{"$f":"IF(ISTEXT($A53),VLOOKUP($A53,Tabell203[],11,FALSE),0)","v":0},{"$f":"IF(ISTEXT($A53),VLOOKUP($A53,Tabell203[],12,FALSE),0)","v":0},{"$f":"IF(ISTEXT($A53),VLOOKUP($A53,Tabell203[],13,FALSE),0)","v":0},{"$f":"IF(ISTEXT($A53),VLOOKUP($A53,Tabell203[],14,FALSE),0)","v":0},{"$f":"IF(ISTEXT($A53),VLOOKUP($A53,Tabell203[],15,FALSE),0)","v":0},{"$f":"IF(ISTEXT($A53),VLOOKUP($A53,Tabell203[],16,FALSE),0)","v":0}]
[null,null,null,null,null,{"$f":"IF(ISTEXT(A54),VLOOKUP(A54,Tabell203[],3,FALSE),\"\")","v":""},null,null,null,null,null,{"$f":"IF(ISTEXT(A54),VLOOKUP(A54,Tabell203[],10,FALSE),\"\")","v":""},0,0,0,0,null,{"$f":"IF(ISTEXT(A54),VLOOKUP(A54,Tabell203[],4,FALSE),0)","v":0},{"$f":"IF(ISTEXT(A54),VLOOKUP(A54,Tabell203[],6,FALSE),0)","v":0},{"$f":"IF(ISTEXT(A54),VLOOKUP(A54,Tabell203[],5,FALSE),0)","v":0},{"$f":"IF(ISTEXT(A54),VLOOKUP(A54,Tabell203[],8,FALSE),0)","v":0},{"$f":"IF(ISTEXT(A54),VLOOKUP(A54,Tabell203[],9,FALSE),0)","v":0},{"$f":"IF(ISTEXT(A54),IF(E54>0.000001,E54,VLOOKUP(A54,Tabell203[],2,FALSE)),0)","v":0},0,0,0,0,0,0,0,0,0,{"$f":"IF(X54=1,VLOOKUP(H54,Tabell220[],2,FALSE),0)","v":0},{"$f":"IF(Y54=1,IF(OR(W54<'Teknisk administration'!$P$262,W54>'Teknisk administration'!$P$263),'Teknisk administration'!$Q$262*I54^2+'Teknisk administration'!$R$262*I54+'Teknisk administration'!$S$262,'Teknisk administration'!$Q$263*I54^2+'Teknisk administration'!$R$263*I54+'Teknisk administration'!$S$263),0)","v":0},{"$f":"IF(Z54=1,VLOOKUP(H54,Tabell214[],2,FALSE)*W54+VLOOKUP(H54,Tabell214[],3,FALSE),0)","v":0},{"$f":"IF(AA54=1,VLOOKUP(H54,Tabell215[],2,FALSE)*W54+VLOOKUP(H54,Tabell215[],3,FALSE),0)","v":0},{"$f":"IF(AB54=1,VLOOKUP(H54,Tabell216[],2,FALSE)*W54,0)","v":0},{"$f":"IF(AC54=1,'Teknisk administration'!$AP$378,0)","v":0},{"$f":"IF(AD54=1,VLOOKUP($H54,Tabell217[],2,FALSE)*$W54,0)","v":0},{"$f":"IF(AE54=1,VLOOKUP($H54,Tabell29[],2,FALSE)*$W54,0)","v":0},{"$f":"IF(ISTEXT(A54),VLOOKUP(A54,Tabell203[],7,FALSE),0)","v":0},0,{"$f":"IF(ISTEXT($A54),VLOOKUP($A54,Tabell203[],11,FALSE),0)","v":0},{"$f":"IF(ISTEXT($A54),VLOOKUP($A54,Tabell203[],12,FALSE),0)","v":0},{"$f":"IF(ISTEXT($A54),VLOOKUP($A54,Tabell203[],13,FALSE),0)","v":0},{"$f":"IF(ISTEXT($A54),VLOOKUP($A54,Tabell203[],14,FALSE),0)","v":0},{"$f":"IF(ISTEXT($A54),VLOOKUP($A54,Tabell203[],15,FALSE),0)","v":0},{"$f":"IF(ISTEXT($A54),VLOOKUP($A54,Tabell203[],16,FALSE),0)","v":0}]
[null,null,null,null,null,{"$f":"IF(ISTEXT(A55),VLOOKUP(A55,Tabell203[],3,FALSE),\"\")","v":""},null,null,null,null,null,{"$f":"IF(ISTEXT(A55),VLOOKUP(A55,Tabell203[],10,FALSE),\"\")","v":""},0,0,0,0,null,{"$f":"IF(ISTEXT(A55),VLOOKUP(A55,Tabell203[],4,FALSE),0)","v":0},{"$f":"IF(ISTEXT(A55),VLOOKUP(A55,Tabell203[],6,FALSE),0)","v":0},{"$f":"IF(ISTEXT(A55),VLOOKUP(A55,Tabell203[],5,FALSE),0)","v":0},{"$f":"IF(ISTEXT(A55),VLOOKUP(A55,Tabell203[],8,FALSE),0)","v":0},{"$f":"IF(ISTEXT(A55),VLOOKUP(A55,Tabell203[],9,FALSE),0)","v":0},{"$f":"IF(ISTEXT(A55),IF(E55>0.000001,E55,VLOOKUP(A55,Tabell203[],2,FALSE)),0)","v":0},0,0,0,0,0,0,0,0,0,{"$f":"IF(X55=1,VLOOKUP(H55,Tabell220[],2,FALSE),0)","v":0},{"$f":"IF(Y55=1,IF(OR(W55<'Teknisk administration'!$P$262,W55>'Teknisk administration'!$P$263),'Teknisk administration'!$Q$262*I55^2+'Teknisk administration'!$R$262*I55+'Teknisk administration'!$S$262,'Teknisk administration'!$Q$263*I55^2+'Teknisk administration'!$R$263*I55+'Teknisk administration'!$S$263),0)","v":0},{"$f":"IF(Z55=1,VLOOKUP(H55,Tabell214[],2,FALSE)*W55+VLOOKUP(H55,Tabell214[],3,FALSE),0)","v":0},{"$f":"IF(AA55=1,VLOOKUP(H55,Tabell215[],2,FALSE)*W55+VLOOKUP(H55,Tabell215[],3,FALSE),0)","v":0},{"$f":"IF(AB55=1,VLOOKUP(H55,Tabell216[],2,FALSE)*W55,0)","v":0},{"$f":"IF(AC55=1,'Teknisk administration'!$AP$378,0)","v":0},{"$f":"IF(AD55=1,VLOOKUP($H55,Tabell217[],2,FALSE)*$W55,0)","v":0},{"$f":"IF(AE55=1,VLOOKUP($H55,Tabell29[],2,FALSE)*$W55,0)","v":0},{"$f":"IF(ISTEXT(A55),VLOOKUP(A55,Tabell203[],7,FALSE),0)","v":0},0,{"$f":"IF(ISTEXT($A55),VLOOKUP($A55,Tabell203[],11,FALSE),0)","v":0},{"$f":"IF(ISTEXT($A55),VLOOKUP($A55,Tabell203[],12,FALSE),0)","v":0},{"$f":"IF(ISTEXT($A55),VLOOKUP($A55,Tabell203[],13,FALSE),0)","v":0},{"$f":"IF(ISTEXT($A55),VLOOKUP($A55,Tabell203[],14,FALSE),0)","v":0},{"$f":"IF(ISTEXT($A55),VLOOKUP($A55,Tabell203[],15,FALSE),0)","v":0},{"$f":"IF(ISTEXT($A55),VLOOKUP($A55,Tabell203[],16,FALSE),0)","v":0}]
[null,null,null,null,null,{"$f":"IF(ISTEXT(A56),VLOOKUP(A56,Tabell203[],3,FALSE),\"\")","v":""},null,null,null,null,null,{"$f":"IF(ISTEXT(A56),VLOOKUP(A56,Tabell203[],10,FALSE),\"\")","v":""},0,0,0,0,null,{"$f":"IF(ISTEXT(A56),VLOOKUP(A56,Tabell203[],4,FALSE),0)","v":0},{"$f":"IF(ISTEXT(A56),VLOOKUP(A56,Tabell203[],6,FALSE),0)","v":0},{"$f":"IF(ISTEXT(A56),VLOOKUP(A56,Tabell203[],5,FALSE),0)","v":0},{"$f":"IF(ISTEXT(A56),VLOOKUP(A56,Tabell203[],8,FALSE),0)","v":0},{"$f":"IF(ISTEXT(A56),VLOOKUP(A56,Tabell203[],9,FALSE),0)","v":0},{"$f":"IF(ISTEXT(A56),IF(E56>0.000001,E56,VLOOKUP(A56,Tabell203[],2,FALSE)),0)","v":0},0,0,0,0,0,0,0,0,0,{"$f":"IF(X56=1,VLOOKUP(H56,Tabell220[],2,FALSE),0)","v":0},{"$f":"IF(Y56=1,IF(OR(W56<'Teknisk administration'!$P$262,W56>'Teknisk administration'!$P$263),'Teknisk administration'!$Q$262*I56^2+'Teknisk administration'!$R$262*I56+'Teknisk administration'!$S$262,'Teknisk administration'!$Q$263*I56^2+'Teknisk administration'!$R$263*I56+'Teknisk administration'!$S$263),0)","v":0},{"$f":"IF(Z56=1,VLOOKUP(H56,Tabell214[],2,FALSE)*W56+VLOOKUP(H56,Tabell214[],3,FALSE),0)","v":0},{"$f":"IF(AA56=1,VLOOKUP(H56,Tabell215[],2,FALSE)*W56+VLOOKUP(H56,Tabell215[],3,FALSE),0)","v":0},{"$f":"IF(AB56=1,VLOOKUP(H56,Tabell216[],2,FALSE)*W56,0)","v":0},{"$f":"IF(AC56=1,'Teknisk administration'!$AP$378,0)","v":0},{"$f":"IF(AD56=1,VLOOKUP($H56,Tabell217[],2,FALSE)*$W56,0)","v":0},{"$f":"IF(AE56=1,VLOOKUP($H56,Tabell29[],2,FALSE)*$W56,0)","v":0},{"$f":"IF(ISTEXT(A56),VLOOKUP(A56,Tabell203[],7,FALSE),0)","v":0},0,{"$f":"IF(ISTEXT($A56),VLOOKUP($A56,Tabell203[],11,FALSE),0)","v":0},{"$f":"IF(ISTEXT($A56),VLOOKUP($A56,Tabell203[],12,FALSE),0)","v":0},{"$f":"IF(ISTEXT($A56),VLOOKUP($A56,Tabell203[],13,FALSE),0)","v":0},{"$f":"IF(ISTEXT($A56),VLOOKUP($A56,Tabell203[],14,FALSE),0)","v":0},{"$f":"IF(ISTEXT($A56),VLOOKUP($A56,Tabell203[],15,FALSE),0)","v":0},{"$f":"IF(ISTEXT($A56),VLOOKUP($A56,Tabell203[],16,FALSE),0)","v":0}]
[null,null,null,null,null,{"$f":"IF(ISTEXT(A57),VLOOKUP(A57,Tabell203[],3,FALSE),\"\")","v":""},null,null,null,null,null,{"$f":"IF(ISTEXT(A57),VLOOKUP(A57,Tabell203[],10,FALSE),\"\")","v":""},0,0,0,0,null,{"$f":"IF(ISTEXT(A57),VLOOKUP(A57,Tabell203[],4,FALSE),0)","v":0},{"$f":"IF(ISTEXT(A57),VLOOKUP(A57,Tabell203[],6,FALSE),0)","v":0},{"$f":"IF(ISTEXT(A57),VLOOKUP(A57,Tabell203[],5,FALSE),0)","v":0},{"$f":"IF(ISTEXT(A57),VLOOKUP(A57,Tabell203[],8,FALSE),0)","v":0},{"$f":"IF(ISTEXT(A57),VLOOKUP(A57,Tabell203[],9,FALSE),0)","v":0},{"$f":"IF(ISTEXT(A57),IF(E57>0.000001,E57,VLOOKUP(A57,Tabell203[],2,FALSE)),0)","v":0},0,0,0,0,0,0,0,0,0,{"$f":"IF(X57=1,VLOOKUP(H57,Tabell220[],2,FALSE),0)","v":0},{"$f":"IF(Y57=1,IF(OR(W57<'Teknisk administration'!$P$262,W57>'Teknisk administration'!$P$263),'Teknisk administration'!$Q$262*I57^2+'Teknisk administration'!$R$262*I57+'Teknisk administration'!$S$262,'Teknisk administration'!$Q$263*I57^2+'Teknisk administration'!$R$263*I57+'Teknisk administration'!$S$263),0)","v":0},{"$f":"IF(Z57=1,VLOOKUP(H57,Tabell214[],2,FALSE)*W57+VLOOKUP(H57,Tabell214[],3,FALSE),0)","v":0},{"$f":"IF(AA57=1,VLOOKUP(H57,Tabell215[],2,FALSE)*W57+VLOOKUP(H57,Tabell215[],3,FALSE),0)","v":0},{"$f":"IF(AB57=1,VLOOKUP(H57,Tabell216[],2,FALSE)*W57,0)","v":0},{"$f":"IF(AC57=1,'Teknisk administration'!$AP$378,0)","v":0},{"$f":"IF(AD57=1,VLOOKUP($H57,Tabell217[],2,FALSE)*$W57,0)","v":0},{"$f":"IF(AE57=1,VLOOKUP($H57,Tabell29[],2,FALSE)*$W57,0)","v":0},{"$f":"IF(ISTEXT(A57),VLOOKUP(A57,Tabell203[],7,FALSE),0)","v":0},0,{"$f":"IF(ISTEXT($A57),VLOOKUP($A57,Tabell203[],11,FALSE),0)","v":0},{"$f":"IF(ISTEXT($A57),VLOOKUP($A57,Tabell203[],12,FALSE),0)","v":0},{"$f":"IF(ISTEXT($A57),VLOOKUP($A57,Tabell203[],13,FALSE),0)","v":0},{"$f":"IF(ISTEXT($A57),VLOOKUP($A57,Tabell203[],14,FALSE),0)","v":0},{"$f":"IF(ISTEXT($A57),VLOOKUP($A57,Tabell203[],15,FALSE),0)","v":0},{"$f":"IF(ISTEXT($A57),VLOOKUP($A57,Tabell203[],16,FALSE),0)","v":0}]
[null,null,null,null,null,null,null,null,null,null,null,"Totalt mängd inlagt eller direkttfodrat ",{"$f":"SUM(Tabell221[Volym (m3)])","v":0},null,{"$f":"SUM(O46:O57)","v":0},{"$f":"SUM(P46:P57)","v":0},null,null,null,null,null,null,null,null,null,{"$f":"IF(SUMPRODUCT(Z46:Z57,$G46:$G57)=0,0,SUMPRODUCT($O46:$O57,Z46:Z57)/SUMPRODUCT(Z46:Z57,$G46:$G57))","v":0},{"$f":"IF(SUMPRODUCT(AA46:AA57,$G46:$G57)=0,0,SUMPRODUCT($O46:$O57,AA46:AA57)/SUMPRODUCT(AA46:AA57,$G46:$G57))","v":0}]
[]
[]
[{"$f":"period_2","v":"Period 2"}]
["Mängd vallfoder, direktutfodrad grönmassa och halm"]
["Skördemängden kan anges med två olika alternativ: "]
["1. Fyll i färdigt värde om du mätt skörden som lagts in (kg och ts). "]
["2. Uppskatta mängden (kg och ts) genom att beräkna volymen inlagt grovfoder och direktutfodrad grönmassa. "]
["Du kan ha en kombination av alternativ under en och samma period, t ex om du inte vägt mängden vid varje skörd.  "]
["Börja med att välja typ av system (plansilo, rundbal, halm etc. i den vänstraste kolumnen. Då tänds de celler du ska skriva siffror i (gula celler) eller där du ska välja ur en lista (orange celler). Övriga celler i lämnar du tomma."]
["När det gäller energi i fodret kan du antingen välja ur lista (orange cell) eller skriva in ett eget värde (ljusgul cell)"]
["Du kan lägga in flera rader med samma system, t ex om du vill särkilja 1:a 2:a och 3:e skörd eller vill räkna separat för olika skriften. Om du hellre vill det kan du lägga allt på en rad. "]
[]
[]
["Alternativ 1. Har vägt skörden och har ts-analys"]
["Mängden ts och MJ beräknas först när MJ/kg ts, ts-halt och kg grönmassa fyllts i.",null,null,null,null,null,null,null,null,null,null,null,null,null,null,null,null,null,null,null,null,null,null,null,null,null,null,null,null,null,null,null,null,null,null,null,null,null,null,null,null,null,"Gruppering av system"]
[null,null,"Energi - välj ur lista eller skriv eget värde",null,"TS-halt (%)",null,"Mängd","Beräknad mängd foder",null,null,null,null,null,null,null,null,null,null,null,null,null,null,null,null,null,null,null,null,null,null,null,null,null,null,null,null,null,null,null,null,null,null,"Plansilo","Torn","Storbalar (rund- och fyrkantsbalar)","Hö","Direktutfodrad grönmassa","Halm till foder"]
["System - välj alternativ ur listan!","Egen kommentar","Välj ur lista","Eget värde (MJ/kg ts)","% ts","Förklaring","kg grönmassa","kg ts","MJ"," ","  ","   ","    ","     ","      ","       ","Kolumn8","Kolumn9","Kolumn10","Kolumn11","Kolumn12","  2","TS-halt","Kolumn15","Kolumn16","Kolumn17","Kolumn18","Kolumn19","Kolumn20","Kolumn21","Kolumn22","Kolumn23","Kolumn24","Kolumn25","Kolumn26","Kolumn27","Kolumn28","Kolumn29","Kolumn30","Kolumn31","Kolumn32","MJ/kg ts","Plansilo12","Torn13","Storbalar (rund- och fyrkantsbalar)","Hö14","Direktutfodrad grönmassa15","Halm"]
[null,null,null,null,null,{"$f":"IF(ISTEXT(A76),VLOOKUP(A76,Tabell203[],3,FALSE),\"\")","v":""},null,{"$f":"W76*G76","v":0},{"$f":"H76*IF(D76>0,D76,IF(AND(ISTEXT(A76),(OR(ISTEXT(C76),ISNUMBER(D76)))),IF(D76>0,D92,VLOOKUP(C76,INDIRECT(A76),2,FALSE)),0))","v":0},null,null,null,null,null,null,null,null,null,null,null,null,null,{"$f":"IF(ISTEXT(A76),IF(E76>0.000001,E76,VLOOKUP(A76,Tabell203[],2,FALSE)),0)","v":0},null,null,null,null,null,null,null,null,null,null,null,null,null,null,null,null,null,null,{"$f":"IF(AND(ISTEXT(A76),(OR(ISTEXT(C76),ISNUMBER(D76)))),IF(D76>0,D76,VLOOKUP(C76,INDIRECT(A76),2,FALSE)),0)","v":0},{"$f":"IF(ISTEXT($A76),VLOOKUP($A76,Tabell203[],11,FALSE),0)","v":0},{"$f":"IF(ISTEXT($A76),VLOOKUP($A76,Tabell203[],12,FALSE),0)","v":0},{"$f":"IF(ISTEXT($A76),VLOOKUP($A76,Tabell203[],13,FALSE),0)","v":0},{"$f":"IF(ISTEXT($A76),VLOOKUP($A76,Tabell203[],14,FALSE),0)","v":0},{"$f":"IF(ISTEXT($A76),VLOOKUP($A76,Tabell203[],15,FALSE),0)","v":0},{"$f":"IF(ISTEXT($A76),VLOOKUP($A76,Tabell203[],16,FALSE),0)","v":0}]
[null,null,null,null,null,{"$f":"IF(ISTEXT(A77),VLOOKUP(A77,Tabell203[],3,FALSE),\"\")","v":""},null,0,0,null,null,null,null,null,null,null,null,null,null,null,null,null,{"$f":"IF(ISTEXT(A77),IF(E77>0.000001,E77,VLOOKUP(A77,Tabell203[],2,FALSE)),0)","v":0},null,null,null,null,null,null,null,null,null,null,null,null,null,null,null,null,null,null,0,{"$f":"IF(ISTEXT($A77),VLOOKUP($A77,Tabell203[],11,FALSE),0)","v":0},{"$f":"IF(ISTEXT($A77),VLOOKUP($A77,Tabell203[],12,FALSE),0)","v":0},{"$f":"IF(ISTEXT($A77),VLOOKUP($A77,Tabell203[],13,FALSE),0)","v":0},{"$f":"IF(ISTEXT($A77),VLOOKUP($A77,Tabell203[],14,FALSE),0)","v":0},{"$f":"IF(ISTEXT($A77),VLOOKUP($A77,Tabell203[],15,FALSE),0)","v":0},{"$f":"IF(ISTEXT($A77),VLOOKUP($A77,Tabell203[],16,FALSE),0)","v":0}]
[null,null,null,null,null,{"$f":"IF(ISTEXT(A78),VLOOKUP(A78,Tabell203[],3,FALSE),\"\")","v":""},null,0,0,null,null,null,null,null,null,null,null,null,null,null,null,null,{"$f":"IF(ISTEXT(A78),IF(E78>0.000001,E78,VLOOKUP(A78,Tabell203[],2,FALSE)),0)","v":0},null,null,null,null,null,null,null,null,null,null,null,null,null,null,null,null,null,null,0,{"$f":"IF(ISTEXT($A78),VLOOKUP($A78,Tabell203[],11,FALSE),0)","v":0},{"$f":"IF(ISTEXT($A78),VLOOKUP($A78,Tabell203[],12,FALSE),0)","v":0},{"$f":"IF(ISTEXT($A78),VLOOKUP($A78,Tabell203[],13,FALSE),0)","v":0},{"$f":"IF(ISTEXT($A78),VLOOKUP($A78,Tabell203[],14,FALSE),0)","v":0},{"$f":"IF(ISTEXT($A78),VLOOKUP($A78,Tabell203[],15,FALSE),0)","v":0},{"$f":"IF(ISTEXT($A78),VLOOKUP($A78,Tabell203[],16,FALSE),0)","v":0}]
[null,null,null,null,null,{"$f":"IF(ISTEXT(A79),VLOOKUP(A79,Tabell203[],3,FALSE),\"\")","v":""},null,0,0,null,null,null,null,null,null,null,null,null,null,null,null,null,{"$f":"IF(ISTEXT(A79),IF(E79>0.000001,E79,VLOOKUP(A79,Tabell203[],2,FALSE)),0)","v":0},null,null,null,null,null,null,null,null,null,null,null,null,null,null,null,null,null,null,0,{"$f":"IF(ISTEXT($A79),VLOOKUP($A79,Tabell203[],11,FALSE),0)","v":0},{"$f":"IF(ISTEXT($A79),VLOOKUP($A79,Tabell203[],12,FALSE),0)","v":0},{"$f":"IF(ISTEXT($A79),VLOOKUP($A79,Tabell203[],13,FALSE),0)","v":0},{"$f":"IF(ISTEXT($A79),VLOOKUP($A79,Tabell203[],14,FALSE),0)","v":0},{"$f":"IF(ISTEXT($A79),VLOOKUP($A79,Tabell203[],15,FALSE),0)","v":0},{"$f":"IF(ISTEXT($A79),VLOOKUP($A79,Tabell203[],16,FALSE),0)","v":0}]
[null,null,null,null,null,{"$f":"IF(ISTEXT(A80),VLOOKUP(A80,Tabell203[],3,FALSE),\"\")","v":""},null,0,0,null,null,null,null,null,null,null,null,null,null,null,null,null,{"$f":"IF(ISTEXT(A80),IF(E80>0.000001,E80,VLOOKUP(A80,Tabell203[],2,FALSE)),0)","v":0},null,null,null,null,null,null,null,null,null,null,null,null,null,null,null,null,null,null,0,{"$f":"IF(ISTEXT($A80),VLOOKUP($A80,Tabell203[],11,FALSE),0)","v":0},{"$f":"IF(ISTEXT($A80),VLOOKUP($A80,Tabell203[],12,FALSE),0)","v":0},{"$f":"IF(ISTEXT($A80),VLOOKUP($A80,Tabell203[],13,FALSE),0)","v":0},{"$f":"IF(ISTEXT($A80),VLOOKUP($A80,Tabell203[],14,FALSE),0)","v":0},{"$f":"IF(ISTEXT($A80),VLOOKUP($A80,Tabell203[],15,FALSE),0)","v":0},{"$f":"IF(ISTEXT($A80),VLOOKUP($A80,Tabell203[],16,FALSE),0)","v":0}]
[null,null,null,null,null,{"$f":"IF(ISTEXT(A81),VLOOKUP(A81,Tabell203[],3,FALSE),\"\")","v":""},null,0,0,null,null,null,null,null,null,null,null,null,null,null,null,null,{"$f":"IF(ISTEXT(A81),IF(E81>0.000001,E81,VLOOKUP(A81,Tabell203[],2,FALSE)),0)","v":0},null,null,null,null,null,null,null,null,null,null,null,null,null,null,null,null,null,null,0,{"$f":"IF(ISTEXT($A81),VLOOKUP($A81,Tabell203[],11,FALSE),0)","v":0},{"$f":"IF(ISTEXT($A81),VLOOKUP($A81,Tabell203[],12,FALSE),0)","v":0},{"$f":"IF(ISTEXT($A81),VLOOKUP($A81,Tabell203[],13,FALSE),0)","v":0},{"$f":"IF(ISTEXT($A81),VLOOKUP($A81,Tabell203[],14,FALSE),0)","v":0},{"$f":"IF(ISTEXT($A81),VLOOKUP($A81,Tabell203[],15,FALSE),0)","v":0},{"$f":"IF(ISTEXT($A81),VLOOKUP($A81,Tabell203[],16,FALSE),0)","v":0}]
[null,null,null,null,null,{"$f":"IF(ISTEXT(A82),VLOOKUP(A82,Tabell203[],3,FALSE),\"\")","v":""},null,0,0,null,null,null,null,null,null,null,null,null,null,null,null,null,{"$f":"IF(ISTEXT(A82),IF(E82>0.000001,E82,VLOOKUP(A82,Tabell203[],2,FALSE)),0)","v":0},null,null,null,null,null,null,null,null,null,null,null,null,null,null,null,null,null,null,0,{"$f":"IF(ISTEXT($A82),VLOOKUP($A82,Tabell203[],11,FALSE),0)","v":0},{"$f":"IF(ISTEXT($A82),VLOOKUP($A82,Tabell203[],12,FALSE),0)","v":0},{"$f":"IF(ISTEXT($A82),VLOOKUP($A82,Tabell203[],13,FALSE),0)","v":0},{"$f":"IF(ISTEXT($A82),VLOOKUP($A82,Tabell203[],14,FALSE),0)","v":0},{"$f":"IF(ISTEXT($A82),VLOOKUP($A82,Tabell203[],15,FALSE),0)","v":0},{"$f":"IF(ISTEXT($A82),VLOOKUP($A82,Tabell203[],16,FALSE),0)","v":0}]
[null,null,null,null,null,{"$f":"IF(ISTEXT(A83),VLOOKUP(A83,Tabell203[],3,FALSE),\"\")","v":""},null,0,0,null,null,null,null,null,null,null,null,null,null,null,null,null,{"$f":"IF(ISTEXT(A83),IF(E83>0.000001,E83,VLOOKUP(A83,Tabell203[],2,FALSE)),0)","v":0},null,null,null,null,null,null,null,null,null,null,null,null,null,null,null,null,null,null,0,{"$f":"IF(ISTEXT($A83),VLOOKUP($A83,Tabell203[],11,FALSE),0)","v":0},{"$f":"IF(ISTEXT($A83),VLOOKUP($A83,Tabell203[],12,FALSE),0)","v":0},{"$f":"IF(ISTEXT($A83),VLOOKUP($A83,Tabell203[],13,FALSE),0)","v":0},{"$f":"IF(ISTEXT($A83),VLOOKUP($A83,Tabell203[],14,FALSE),0)","v":0},{"$f":"IF(ISTEXT($A83),VLOOKUP($A83,Tabell203[],15,FALSE),0)","v":0},{"$f":"IF(ISTEXT($A83),VLOOKUP($A83,Tabell203[],16,FALSE),0)","v":0}]
["Totalt",null,null,null,null,null,null,{"$f":"SUM(H76:H83)","v":0},{"$f":"SUM(I76:I83)","v":0}]
[]
[]
[]
["Alternativ 2. Har inte vägt skörden, behöver räkna ut mängden skördat",null,null,null,null,null,null,null,null,null,null,null,null,null,null,null,null,"ska dölja"]
["Om det står \"Saknas!\" eller \"0\" under rubriken \"Beräknad mängd foder\" beror det på att någon uppgift saknas. Kontrollera då att du fyllt i alla gula celler på raden samt valt något i alla orange celler på raden",null,null,null,null,null,null,null,null,null,null,null,null,null,null,null,null,"Beskrivning av systemet",null,null,null,null,"TS-halt","Vilket system? 1=ja, 0=nej",null,null,null,null,null,null,null,null,"Volymvikt (kg ts/m3)",null,null,null,null,null,null,null,null,"Energi","Gruppering av system"]
[null,null,"Energi - välj ur lista eller skriv eget värde",null,"TS-halt (%)",null,"Antal balar ","Teknik","Lagrets respektive balarnas storlek",null,null,null,"Beräknad mängd foder",null,null,null,null,null,null,null,null,null,null,"Plansilo","Torn","Rundbalar","Fyrkantsbalar","Hö","Grönfoder","Halm","Fyrkantsbalar_hö",{"$f":"'Teknisk administration'!$B$400","v":0},{"$f":"X90","v":"Plansilo"},"Torn","Rundbalar","Fyrkantsbalar","Hö","Grönfoder","Halm","Fyrkantsbalar_hö",0,"MJ/kg ts","Plansilo","Torn","Storbalar (rund- och fyrkantsbalar)","Hö","Direktutfodrad","Halm till foder"]
["System - välj alternativ ur listan!","Egen kommentar","Välj ur lista","Eget värde (MJ/kg ts)","% ts","Förklaring","stycken","välj ur listan i orange celler!","Höjd (m)","Bredd (m)","Längd (m)","Förklaring för volymberäkning","Volym (m3)","Volymvikt (kg ts/m3)","Mängd (kg ts)","Mängd (MJ)","m3","Antal","Mängd per lass","Teknik","rätblock","cylinder","TS-halt","Plansilo","Torn","Rundbalar","Fyrkantsbalar","Hö","Grönfoder","Halm","Fyrkantsbalar_hö","tom","Plansilo3","Torn4","Rundbalar5","Fyrkantsbalar6","Hö7","Direktutfodrat","Kolumn1","Fyrkantsbalar_hö2","Visa ts?","MJ/kg ts","Plansilo12","Torn13","Storbalar (rund- och fyrkantsbalar)","Hö14","Direktutfodrad","Halm2"]
[null,null,null,null,null,{"$f":"IF(ISTEXT(A92),VLOOKUP(A92,Tabell203[],3,FALSE),\"\")","v":""},null,null,null,null,null,{"$f":"IF(ISTEXT(A92),VLOOKUP(A92,Tabell203[],10,FALSE),\"\")","v":""},{"$f":"IF(ISTEXT(A92),IF(U92=1,I92*J92*K92,IF(V92=1,I92*(J92/2)^2*PI(),1))*IF(R92=1,G92,1)*IF(S92=1,Q92,1),0)","v":0},{"$f":"SUM(AG92:AN92)","v":0},{"$f":"M92*N92","v":0},{"$f":"O92*AP92","v":0},null,{"$f":"IF(ISTEXT(A92),VLOOKUP(A92,Tabell203[],4,FALSE),0)","v":0},{"$f":"IF(ISTEXT(A92),VLOOKUP(A92,Tabell203[],6,FALSE),0)","v":0},{"$f":"IF(ISTEXT(A92),VLOOKUP(A92,Tabell203[],5,FALSE),0)","v":0},{"$f":"IF(ISTEXT(A92),VLOOKUP(A92,Tabell203[],8,FALSE),0)","v":0},{"$f":"IF(ISTEXT(A92),VLOOKUP(A92,Tabell203[],9,FALSE),0)","v":0},{"$f":"IF(ISTEXT(A92),IF(E92>0.000001,E92,VLOOKUP(A92,Tabell203[],2,FALSE)),0)","v":0},{"$f":"IF($A92='2.1b Halm, odling grovfoder'!X$44,1,0)","v":0},{"$f":"IF($A92='2.1b Halm, odling grovfoder'!Y$44,1,0)","v":0},{"$f":"IF($A92='2.1b Halm, odling grovfoder'!Z$44,1,0)","v":0},{"$f":"IF($A92='2.1b Halm, odling grovfoder'!AA$44,1,0)","v":0},{"$f":"IF($A92='2.1b Halm, odling grovfoder'!AB$44,1,0)","v":0},{"$f":"IF($A92='2.1b Halm, odling grovfoder'!AC$44,1,0)","v":0},{"$f":"IF($A92='2.1b Halm, odling grovfoder'!AD$44,1,0)","v":0},{"$f":"IF($A92='2.1b Halm, odling grovfoder'!AE$44,1,0)","v":0},{"$f":"IF($A92='2.1b Halm, odling grovfoder'!AF$44,1,0)","v":0},{"$f":"IF(X92=1,VLOOKUP(H92,Tabell220[],2,FALSE),0)","v":0},{"$f":"IF(Y92=1,IF(OR(W92<'Teknisk administration'!$P$262,W92>'Teknisk administration'!$P$263),'Teknisk administration'!$Q$262*I92^2+'Teknisk administration'!$R$262*I92+'Teknisk administration'!$S$262,'Teknisk administration'!$Q$263*I92^2+'Teknisk administration'!$R$263*I92+'Teknisk administration'!$S$263),0)","v":0},{"$f":"IF(Z92=1,VLOOKUP(H92,Tabell214[],2,FALSE)*W92+VLOOKUP(H92,Tabell214[],3,FALSE),0)","v":0},{"$f":"IF(AA92=1,VLOOKUP(H92,Tabell215[],2,FALSE)*W92+VLOOKUP(H92,Tabell215[],3,FALSE),0)","v":0},{"$f":"IF(AB92=1,VLOOKUP(H92,Tabell216[],2,FALSE)*W92,0)","v":0},{"$f":"IF(AC92=1,'Teknisk administration'!$AP$378,0)","v":0},{"$f":"IF(AD92=1,VLOOKUP($H92,Tabell217[],2,FALSE)*$W92,0)","v":0},{"$f":"IF(AE92=1,VLOOKUP($H92,Tabell29[],2,FALSE)*$W92,0)","v":0},{"$f":"IF(ISTEXT(A92),VLOOKUP(A92,Tabell203[],7,FALSE),0)","v":0},{"$f":"IF(AND(ISTEXT(A92),(OR(ISTEXT(C92),ISNUMBER(D92)))),IF(D92>0,D92,VLOOKUP(C92,INDIRECT(A92),2,FALSE)),0)","v":0},{"$f":"IF(ISTEXT($A92),VLOOKUP($A92,Tabell203[],11,FALSE),0)","v":0},{"$f":"IF(ISTEXT($A92),VLOOKUP($A92,Tabell203[],12,FALSE),0)","v":0},{"$f":"IF(ISTEXT($A92),VLOOKUP($A92,Tabell203[],13,FALSE),0)","v":0},{"$f":"IF(ISTEXT($A92),VLOOKUP($A92,Tabell203[],14,FALSE),0)","v":0},{"$f":"IF(ISTEXT($A92),VLOOKUP($A92,Tabell203[],15,FALSE),0)","v":0},{"$f":"IF(ISTEXT($A92),VLOOKUP($A92,Tabell203[],16,FALSE),0)","v":0}]
[null,null,null,null,null,{"$f":"IF(ISTEXT(A93),VLOOKUP(A93,Tabell203[],3,FALSE),\"\")","v":""},null,null,null,null,null,{"$f":"IF(ISTEXT(A93),VLOOKUP(A93,Tabell203[],10,FALSE),\"\")","v":""},0,0,0,0,null,{"$f":"IF(ISTEXT(A93),VLOOKUP(A93,Tabell203[],4,FALSE),0)","v":0},{"$f":"IF(ISTEXT(A93),VLOOKUP(A93,Tabell203[],6,FALSE),0)","v":0},{"$f":"IF(ISTEXT(A93),VLOOKUP(A93,Tabell203[],5,FALSE),0)","v":0},{"$f":"IF(ISTEXT(A93),VLOOKUP(A93,Tabell203[],8,FALSE),0)","v":0},{"$f":"IF(ISTEXT(A93),VLOOKUP(A93,Tabell203[],9,FALSE),0)","v":0},{"$f":"IF(ISTEXT(A93),IF(E93>0.000001,E93,VLOOKUP(A93,Tabell203[],2,FALSE)),0)","v":0},{"$f":"IF($A93='2.1b Halm, odling grovfoder'!X$44,1,0)","v":0},{"$f":"IF($A93='2.1b Halm, odling grovfoder'!Y$44,1,0)","v":0},{"$f":"IF($A93='2.1b Halm, odling grovfoder'!Z$44,1,0)","v":0},{"$f":"IF($A93='2.1b Halm, odling grovfoder'!AA$44,1,0)","v":0},{"$f":"IF($A93='2.1b Halm, odling grovfoder'!AB$44,1,0)","v":0},{"$f":"IF($A93='2.1b Halm, odling grovfoder'!AC$44,1,0)","v":0},{"$f":"IF($A93='2.1b Halm, odling grovfoder'!AD$44,1,0)","v":0},{"$f":"IF($A93='2.1b Halm, odling grovfoder'!AE$44,1,0)","v":0},{"$f":"IF($A93='2.1b Halm, odling grovfoder'!AF$44,1,0)","v":0},{"$f":"IF(X93=1,VLOOKUP(H93,Tabell220[],2,FALSE),0)","v":0},{"$f":"IF(Y93=1,IF(OR(W93<'Teknisk administration'!$P$262,W93>'Teknisk administration'!$P$263),'Teknisk administration'!$Q$262*I93^2+'Teknisk administration'!$R$262*I93+'Teknisk administration'!$S$262,'Teknisk administration'!$Q$263*I93^2+'Teknisk administration'!$R$263*I93+'Teknisk administration'!$S$263),0)","v":0},{"$f":"IF(Z93=1,VLOOKUP(H93,Tabell214[],2,FALSE)*W93+VLOOKUP(H93,Tabell214[],3,FALSE),0)","v":0},{"$f":"IF(AA93=1,VLOOKUP(H93,Tabell215[],2,FALSE)*W93+VLOOKUP(H93,Tabell215[],3,FALSE),0)","v":0},{"$f":"IF(AB93=1,VLOOKUP(H93,Tabell216[],2,FALSE)*W93,0)","v":0},{"$f":"IF(AC93=1,'Teknisk administration'!$AP$378,0)","v":0},{"$f":"IF(AD93=1,VLOOKUP($H93,Tabell217[],2,FALSE)*$W93,0)","v":0},{"$f":"IF(AE93=1,VLOOKUP($H93,Tabell29[],2,FALSE)*$W93,0)","v":0},{"$f":"IF(ISTEXT(A93),VLOOKUP(A93,Tabell203[],7,FALSE),0)","v":0},0,{"$f":"IF(ISTEXT($A93),VLOOKUP($A93,Tabell203[],11,FALSE),0)","v":0},{"$f":"IF(ISTEXT($A93),VLOOKUP($A93,Tabell203[],12,FALSE),0)","v":0},{"$f":"IF(ISTEXT($A93),VLOOKUP($A93,Tabell203[],13,FALSE),0)","v":0},{"$f":"IF(ISTEXT($A93),VLOOKUP($A93,Tabell203[],14,FALSE),0)","v":0},{"$f":"IF(ISTEXT($A93),VLOOKUP($A93,Tabell203[],15,FALSE),0)","v":0},{"$f":"IF(ISTEXT($A93),VLOOKUP($A93,Tabell203[],16,FALSE),0)","v":0}]
[null,null,null,null,null,{"$f":"IF(ISTEXT(A94),VLOOKUP(A94,Tabell203[],3,FALSE),\"\")","v":""},null,null,null,null,null,{"$f":"IF(ISTEXT(A94),VLOOKUP(A94,Tabell203[],10,FALSE),\"\")","v":""},0,0,0,0,null,{"$f":"IF(ISTEXT(A94),VLOOKUP(A94,Tabell203[],4,FALSE),0)","v":0},{"$f":"IF(ISTEXT(A94),VLOOKUP(A94,Tabell203[],6,FALSE),0)","v":0},{"$f":"IF(ISTEXT(A94),VLOOKUP(A94,Tabell203[],5,FALSE),0)","v":0},{"$f":"IF(ISTEXT(A94),VLOOKUP(A94,Tabell203[],8,FALSE),0)","v":0},{"$f":"IF(ISTEXT(A94),VLOOKUP(A94,Tabell203[],9,FALSE),0)","v":0},{"$f":"IF(ISTEXT(A94),IF(E94>0.000001,E94,VLOOKUP(A94,Tabell203[],2,FALSE)),0)","v":0},{"$f":"IF($A94='2.1b Halm, odling grovfoder'!X$44,1,0)","v":0},{"$f":"IF($A94='2.1b Halm, odling grovfoder'!Y$44,1,0)","v":0},{"$f":"IF($A94='2.1b Halm, odling grovfoder'!Z$44,1,0)","v":0},{"$f":"IF($A94='2.1b Halm, odling grovfoder'!AA$44,1,0)","v":0},{"$f":"IF($A94='2.1b Halm, odling grovfoder'!AB$44,1,0)","v":0},{"$f":"IF($A94='2.1b Halm, odling grovfoder'!AC$44,1,0)","v":0},{"$f":"IF($A94='2.1b Halm, odling grovfoder'!AD$44,1,0)","v":0},{"$f":"IF($A94='2.1b Halm, odling grovfoder'!AE$44,1,0)","v":0},{"$f":"IF($A94='2.1b Halm, odling grovfoder'!AF$44,1,0)","v":0},{"$f":"IF(X94=1,VLOOKUP(H94,Tabell220[],2,FALSE),0)","v":0},{"$f":"IF(Y94=1,IF(OR(W94<'Teknisk administration'!$P$262,W94>'Teknisk administration'!$P$263),'Teknisk administration'!$Q$262*I94^2+'Teknisk administration'!$R$262*I94+'Teknisk administration'!$S$262,'Teknisk administration'!$Q$263*I94^2+'Teknisk administration'!$R$263*I94+'Teknisk administration'!$S$263),0)","v":0},{"$f":"IF(Z94=1,VLOOKUP(H94,Tabell214[],2,FALSE)*W94+VLOOKUP(H94,Tabell214[],3,FALSE),0)","v":0},{"$f":"IF(AA94=1,VLOOKUP(H94,Tabell215[],2,FALSE)*W94+VLOOKUP(H94,Tabell215[],3,FALSE),0)","v":0},{"$f":"IF(AB94=1,VLOOKUP(H94,Tabell216[],2,FALSE)*W94,0)","v":0},{"$f":"IF(AC94=1,'Teknisk administration'!$AP$378,0)","v":0},{"$f":"IF(AD94=1,VLOOKUP($H94,Tabell217[],2,FALSE)*$W94,0)","v":0},{"$f":"IF(AE94=1,VLOOKUP($H94,Tabell29[],2,FALSE)*$W94,0)","v":0},{"$f":"IF(ISTEXT(A94),VLOOKUP(A94,Tabell203[],7,FALSE),0)","v":0},0,{"$f":"IF(ISTEXT($A94),VLOOKUP($A94,Tabell203[],11,FALSE),0)","v":0},{"$f":"IF(ISTEXT($A94),VLOOKUP($A94,Tabell203[],12,FALSE),0)","v":0},{"$f":"IF(ISTEXT($A94),VLOOKUP($A94,Tabell203[],13,FALSE),0)","v":0},{"$f":"IF(ISTEXT($A94),VLOOKUP($A94,Tabell203[],14,FALSE),0)","v":0},{"$f":"IF(ISTEXT($A94),VLOOKUP($A94,Tabell203[],15,FALSE),0)","v":0},{"$f":"IF(ISTEXT($A94),VLOOKUP($A94,Tabell203[],16,FALSE),0)","v":0}]
[null,null,null,null,null,{"$f":"IF(ISTEXT(A95),VLOOKUP(A95,Tabell203[],3,FALSE),\"\")","v":""},null,null,null,null,null,{"$f":"IF(ISTEXT(A95),VLOOKUP(A95,Tabell203[],10,FALSE),\"\")","v":""},0,0,0,0,null,{"$f":"IF(ISTEXT(A95),VLOOKUP(A95,Tabell203[],4,FALSE),0)","v":0},{"$f":"IF(ISTEXT(A95),VLOOKUP(A95,Tabell203[],6,FALSE),0)","v":0},{"$f":"IF(ISTEXT(A95),VLOOKUP(A95,Tabell203[],5,FALSE),0)","v":0},{"$f":"IF(ISTEXT(A95),VLOOKUP(A95,Tabell203[],8,FALSE),0)","v":0},{"$f":"IF(ISTEXT(A95),VLOOKUP(A95,Tabell203[],9,FALSE),0)","v":0},{"$f":"IF(ISTEXT(A95),IF(E95>0.000001,E95,VLOOKUP(A95,Tabell203[],2,FALSE)),0)","v":0},{"$f":"IF($A95='2.1b Halm, odling grovfoder'!X$44,1,0)","v":0},{"$f":"IF($A95='2.1b Halm, odling grovfoder'!Y$44,1,0)","v":0},{"$f":"IF($A95='2.1b Halm, odling grovfoder'!Z$44,1,0)","v":0},{"$f":"IF($A95='2.1b Halm, odling grovfoder'!AA$44,1,0)","v":0},{"$f":"IF($A95='2.1b Halm, odling grovfoder'!AB$44,1,0)","v":0},{"$f":"IF($A95='2.1b Halm, odling grovfoder'!AC$44,1,0)","v":0},{"$f":"IF($A95='2.1b Halm, odling grovfoder'!AD$44,1,0)","v":0},{"$f":"IF($A95='2.1b Halm, odling grovfoder'!AE$44,1,0)","v":0},{"$f":"IF($A95='2.1b Halm, odling grovfoder'!AF$44,1,0)","v":0},{"$f":"IF(X95=1,VLOOKUP(H95,Tabell220[],2,FALSE),0)","v":0},{"$f":"IF(Y95=1,IF(OR(W95<'Teknisk administration'!$P$262,W95>'Teknisk administration'!$P$263),'Teknisk administration'!$Q$262*I95^2+'Teknisk administration'!$R$262*I95+'Teknisk administration'!$S$262,'Teknisk administration'!$Q$263*I95^2+'Teknisk administration'!$R$263*I95+'Teknisk administration'!$S$263),0)","v":0},{"$f":"IF(Z95=1,VLOOKUP(H95,Tabell214[],2,FALSE)*W95+VLOOKUP(H95,Tabell214[],3,FALSE),0)","v":0},{"$f":"IF(AA95=1,VLOOKUP(H95,Tabell215[],2,FALSE)*W95+VLOOKUP(H95,Tabell215[],3,FALSE),0)","v":0},{"$f":"IF(AB95=1,VLOOKUP(H95,Tabell216[],2,FALSE)*W95,0)","v":0},{"$f":"IF(AC95=1,'Teknisk administration'!$AP$378,0)","v":0},{"$f":"IF(AD95=1,VLOOKUP($H95,Tabell217[],2,FALSE)*$W95,0)","v":0},{"$f":"IF(AE95=1,VLOOKUP($H95,Tabell29[],2,FALSE)*$W95,0)","v":0},{"$f":"IF(ISTEXT(A95),VLOOKUP(A95,Tabell203[],7,FALSE),0)","v":0},0,{"$f":"IF(ISTEXT($A95),VLOOKUP($A95,Tabell203[],11,FALSE),0)","v":0},{"$f":"IF(ISTEXT($A95),VLOOKUP($A95,Tabell203[],12,FALSE),0)","v":0},{"$f":"IF(ISTEXT($A95),VLOOKUP($A95,Tabell203[],13,FALSE),0)","v":0},{"$f":"IF(ISTEXT($A95),VLOOKUP($A95,Tabell203[],14,FALSE),0)","v":0},{"$f":"IF(ISTEXT($A95),VLOOKUP($A95,Tabell203[],15,FALSE),0)","v":0},{"$f":"IF(ISTEXT($A95),VLOOKUP($A95,Tabell203[],16,FALSE),0)","v":0}]
[null,null,null,null,null,{"$f":"IF(ISTEXT(A96),VLOOKUP(A96,Tabell203[],3,FALSE),\"\")","v":""},null,null,null,null,null,{"$f":"IF(ISTEXT(A96),VLOOKUP(A96,Tabell203[],10,FALSE),\"\")","v":""},0,0,0,0,null,{"$f":"IF(ISTEXT(A96),VLOOKUP(A96,Tabell203[],4,FALSE),0)","v":0},{"$f":"IF(ISTEXT(A96),VLOOKUP(A96,Tabell203[],6,FALSE),0)","v":0},{"$f":"IF(ISTEXT(A96),VLOOKUP(A96,Tabell203[],5,FALSE),0)","v":0},{"$f":"IF(ISTEXT(A96),VLOOKUP(A96,Tabell203[],8,FALSE),0)","v":0},{"$f":"IF(ISTEXT(A96),VLOOKUP(A96,Tabell203[],9,FALSE),0)","v":0},{"$f":"IF(ISTEXT(A96),IF(E96>0.000001,E96,VLOOKUP(A96,Tabell203[],2,FALSE)),0)","v":0},{"$f":"IF($A96='2.1b Halm, odling grovfoder'!X$44,1,0)","v":0},{"$f":"IF($A96='2.1b Halm, odling grovfoder'!Y$44,1,0)","v":0},{"$f":"IF($A96='2.1b Halm, odling grovfoder'!Z$44,1,0)","v":0},{"$f":"IF($A96='2.1b Halm, odling grovfoder'!AA$44,1,0)","v":0},{"$f":"IF($A96='2.1b Halm, odling grovfoder'!AB$44,1,0)","v":0},{"$f":"IF($A96='2.1b Halm, odling grovfoder'!AC$44,1,0)","v":0},{"$f":"IF($A96='2.1b Halm, odling grovfoder'!AD$44,1,0)","v":0},{"$f":"IF($A96='2.1b Halm, odling grovfoder'!AE$44,1,0)","v":0},{"$f":"IF($A96='2.1b Halm, odling grovfoder'!AF$44,1,0)","v":0},{"$f":"IF(X96=1,VLOOKUP(H96,Tabell220[],2,FALSE),0)","v":0},{"$f":"IF(Y96=1,IF(OR(W96<'Teknisk administration'!$P$262,W96>'Teknisk administration'!$P$263),'Teknisk administration'!$Q$262*I96^2+'Teknisk administration'!$R$262*I96+'Teknisk administration'!$S$262,'Teknisk administration'!$Q$263*I96^2+'Teknisk administration'!$R$263*I96+'Teknisk administration'!$S$263),0)","v":0},{"$f":"IF(Z96=1,VLOOKUP(H96,Tabell214[],2,FALSE)*W96+VLOOKUP(H96,Tabell214[],3,FALSE),0)","v":0},{"$f":"IF(AA96=1,VLOOKUP(H96,Tabell215[],2,FALSE)*W96+VLOOKUP(H96,Tabell215[],3,FALSE),0)","v":0},{"$f":"IF(AB96=1,VLOOKUP(H96,Tabell216[],2,FALSE)*W96,0)","v":0},{"$f":"IF(AC96=1,'Teknisk administration'!$AP$378,0)","v":0},{"$f":"IF(AD96=1,VLOOKUP($H96,Tabell217[],2,FALSE)*$W96,0)","v":0},{"$f":"IF(AE96=1,VLOOKUP($H96,Tabell29[],2,FALSE)*$W96,0)","v":0},{"$f":"IF(ISTEXT(A96),VLOOKUP(A96,Tabell203[],7,FALSE),0)","v":0},0,{"$f":"IF(ISTEXT($A96),VLOOKUP($A96,Tabell203[],11,FALSE),0)","v":0},{"$f":"IF(ISTEXT($A96),VLOOKUP($A96,Tabell203[],12,FALSE),0)","v":0},{"$f":"IF(ISTEXT($A96),VLOOKUP($A96,Tabell203[],13,FALSE),0)","v":0},{"$f":"IF(ISTEXT($A96),VLOOKUP($A96,Tabell203[],14,FALSE),0)","v":0},{"$f":"IF(ISTEXT($A96),VLOOKUP($A96,Tabell203[],15,FALSE),0)","v":0},{"$f":"IF(ISTEXT($A96),VLOOKUP($A96,Tabell203[],16,FALSE),0)","v":0}]
[null,null,null,null,null,{"$f":"IF(ISTEXT(A97),VLOOKUP(A97,Tabell203[],3,FALSE),\"\")","v":""},null,null,null,null,null,{"$f":"IF(ISTEXT(A97),VLOOKUP(A97,Tabell203[],10,FALSE),\"\")","v":""},0,0,0,0,null,{"$f":"IF(ISTEXT(A97),VLOOKUP(A97,Tabell203[],4,FALSE),0)","v":0},{"$f":"IF(ISTEXT(A97),VLOOKUP(A97,Tabell203[],6,FALSE),0)","v":0},{"$f":"IF(ISTEXT(A97),VLOOKUP(A97,Tabell203[],5,FALSE),0)","v":0},{"$f":"IF(ISTEXT(A97),VLOOKUP(A97,Tabell203[],8,FALSE),0)","v":0},{"$f":"IF(ISTEXT(A97),VLOOKUP(A97,Tabell203[],9,FALSE),0)","v":0},{"$f":"IF(ISTEXT(A97),IF(E97>0.000001,E97,VLOOKUP(A97,Tabell203[],2,FALSE)),0)","v":0},{"$f":"IF($A97='2.1b Halm, odling grovfoder'!X$44,1,0)","v":0},{"$f":"IF($A97='2.1b Halm, odling grovfoder'!Y$44,1,0)","v":0},{"$f":"IF($A97='2.1b Halm, odling grovfoder'!Z$44,1,0)","v":0},{"$f":"IF($A97='2.1b Halm, odling grovfoder'!AA$44,1,0)","v":0},{"$f":"IF($A97='2.1b Halm, odling grovfoder'!AB$44,1,0)","v":0},{"$f":"IF($A97='2.1b Halm, odling grovfoder'!AC$44,1,0)","v":0},{"$f":"IF($A97='2.1b Halm, odling grovfoder'!AD$44,1,0)","v":0},{"$f":"IF($A97='2.1b Halm, odling grovfoder'!AE$44,1,0)","v":0},{"$f":"IF($A97='2.1b Halm, odling grovfoder'!AF$44,1,0)","v":0},{"$f":"IF(X97=1,VLOOKUP(H97,Tabell220[],2,FALSE),0)","v":0},{"$f":"IF(Y97=1,IF(OR(W97<'Teknisk administration'!$P$262,W97>'Teknisk administration'!$P$263),'Teknisk administration'!$Q$262*I97^2+'Teknisk administration'!$R$262*I97+'Teknisk administration'!$S$262,'Teknisk administration'!$Q$263*I97^2+'Teknisk administration'!$R$263*I97+'Teknisk administration'!$S$263),0)","v":0},{"$f":"IF(Z97=1,VLOOKUP(H97,Tabell214[],2,FALSE)*W97+VLOOKUP(H97,Tabell214[],3,FALSE),0)","v":0},{"$f":"IF(AA97=1,VLOOKUP(H97,Tabell215[],2,FALSE)*W97+VLOOKUP(H97,Tabell215[],3,FALSE),0)","v":0},{"$f":"IF(AB97=1,VLOOKUP(H97,Tabell216[],2,FALSE)*W97,0)","v":0},{"$f":"IF(AC97=1,'Teknisk administration'!$AP$378,0)","v":0},{"$f":"IF(AD97=1,VLOOKUP($H97,Tabell217[],2,FALSE)*$W97,0)","v":0},{"$f":"IF(AE97=1,VLOOKUP($H97,Tabell29[],2,FALSE)*$W97,0)","v":0},{"$f":"IF(ISTEXT(A97),VLOOKUP(A97,Tabell203[],7,FALSE),0)","v":0},0,{"$f":"IF(ISTEXT($A97),VLOOKUP($A97,Tabell203[],11,FALSE),0)","v":0},{"$f":"IF(ISTEXT($A97),VLOOKUP($A97,Tabell203[],12,FALSE),0)","v":0},{"$f":"IF(ISTEXT($A97),VLOOKUP($A97,Tabell203[],13,FALSE),0)","v":0},{"$f":"IF(ISTEXT($A97),VLOOKUP($A97,Tabell203[],14,FALSE),0)","v":0},{"$f":"IF(ISTEXT($A97),VLOOKUP($A97,Tabell203[],15,FALSE),0)","v":0},{"$f":"IF(ISTEXT($A97),VLOOKUP($A97,Tabell203[],16,FALSE),0)","v":0}]
[null,null,null,null,null,{"$f":"IF(ISTEXT(A98),VLOOKUP(A98,Tabell203[],3,FALSE),\"\")","v":""},null,null,null,null,null,{"$f":"IF(ISTEXT(A98),VLOOKUP(A98,Tabell203[],10,FALSE),\"\")","v":""},0,0,0,0,null,{"$f":"IF(ISTEXT(A98),VLOOKUP(A98,Tabell203[],4,FALSE),0)","v":0},{"$f":"IF(ISTEXT(A98),VLOOKUP(A98,Tabell203[],6,FALSE),0)","v":0},{"$f":"IF(ISTEXT(A98),VLOOKUP(A98,Tabell203[],5,FALSE),0)","v":0},{"$f":"IF(ISTEXT(A98),VLOOKUP(A98,Tabell203[],8,FALSE),0)","v":0},{"$f":"IF(ISTEXT(A98),VLOOKUP(A98,Tabell203[],9,FALSE),0)","v":0},{"$f":"IF(ISTEXT(A98),IF(E98>0.000001,E98,VLOOKUP(A98,Tabell203[],2,FALSE)),0)","v":0},{"$f":"IF($A98='2.1b Halm, odling grovfoder'!X$44,1,0)","v":0},{"$f":"IF($A98='2.1b Halm, odling grovfoder'!Y$44,1,0)","v":0},{"$f":"IF($A98='2.1b Halm, odling grovfoder'!Z$44,1,0)","v":0},{"$f":"IF($A98='2.1b Halm, odling grovfoder'!AA$44,1,0)","v":0},{"$f":"IF($A98='2.1b Halm, odling grovfoder'!AB$44,1,0)","v":0},{"$f":"IF($A98='2.1b Halm, odling grovfoder'!AC$44,1,0)","v":0},{"$f":"IF($A98='2.1b Halm, odling grovfoder'!AD$44,1,0)","v":0},{"$f":"IF($A98='2.1b Halm, odling grovfoder'!AE$44,1,0)","v":0},{"$f":"IF($A98='2.1b Halm, odling grovfoder'!AF$44,1,0)","v":0},{"$f":"IF(X98=1,VLOOKUP(H98,Tabell220[],2,FALSE),0)","v":0},{"$f":"IF(Y98=1,IF(OR(W98<'Teknisk administration'!$P$262,W98>'Teknisk administration'!$P$263),'Teknisk administration'!$Q$262*I98^2+'Teknisk administration'!$R$262*I98+'Teknisk administration'!$S$262,'Teknisk administration'!$Q$263*I98^2+'Teknisk administration'!$R$263*I98+'Teknisk administration'!$S$263),0)","v":0},{"$f":"IF(Z98=1,VLOOKUP(H98,Tabell214[],2,FALSE)*W98+VLOOKUP(H98,Tabell214[],3,FALSE),0)","v":0},{"$f":"IF(AA98=1,VLOOKUP(H98,Tabell215[],2,FALSE)*W98+VLOOKUP(H98,Tabell215[],3,FALSE),0)","v":0},{"$f":"IF(AB98=1,VLOOKUP(H98,Tabell216[],2,FALSE)*W98,0)","v":0},{"$f":"IF(AC98=1,'Teknisk administration'!$AP$378,0)","v":0},{"$f":"IF(AD98=1,VLOOKUP($H98,Tabell217[],2,FALSE)*$W98,0)","v":0},{"$f":"IF(AE98=1,VLOOKUP($H98,Tabell29[],2,FALSE)*$W98,0)","v":0},{"$f":"IF(ISTEXT(A98),VLOOKUP(A98,Tabell203[],7,FALSE),0)","v":0},0,{"$f":"IF(ISTEXT($A98),VLOOKUP($A98,Tabell203[],11,FALSE),0)","v":0},{"$f":"IF(ISTEXT($A98),VLOOKUP($A98,Tabell203[],12,FALSE),0)","v":0},{"$f":"IF(ISTEXT($A98),VLOOKUP($A98,Tabell203[],13,FALSE),0)","v":0},{"$f":"IF(ISTEXT($A98),VLOOKUP($A98,Tabell203[],14,FALSE),0)","v":0},{"$f":"IF(ISTEXT($A98),VLOOKUP($A98,Tabell203[],15,FALSE),0)","v":0},{"$f":"IF(ISTEXT($A98),VLOOKUP($A98,Tabell203[],16,FALSE),0)","v":0}]
[null,null,null,null,null,{"$f":"IF(ISTEXT(A99),VLOOKUP(A99,Tabell203[],3,FALSE),\"\")","v":""},null,null,null,null,null,{"$f":"IF(ISTEXT(A99),VLOOKUP(A99,Tabell203[],10,FALSE),\"\")","v":""},0,0,0,0,null,{"$f":"IF(ISTEXT(A99),VLOOKUP(A99,Tabell203[],4,FALSE),0)","v":0},{"$f":"IF(ISTEXT(A99),VLOOKUP(A99,Tabell203[],6,FALSE),0)","v":0},{"$f":"IF(ISTEXT(A99),VLOOKUP(A99,Tabell203[],5,FALSE),0)","v":0},{"$f":"IF(ISTEXT(A99),VLOOKUP(A99,Tabell203[],8,FALSE),0)","v":0},{"$f":"IF(ISTEXT(A99),VLOOKUP(A99,Tabell203[],9,FALSE),0)","v":0},{"$f":"IF(ISTEXT(A99),IF(E99>0.000001,E99,VLOOKUP(A99,Tabell203[],2,FALSE)),0)","v":0},{"$f":"IF($A99='2.1b Halm, odling grovfoder'!X$44,1,0)","v":0},{"$f":"IF($A99='2.1b Halm, odling grovfoder'!Y$44,1,0)","v":0},{"$f":"IF($A99='2.1b Halm, odling grovfoder'!Z$44,1,0)","v":0},{"$f":"IF($A99='2.1b Halm, odling grovfoder'!AA$44,1,0)","v":0},{"$f":"IF($A99='2.1b Halm, odling grovfoder'!AB$44,1,0)","v":0},{"$f":"IF($A99='2.1b Halm, odling grovfoder'!AC$44,1,0)","v":0},{"$f":"IF($A99='2.1b Halm, odling grovfoder'!AD$44,1,0)","v":0},{"$f":"IF($A99='2.1b Halm, odling grovfoder'!AE$44,1,0)","v":0},{"$f":"IF($A99='2.1b Halm, odling grovfoder'!AF$44,1,0)","v":0},{"$f":"IF(X99=1,VLOOKUP(H99,Tabell220[],2,FALSE),0)","v":0},{"$f":"IF(Y99=1,IF(OR(W99<'Teknisk administration'!$P$262,W99>'Teknisk administration'!$P$263),'Teknisk administration'!$Q$262*I99^2+'Teknisk administration'!$R$262*I99+'Teknisk administration'!$S$262,'Teknisk administration'!$Q$263*I99^2+'Teknisk administration'!$R$263*I99+'Teknisk administration'!$S$263),0)","v":0},{"$f":"IF(Z99=1,VLOOKUP(H99,Tabell214[],2,FALSE)*W99+VLOOKUP(H99,Tabell214[],3,FALSE),0)","v":0},{"$f":"IF(AA99=1,VLOOKUP(H99,Tabell215[],2,FALSE)*W99+VLOOKUP(H99,Tabell215[],3,FALSE),0)","v":0},{"$f":"IF(AB99=1,VLOOKUP(H99,Tabell216[],2,FALSE)*W99,0)","v":0},{"$f":"IF(AC99=1,'Teknisk administration'!$AP$378,0)","v":0},{"$f":"IF(AD99=1,VLOOKUP($H99,Tabell217[],2,FALSE)*$W99,0)","v":0},{"$f":"IF(AE99=1,VLOOKUP($H99,Tabell29[],2,FALSE)*$W99,0)","v":0},{"$f":"IF(ISTEXT(A99),VLOOKUP(A99,Tabell203[],7,FALSE),0)","v":0},0,{"$f":"IF(ISTEXT($A99),VLOOKUP($A99,Tabell203[],11,FALSE),0)","v":0},{"$f":"IF(ISTEXT($A99),VLOOKUP($A99,Tabell203[],12,FALSE),0)","v":0},{"$f":"IF(ISTEXT($A99),VLOOKUP($A99,Tabell203[],13,FALSE),0)","v":0},{"$f":"IF(ISTEXT($A99),VLOOKUP($A99,Tabell203[],14,FALSE),0)","v":0},{"$f":"IF(ISTEXT($A99),VLOOKUP($A99,Tabell203[],15,FALSE),0)","v":0},{"$f":"IF(ISTEXT($A99),VLOOKUP($A99,Tabell203[],16,FALSE),0)","v":0}]
[null,null,null,null,null,{"$f":"IF(ISTEXT(A100),VLOOKUP(A100,Tabell203[],3,FALSE),\"\")","v":""},null,null,null,null,null,{"$f":"IF(ISTEXT(A100),VLOOKUP(A100,Tabell203[],10,FALSE),\"\")","v":""},0,0,0,0,null,{"$f":"IF(ISTEXT(A100),VLOOKUP(A100,Tabell203[],4,FALSE),0)","v":0},{"$f":"IF(ISTEXT(A100),VLOOKUP(A100,Tabell203[],6,FALSE),0)","v":0},{"$f":"IF(ISTEXT(A100),VLOOKUP(A100,Tabell203[],5,FALSE),0)","v":0},{"$f":"IF(ISTEXT(A100),VLOOKUP(A100,Tabell203[],8,FALSE),0)","v":0},{"$f":"IF(ISTEXT(A100),VLOOKUP(A100,Tabell203[],9,FALSE),0)","v":0},{"$f":"IF(ISTEXT(A100),IF(E100>0.000001,E100,VLOOKUP(A100,Tabell203[],2,FALSE)),0)","v":0},{"$f":"IF($A100='2.1b Halm, odling grovfoder'!X$44,1,0)","v":0},{"$f":"IF($A100='2.1b Halm, odling grovfoder'!Y$44,1,0)","v":0},{"$f":"IF($A100='2.1b Halm, odling grovfoder'!Z$44,1,0)","v":0},{"$f":"IF($A100='2.1b Halm, odling grovfoder'!AA$44,1,0)","v":0},{"$f":"IF($A100='2.1b Halm, odling grovfoder'!AB$44,1,0)","v":0},{"$f":"IF($A100='2.1b Halm, odling grovfoder'!AC$44,1,0)","v":0},{"$f":"IF($A100='2.1b Halm, odling grovfoder'!AD$44,1,0)","v":0},{"$f":"IF($A100='2.1b Halm, odling grovfoder'!AE$44,1,0)","v":0},{"$f":"IF($A100='2.1b Halm, odling grovfoder'!AF$44,1,0)","v":0},{"$f":"IF(X100=1,VLOOKUP(H100,Tabell220[],2,FALSE),0)","v":0},{"$f":"IF(Y100=1,IF(OR(W100<'Teknisk administration'!$P$262,W100>'Teknisk administration'!$P$263),'Teknisk administration'!$Q$262*I100^2+'Teknisk administration'!$R$262*I100+'Teknisk administration'!$S$262,'Teknisk administration'!$Q$263*I100^2+'Teknisk administration'!$R$263*I100+'Teknisk administration'!$S$263),0)","v":0},{"$f":"IF(Z100=1,VLOOKUP(H100,Tabell214[],2,FALSE)*W100+VLOOKUP(H100,Tabell214[],3,FALSE),0)","v":0},{"$f":"IF(AA100=1,VLOOKUP(H100,Tabell215[],2,FALSE)*W100+VLOOKUP(H100,Tabell215[],3,FALSE),0)","v":0},{"$f":"IF(AB100=1,VLOOKUP(H100,Tabell216[],2,FALSE)*W100,0)","v":0},{"$f":"IF(AC100=1,'Teknisk administration'!$AP$378,0)","v":0},{"$f":"IF(AD100=1,VLOOKUP($H100,Tabell217[],2,FALSE)*$W100,0)","v":0},{"$f":"IF(AE100=1,VLOOKUP($H100,Tabell29[],2,FALSE)*$W100,0)","v":0},{"$f":"IF(ISTEXT(A100),VLOOKUP(A100,Tabell203[],7,FALSE),0)","v":0},0,{"$f":"IF(ISTEXT($A100),VLOOKUP($A100,Tabell203[],11,FALSE),0)","v":0},{"$f":"IF(ISTEXT($A100),VLOOKUP($A100,Tabell203[],12,FALSE),0)","v":0},{"$f":"IF(ISTEXT($A100),VLOOKUP($A100,Tabell203[],13,FALSE),0)","v":0},{"$f":"IF(ISTEXT($A100),VLOOKUP($A100,Tabell203[],14,FALSE),0)","v":0},{"$f":"IF(ISTEXT($A100),VLOOKUP($A100,Tabell203[],15,FALSE),0)","v":0},{"$f":"IF(ISTEXT($A100),VLOOKUP($A100,Tabell203[],16,FALSE),0)","v":0}]
[null,null,null,null,null,{"$f":"IF(ISTEXT(A101),VLOOKUP(A101,Tabell203[],3,FALSE),\"\")","v":""},null,null,null,null,null,{"$f":"IF(ISTEXT(A101),VLOOKUP(A101,Tabell203[],10,FALSE),\"\")","v":""},0,0,0,0,null,{"$f":"IF(ISTEXT(A101),VLOOKUP(A101,Tabell203[],4,FALSE),0)","v":0},{"$f":"IF(ISTEXT(A101),VLOOKUP(A101,Tabell203[],6,FALSE),0)","v":0},{"$f":"IF(ISTEXT(A101),VLOOKUP(A101,Tabell203[],5,FALSE),0)","v":0},{"$f":"IF(ISTEXT(A101),VLOOKUP(A101,Tabell203[],8,FALSE),0)","v":0},{"$f":"IF(ISTEXT(A101),VLOOKUP(A101,Tabell203[],9,FALSE),0)","v":0},{"$f":"IF(ISTEXT(A101),IF(E101>0.000001,E101,VLOOKUP(A101,Tabell203[],2,FALSE)),0)","v":0},{"$f":"IF($A101='2.1b Halm, odling grovfoder'!X$44,1,0)","v":0},{"$f":"IF($A101='2.1b Halm, odling grovfoder'!Y$44,1,0)","v":0},{"$f":"IF($A101='2.1b Halm, odling grovfoder'!Z$44,1,0)","v":0},{"$f":"IF($A101='2.1b Halm, odling grovfoder'!AA$44,1,0)","v":0},{"$f":"IF($A101='2.1b Halm, odling grovfoder'!AB$44,1,0)","v":0},{"$f":"IF($A101='2.1b Halm, odling grovfoder'!AC$44,1,0)","v":0},{"$f":"IF($A101='2.1b Halm, odling grovfoder'!AD$44,1,0)","v":0},{"$f":"IF($A101='2.1b Halm, odling grovfoder'!AE$44,1,0)","v":0},{"$f":"IF($A101='2.1b Halm, odling grovfoder'!AF$44,1,0)","v":0},{"$f":"IF(X101=1,VLOOKUP(H101,Tabell220[],2,FALSE),0)","v":0},{"$f":"IF(Y101=1,IF(OR(W101<'Teknisk administration'!$P$262,W101>'Teknisk administration'!$P$263),'Teknisk administration'!$Q$262*I101^2+'Teknisk administration'!$R$262*I101+'Teknisk administration'!$S$262,'Teknisk administration'!$Q$263*I101^2+'Teknisk administration'!$R$263*I101+'Teknisk administration'!$S$263),0)","v":0},{"$f":"IF(Z101=1,VLOOKUP(H101,Tabell214[],2,FALSE)*W101+VLOOKUP(H101,Tabell214[],3,FALSE),0)","v":0},{"$f":"IF(AA101=1,VLOOKUP(H101,Tabell215[],2,FALSE)*W101+VLOOKUP(H101,Tabell215[],3,FALSE),0)","v":0},{"$f":"IF(AB101=1,VLOOKUP(H101,Tabell216[],2,FALSE)*W101,0)","v":0},{"$f":"IF(AC101=1,'Teknisk administration'!$AP$378,0)","v":0},{"$f":"IF(AD101=1,VLOOKUP($H101,Tabell217[],2,FALSE)*$W101,0)","v":0},{"$f":"IF(AE101=1,VLOOKUP($H101,Tabell29[],2,FALSE)*$W101,0)","v":0},{"$f":"IF(ISTEXT(A101),VLOOKUP(A101,Tabell203[],7,FALSE),0)","v":0},0,{"$f":"IF(ISTEXT($A101),VLOOKUP($A101,Tabell203[],11,FALSE),0)","v":0},{"$f":"IF(ISTEXT($A101),VLOOKUP($A101,Tabell203[],12,FALSE),0)","v":0},{"$f":"IF(ISTEXT($A101),VLOOKUP($A101,Tabell203[],13,FALSE),0)","v":0},{"$f":"IF(ISTEXT($A101),VLOOKUP($A101,Tabell203[],14,FALSE),0)","v":0},{"$f":"IF(ISTEXT($A101),VLOOKUP($A101,Tabell203[],15,FALSE),0)","v":0},{"$f":"IF(ISTEXT($A101),VLOOKUP($A101,Tabell203[],16,FALSE),0)","v":0}]
[null,null,null,null,null,{"$f":"IF(ISTEXT(A102),VLOOKUP(A102,Tabell203[],3,FALSE),\"\")","v":""},null,null,null,null,null,{"$f":"IF(ISTEXT(A102),VLOOKUP(A102,Tabell203[],10,FALSE),\"\")","v":""},0,0,0,0,null,{"$f":"IF(ISTEXT(A102),VLOOKUP(A102,Tabell203[],4,FALSE),0)","v":0},{"$f":"IF(ISTEXT(A102),VLOOKUP(A102,Tabell203[],6,FALSE),0)","v":0},{"$f":"IF(ISTEXT(A102),VLOOKUP(A102,Tabell203[],5,FALSE),0)","v":0},{"$f":"IF(ISTEXT(A102),VLOOKUP(A102,Tabell203[],8,FALSE),0)","v":0},{"$f":"IF(ISTEXT(A102),VLOOKUP(A102,Tabell203[],9,FALSE),0)","v":0},{"$f":"IF(ISTEXT(A102),IF(E102>0.000001,E102,VLOOKUP(A102,Tabell203[],2,FALSE)),0)","v":0},{"$f":"IF($A102='2.1b Halm, odling grovfoder'!X$44,1,0)","v":0},{"$f":"IF($A102='2.1b Halm, odling grovfoder'!Y$44,1,0)","v":0},{"$f":"IF($A102='2.1b Halm, odling grovfoder'!Z$44,1,0)","v":0},{"$f":"IF($A102='2.1b Halm, odling grovfoder'!AA$44,1,0)","v":0},{"$f":"IF($A102='2.1b Halm, odling grovfoder'!AB$44,1,0)","v":0},{"$f":"IF($A102='2.1b Halm, odling grovfoder'!AC$44,1,0)","v":0},{"$f":"IF($A102='2.1b Halm, odling grovfoder'!AD$44,1,0)","v":0},{"$f":"IF($A102='2.1b Halm, odling grovfoder'!AE$44,1,0)","v":0},{"$f":"IF($A102='2.1b Halm, odling grovfoder'!AF$44,1,0)","v":0},{"$f":"IF(X102=1,VLOOKUP(H102,Tabell220[],2,FALSE),0)","v":0},{"$f":"IF(Y102=1,IF(OR(W102<'Teknisk administration'!$P$262,W102>'Teknisk administration'!$P$263),'Teknisk administration'!$Q$262*I102^2+'Teknisk administration'!$R$262*I102+'Teknisk administration'!$S$262,'Teknisk administration'!$Q$263*I102^2+'Teknisk administration'!$R$263*I102+'Teknisk administration'!$S$263),0)","v":0},{"$f":"IF(Z102=1,VLOOKUP(H102,Tabell214[],2,FALSE)*W102+VLOOKUP(H102,Tabell214[],3,FALSE),0)","v":0},{"$f":"IF(AA102=1,VLOOKUP(H102,Tabell215[],2,FALSE)*W102+VLOOKUP(H102,Tabell215[],3,FALSE),0)","v":0},{"$f":"IF(AB102=1,VLOOKUP(H102,Tabell216[],2,FALSE)*W102,0)","v":0},{"$f":"IF(AC102=1,'Teknisk administration'!$AP$378,0)","v":0},{"$f":"IF(AD102=1,VLOOKUP($H102,Tabell217[],2,FALSE)*$W102,0)","v":0},{"$f":"IF(AE102=1,VLOOKUP($H102,Tabell29[],2,FALSE)*$W102,0)","v":0},{"$f":"IF(ISTEXT(A102),VLOOKUP(A102,Tabell203[],7,FALSE),0)","v":0},0,{"$f":"IF(ISTEXT($A102),VLOOKUP($A102,Tabell203[],11,FALSE),0)","v":0},{"$f":"IF(ISTEXT($A102),VLOOKUP($A102,Tabell203[],12,FALSE),0)","v":0},{"$f":"IF(ISTEXT($A102),VLOOKUP($A102,Tabell203[],13,FALSE),0)","v":0},{"$f":"IF(ISTEXT($A102),VLOOKUP($A102,Tabell203[],14,FALSE),0)","v":0},{"$f":"IF(ISTEXT($A102),VLOOKUP($A102,Tabell203[],15,FALSE),0)","v":0},{"$f":"IF(ISTEXT($A102),VLOOKUP($A102,Tabell203[],16,FALSE),0)","v":0}]
[null,null,null,null,null,{"$f":"IF(ISTEXT(A103),VLOOKUP(A103,Tabell203[],3,FALSE),\"\")","v":""},null,null,null,null,null,{"$f":"IF(ISTEXT(A103),VLOOKUP(A103,Tabell203[],10,FALSE),\"\")","v":""},0,0,0,0,null,{"$f":"IF(ISTEXT(A103),VLOOKUP(A103,Tabell203[],4,FALSE),0)","v":0},{"$f":"IF(ISTEXT(A103),VLOOKUP(A103,Tabell203[],6,FALSE),0)","v":0},{"$f":"IF(ISTEXT(A103),VLOOKUP(A103,Tabell203[],5,FALSE),0)","v":0},{"$f":"IF(ISTEXT(A103),VLOOKUP(A103,Tabell203[],8,FALSE),0)","v":0},{"$f":"IF(ISTEXT(A103),VLOOKUP(A103,Tabell203[],9,FALSE),0)","v":0},{"$f":"IF(ISTEXT(A103),IF(E103>0.000001,E103,VLOOKUP(A103,Tabell203[],2,FALSE)),0)","v":0},{"$f":"IF($A103='2.1b Halm, odling grovfoder'!X$44,1,0)","v":0},{"$f":"IF($A103='2.1b Halm, odling grovfoder'!Y$44,1,0)","v":0},{"$f":"IF($A103='2.1b Halm, odling grovfoder'!Z$44,1,0)","v":0},{"$f":"IF($A103='2.1b Halm, odling grovfoder'!AA$44,1,0)","v":0},{"$f":"IF($A103='2.1b Halm, odling grovfoder'!AB$44,1,0)","v":0},{"$f":"IF($A103='2.1b Halm, odling grovfoder'!AC$44,1,0)","v":0},{"$f":"IF($A103='2.1b Halm, odling grovfoder'!AD$44,1,0)","v":0},{"$f":"IF($A103='2.1b Halm, odling grovfoder'!AE$44,1,0)","v":0},{"$f":"IF($A103='2.1b Halm, odling grovfoder'!AF$44,1,0)","v":0},{"$f":"IF(X103=1,VLOOKUP(H103,Tabell220[],2,FALSE),0)","v":0},{"$f":"IF(Y103=1,IF(OR(W103<'Teknisk administration'!$P$262,W103>'Teknisk administration'!$P$263),'Teknisk administration'!$Q$262*I103^2+'Teknisk administration'!$R$262*I103+'Teknisk administration'!$S$262,'Teknisk administration'!$Q$263*I103^2+'Teknisk administration'!$R$263*I103+'Teknisk administration'!$S$263),0)","v":0},{"$f":"IF(Z103=1,VLOOKUP(H103,Tabell214[],2,FALSE)*W103+VLOOKUP(H103,Tabell214[],3,FALSE),0)","v":0},{"$f":"IF(AA103=1,VLOOKUP(H103,Tabell215[],2,FALSE)*W103+VLOOKUP(H103,Tabell215[],3,FALSE),0)","v":0},{"$f":"IF(AB103=1,VLOOKUP(H103,Tabell216[],2,FALSE)*W103,0)","v":0},{"$f":"IF(AC103=1,'Teknisk administration'!$AP$378,0)","v":0},{"$f":"IF(AD103=1,VLOOKUP($H103,Tabell217[],2,FALSE)*$W103,0)","v":0},{"$f":"IF(AE103=1,VLOOKUP($H103,Tabell29[],2,FALSE)*$W103,0)","v":0},{"$f":"IF(ISTEXT(A103),VLOOKUP(A103,Tabell203[],7,FALSE),0)","v":0},0,{"$f":"IF(ISTEXT($A103),VLOOKUP($A103,Tabell203[],11,FALSE),0)","v":0},{"$f":"IF(ISTEXT($A103),VLOOKUP($A103,Tabell203[],12,FALSE),0)","v":0},{"$f":"IF(ISTEXT($A103),VLOOKUP($A103,Tabell203[],13,FALSE),0)","v":0},{"$f":"IF(ISTEXT($A103),VLOOKUP($A103,Tabell203[],14,FALSE),0)","v":0},{"$f":"IF(ISTEXT($A103),VLOOKUP($A103,Tabell203[],15,FALSE),0)","v":0},{"$f":"IF(ISTEXT($A103),VLOOKUP($A103,Tabell203[],16,FALSE),0)","v":0}]
[null,null,null,null,null,null,null,null,null,null,null,"Totalt mängd inlagt eller direkttfodrat ",{"$f":"SUM(M92:M103)","v":0},null,{"$f":"SUM(O92:O103)","v":0},{"$f":"SUM(P92:P103)","v":0},null,null,null,null,null,null,null,null,null,{"$f":"IF(SUMPRODUCT(Z92:Z103,$G92:$G103)=0,0,SUMPRODUCT($O92:$O103,Z92:Z103)/SUMPRODUCT(Z92:Z103,$G92:$G103))","v":0},{"$f":"IF(SUMPRODUCT(AA92:AA103,$G92:$G103)=0,0,SUMPRODUCT($O92:$O103,AA92:AA103)/SUMPRODUCT(AA92:AA103,$G92:$G103))","v":0}]
[]
[]
[]
[]
[{"$f":"period_3","v":"Period 3"}]
["Mängd vallfoder, direktutfodrad grönmassa och halm"]
["Skördemängden kan anges med två olika alternativ: "]
["1. Fyll i färdigt värde om du mätt skörden som lagts in (kg och ts). "]
["2. Uppskatta mängden (kg och ts) genom att beräkna volymen inlagt grovfoder och direktutfodrad grönmassa. "]
["Du kan ha en kombination av alternativ under en och samma period, t ex om du inte vägt mängden vid varje skörd.  "]
["Börja med att välja typ av system (plansilo, rundbal, halm etc. i den vänstraste kolumnen. Då tänds de celler du ska skriva siffror i (gula celler) eller där du ska välja ur en lista (orange celler). Övriga celler i lämnar du tomma."]
["När det gäller energi i fodret kan du antingen välja ur lista (orange cell) eller skriva in ett eget värde (ljusgul cell)"]
["Du kan lägga in flera rader med samma system, t ex om du vill särkilja 1:a 2:a och 3:e skörd eller vill räkna separat för olika skriften. Om du hellre vill det kan du lägga allt på en rad. "]
[]
[]
["Alternativ 1. Har vägt skörden och har ts-analys",null,null,null,null,null,null,null,null,null,null,null,null,null,null,null,null,null,null,null,null,null,"TS-halt"]
["Mängden ts och MJ beräknas först när MJ/kg ts, ts-halt och kg grönmassa fyllts i.",null,null,null,null,null,null,null,null,null,null,null,null,null,null,null,null,null,null,null,null,null,null,null,null,null,null,null,null,null,null,null,null,null,null,null,null,null,null,null,null,null,"Gruppering av system"]
[null,null,"Energi - välj ur lista eller skriv eget värde",null,"TS-halt (%)",null,"Mängd","Beräknad mängd foder",null,null,null,null,null,null,null,null,null,null,null,null,null,null,null,null,null,null,null,null,null,null,null,null,null,null,null,null,null,null,null,null,null,null,"Plansilo","Torn","Storbalar (rund- och fyrkantsbalar)","Hö","Direktutfodrad grönmassa","Halm till foder"]
["System - välj alternativ ur listan!","Egen kommentar","Välj ur lista","Eget värde (MJ/kg ts)","% ts","Förklaring","kg grönmassa","kg ts","MJ"," ","  ","   ","    ","     ","      ","       ","Kolumn8","Kolumn9","Kolumn10","Kolumn11","Kolumn12","  2","TS-halt","Kolumn15","Kolumn16","Kolumn17","Kolumn18","Kolumn19","Kolumn20","Kolumn21","Kolumn22","Kolumn23","Kolumn24","Kolumn25","Kolumn26","Kolumn27","Kolumn28","Kolumn29","Kolumn30","Kolumn31","Kolumn32","MJ/kg ts","Plansilo12","Torn13","Storbalar (rund- och fyrkantsbalar)","Hö14","Direktutfodrad grönmassa15","Halm"]
[null,null,null,null,null,{"$f":"IF(ISTEXT(A124),VLOOKUP(A124,Tabell203[],3,FALSE),\"\")","v":""},null,{"$f":"W124*G124","v":0},{"$f":"H124*IF(D124>0,D124,IF(AND(ISTEXT(A124),(OR(ISTEXT(C124),ISNUMBER(D124)))),IF(D124>0,D140,VLOOKUP(C124,INDIRECT(A124),2,FALSE)),0))","v":0},null,null,null,null,null,null,null,null,null,null,null,null,null,{"$f":"IF(ISTEXT(A124),IF(E124>0.000001,E124,VLOOKUP(A124,Tabell203[],2,FALSE)),0)","v":0},null,null,null,null,null,null,null,null,null,null,null,null,null,null,null,null,null,null,{"$f":"IF(AND(ISTEXT(A124),(OR(ISTEXT(C124),ISNUMBER(D124)))),IF(D124>0,D124,VLOOKUP(C124,INDIRECT(A124),2,FALSE)),0)","v":0},{"$f":"IF(ISTEXT($A124),VLOOKUP($A124,Tabell203[],11,FALSE),0)","v":0},{"$f":"IF(ISTEXT($A124),VLOOKUP($A124,Tabell203[],12,FALSE),0)","v":0},{"$f":"IF(ISTEXT($A124),VLOOKUP($A124,Tabell203[],13,FALSE),0)","v":0},{"$f":"IF(ISTEXT($A124),VLOOKUP($A124,Tabell203[],14,FALSE),0)","v":0},{"$f":"IF(ISTEXT($A124),VLOOKUP($A124,Tabell203[],15,FALSE),0)","v":0},{"$f":"IF(ISTEXT($A124),VLOOKUP($A124,Tabell203[],16,FALSE),0)","v":0}]
[null,null,null,null,null,{"$f":"IF(ISTEXT(A125),VLOOKUP(A125,Tabell203[],3,FALSE),\"\")","v":""},null,0,0,null,null,null,null,null,null,null,null,null,null,null,null,null,{"$f":"IF(ISTEXT(A125),IF(E125>0.000001,E125,VLOOKUP(A125,Tabell203[],2,FALSE)),0)","v":0},null,null,null,null,null,null,null,null,null,null,null,null,null,null,null,null,null,null,0,{"$f":"IF(ISTEXT($A125),VLOOKUP($A125,Tabell203[],11,FALSE),0)","v":0},{"$f":"IF(ISTEXT($A125),VLOOKUP($A125,Tabell203[],12,FALSE),0)","v":0},{"$f":"IF(ISTEXT($A125),VLOOKUP($A125,Tabell203[],13,FALSE),0)","v":0},{"$f":"IF(ISTEXT($A125),VLOOKUP($A125,Tabell203[],14,FALSE),0)","v":0},{"$f":"IF(ISTEXT($A125),VLOOKUP($A125,Tabell203[],15,FALSE),0)","v":0},{"$f":"IF(ISTEXT($A125),VLOOKUP($A125,Tabell203[],16,FALSE),0)","v":0}]
[null,null,null,null,null,{"$f":"IF(ISTEXT(A126),VLOOKUP(A126,Tabell203[],3,FALSE),\"\")","v":""},null,0,0,null,null,null,null,null,null,null,null,null,null,null,null,null,{"$f":"IF(ISTEXT(A126),IF(E126>0.000001,E126,VLOOKUP(A126,Tabell203[],2,FALSE)),0)","v":0},null,null,null,null,null,null,null,null,null,null,null,null,null,null,null,null,null,null,0,{"$f":"IF(ISTEXT($A126),VLOOKUP($A126,Tabell203[],11,FALSE),0)","v":0},{"$f":"IF(ISTEXT($A126),VLOOKUP($A126,Tabell203[],12,FALSE),0)","v":0},{"$f":"IF(ISTEXT($A126),VLOOKUP($A126,Tabell203[],13,FALSE),0)","v":0},{"$f":"IF(ISTEXT($A126),VLOOKUP($A126,Tabell203[],14,FALSE),0)","v":0},{"$f":"IF(ISTEXT($A126),VLOOKUP($A126,Tabell203[],15,FALSE),0)","v":0},{"$f":"IF(ISTEXT($A126),VLOOKUP($A126,Tabell203[],16,FALSE),0)","v":0}]
[null,null,null,null,null,{"$f":"IF(ISTEXT(A127),VLOOKUP(A127,Tabell203[],3,FALSE),\"\")","v":""},null,0,0,null,null,null,null,null,null,null,null,null,null,null,null,null,{"$f":"IF(ISTEXT(A127),IF(E127>0.000001,E127,VLOOKUP(A127,Tabell203[],2,FALSE)),0)","v":0},null,null,null,null,null,null,null,null,null,null,null,null,null,null,null,null,null,null,0,{"$f":"IF(ISTEXT($A127),VLOOKUP($A127,Tabell203[],11,FALSE),0)","v":0},{"$f":"IF(ISTEXT($A127),VLOOKUP($A127,Tabell203[],12,FALSE),0)","v":0},{"$f":"IF(ISTEXT($A127),VLOOKUP($A127,Tabell203[],13,FALSE),0)","v":0},{"$f":"IF(ISTEXT($A127),VLOOKUP($A127,Tabell203[],14,FALSE),0)","v":0},{"$f":"IF(ISTEXT($A127),VLOOKUP($A127,Tabell203[],15,FALSE),0)","v":0},{"$f":"IF(ISTEXT($A127),VLOOKUP($A127,Tabell203[],16,FALSE),0)","v":0}]
[null,null,null,null,null,{"$f":"IF(ISTEXT(A128),VLOOKUP(A128,Tabell203[],3,FALSE),\"\")","v":""},null,0,0,null,null,null,null,null,null,null,null,null,null,null,null,null,{"$f":"IF(ISTEXT(A128),IF(E128>0.000001,E128,VLOOKUP(A128,Tabell203[],2,FALSE)),0)","v":0},null,null,null,null,null,null,null,null,null,null,null,null,null,null,null,null,null,null,0,{"$f":"IF(ISTEXT($A128),VLOOKUP($A128,Tabell203[],11,FALSE),0)","v":0},{"$f":"IF(ISTEXT($A128),VLOOKUP($A128,Tabell203[],12,FALSE),0)","v":0},{"$f":"IF(ISTEXT($A128),VLOOKUP($A128,Tabell203[],13,FALSE),0)","v":0},{"$f":"IF(ISTEXT($A128),VLOOKUP($A128,Tabell203[],14,FALSE),0)","v":0},{"$f":"IF(ISTEXT($A128),VLOOKUP($A128,Tabell203[],15,FALSE),0)","v":0},{"$f":"IF(ISTEXT($A128),VLOOKUP($A128,Tabell203[],16,FALSE),0)","v":0}]
[null,null,null,null,null,{"$f":"IF(ISTEXT(A129),VLOOKUP(A129,Tabell203[],3,FALSE),\"\")","v":""},null,0,0,null,null,null,null,null,null,null,null,null,null,null,null,null,{"$f":"IF(ISTEXT(A129),IF(E129>0.000001,E129,VLOOKUP(A129,Tabell203[],2,FALSE)),0)","v":0},null,null,null,null,null,null,null,null,null,null,null,null,null,null,null,null,null,null,0,{"$f":"IF(ISTEXT($A129),VLOOKUP($A129,Tabell203[],11,FALSE),0)","v":0},{"$f":"IF(ISTEXT($A129),VLOOKUP($A129,Tabell203[],12,FALSE),0)","v":0},{"$f":"IF(ISTEXT($A129),VLOOKUP($A129,Tabell203[],13,FALSE),0)","v":0},{"$f":"IF(ISTEXT($A129),VLOOKUP($A129,Tabell203[],14,FALSE),0)","v":0},{"$f":"IF(ISTEXT($A129),VLOOKUP($A129,Tabell203[],15,FALSE),0)","v":0},{"$f":"IF(ISTEXT($A129),VLOOKUP($A129,Tabell203[],16,FALSE),0)","v":0}]
[null,null,null,null,null,{"$f":"IF(ISTEXT(A130),VLOOKUP(A130,Tabell203[],3,FALSE),\"\")","v":""},null,0,0,null,null,null,null,null,null,null,null,null,null,null,null,null,{"$f":"IF(ISTEXT(A130),IF(E130>0.000001,E130,VLOOKUP(A130,Tabell203[],2,FALSE)),0)","v":0},null,null,null,null,null,null,null,null,null,null,null,null,null,null,null,null,null,null,0,{"$f":"IF(ISTEXT($A130),VLOOKUP($A130,Tabell203[],11,FALSE),0)","v":0},{"$f":"IF(ISTEXT($A130),VLOOKUP($A130,Tabell203[],12,FALSE),0)","v":0},{"$f":"IF(ISTEXT($A130),VLOOKUP($A130,Tabell203[],13,FALSE),0)","v":0},{"$f":"IF(ISTEXT($A130),VLOOKUP($A130,Tabell203[],14,FALSE),0)","v":0},{"$f":"IF(ISTEXT($A130),VLOOKUP($A130,Tabell203[],15,FALSE),0)","v":0},{"$f":"IF(ISTEXT($A130),VLOOKUP($A130,Tabell203[],16,FALSE),0)","v":0}]
[null,null,null,null,null,{"$f":"IF(ISTEXT(A131),VLOOKUP(A131,Tabell203[],3,FALSE),\"\")","v":""},null,0,0,null,null,null,null,null,null,null,null,null,null,null,null,null,{"$f":"IF(ISTEXT(A131),IF(E131>0.000001,E131,VLOOKUP(A131,Tabell203[],2,FALSE)),0)","v":0},null,null,null,null,null,null,null,null,null,null,null,null,null,null,null,null,null,null,0,{"$f":"IF(ISTEXT($A131),VLOOKUP($A131,Tabell203[],11,FALSE),0)","v":0},{"$f":"IF(ISTEXT($A131),VLOOKUP($A131,Tabell203[],12,FALSE),0)","v":0},{"$f":"IF(ISTEXT($A131),VLOOKUP($A131,Tabell203[],13,FALSE),0)","v":0},{"$f":"IF(ISTEXT($A131),VLOOKUP($A131,Tabell203[],14,FALSE),0)","v":0},{"$f":"IF(ISTEXT($A131),VLOOKUP($A131,Tabell203[],15,FALSE),0)","v":0},{"$f":"IF(ISTEXT($A131),VLOOKUP($A131,Tabell203[],16,FALSE),0)","v":0}]
["Totalt",null,null,null,null,null,null,{"$f":"SUM(H124:H131)","v":0},{"$f":"SUM(I124:I131)","v":0}]
[]
[]
[]
["Alternativ 2. Har inte vägt skörden, behöver räkna ut mängden skördat",null,null,null,null,null,null,null,null,null,null,null,null,null,null,null,null,"ska dölja"]
["Om det står \"Saknas!\" eller \"0\" under rubriken \"Beräknad mängd foder\" beror det på att någon uppgift saknas. Kontrollera då att du fyllt i alla gula celler på raden samt valt något i alla orange celler på raden",null,null,null,null,null,null,null,null,null,null,null,null,null,null,null,null,"Beskrivning av systemet",null,null,null,null,"TS-halt","Vilket system? 1=ja, 0=nej",null,null,null,null,null,null,null,null,"Volymvikt (kg ts/m3)",null,null,null,null,null,null,null,null,"Energi","Gruppering av system"]
[null,null,"Energi - välj ur lista eller skriv eget värde",null,"TS-halt (%)",null,"Antal balar ","Teknik","Lagrets respektive balarnas storlek",null,null,null,"Beräknad mängd foder",null,null,null,null,null,null,null,null,null,null,"Plansilo","Torn","Rundbalar","Fyrkantsbalar","Hö","Grönfoder","Halm","Fyrkantsbalar_hö",{"$f":"'Teknisk administration'!$B$400","v":0},{"$f":"X138","v":"Plansilo"},"Torn","Rundbalar","Fyrkantsbalar","Hö","Grönfoder","Halm","Fyrkantsbalar_hö",0,"MJ/kg ts","Plansilo","Torn","Storbalar (rund- och fyrkantsbalar)","Hö","Direktutfodrad","Halm till foder"]
["System - välj alternativ ur listan!","Egen kommentar","Välj ur lista","Eget värde (MJ/kg ts)","% ts","Förklaring","stycken","välj ur listan i orange celler!","Höjd (m)","Bredd (m)","Längd (m)","Förklaring för volymberäkning","Volym (m3)","Volymvikt (kg ts/m3)","Mängd (kg ts)","Mängd (MJ)","m3","Antal","Mängd per lass","Teknik","rätblock","cylinder","TS-halt","Plansilo","Torn","Rundbalar","Fyrkantsbalar","Hö","Grönfoder","Halm","Fyrkantsbalar_hö","tom","Plansilo3","Torn4","Rundbalar5","Fyrkantsbalar6","Hö7","Direktutfodrat","Kolumn1","Fyrkantsbalar_hö2","Visa ts?","MJ/kg ts","Plansilo12","Torn13","Storbalar (rund- och fyrkantsbalar)","Hö14","Direktutfodrad","Halm2"]
[null,null,null,null,null,{"$f":"IF(ISTEXT(A140),VLOOKUP(A140,Tabell203[],3,FALSE),\"\")","v":""},null,null,null,null,null,{"$f":"IF(ISTEXT(A140),VLOOKUP(A140,Tabell203[],10,FALSE),\"\")","v":""},{"$f":"IF(ISTEXT(A140),IF(U140=1,I140*J140*K140,IF(V140=1,I140*(J140/2)^2*PI(),1))*IF(R140=1,G140,1)*IF(S140=1,Q140,1),0)","v":0},{"$f":"SUM(AG140:AN140)","v":0},{"$f":"M140*N140","v":0},{"$f":"O140*AP140","v":0},null,{"$f":"IF(ISTEXT(A140),VLOOKUP(A140,Tabell203[],4,FALSE),0)","v":0},{"$f":"IF(ISTEXT(A140),VLOOKUP(A140,Tabell203[],6,FALSE),0)","v":0},{"$f":"IF(ISTEXT(A140),VLOOKUP(A140,Tabell203[],5,FALSE),0)","v":0},{"$f":"IF(ISTEXT(A140),VLOOKUP(A140,Tabell203[],8,FALSE),0)","v":0},{"$f":"IF(ISTEXT(A140),VLOOKUP(A140,Tabell203[],9,FALSE),0)","v":0},{"$f":"IF(ISTEXT(A140),IF(E140>0.000001,E140,VLOOKUP(A140,Tabell203[],2,FALSE)),0)","v":0},{"$f":"IF($A140='2.1b Halm, odling grovfoder'!X$44,1,0)","v":0},{"$f":"IF($A140='2.1b Halm, odling grovfoder'!Y$44,1,0)","v":0},{"$f":"IF($A140='2.1b Halm, odling grovfoder'!Z$44,1,0)","v":0},{"$f":"IF($A140='2.1b Halm, odling grovfoder'!AA$44,1,0)","v":0},{"$f":"IF($A140='2.1b Halm, odling grovfoder'!AB$44,1,0)","v":0},{"$f":"IF($A140='2.1b Halm, odling grovfoder'!AC$44,1,0)","v":0},{"$f":"IF($A140='2.1b Halm, odling grovfoder'!AD$44,1,0)","v":0},{"$f":"IF($A140='2.1b Halm, odling grovfoder'!AE$44,1,0)","v":0},{"$f":"IF($A140='2.1b Halm, odling grovfoder'!AF$44,1,0)","v":0},{"$f":"IF(X140=1,VLOOKUP(H140,Tabell220[],2,FALSE),0)","v":0},{"$f":"IF(Y140=1,IF(OR(W140<'Teknisk administration'!$P$262,W140>'Teknisk administration'!$P$263),'Teknisk administration'!$Q$262*I140^2+'Teknisk administration'!$R$262*I140+'Teknisk administration'!$S$262,'Teknisk administration'!$Q$263*I140^2+'Teknisk administration'!$R$263*I140+'Teknisk administration'!$S$263),0)","v":0},{"$f":"IF(Z140=1,VLOOKUP(H140,Tabell214[],2,FALSE)*W140+VLOOKUP(H140,Tabell214[],3,FALSE),0)","v":0},{"$f":"IF(AA140=1,VLOOKUP(H140,Tabell215[],2,FALSE)*W140+VLOOKUP(H140,Tabell215[],3,FALSE),0)","v":0},{"$f":"IF(AB140=1,VLOOKUP(H140,Tabell216[],2,FALSE)*W140,0)","v":0},{"$f":"IF(AC140=1,'Teknisk administration'!$AP$378,0)","v":0},{"$f":"IF(AD140=1,VLOOKUP($H140,Tabell217[],2,FALSE)*$W140,0)","v":0},{"$f":"IF(AE140=1,VLOOKUP($H140,Tabell29[],2,FALSE)*$W140,0)","v":0},{"$f":"IF(ISTEXT(A140),VLOOKUP(A140,Tabell203[],7,FALSE),0)","v":0},{"$f":"IF(AND(ISTEXT(A140),(OR(ISTEXT(C140),ISNUMBER(D140)))),IF(D140>0,D140,VLOOKUP(C140,INDIRECT(A140),2,FALSE)),0)","v":0},{"$f":"IF(ISTEXT($A140),VLOOKUP($A140,Tabell203[],11,FALSE),0)","v":0},{"$f":"IF(ISTEXT($A140),VLOOKUP($A140,Tabell203[],12,FALSE),0)","v":0},{"$f":"IF(ISTEXT($A140),VLOOKUP($A140,Tabell203[],13,FALSE),0)","v":0},{"$f":"IF(ISTEXT($A140),VLOOKUP($A140,Tabell203[],14,FALSE),0)","v":0},{"$f":"IF(ISTEXT($A140),VLOOKUP($A140,Tabell203[],15,FALSE),0)","v":0},{"$f":"IF(ISTEXT($A140),VLOOKUP($A140,Tabell203[],16,FALSE),0)","v":0}]
[null,null,null,null,null,{"$f":"IF(ISTEXT(A141),VLOOKUP(A141,Tabell203[],3,FALSE),\"\")","v":""},null,null,null,null,null,{"$f":"IF(ISTEXT(A141),VLOOKUP(A141,Tabell203[],10,FALSE),\"\")","v":""},0,0,0,0,null,{"$f":"IF(ISTEXT(A141),VLOOKUP(A141,Tabell203[],4,FALSE),0)","v":0},{"$f":"IF(ISTEXT(A141),VLOOKUP(A141,Tabell203[],6,FALSE),0)","v":0},{"$f":"IF(ISTEXT(A141),VLOOKUP(A141,Tabell203[],5,FALSE),0)","v":0},{"$f":"IF(ISTEXT(A141),VLOOKUP(A141,Tabell203[],8,FALSE),0)","v":0},{"$f":"IF(ISTEXT(A141),VLOOKUP(A141,Tabell203[],9,FALSE),0)","v":0},{"$f":"IF(ISTEXT(A141),IF(E141>0.000001,E141,VLOOKUP(A141,Tabell203[],2,FALSE)),0)","v":0},{"$f":"IF($A141='2.1b Halm, odling grovfoder'!X$44,1,0)","v":0},{"$f":"IF($A141='2.1b Halm, odling grovfoder'!Y$44,1,0)","v":0},{"$f":"IF($A141='2.1b Halm, odling grovfoder'!Z$44,1,0)","v":0},{"$f":"IF($A141='2.1b Halm, odling grovfoder'!AA$44,1,0)","v":0},{"$f":"IF($A141='2.1b Halm, odling grovfoder'!AB$44,1,0)","v":0},{"$f":"IF($A141='2.1b Halm, odling grovfoder'!AC$44,1,0)","v":0},{"$f":"IF($A141='2.1b Halm, odling grovfoder'!AD$44,1,0)","v":0},{"$f":"IF($A141='2.1b Halm, odling grovfoder'!AE$44,1,0)","v":0},{"$f":"IF($A141='2.1b Halm, odling grovfoder'!AF$44,1,0)","v":0},{"$f":"IF(X141=1,VLOOKUP(H141,Tabell220[],2,FALSE),0)","v":0},{"$f":"IF(Y141=1,IF(OR(W141<'Teknisk administration'!$P$262,W141>'Teknisk administration'!$P$263),'Teknisk administration'!$Q$262*I141^2+'Teknisk administration'!$R$262*I141+'Teknisk administration'!$S$262,'Teknisk administration'!$Q$263*I141^2+'Teknisk administration'!$R$263*I141+'Teknisk administration'!$S$263),0)","v":0},{"$f":"IF(Z141=1,VLOOKUP(H141,Tabell214[],2,FALSE)*W141+VLOOKUP(H141,Tabell214[],3,FALSE),0)","v":0},{"$f":"IF(AA141=1,VLOOKUP(H141,Tabell215[],2,FALSE)*W141+VLOOKUP(H141,Tabell215[],3,FALSE),0)","v":0},{"$f":"IF(AB141=1,VLOOKUP(H141,Tabell216[],2,FALSE)*W141,0)","v":0},{"$f":"IF(AC141=1,'Teknisk administration'!$AP$378,0)","v":0},{"$f":"IF(AD141=1,VLOOKUP($H141,Tabell217[],2,FALSE)*$W141,0)","v":0},{"$f":"IF(AE141=1,VLOOKUP($H141,Tabell29[],2,FALSE)*$W141,0)","v":0},{"$f":"IF(ISTEXT(A141),VLOOKUP(A141,Tabell203[],7,FALSE),0)","v":0},0,{"$f":"IF(ISTEXT($A141),VLOOKUP($A141,Tabell203[],11,FALSE),0)","v":0},{"$f":"IF(ISTEXT($A141),VLOOKUP($A141,Tabell203[],12,FALSE),0)","v":0},{"$f":"IF(ISTEXT($A141),VLOOKUP($A141,Tabell203[],13,FALSE),0)","v":0},{"$f":"IF(ISTEXT($A141),VLOOKUP($A141,Tabell203[],14,FALSE),0)","v":0},{"$f":"IF(ISTEXT($A141),VLOOKUP($A141,Tabell203[],15,FALSE),0)","v":0},{"$f":"IF(ISTEXT($A141),VLOOKUP($A141,Tabell203[],16,FALSE),0)","v":0}]
[null,null,null,null,null,{"$f":"IF(ISTEXT(A142),VLOOKUP(A142,Tabell203[],3,FALSE),\"\")","v":""},null,null,null,null,null,{"$f":"IF(ISTEXT(A142),VLOOKUP(A142,Tabell203[],10,FALSE),\"\")","v":""},0,0,0,0,null,{"$f":"IF(ISTEXT(A142),VLOOKUP(A142,Tabell203[],4,FALSE),0)","v":0},{"$f":"IF(ISTEXT(A142),VLOOKUP(A142,Tabell203[],6,FALSE),0)","v":0},{"$f":"IF(ISTEXT(A142),VLOOKUP(A142,Tabell203[],5,FALSE),0)","v":0},{"$f":"IF(ISTEXT(A142),VLOOKUP(A142,Tabell203[],8,FALSE),0)","v":0},{"$f":"IF(ISTEXT(A142),VLOOKUP(A142,Tabell203[],9,FALSE),0)","v":0},{"$f":"IF(ISTEXT(A142),IF(E142>0.000001,E142,VLOOKUP(A142,Tabell203[],2,FALSE)),0)","v":0},{"$f":"IF($A142='2.1b Halm, odling grovfoder'!X$44,1,0)","v":0},{"$f":"IF($A142='2.1b Halm, odling grovfoder'!Y$44,1,0)","v":0},{"$f":"IF($A142='2.1b Halm, odling grovfoder'!Z$44,1,0)","v":0},{"$f":"IF($A142='2.1b Halm, odling grovfoder'!AA$44,1,0)","v":0},{"$f":"IF($A142='2.1b Halm, odling grovfoder'!AB$44,1,0)","v":0},{"$f":"IF($A142='2.1b Halm, odling grovfoder'!AC$44,1,0)","v":0},{"$f":"IF($A142='2.1b Halm, odling grovfoder'!AD$44,1,0)","v":0},{"$f":"IF($A142='2.1b Halm, odling grovfoder'!AE$44,1,0)","v":0},{"$f":"IF($A142='2.1b Halm, odling grovfoder'!AF$44,1,0)","v":0},{"$f":"IF(X142=1,VLOOKUP(H142,Tabell220[],2,FALSE),0)","v":0},{"$f":"IF(Y142=1,IF(OR(W142<'Teknisk administration'!$P$262,W142>'Teknisk administration'!$P$263),'Teknisk administration'!$Q$262*I142^2+'Teknisk administration'!$R$262*I142+'Teknisk administration'!$S$262,'Teknisk administration'!$Q$263*I142^2+'Teknisk administration'!$R$263*I142+'Teknisk administration'!$S$263),0)","v":0},{"$f":"IF(Z142=1,VLOOKUP(H142,Tabell214[],2,FALSE)*W142+VLOOKUP(H142,Tabell214[],3,FALSE),0)","v":0},{"$f":"IF(AA142=1,VLOOKUP(H142,Tabell215[],2,FALSE)*W142+VLOOKUP(H142,Tabell215[],3,FALSE),0)","v":0},{"$f":"IF(AB142=1,VLOOKUP(H142,Tabell216[],2,FALSE)*W142,0)","v":0},{"$f":"IF(AC142=1,'Teknisk administration'!$AP$378,0)","v":0},{"$f":"IF(AD142=1,VLOOKUP($H142,Tabell217[],2,FALSE)*$W142,0)","v":0},{"$f":"IF(AE142=1,VLOOKUP($H142,Tabell29[],2,FALSE)*$W142,0)","v":0},{"$f":"IF(ISTEXT(A142),VLOOKUP(A142,Tabell203[],7,FALSE),0)","v":0},0,{"$f":"IF(ISTEXT($A142),VLOOKUP($A142,Tabell203[],11,FALSE),0)","v":0},{"$f":"IF(ISTEXT($A142),VLOOKUP($A142,Tabell203[],12,FALSE),0)","v":0},{"$f":"IF(ISTEXT($A142),VLOOKUP($A142,Tabell203[],13,FALSE),0)","v":0},{"$f":"IF(ISTEXT($A142),VLOOKUP($A142,Tabell203[],14,FALSE),0)","v":0},{"$f":"IF(ISTEXT($A142),VLOOKUP($A142,Tabell203[],15,FALSE),0)","v":0},{"$f":"IF(ISTEXT($A142),VLOOKUP($A142,Tabell203[],16,FALSE),0)","v":0}]
[null,null,null,null,null,{"$f":"IF(ISTEXT(A143),VLOOKUP(A143,Tabell203[],3,FALSE),\"\")","v":""},null,null,null,null,null,{"$f":"IF(ISTEXT(A143),VLOOKUP(A143,Tabell203[],10,FALSE),\"\")","v":""},0,0,0,0,null,{"$f":"IF(ISTEXT(A143),VLOOKUP(A143,Tabell203[],4,FALSE),0)","v":0},{"$f":"IF(ISTEXT(A143),VLOOKUP(A143,Tabell203[],6,FALSE),0)","v":0},{"$f":"IF(ISTEXT(A143),VLOOKUP(A143,Tabell203[],5,FALSE),0)","v":0},{"$f":"IF(ISTEXT(A143),VLOOKUP(A143,Tabell203[],8,FALSE),0)","v":0},{"$f":"IF(ISTEXT(A143),VLOOKUP(A143,Tabell203[],9,FALSE),0)","v":0},{"$f":"IF(ISTEXT(A143),IF(E143>0.000001,E143,VLOOKUP(A143,Tabell203[],2,FALSE)),0)","v":0},{"$f":"IF($A143='2.1b Halm, odling grovfoder'!X$44,1,0)","v":0},{"$f":"IF($A143='2.1b Halm, odling grovfoder'!Y$44,1,0)","v":0},{"$f":"IF($A143='2.1b Halm, odling grovfoder'!Z$44,1,0)","v":0},{"$f":"IF($A143='2.1b Halm, odling grovfoder'!AA$44,1,0)","v":0},{"$f":"IF($A143='2.1b Halm, odling grovfoder'!AB$44,1,0)","v":0},{"$f":"IF($A143='2.1b Halm, odling grovfoder'!AC$44,1,0)","v":0},{"$f":"IF($A143='2.1b Halm, odling grovfoder'!AD$44,1,0)","v":0},{"$f":"IF($A143='2.1b Halm, odling grovfoder'!AE$44,1,0)","v":0},{"$f":"IF($A143='2.1b Halm, odling grovfoder'!AF$44,1,0)","v":0},{"$f":"IF(X143=1,VLOOKUP(H143,Tabell220[],2,FALSE),0)","v":0},{"$f":"IF(Y143=1,IF(OR(W143<'Teknisk administration'!$P$262,W143>'Teknisk administration'!$P$263),'Teknisk administration'!$Q$262*I143^2+'Teknisk administration'!$R$262*I143+'Teknisk administration'!$S$262,'Teknisk administration'!$Q$263*I143^2+'Teknisk administration'!$R$263*I143+'Teknisk administration'!$S$263),0)","v":0},{"$f":"IF(Z143=1,VLOOKUP(H143,Tabell214[],2,FALSE)*W143+VLOOKUP(H143,Tabell214[],3,FALSE),0)","v":0},{"$f":"IF(AA143=1,VLOOKUP(H143,Tabell215[],2,FALSE)*W143+VLOOKUP(H143,Tabell215[],3,FALSE),0)","v":0},{"$f":"IF(AB143=1,VLOOKUP(H143,Tabell216[],2,FALSE)*W143,0)","v":0},{"$f":"IF(AC143=1,'Teknisk administration'!$AP$378,0)","v":0},{"$f":"IF(AD143=1,VLOOKUP($H143,Tabell217[],2,FALSE)*$W143,0)","v":0},{"$f":"IF(AE143=1,VLOOKUP($H143,Tabell29[],2,FALSE)*$W143,0)","v":0},{"$f":"IF(ISTEXT(A143),VLOOKUP(A143,Tabell203[],7,FALSE),0)","v":0},0,{"$f":"IF(ISTEXT($A143),VLOOKUP($A143,Tabell203[],11,FALSE),0)","v":0},{"$f":"IF(ISTEXT($A143),VLOOKUP($A143,Tabell203[],12,FALSE),0)","v":0},{"$f":"IF(ISTEXT($A143),VLOOKUP($A143,Tabell203[],13,FALSE),0)","v":0},{"$f":"IF(ISTEXT($A143),VLOOKUP($A143,Tabell203[],14,FALSE),0)","v":0},{"$f":"IF(ISTEXT($A143),VLOOKUP($A143,Tabell203[],15,FALSE),0)","v":0},{"$f":"IF(ISTEXT($A143),VLOOKUP($A143,Tabell203[],16,FALSE),0)","v":0}]
[null,null,null,null,null,{"$f":"IF(ISTEXT(A144),VLOOKUP(A144,Tabell203[],3,FALSE),\"\")","v":""},null,null,null,null,null,{"$f":"IF(ISTEXT(A144),VLOOKUP(A144,Tabell203[],10,FALSE),\"\")","v":""},0,0,0,0,null,{"$f":"IF(ISTEXT(A144),VLOOKUP(A144,Tabell203[],4,FALSE),0)","v":0},{"$f":"IF(ISTEXT(A144),VLOOKUP(A144,Tabell203[],6,FALSE),0)","v":0},{"$f":"IF(ISTEXT(A144),VLOOKUP(A144,Tabell203[],5,FALSE),0)","v":0},{"$f":"IF(ISTEXT(A144),VLOOKUP(A144,Tabell203[],8,FALSE),0)","v":0},{"$f":"IF(ISTEXT(A144),VLOOKUP(A144,Tabell203[],9,FALSE),0)","v":0},{"$f":"IF(ISTEXT(A144),IF(E144>0.000001,E144,VLOOKUP(A144,Tabell203[],2,FALSE)),0)","v":0},{"$f":"IF($A144='2.1b Halm, odling grovfoder'!X$44,1,0)","v":0},{"$f":"IF($A144='2.1b Halm, odling grovfoder'!Y$44,1,0)","v":0},{"$f":"IF($A144='2.1b Halm, odling grovfoder'!Z$44,1,0)","v":0},{"$f":"IF($A144='2.1b Halm, odling grovfoder'!AA$44,1,0)","v":0},{"$f":"IF($A144='2.1b Halm, odling grovfoder'!AB$44,1,0)","v":0},{"$f":"IF($A144='2.1b Halm, odling grovfoder'!AC$44,1,0)","v":0},{"$f":"IF($A144='2.1b Halm, odling grovfoder'!AD$44,1,0)","v":0},{"$f":"IF($A144='2.1b Halm, odling grovfoder'!AE$44,1,0)","v":0},{"$f":"IF($A144='2.1b Halm, odling grovfoder'!AF$44,1,0)","v":0},{"$f":"IF(X144=1,VLOOKUP(H144,Tabell220[],2,FALSE),0)","v":0},{"$f":"IF(Y144=1,IF(OR(W144<'Teknisk administration'!$P$262,W144>'Teknisk administration'!$P$263),'Teknisk administration'!$Q$262*I144^2+'Teknisk administration'!$R$262*I144+'Teknisk administration'!$S$262,'Teknisk administration'!$Q$263*I144^2+'Teknisk administration'!$R$263*I144+'Teknisk administration'!$S$263),0)","v":0},{"$f":"IF(Z144=1,VLOOKUP(H144,Tabell214[],2,FALSE)*W144+VLOOKUP(H144,Tabell214[],3,FALSE),0)","v":0},{"$f":"IF(AA144=1,VLOOKUP(H144,Tabell215[],2,FALSE)*W144+VLOOKUP(H144,Tabell215[],3,FALSE),0)","v":0},{"$f":"IF(AB144=1,VLOOKUP(H144,Tabell216[],2,FALSE)*W144,0)","v":0},{"$f":"IF(AC144=1,'Teknisk administration'!$AP$378,0)","v":0},{"$f":"IF(AD144=1,VLOOKUP($H144,Tabell217[],2,FALSE)*$W144,0)","v":0},{"$f":"IF(AE144=1,VLOOKUP($H144,Tabell29[],2,FALSE)*$W144,0)","v":0},{"$f":"IF(ISTEXT(A144),VLOOKUP(A144,Tabell203[],7,FALSE),0)","v":0},0,{"$f":"IF(ISTEXT($A144),VLOOKUP($A144,Tabell203[],11,FALSE),0)","v":0},{"$f":"IF(ISTEXT($A144),VLOOKUP($A144,Tabell203[],12,FALSE),0)","v":0},{"$f":"IF(ISTEXT($A144),VLOOKUP($A144,Tabell203[],13,FALSE),0)","v":0},{"$f":"IF(ISTEXT($A144),VLOOKUP($A144,Tabell203[],14,FALSE),0)","v":0},{"$f":"IF(ISTEXT($A144),VLOOKUP($A144,Tabell203[],15,FALSE),0)","v":0},{"$f":"IF(ISTEXT($A144),VLOOKUP($A144,Tabell203[],16,FALSE),0)","v":0}]
[null,null,null,null,null,{"$f":"IF(ISTEXT(A145),VLOOKUP(A145,Tabell203[],3,FALSE),\"\")","v":""},null,null,null,null,null,{"$f":"IF(ISTEXT(A145),VLOOKUP(A145,Tabell203[],10,FALSE),\"\")","v":""},0,0,0,0,null,{"$f":"IF(ISTEXT(A145),VLOOKUP(A145,Tabell203[],4,FALSE),0)","v":0},{"$f":"IF(ISTEXT(A145),VLOOKUP(A145,Tabell203[],6,FALSE),0)","v":0},{"$f":"IF(ISTEXT(A145),VLOOKUP(A145,Tabell203[],5,FALSE),0)","v":0},{"$f":"IF(ISTEXT(A145),VLOOKUP(A145,Tabell203[],8,FALSE),0)","v":0},{"$f":"IF(ISTEXT(A145),VLOOKUP(A145,Tabell203[],9,FALSE),0)","v":0},{"$f":"IF(ISTEXT(A145),IF(E145>0.000001,E145,VLOOKUP(A145,Tabell203[],2,FALSE)),0)","v":0},{"$f":"IF($A145='2.1b Halm, odling grovfoder'!X$44,1,0)","v":0},{"$f":"IF($A145='2.1b Halm, odling grovfoder'!Y$44,1,0)","v":0},{"$f":"IF($A145='2.1b Halm, odling grovfoder'!Z$44,1,0)","v":0},{"$f":"IF($A145='2.1b Halm, odling grovfoder'!AA$44,1,0)","v":0},{"$f":"IF($A145='2.1b Halm, odling grovfoder'!AB$44,1,0)","v":0},{"$f":"IF($A145='2.1b Halm, odling grovfoder'!AC$44,1,0)","v":0},{"$f":"IF($A145='2.1b Halm, odling grovfoder'!AD$44,1,0)","v":0},{"$f":"IF($A145='2.1b Halm, odling grovfoder'!AE$44,1,0)","v":0},{"$f":"IF($A145='2.1b Halm, odling grovfoder'!AF$44,1,0)","v":0},{"$f":"IF(X145=1,VLOOKUP(H145,Tabell220[],2,FALSE),0)","v":0},{"$f":"IF(Y145=1,IF(OR(W145<'Teknisk administration'!$P$262,W145>'Teknisk administration'!$P$263),'Teknisk administration'!$Q$262*I145^2+'Teknisk administration'!$R$262*I145+'Teknisk administration'!$S$262,'Teknisk administration'!$Q$263*I145^2+'Teknisk administration'!$R$263*I145+'Teknisk administration'!$S$263),0)","v":0},{"$f":"IF(Z145=1,VLOOKUP(H145,Tabell214[],2,FALSE)*W145+VLOOKUP(H145,Tabell214[],3,FALSE),0)","v":0},{"$f":"IF(AA145=1,VLOOKUP(H145,Tabell215[],2,FALSE)*W145+VLOOKUP(H145,Tabell215[],3,FALSE),0)","v":0},{"$f":"IF(AB145=1,VLOOKUP(H145,Tabell216[],2,FALSE)*W145,0)","v":0},{"$f":"IF(AC145=1,'Teknisk administration'!$AP$378,0)","v":0},{"$f":"IF(AD145=1,VLOOKUP($H145,Tabell217[],2,FALSE)*$W145,0)","v":0},{"$f":"IF(AE145=1,VLOOKUP($H145,Tabell29[],2,FALSE)*$W145,0)","v":0},{"$f":"IF(ISTEXT(A145),VLOOKUP(A145,Tabell203[],7,FALSE),0)","v":0},0,{"$f":"IF(ISTEXT($A145),VLOOKUP($A145,Tabell203[],11,FALSE),0)","v":0},{"$f":"IF(ISTEXT($A145),VLOOKUP($A145,Tabell203[],12,FALSE),0)","v":0},{"$f":"IF(ISTEXT($A145),VLOOKUP($A145,Tabell203[],13,FALSE),0)","v":0},{"$f":"IF(ISTEXT($A145),VLOOKUP($A145,Tabell203[],14,FALSE),0)","v":0},{"$f":"IF(ISTEXT($A145),VLOOKUP($A145,Tabell203[],15,FALSE),0)","v":0},{"$f":"IF(ISTEXT($A145),VLOOKUP($A145,Tabell203[],16,FALSE),0)","v":0}]
[null,null,null,null,null,{"$f":"IF(ISTEXT(A146),VLOOKUP(A146,Tabell203[],3,FALSE),\"\")","v":""},null,null,null,null,null,{"$f":"IF(ISTEXT(A146),VLOOKUP(A146,Tabell203[],10,FALSE),\"\")","v":""},0,0,0,0,null,{"$f":"IF(ISTEXT(A146),VLOOKUP(A146,Tabell203[],4,FALSE),0)","v":0},{"$f":"IF(ISTEXT(A146),VLOOKUP(A146,Tabell203[],6,FALSE),0)","v":0},{"$f":"IF(ISTEXT(A146),VLOOKUP(A146,Tabell203[],5,FALSE),0)","v":0},{"$f":"IF(ISTEXT(A146),VLOOKUP(A146,Tabell203[],8,FALSE),0)","v":0},{"$f":"IF(ISTEXT(A146),VLOOKUP(A146,Tabell203[],9,FALSE),0)","v":0},{"$f":"IF(ISTEXT(A146),IF(E146>0.000001,E146,VLOOKUP(A146,Tabell203[],2,FALSE)),0)","v":0},{"$f":"IF($A146='2.1b Halm, odling grovfoder'!X$44,1,0)","v":0},{"$f":"IF($A146='2.1b Halm, odling grovfoder'!Y$44,1,0)","v":0},{"$f":"IF($A146='2.1b Halm, odling grovfoder'!Z$44,1,0)","v":0},{"$f":"IF($A146='2.1b Halm, odling grovfoder'!AA$44,1,0)","v":0},{"$f":"IF($A146='2.1b Halm, odling grovfoder'!AB$44,1,0)","v":0},{"$f":"IF($A146='2.1b Halm, odling grovfoder'!AC$44,1,0)","v":0},{"$f":"IF($A146='2.1b Halm, odling grovfoder'!AD$44,1,0)","v":0},{"$f":"IF($A146='2.1b Halm, odling grovfoder'!AE$44,1,0)","v":0},{"$f":"IF($A146='2.1b Halm, odling grovfoder'!AF$44,1,0)","v":0},{"$f":"IF(X146=1,VLOOKUP(H146,Tabell220[],2,FALSE),0)","v":0},{"$f":"IF(Y146=1,IF(OR(W146<'Teknisk administration'!$P$262,W146>'Teknisk administration'!$P$263),'Teknisk administration'!$Q$262*I146^2+'Teknisk administration'!$R$262*I146+'Teknisk administration'!$S$262,'Teknisk administration'!$Q$263*I146^2+'Teknisk administration'!$R$263*I146+'Teknisk administration'!$S$263),0)","v":0},{"$f":"IF(Z146=1,VLOOKUP(H146,Tabell214[],2,FALSE)*W146+VLOOKUP(H146,Tabell214[],3,FALSE),0)","v":0},{"$f":"IF(AA146=1,VLOOKUP(H146,Tabell215[],2,FALSE)*W146+VLOOKUP(H146,Tabell215[],3,FALSE),0)","v":0},{"$f":"IF(AB146=1,VLOOKUP(H146,Tabell216[],2,FALSE)*W146,0)","v":0},{"$f":"IF(AC146=1,'Teknisk administration'!$AP$378,0)","v":0},{"$f":"IF(AD146=1,VLOOKUP($H146,Tabell217[],2,FALSE)*$W146,0)","v":0},{"$f":"IF(AE146=1,VLOOKUP($H146,Tabell29[],2,FALSE)*$W146,0)","v":0},{"$f":"IF(ISTEXT(A146),VLOOKUP(A146,Tabell203[],7,FALSE),0)","v":0},0,{"$f":"IF(ISTEXT($A146),VLOOKUP($A146,Tabell203[],11,FALSE),0)","v":0},{"$f":"IF(ISTEXT($A146),VLOOKUP($A146,Tabell203[],12,FALSE),0)","v":0},{"$f":"IF(ISTEXT($A146),VLOOKUP($A146,Tabell203[],13,FALSE),0)","v":0},{"$f":"IF(ISTEXT($A146),VLOOKUP($A146,Tabell203[],14,FALSE),0)","v":0},{"$f":"IF(ISTEXT($A146),VLOOKUP($A146,Tabell203[],15,FALSE),0)","v":0},{"$f":"IF(ISTEXT($A146),VLOOKUP($A146,Tabell203[],16,FALSE),0)","v":0}]
[null,null,null,null,null,{"$f":"IF(ISTEXT(A147),VLOOKUP(A147,Tabell203[],3,FALSE),\"\")","v":""},null,null,null,null,null,{"$f":"IF(ISTEXT(A147),VLOOKUP(A147,Tabell203[],10,FALSE),\"\")","v":""},0,0,0,0,null,{"$f":"IF(ISTEXT(A147),VLOOKUP(A147,Tabell203[],4,FALSE),0)","v":0},{"$f":"IF(ISTEXT(A147),VLOOKUP(A147,Tabell203[],6,FALSE),0)","v":0},{"$f":"IF(ISTEXT(A147),VLOOKUP(A147,Tabell203[],5,FALSE),0)","v":0},{"$f":"IF(ISTEXT(A147),VLOOKUP(A147,Tabell203[],8,FALSE),0)","v":0},{"$f":"IF(ISTEXT(A147),VLOOKUP(A147,Tabell203[],9,FALSE),0)","v":0},{"$f":"IF(ISTEXT(A147),IF(E147>0.000001,E147,VLOOKUP(A147,Tabell203[],2,FALSE)),0)","v":0},{"$f":"IF($A147='2.1b Halm, odling grovfoder'!X$44,1,0)","v":0},{"$f":"IF($A147='2.1b Halm, odling grovfoder'!Y$44,1,0)","v":0},{"$f":"IF($A147='2.1b Halm, odling grovfoder'!Z$44,1,0)","v":0},{"$f":"IF($A147='2.1b Halm, odling grovfoder'!AA$44,1,0)","v":0},{"$f":"IF($A147='2.1b Halm, odling grovfoder'!AB$44,1,0)","v":0},{"$f":"IF($A147='2.1b Halm, odling grovfoder'!AC$44,1,0)","v":0},{"$f":"IF($A147='2.1b Halm, odling grovfoder'!AD$44,1,0)","v":0},{"$f":"IF($A147='2.1b Halm, odling grovfoder'!AE$44,1,0)","v":0},{"$f":"IF($A147='2.1b Halm, odling grovfoder'!AF$44,1,0)","v":0},{"$f":"IF(X147=1,VLOOKUP(H147,Tabell220[],2,FALSE),0)","v":0},{"$f":"IF(Y147=1,IF(OR(W147<'Teknisk administration'!$P$262,W147>'Teknisk administration'!$P$263),'Teknisk administration'!$Q$262*I147^2+'Teknisk administration'!$R$262*I147+'Teknisk administration'!$S$262,'Teknisk administration'!$Q$263*I147^2+'Teknisk administration'!$R$263*I147+'Teknisk administration'!$S$263),0)","v":0},{"$f":"IF(Z147=1,VLOOKUP(H147,Tabell214[],2,FALSE)*W147+VLOOKUP(H147,Tabell214[],3,FALSE),0)","v":0},{"$f":"IF(AA147=1,VLOOKUP(H147,Tabell215[],2,FALSE)*W147+VLOOKUP(H147,Tabell215[],3,FALSE),0)","v":0},{"$f":"IF(AB147=1,VLOOKUP(H147,Tabell216[],2,FALSE)*W147,0)","v":0},{"$f":"IF(AC147=1,'Teknisk administration'!$AP$378,0)","v":0},{"$f":"IF(AD147=1,VLOOKUP($H147,Tabell217[],2,FALSE)*$W147,0)","v":0},{"$f":"IF(AE147=1,VLOOKUP($H147,Tabell29[],2,FALSE)*$W147,0)","v":0},{"$f":"IF(ISTEXT(A147),VLOOKUP(A147,Tabell203[],7,FALSE),0)","v":0},0,{"$f":"IF(ISTEXT($A147),VLOOKUP($A147,Tabell203[],11,FALSE),0)","v":0},{"$f":"IF(ISTEXT($A147),VLOOKUP($A147,Tabell203[],12,FALSE),0)","v":0},{"$f":"IF(ISTEXT($A147),VLOOKUP($A147,Tabell203[],13,FALSE),0)","v":0},{"$f":"IF(ISTEXT($A147),VLOOKUP($A147,Tabell203[],14,FALSE),0)","v":0},{"$f":"IF(ISTEXT($A147),VLOOKUP($A147,Tabell203[],15,FALSE),0)","v":0},{"$f":"IF(ISTEXT($A147),VLOOKUP($A147,Tabell203[],16,FALSE),0)","v":0}]
[null,null,null,null,null,{"$f":"IF(ISTEXT(A148),VLOOKUP(A148,Tabell203[],3,FALSE),\"\")","v":""},null,null,null,null,null,{"$f":"IF(ISTEXT(A148),VLOOKUP(A148,Tabell203[],10,FALSE),\"\")","v":""},0,0,0,0,null,{"$f":"IF(ISTEXT(A148),VLOOKUP(A148,Tabell203[],4,FALSE),0)","v":0},{"$f":"IF(ISTEXT(A148),VLOOKUP(A148,Tabell203[],6,FALSE),0)","v":0},{"$f":"IF(ISTEXT(A148),VLOOKUP(A148,Tabell203[],5,FALSE),0)","v":0},{"$f":"IF(ISTEXT(A148),VLOOKUP(A148,Tabell203[],8,FALSE),0)","v":0},{"$f":"IF(ISTEXT(A148),VLOOKUP(A148,Tabell203[],9,FALSE),0)","v":0},{"$f":"IF(ISTEXT(A148),IF(E148>0.000001,E148,VLOOKUP(A148,Tabell203[],2,FALSE)),0)","v":0},{"$f":"IF($A148='2.1b Halm, odling grovfoder'!X$44,1,0)","v":0},{"$f":"IF($A148='2.1b Halm, odling grovfoder'!Y$44,1,0)","v":0},{"$f":"IF($A148='2.1b Halm, odling grovfoder'!Z$44,1,0)","v":0},{"$f":"IF($A148='2.1b Halm, odling grovfoder'!AA$44,1,0)","v":0},{"$f":"IF($A148='2.1b Halm, odling grovfoder'!AB$44,1,0)","v":0},{"$f":"IF($A148='2.1b Halm, odling grovfoder'!AC$44,1,0)","v":0},{"$f":"IF($A148='2.1b Halm, odling grovfoder'!AD$44,1,0)","v":0},{"$f":"IF($A148='2.1b Halm, odling grovfoder'!AE$44,1,0)","v":0},{"$f":"IF($A148='2.1b Halm, odling grovfoder'!AF$44,1,0)","v":0},{"$f":"IF(X148=1,VLOOKUP(H148,Tabell220[],2,FALSE),0)","v":0},{"$f":"IF(Y148=1,IF(OR(W148<'Teknisk administration'!$P$262,W148>'Teknisk administration'!$P$263),'Teknisk administration'!$Q$262*I148^2+'Teknisk administration'!$R$262*I148+'Teknisk administration'!$S$262,'Teknisk administration'!$Q$263*I148^2+'Teknisk administration'!$R$263*I148+'Teknisk administration'!$S$263),0)","v":0},{"$f":"IF(Z148=1,VLOOKUP(H148,Tabell214[],2,FALSE)*W148+VLOOKUP(H148,Tabell214[],3,FALSE),0)","v":0},{"$f":"IF(AA148=1,VLOOKUP(H148,Tabell215[],2,FALSE)*W148+VLOOKUP(H148,Tabell215[],3,FALSE),0)","v":0},{"$f":"IF(AB148=1,VLOOKUP(H148,Tabell216[],2,FALSE)*W148,0)","v":0},{"$f":"IF(AC148=1,'Teknisk administration'!$AP$378,0)","v":0},{"$f":"IF(AD148=1,VLOOKUP($H148,Tabell217[],2,FALSE)*$W148,0)","v":0},{"$f":"IF(AE148=1,VLOOKUP($H148,Tabell29[],2,FALSE)*$W148,0)","v":0},{"$f":"IF(ISTEXT(A148),VLOOKUP(A148,Tabell203[],7,FALSE),0)","v":0},0,{"$f":"IF(ISTEXT($A148),VLOOKUP($A148,Tabell203[],11,FALSE),0)","v":0},{"$f":"IF(ISTEXT($A148),VLOOKUP($A148,Tabell203[],12,FALSE),0)","v":0},{"$f":"IF(ISTEXT($A148),VLOOKUP($A148,Tabell203[],13,FALSE),0)","v":0},{"$f":"IF(ISTEXT($A148),VLOOKUP($A148,Tabell203[],14,FALSE),0)","v":0},{"$f":"IF(ISTEXT($A148),VLOOKUP($A148,Tabell203[],15,FALSE),0)","v":0},{"$f":"IF(ISTEXT($A148),VLOOKUP($A148,Tabell203[],16,FALSE),0)","v":0}]
[null,null,null,null,null,{"$f":"IF(ISTEXT(A149),VLOOKUP(A149,Tabell203[],3,FALSE),\"\")","v":""},null,null,null,null,null,{"$f":"IF(ISTEXT(A149),VLOOKUP(A149,Tabell203[],10,FALSE),\"\")","v":""},0,0,0,0,null,{"$f":"IF(ISTEXT(A149),VLOOKUP(A149,Tabell203[],4,FALSE),0)","v":0},{"$f":"IF(ISTEXT(A149),VLOOKUP(A149,Tabell203[],6,FALSE),0)","v":0},{"$f":"IF(ISTEXT(A149),VLOOKUP(A149,Tabell203[],5,FALSE),0)","v":0},{"$f":"IF(ISTEXT(A149),VLOOKUP(A149,Tabell203[],8,FALSE),0)","v":0},{"$f":"IF(ISTEXT(A149),VLOOKUP(A149,Tabell203[],9,FALSE),0)","v":0},{"$f":"IF(ISTEXT(A149),IF(E149>0.000001,E149,VLOOKUP(A149,Tabell203[],2,FALSE)),0)","v":0},{"$f":"IF($A149='2.1b Halm, odling grovfoder'!X$44,1,0)","v":0},{"$f":"IF($A149='2.1b Halm, odling grovfoder'!Y$44,1,0)","v":0},{"$f":"IF($A149='2.1b Halm, odling grovfoder'!Z$44,1,0)","v":0},{"$f":"IF($A149='2.1b Halm, odling grovfoder'!AA$44,1,0)","v":0},{"$f":"IF($A149='2.1b Halm, odling grovfoder'!AB$44,1,0)","v":0},{"$f":"IF($A149='2.1b Halm, odling grovfoder'!AC$44,1,0)","v":0},{"$f":"IF($A149='2.1b Halm, odling grovfoder'!AD$44,1,0)","v":0},{"$f":"IF($A149='2.1b Halm, odling grovfoder'!AE$44,1,0)","v":0},{"$f":"IF($A149='2.1b Halm, odling grovfoder'!AF$44,1,0)","v":0},{"$f":"IF(X149=1,VLOOKUP(H149,Tabell220[],2,FALSE),0)","v":0},{"$f":"IF(Y149=1,IF(OR(W149<'Teknisk administration'!$P$262,W149>'Teknisk administration'!$P$263),'Teknisk administration'!$Q$262*I149^2+'Teknisk administration'!$R$262*I149+'Teknisk administration'!$S$262,'Teknisk administration'!$Q$263*I149^2+'Teknisk administration'!$R$263*I149+'Teknisk administration'!$S$263),0)","v":0},{"$f":"IF(Z149=1,VLOOKUP(H149,Tabell214[],2,FALSE)*W149+VLOOKUP(H149,Tabell214[],3,FALSE),0)","v":0},{"$f":"IF(AA149=1,VLOOKUP(H149,Tabell215[],2,FALSE)*W149+VLOOKUP(H149,Tabell215[],3,FALSE),0)","v":0},{"$f":"IF(AB149=1,VLOOKUP(H149,Tabell216[],2,FALSE)*W149,0)","v":0},{"$f":"IF(AC149=1,'Teknisk administration'!$AP$378,0)","v":0},{"$f":"IF(AD149=1,VLOOKUP($H149,Tabell217[],2,FALSE)*$W149,0)","v":0},{"$f":"IF(AE149=1,VLOOKUP($H149,Tabell29[],2,FALSE)*$W149,0)","v":0},{"$f":"IF(ISTEXT(A149),VLOOKUP(A149,Tabell203[],7,FALSE),0)","v":0},0,{"$f":"IF(ISTEXT($A149),VLOOKUP($A149,Tabell203[],11,FALSE),0)","v":0},{"$f":"IF(ISTEXT($A149),VLOOKUP($A149,Tabell203[],12,FALSE),0)","v":0},{"$f":"IF(ISTEXT($A149),VLOOKUP($A149,Tabell203[],13,FALSE),0)","v":0},{"$f":"IF(ISTEXT($A149),VLOOKUP($A149,Tabell203[],14,FALSE),0)","v":0},{"$f":"IF(ISTEXT($A149),VLOOKUP($A149,Tabell203[],15,FALSE),0)","v":0},{"$f":"IF(ISTEXT($A149),VLOOKUP($A149,Tabell203[],16,FALSE),0)","v":0}]
[null,null,null,null,null,{"$f":"IF(ISTEXT(A150),VLOOKUP(A150,Tabell203[],3,FALSE),\"\")","v":""},null,null,null,null,null,{"$f":"IF(ISTEXT(A150),VLOOKUP(A150,Tabell203[],10,FALSE),\"\")","v":""},0,0,0,0,null,{"$f":"IF(ISTEXT(A150),VLOOKUP(A150,Tabell203[],4,FALSE),0)","v":0},{"$f":"IF(ISTEXT(A150),VLOOKUP(A150,Tabell203[],6,FALSE),0)","v":0},{"$f":"IF(ISTEXT(A150),VLOOKUP(A150,Tabell203[],5,FALSE),0)","v":0},{"$f":"IF(ISTEXT(A150),VLOOKUP(A150,Tabell203[],8,FALSE),0)","v":0},{"$f":"IF(ISTEXT(A150),VLOOKUP(A150,Tabell203[],9,FALSE),0)","v":0},{"$f":"IF(ISTEXT(A150),IF(E150>0.000001,E150,VLOOKUP(A150,Tabell203[],2,FALSE)),0)","v":0},{"$f":"IF($A150='2.1b Halm, odling grovfoder'!X$44,1,0)","v":0},{"$f":"IF($A150='2.1b Halm, odling grovfoder'!Y$44,1,0)","v":0},{"$f":"IF($A150='2.1b Halm, odling grovfoder'!Z$44,1,0)","v":0},{"$f":"IF($A150='2.1b Halm, odling grovfoder'!AA$44,1,0)","v":0},{"$f":"IF($A150='2.1b Halm, odling grovfoder'!AB$44,1,0)","v":0},{"$f":"IF($A150='2.1b Halm, odling grovfoder'!AC$44,1,0)","v":0},{"$f":"IF($A150='2.1b Halm, odling grovfoder'!AD$44,1,0)","v":0},{"$f":"IF($A150='2.1b Halm, odling grovfoder'!AE$44,1,0)","v":0},{"$f":"IF($A150='2.1b Halm, odling grovfoder'!AF$44,1,0)","v":0},{"$f":"IF(X150=1,VLOOKUP(H150,Tabell220[],2,FALSE),0)","v":0},{"$f":"IF(Y150=1,IF(OR(W150<'Teknisk administration'!$P$262,W150>'Teknisk administration'!$P$263),'Teknisk administration'!$Q$262*I150^2+'Teknisk administration'!$R$262*I150+'Teknisk administration'!$S$262,'Teknisk administration'!$Q$263*I150^2+'Teknisk administration'!$R$263*I150+'Teknisk administration'!$S$263),0)","v":0},{"$f":"IF(Z150=1,VLOOKUP(H150,Tabell214[],2,FALSE)*W150+VLOOKUP(H150,Tabell214[],3,FALSE),0)","v":0},{"$f":"IF(AA150=1,VLOOKUP(H150,Tabell215[],2,FALSE)*W150+VLOOKUP(H150,Tabell215[],3,FALSE),0)","v":0},{"$f":"IF(AB150=1,VLOOKUP(H150,Tabell216[],2,FALSE)*W150,0)","v":0},{"$f":"IF(AC150=1,'Teknisk administration'!$AP$378,0)","v":0},{"$f":"IF(AD150=1,VLOOKUP($H150,Tabell217[],2,FALSE)*$W150,0)","v":0},{"$f":"IF(AE150=1,VLOOKUP($H150,Tabell29[],2,FALSE)*$W150,0)","v":0},{"$f":"IF(ISTEXT(A150),VLOOKUP(A150,Tabell203[],7,FALSE),0)","v":0},0,{"$f":"IF(ISTEXT($A150),VLOOKUP($A150,Tabell203[],11,FALSE),0)","v":0},{"$f":"IF(ISTEXT($A150),VLOOKUP($A150,Tabell203[],12,FALSE),0)","v":0},{"$f":"IF(ISTEXT($A150),VLOOKUP($A150,Tabell203[],13,FALSE),0)","v":0},{"$f":"IF(ISTEXT($A150),VLOOKUP($A150,Tabell203[],14,FALSE),0)","v":0},{"$f":"IF(ISTEXT($A150),VLOOKUP($A150,Tabell203[],15,FALSE),0)","v":0},{"$f":"IF(ISTEXT($A150),VLOOKUP($A150,Tabell203[],16,FALSE),0)","v":0}]
[null,null,null,null,null,{"$f":"IF(ISTEXT(A151),VLOOKUP(A151,Tabell203[],3,FALSE),\"\")","v":""},null,null,null,null,null,{"$f":"IF(ISTEXT(A151),VLOOKUP(A151,Tabell203[],10,FALSE),\"\")","v":""},0,0,0,0,null,{"$f":"IF(ISTEXT(A151),VLOOKUP(A151,Tabell203[],4,FALSE),0)","v":0},{"$f":"IF(ISTEXT(A151),VLOOKUP(A151,Tabell203[],6,FALSE),0)","v":0},{"$f":"IF(ISTEXT(A151),VLOOKUP(A151,Tabell203[],5,FALSE),0)","v":0},{"$f":"IF(ISTEXT(A151),VLOOKUP(A151,Tabell203[],8,FALSE),0)","v":0},{"$f":"IF(ISTEXT(A151),VLOOKUP(A151,Tabell203[],9,FALSE),0)","v":0},{"$f":"IF(ISTEXT(A151),IF(E151>0.000001,E151,VLOOKUP(A151,Tabell203[],2,FALSE)),0)","v":0},{"$f":"IF($A151='2.1b Halm, odling grovfoder'!X$44,1,0)","v":0},{"$f":"IF($A151='2.1b Halm, odling grovfoder'!Y$44,1,0)","v":0},{"$f":"IF($A151='2.1b Halm, odling grovfoder'!Z$44,1,0)","v":0},{"$f":"IF($A151='2.1b Halm, odling grovfoder'!AA$44,1,0)","v":0},{"$f":"IF($A151='2.1b Halm, odling grovfoder'!AB$44,1,0)","v":0},{"$f":"IF($A151='2.1b Halm, odling grovfoder'!AC$44,1,0)","v":0},{"$f":"IF($A151='2.1b Halm, odling grovfoder'!AD$44,1,0)","v":0},{"$f":"IF($A151='2.1b Halm, odling grovfoder'!AE$44,1,0)","v":0},{"$f":"IF($A151='2.1b Halm, odling grovfoder'!AF$44,1,0)","v":0},{"$f":"IF(X151=1,VLOOKUP(H151,Tabell220[],2,FALSE),0)","v":0},{"$f":"IF(Y151=1,IF(OR(W151<'Teknisk administration'!$P$262,W151>'Teknisk administration'!$P$263),'Teknisk administration'!$Q$262*I151^2+'Teknisk administration'!$R$262*I151+'Teknisk administration'!$S$262,'Teknisk administration'!$Q$263*I151^2+'Teknisk administration'!$R$263*I151+'Teknisk administration'!$S$263),0)","v":0},{"$f":"IF(Z151=1,VLOOKUP(H151,Tabell214[],2,FALSE)*W151+VLOOKUP(H151,Tabell214[],3,FALSE),0)","v":0},{"$f":"IF(AA151=1,VLOOKUP(H151,Tabell215[],2,FALSE)*W151+VLOOKUP(H151,Tabell215[],3,FALSE),0)","v":0},{"$f":"IF(AB151=1,VLOOKUP(H151,Tabell216[],2,FALSE)*W151,0)","v":0},{"$f":"IF(AC151=1,'Teknisk administration'!$AP$378,0)","v":0},{"$f":"IF(AD151=1,VLOOKUP($H151,Tabell217[],2,FALSE)*$W151,0)","v":0},{"$f":"IF(AE151=1,VLOOKUP($H151,Tabell29[],2,FALSE)*$W151,0)","v":0},{"$f":"IF(ISTEXT(A151),VLOOKUP(A151,Tabell203[],7,FALSE),0)","v":0},0,{"$f":"IF(ISTEXT($A151),VLOOKUP($A151,Tabell203[],11,FALSE),0)","v":0},{"$f":"IF(ISTEXT($A151),VLOOKUP($A151,Tabell203[],12,FALSE),0)","v":0},{"$f":"IF(ISTEXT($A151),VLOOKUP($A151,Tabell203[],13,FALSE),0)","v":0},{"$f":"IF(ISTEXT($A151),VLOOKUP($A151,Tabell203[],14,FALSE),0)","v":0},{"$f":"IF(ISTEXT($A151),VLOOKUP($A151,Tabell203[],15,FALSE),0)","v":0},{"$f":"IF(ISTEXT($A151),VLOOKUP($A151,Tabell203[],16,FALSE),0)","v":0}]
[null,null,null,null,null,null,null,null,null,null,null,"Totalt mängd inlagt eller direkttfodrat ",{"$f":"SUM(M140:M151)","v":0},null,{"$f":"SUM(O140:O151)","v":0},{"$f":"SUM(P140:P151)","v":0},null,null,null,null,null,null,null,null,null,{"$f":"IF(SUMPRODUCT(Z140:Z151,$G140:$G151)=0,0,SUMPRODUCT($O140:$O151,Z140:Z151)/SUMPRODUCT(Z140:Z151,$G140:$G151))","v":0},{"$f":"IF(SUMPRODUCT(AA140:AA151,$G140:$G151)=0,0,SUMPRODUCT($O140:$O151,AA140:AA151)/SUMPRODUCT(AA140:AA151,$G140:$G151))","v":0}]

{"sheet":"2.2 Förluster vid lagring","index":9,"n_rows":57,"n_cols":12,"rows_kept":57,"cut":false,"hidden":false,"merged":[[3,8,3,10],[1,8,1,10],[2,8,2,10],[4,8,4,10],[5,8,5,10],[41,1,45,1],[24,1,28,1],[30,1,34,1],[47,1,51,1],[6,8,6,10],[7,8,7,10]]}
["2.2 Förluster vid lagring",null,null,null,null,null,null,null,"Det här betyder färgerna"]
[{"$f":"VLOOKUP('2 Intro foder'!B13,'Teknisk administration'!$G$4:$H$6,2,FALSE)","v":"Obligatoriskt blad"},null,null,null,null,null,null,null,"Cell med värden hämtade från annan cell"]
["Under lagring av foder, speciellt av ensilage, kan det ske stora förluster av ts och energi till följd av att mikroorganismer bryter ner foder (\"varmgång\") och via pressvatten",null,null,null,null,null,null,null,"Fyll i din egen siffra"]
[{"$f":"\"På detta blad beräknas förluster under lagring, före uttag, av fodret som odlats aktuell period. Mängd odlat foder hämtas från bladet \" &C_Odling_foder","v":"På detta blad beräknas förluster under lagring, före uttag, av fodret som odlats aktuell period. Mängd odlat foder hämtas från bladet 2.1 Odling foder"},null,null,null,null,null,null,null,"Fyll i egen siffra - frivilligt, t ex om du har tillgång till uppgift eller om du vill räkna med annat värde än det schablonvärde som visas i angränsande cell"]
["Justera ev värdet som står i gula celler. Grå text = inte aktuellt för dig eftersom du ännu inte registrerat något på den perioden alternativt inte på det foderslaget eller lagringssystemet.  ",null,null,null,null,null,null,null,"Resultat/uträkning"]
[null,null,null,null,null,null,null,null,"Schablonvärde"]
[{"$f":"\"Förluster i samband med uttag och utfodring sammanställs på bladet \" &'2.4 Kasserat foder och spill'!A1","v":"Förluster i samband med uttag och utfodring sammanställs på bladet 2.4 Kasserat foder och spill"},null,null,null,null,null,null,null,"Förklaringar till raden"]
[null,null,null,null,null,null,null,null,"Plats för egna kommentarer"]
[]
[null,null,null,null,null,null,null,null,"Snabblänkar till bladen i verktyget:"]
["Tröskat foder",null,null,null,null,null,null,null,"Instruktion"]
["I tabellen nedan sammanställs förluster under lagring, d v s efter skörd och före uttag. Fyll i eget värde eller behåll befintligt i prickiga celler. Schabloner i tabellen till höger. ",null,null,null,null,null,null,null,"Bakgrund"]
[null,"Enhet",{"$f":"Bakgrund!R$7","v":"Period 1"},{"$f":"Bakgrund!S$7","v":"Period 2"},{"$f":"Bakgrund!T$7","v":"Period 3"},"Egen kommentar","Förklaring",null,"1 Intro djuren"]
["Skördad mängd","kg ts",{"$f":"'2.1 Odling foder'!B25","v":0},{"$f":"'2.1 Odling foder'!B45","v":0},{"$f":"'2.1 Odling foder'!B67","v":0},null,null,null,"1.1 Kött"]
["Förluster under lagring","%",0.02,0.02,0.02,null,"Behåll värde eller skriv över med eget!",null,"1.2 Tillväxt & förökning"]
["Totala förluster","kg ts",{"$f":"C14*C15","v":0},{"$f":"D14*D15","v":0},{"$f":"E14*E15","v":0},null,null,null,"1.3 Hälsa & dödlighet"]
["Totalt kvar till uttag","kg ts",{"$f":"ROUND(C14-C16,3-LEN(INT(C14-C16)))","v":0},{"$f":"ROUND(D14-D16,3-LEN(INT(D14-D16)))","v":0},{"$f":"ROUND(E14-E16,3-LEN(INT(E14-E16)))","v":0},null,null,null,"2 Intro foder"]
[null,null,null,null,null,null,null,null,"2.1 Odling foder"]
[null,null,null,null,null,null,null,null,"2.1b Halm, odling grovfoder"]
[null,null,null,null,null,null,null,null,"2.2 Förluster vid lagring"]
[null,null,null,null,null,null,null,null,"2.3 Utfodrat"]
["Bärgad halm och grovfoder",null,null,null,null,null,null,null,"2.4 Kasserat foder och spill"]
[{"$f":"\"Sammanställning från bladet \" & '2.1b Halm, odling grovfoder'!A1","v":"Sammanställning från bladet 2.1b Halm, odling grovfoder"},null,null,null,null,null,null,null,"3 Växtnäringsutnyttjande (1)"]
["Mängd inlagt i silo, balar och lador","Enhet",{"$f":"Bakgrund!R$7","v":"Period 1"},{"$f":"Bakgrund!S$7","v":"Period 2"},{"$f":"Bakgrund!T$7","v":"Period 3"},"Egen kommentar","Förklaring",null,"3 Växtnäringsutnyttjande (2)"]
["Halm","kg ts",{"$f":"SUMPRODUCT('2.1b Halm, odling grovfoder'!O46:O57,'2.1b Halm, odling grovfoder'!AV46:AV57)+SUMPRODUCT('2.1b Halm, odling grovfoder'!H30:H37,'2.1b Halm, odling grovfoder'!AV30:AV37)","v":0},{"$f":"SUMPRODUCT('2.1b Halm, odling grovfoder'!O92:O103,'2.1b Halm, odling grovfoder'!AV92:AV103)+SUMPRODUCT('2.1b Halm, odling grovfoder'!H76:H83,'2.1b Halm, odling grovfoder'!AV76:AV83)","v":0},{"$f":"SUMPRODUCT('2.1b Halm, odling grovfoder'!O140:O151,'2.1b Halm, odling grovfoder'!AV140:AV151)+SUMPRODUCT('2.1b Halm, odling grovfoder'!H124:H131,'2.1b Halm, odling grovfoder'!AV124:AV131)","v":0},null,null,null,"3 Växtnäringsutnyttjande (3)"]
["Plansilo",null,{"$f":"SUMPRODUCT('2.1b Halm, odling grovfoder'!O46:O57,'2.1b Halm, odling grovfoder'!AQ46:AQ57)+SUMPRODUCT('2.1b Halm, odling grovfoder'!H30:H37,'2.1b Halm, odling grovfoder'!AQ30:AQ37)","v":0},{"$f":"SUMPRODUCT('2.1b Halm, odling grovfoder'!O92:O103,'2.1b Halm, odling grovfoder'!AQ92:AQ103)+SUMPRODUCT('2.1b Halm, odling grovfoder'!H76:H83,'2.1b Halm, odling grovfoder'!AQ76:AQ83)","v":0},{"$f":"SUMPRODUCT('2.1b Halm, odling grovfoder'!O140:O151,'2.1b Halm, odling grovfoder'!AQ140:AQ151)+SUMPRODUCT('2.1b Halm, odling grovfoder'!H124:H131,'2.1b Halm, odling grovfoder'!AQ124:AQ131)","v":0},null,null,null,"4 Energi och bränsle"]
["Torn",null,{"$f":"SUMPRODUCT('2.1b Halm, odling grovfoder'!O46:O57,'2.1b Halm, odling grovfoder'!AR46:AR57)+SUMPRODUCT('2.1b Halm, odling grovfoder'!H30:H37,'2.1b Halm, odling grovfoder'!AR30:AR37)","v":0},{"$f":"SUMPRODUCT('2.1b Halm, odling grovfoder'!O92:O103,'2.1b Halm, odling grovfoder'!AR92:AR103)+SUMPRODUCT('2.1b Halm, odling grovfoder'!H76:H83,'2.1b Halm, odling grovfoder'!AR76:AR83)","v":0},{"$f":"SUMPRODUCT('2.1b Halm, odling grovfoder'!O140:O151,'2.1b Halm, odling grovfoder'!AR140:AR151)+SUMPRODUCT('2.1b Halm, odling grovfoder'!H124:H131,'2.1b Halm, odling grovfoder'!AR124:AR131)","v":0},null,null,null,"5 Vattenanvändning"]
["Storbalar (rund- och fyrkantsbalar)",null,{"$f":"SUMPRODUCT('2.1b Halm, odling grovfoder'!O46:O57,'2.1b Halm, odling grovfoder'!AS46:AS57)+SUMPRODUCT('2.1b Halm, odling grovfoder'!H30:H37,'2.1b Halm, odling grovfoder'!AS30:AS37)","v":0},{"$f":"SUMPRODUCT('2.1b Halm, odling grovfoder'!O92:O103,'2.1b Halm, odling grovfoder'!AS92:AS103)+SUMPRODUCT('2.1b Halm, odling grovfoder'!H76:H83,'2.1b Halm, odling grovfoder'!AS76:AS83)","v":0},{"$f":"SUMPRODUCT('2.1b Halm, odling grovfoder'!O140:O151,'2.1b Halm, odling grovfoder'!AS140:AS151)+SUMPRODUCT('2.1b Halm, odling grovfoder'!H124:H131,'2.1b Halm, odling grovfoder'!AS124:AS131)","v":0},null,null,null,"6 Resultat"]
["Hö",null,{"$f":"SUMPRODUCT('2.1b Halm, odling grovfoder'!O46:O57,'2.1b Halm, odling grovfoder'!AT46:AT57)+SUMPRODUCT('2.1b Halm, odling grovfoder'!H30:H37,'2.1b Halm, odling grovfoder'!AT30:AT37)","v":0},{"$f":"SUMPRODUCT('2.1b Halm, odling grovfoder'!O92:O103,'2.1b Halm, odling grovfoder'!AT92:AT103)+SUMPRODUCT('2.1b Halm, odling grovfoder'!H76:H83,'2.1b Halm, odling grovfoder'!AT76:AT83)","v":0},{"$f":"SUMPRODUCT('2.1b Halm, odling grovfoder'!O140:O151,'2.1b Halm, odling grovfoder'!AT140:AT151)+SUMPRODUCT('2.1b Halm, odling grovfoder'!H124:H131,'2.1b Halm, odling grovfoder'!AT124:AT131)","v":0},null,null,null,"6B Klimat"]
["Totalt inlagt","kg ts",{"$f":"SUM(C25:C29)","v":0},{"$f":"SUM(D25:D29)","v":0},0,null,"Total mängd grönmassa inlagt och direktutfodrat"]
["Halm","MJ NE",{"$f":"SUMPRODUCT('2.1b Halm, odling grovfoder'!P46:P57,'2.1b Halm, odling grovfoder'!AV46:AV57)+SUMPRODUCT('2.1b Halm, odling grovfoder'!I30:I37,'2.1b Halm, odling grovfoder'!AV30:AV37)","v":0},{"$f":"SUMPRODUCT('2.1b Halm, odling grovfoder'!P92:P103,'2.1b Halm, odling grovfoder'!AV92:AV103)+SUMPRODUCT('2.1b Halm, odling grovfoder'!I76:I83,'2.1b Halm, odling grovfoder'!AV76:AV83)","v":0},{"$f":"SUMPRODUCT('2.1b Halm, odling grovfoder'!P140:P151,'2.1b Halm, odling grovfoder'!AV140:AV151)+SUMPRODUCT('2.1b Halm, odling grovfoder'!I124:I131,'2.1b Halm, odling grovfoder'!AV124:AV131)","v":0}]
["Plansilo",null,{"$f":"SUMPRODUCT('2.1b Halm, odling grovfoder'!P46:P57,'2.1b Halm, odling grovfoder'!AQ46:AQ57)+SUMPRODUCT('2.1b Halm, odling grovfoder'!I30:I37,'2.1b Halm, odling grovfoder'!AQ30:AQ37)","v":0},{"$f":"SUMPRODUCT('2.1b Halm, odling grovfoder'!P92:P103,'2.1b Halm, odling grovfoder'!AQ92:AQ103)+SUMPRODUCT('2.1b Halm, odling grovfoder'!I76:I83,'2.1b Halm, odling grovfoder'!AQ76:AQ83)","v":0},{"$f":"SUMPRODUCT('2.1b Halm, odling grovfoder'!P140:P151,'2.1b Halm, odling grovfoder'!AQ140:AQ151)+SUMPRODUCT('2.1b Halm, odling grovfoder'!I124:I131,'2.1b Halm, odling grovfoder'!AQ124:AQ131)","v":0}]
["Torn",null,{"$f":"SUMPRODUCT('2.1b Halm, odling grovfoder'!P46:P57,'2.1b Halm, odling grovfoder'!AR46:AR57)+SUMPRODUCT('2.1b Halm, odling grovfoder'!I30:I37,'2.1b Halm, odling grovfoder'!AR30:AR37)","v":0},{"$f":"SUMPRODUCT('2.1b Halm, odling grovfoder'!P92:P103,'2.1b Halm, odling grovfoder'!AR92:AR103)+SUMPRODUCT('2.1b Halm, odling grovfoder'!I76:I83,'2.1b Halm, odling grovfoder'!AR76:AR83)","v":0},{"$f":"SUMPRODUCT('2.1b Halm, odling grovfoder'!P140:P151,'2.1b Halm, odling grovfoder'!AR140:AR151)+SUMPRODUCT('2.1b Halm, odling grovfoder'!I124:I131,'2.1b Halm, odling grovfoder'!AR124:AR131)","v":0}]
["Storbalar (rund- och fyrkantsbalar)",null,{"$f":"SUMPRODUCT('2.1b Halm, odling grovfoder'!P46:P57,'2.1b Halm, odling grovfoder'!AS46:AS57)+SUMPRODUCT('2.1b Halm, odling grovfoder'!I30:I37,'2.1b Halm, odling grovfoder'!AS30:AS37)","v":0},{"$f":"SUMPRODUCT('2.1b Halm, odling grovfoder'!P92:P103,'2.1b Halm, odling grovfoder'!AS92:AS103)+SUMPRODUCT('2.1b Halm, odling grovfoder'!I76:I83,'2.1b Halm, odling grovfoder'!AS76:AS83)","v":0},{"$f":"SUMPRODUCT('2.1b Halm, odling grovfoder'!P140:P151,'2.1b Halm, odling grovfoder'!AS140:AS151)+SUMPRODUCT('2.1b Halm, odling grovfoder'!I124:I131,'2.1b Halm, odling grovfoder'!AS124:AS131)","v":0}]
["Hö",null,{"$f":"SUMPRODUCT('2.1b Halm, odling grovfoder'!P46:P57,'2.1b Halm, odling grovfoder'!AT46:AT57)+SUMPRODUCT('2.1b Halm, odling grovfoder'!I30:I37,'2.1b Halm, odling grovfoder'!AT30:AT37)","v":0},{"$f":"SUMPRODUCT('2.1b Halm, odling grovfoder'!P92:P103,'2.1b Halm, odling grovfoder'!AT92:AT103)+SUMPRODUCT('2.1b Halm, odling grovfoder'!I76:I83,'2.1b Halm, odling grovfoder'!AT76:AT83)","v":0},{"$f":"SUMPRODUCT('2.1b Halm, odling grovfoder'!P140:P151,'2.1b Halm, odling grovfoder'!AT140:AT151)+SUMPRODUCT('2.1b Halm, odling grovfoder'!I124:I131,'2.1b Halm, odling grovfoder'!AT124:AT131)","v":0}]
["Totalt inlagt","MJ OM",{"$f":"SUM(C31:C35)","v":0},{"$f":"SUM(D31:D35)","v":0},0,null,"Total mängd grönmassa inlagt omräknat till MJ, fodervärdering idisslare"]
[]
[]
[]
["I tabellen nedan sammanställs förluster under lagring, d v s efter skörd och före uttag. Fyll i eget värde eller behåll befintligt i prickiga celler. Schabloner i tabellen till höger. "]
["Förluster under lagring (andningsförluster)","Enhet",{"$f":"Bakgrund!R$7","v":"Period 1"},{"$f":"Bakgrund!S$7","v":"Period 2"},{"$f":"Bakgrund!T$7","v":"Period 3"},"Egen kommentar","Förklaring",null,"Andningsförluster etc under lagring","låg förlust","medel","hög förlust"]
["Halm","% av ts i inlagd grönmassa ",0.02,0.02,0.02,null,null,null,"Plansilo",0.13,0.15,0.2]
["Plansilo",null,0.15,0.15,0.15,null,"Förlusterna är höga vid dålig packning",null,"Torn, slang",0.08,0.1,0.15]
["Torn",null,0.1,0.1,0.1,null,null,null,"Storbalar",0.01,0.02,0.05]
["Storbalar (rund- och fyrkantsbalar)",null,0.02,0.02,0.02,null,"Generellt låga förluster i storbalar under lagring",null,"Hö",0.01,0.02,0.03]
["Hö",null,0.01,0.01,0.01,null,"Generellt låga förluster under lagring av hö"]
["Beräknade förluster under lagring "]
["Halm","MJ NE",{"$f":"C42*C25","v":0},0,0]
["Plansilo, förluster",null,0,0,0]
["Torn, förluster",null,0,0,0]
["Storbalar, förluster",null,0,0,0]
["Hö, förluster",null,0,0,0]
[]
["Totala förluster, ts","kg ts",{"$f":"ROUND(SUM(C48:C52),3-LEN(INT(SUM(C48:C52))))","v":0},{"$f":"ROUND(SUM(D48:D52),3-LEN(INT(SUM(D48:D52))))","v":0},0]
["Totala förluster, MJ","MJ",{"$f":"ROUND(SUMPRODUCT(C31:C35,C42:C46),3-LEN(INT(SUMPRODUCT(C31:C35,C42:C46))))","v":0},{"$f":"ROUND(SUMPRODUCT(D31:D35,D42:D46),3-LEN(INT(SUMPRODUCT(D31:D35,D42:D46))))","v":0},0]
["Totala förluster","% av ts i inlagd grönmassa ",{"$f":"IF(C54=0,0,C54/C30)","v":0},{"$f":"IF(D54=0,0,D54/D30)","v":0},{"$f":"IF(E54=0,0,E54/E30)","v":0}]
["Totalt kvar till uttag","kg ts",{"$f":"C30-C54","v":0},{"$f":"D30-D54","v":0},{"$f":"E30-E54","v":0}]

{"sheet":"2.3 Utfodrat","index":10,"n_rows":161,"n_cols":40,"rows_kept":161,"cut":false,"hidden":false,"merged":[[10,22,10,25],[5,22,5,25],[6,22,6,25],[7,22,7,25],[8,22,8,25],[9,22,9,25],[1,22,1,25],[2,22,2,25],[3,22,3,25],[4,22,4,25],[160,5,160,7],[103,5,103,7],[104,5,104,7],[105,5,105,7],[106,5,106,7],[107,5,107,7],[108,5,108,7],[155,5,155,7],[156,5,156,7],[157,5,157,7],[158,5,158,7],[159,5,159,7],[55,5,55,7],[50,5,50,7],[51,5,51,7],[52,5,52,7],[53,5,53,7],[54,5,54,7]]}
["2.3 Utfodrat",null,null,null,null,null,null,null,null,"Snabblänkar till bladen i verktyget:",null,null,null,null,null,null,null,null,null,null,null,null,"Det här betyder färgerna:"]
[{"$f":"VLOOKUP('2 Intro foder'!B14,'Teknisk administration'!$G$4:$H$6,2,FALSE)","v":"Obligatoriskt blad"},null,null,null,null,null,null,null,null,"Instruktion","2.3 Utfodrat",null,null,null,null,null,null,null,null,null,null,null,"Cell med värden hämtade från annan cell"]
["Här beräknas mängden ts och MJ i foder som förbrukats under perioden, inköpt och eget foder. Justera för ev överlagring!",null,null,null,null,null,null,null,null,"Bakgrund","2.4 Kasserat foder och spill",null,null,null,null,null,null,null,null,null,null,null,"Fyll i din egen siffra"]
["Resultatet används även för att beräkna energi- och ts-förluster vid utfodring.",null,null,null,null,null,null,null,null,"1 Intro djuren","3 Växtnäringsutnyttjande (1)",null,null,null,null,null,null,null,null,null,null,null,"Fyll i egen siffra - frivilligt, t ex om du har tillgång till uppgift eller om du vill räkna med annat värde än det schablonvärde som visas i angränsande cell"]
["På detta blad kan du även beräkna mängden N, P och K i fodret, uppgifterna behövs i beräkningarna på bladen om växtnäringsutnyttjande.",null,null,null,null,null,null,null,null,"1.1 Kött","3 Växtnäringsutnyttjande (2)",null,null,null,null,null,null,null,null,null,null,null,"Egen uppgift, men välj värde ur rullista. "]
[null,null,null,null,null,null,null,null,null,"1.2 Tillväxt & förökning","3 Växtnäringsutnyttjande (3)",null,null,null,null,null,null,null,null,null,null,null,"Resultat/uträkning"]
["Dina svar på ja/nej-frågorna på Bakgrund styr vilka delar som visas. Grå text eller vita celler = inte relevant för dig.",null,null,null,null,null,null,null,null,"1.3 Hälsa & dödlighet","4 Energi och bränsle",null,null,null,null,null,null,null,null,null,null,null,"Schablonvärde"]
["Du kan antingen lägga in ett eget recept (alternativ 1) eller välja ett färdigt foder ur en lista (alternativ 2). ",null,null,null,null,null,null,null,null,"2 Intro foder","5 Vattenanvändning",null,null,null,null,null,null,null,null,null,null,null,"Förklaringar till raden"]
[{"$f":"IF(Bakgrund!$BI$37=1,\"Om du ska beräkna växtnäringsutnyttjandet rekommenderas att du enbart använder Alternativ 2! Då beräknas mängden N, P och K i inköpt foder automatiskt, och du slipper fylla i råprotein, P- och K-innehåll själv\",\"Du kan använda båda alternativen samma period. \")","v":"Du kan använda båda alternativen samma period. "},null,null,null,null,null,null,null,null,"2.1 Odling foder","6 Resultat",null,null,null,null,null,null,null,null,null,null,null,"Plats för egna kommentarer"]
["Röd cell = välj alternativ ur listan eller fyll i ett värde så släcks varningen!",null,null,null,null,null,null,null,null,"2.1b Halm, odling grovfoder","6B Klimat",null,null,null,null,null,null,null,null,null,null,null,"Glöm inte att fylla i värde! (Här krävs ett värde för att andra beräkningar ska fungera"]
["Perioderna ligger under varandra",null,null,null,null,null,null,null,null,"2.2 Förluster vid lagring",null,null,null,null,null,null,null,null,null,null,null,null,"grå text, ev vit bakgrund: Avsnittet är inte relevant för dig baserat på svaren på ja/nej-frågor på bladet Bakgrund"]
["Räcker inte raderna till? Högerklicka i tabellen och välj Infoga/Infoga rad"]
[]
[]
[]
[{"$f":"Bakgrund!R7","v":"Period 1"},null,null,null,null,null,null,null,null,null,null,null,null,null,null,null,null,null,null,null,null,null,"Hjälptabeller för inköpt foder"]
[{"$f":"\"Alternativ 1: Lägg in eget recept. \"&IF(Bakgrund!$BI$37>0,\" För att beräkna växtnäringsutnyttjandet behöver du ange om fodret är inköpt eller eget. Om fodret innehåller både och ska du dela upp komponenterna i receptet på olika rader.\",\"\")","v":"Alternativ 1: Lägg in eget recept. "}]
["Foder, fritext","Fodret ges till: \nVälj ur lista!","Mängd (kg)","ts-halt (%)*","Råprotein (g/kg)**","Fosfor \n(g/kg)**","Kalium \n(g/kg)**","Energi \n(MJ NE per kg)***","Inköpt eller eget foder - välj ur lista!","Egen kommentar","  ","       ","växande","suggor","Kolumn3","inköpt",null,null,null,null,null,null,"Energiinnehåll foder (MJ NE per kg foder), exempel. Fyll i eget värde i tabellerna till vänster!"]
[null,null,null,0.88,null,null,null,null,null,null,null,null,{"$f":"IF($B19=M$18,1,0)","v":0},{"$f":"IF($B19=N$18,1,0)","v":0},null,{"$f":"IF(OR(I19=inköpt,NOT(ISTEXT(I19))),1,0)","v":1},null,null,null,null,null,null,"Typ","Växande","Suggor.","ts-halt"]
[null,null,null,0.88,null,null,null,null,null,null,null,null,{"$f":"IF($B20=M$18,1,0)","v":0},0,null,1,null,null,null,null,null,null,"Spannmål","9,5-10,5","9,7-10,6",0.86]
[null,null,null,0.88,null,null,null,null,null,null,null,null,0,0,null,1,null,null,null,null,null,null,"Åkerböna","9-9,2","9,2-9,4",0.76]
[null,null,null,0.88,null,null,null,null,null,null,null,null,0,0,null,1,null,null,null,null,null,null,"Färdigfoder","9,3-9,7","9,1-9,8",0.88]
[null,null,null,0.88,null,null,null,null,null,null,null,null,0,0,null,1,null,null,null,null,null,null,"Koncentrat","5,7-6,5","5,8-6,9",0.88]
[null,null,null,0.88,null,null,null,null,null,null,null,null,0,0,null,1,null,null,null,null,null,null,"Blötfoder","2,7-3","2,7-3"]
["Summa (kg, kg ts, N, P, K resp MJ)",null,{"$f":"SUM(C19:C24)","v":0},{"$f":"SUMPRODUCT(C19:C24,D19:D24)","v":0},{"$f":"SUMPRODUCT(C19:C24,E19:E24)/1000/6.25","v":0},{"$f":"SUMPRODUCT(C19:C24,F19:F24)/1000","v":0},{"$f":"SUMPRODUCT(C19:C24,G19:G24)/1000","v":0},{"$f":"SUMPRODUCT(C19:C24,H19:H24)","v":0},null,null,null,null,null,null,null,null,null,null,null,null,null,null,"Torrfoder","9-10","9-10,0",0.88]
["Varav i inköpt foder",null,{"$f":"SUMPRODUCT(C19:C24,$P19:$P24)","v":0},{"$f":"SUMPRODUCT(C19:C24,D19:D24,$P19:$P24)","v":0},{"$f":"SUMPRODUCT(C19:C24,E19:E24,P19:P24)/1000/6.25","v":0},{"$f":"SUMPRODUCT(F19:F24,P19:P24,C19:C24)/1000","v":0},{"$f":"SUMPRODUCT(G19:G24,P19:P24,C19:C24)/1000","v":0},{"$f":"SUMPRODUCT(H19:H24,P19:P24,C19:C24)","v":0}]
["*Behåll ts-halten eller skriv över med eget värde"]
["** Ange råprotein, fosfor och kalium som g per kg ts . 1 kg råprotein = 0,16 kg N. Uppgifterna behövs om du ska beräkna växtnäringsutnyttjandet"]
["*** Se hjälptabell till höger!"]
[]
[null,null,null,null,null,null,null,null,null,null,null,null,null,null,null,null,null,null,null,null,null,null,"Hitta fodermedel (kraftfoder, spanmmål, protein etc.)"]
[{"$f":"\"Alternativ 2: Välj bland färdiga schablonfoder, råvaror eller namngivna kraftfoder ur lista. \" &IF(Bakgrund!$BI$37=1,\" Om det behövs, ange om det är ett eget eller inköpt foder (välj ur lista) så överförs resultatet till växtnäringsberäkningarna\",\"\")","v":"Alternativ 2: Välj bland färdiga schablonfoder, råvaror eller namngivna kraftfoder ur lista. "},null,null,null,null,null,null,null,null,null,null,null,null,null,null,null,null,null,null,null,null,null,"skriv in ett helt ord (t ex \"havre\" eller \"premix\") eller en del av ett ord (t ex \"bland\") i fodret du letar efter i den gula cellen nedan. Tryck Enter!"]
["Foder välj ur lista , eller använd hjälpfunktion till höger!","Fodret ges till: \nVälj ur lista!","Mängd (kg)","ts-halt (%)","Kväve","Fosfor","Kalium","MJ NE per kg, från tabell","MJ NE per kg, eget värde*","Inköpt eller eget foder - välj ur lista om cellen är orange!**","Egen kommentar","MJ/kg, använt","växande","suggor","Kolumn1","Kolumn2","Kväve2","Fosfor3","Kalium4",null,null,null,"Alla träffar i databasen visas i listan därunder. Kopiera rätt alternativ och klistra in i orange cell . "]
[null,null,null,{"$f":"IF(ISTEXT(A34),VLOOKUP(A34,'tekn adm - produktlistor'!$AR$6:$AY$511,7,FALSE),0)","v":0},{"$f":"Q34","v":0},{"$f":"R34","v":0},{"$f":"S34","v":0},{"$f":"IF(ISTEXT('2.3 Utfodrat'!A34),VLOOKUP('2.3 Utfodrat'!$A34,'tekn adm - produktlistor'!$AR$6:$BA$511,IF(B34='Teknisk administration'!$K$356,10,9),FALSE),0)","v":0},null,null,null,{"$f":"IF(AND(I34>0,I34<40),I34,'2.3 Utfodrat'!H34)","v":0},{"$f":"IF($B34=M$18,1,0)","v":0},{"$f":"IF($B34=N$18,1,0)","v":0},{"$f":"IF(ISTEXT(A34),IF(VLOOKUP(A34,'tekn adm - produktlistor'!$AR$6:$BB$511,11,FALSE)=inköpt,inköpt,'Teknisk administration'!$L$3),'Teknisk administration'!$L$3)","v":"Välj"},{"$f":"IF(OR(J34=inköpt,NOT(ISTEXT(J34))),1,0)","v":1},{"$f":"IF(ISTEXT(A34),VLOOKUP(A34,'tekn adm - produktlistor'!$AR$6:$AV$511,3,FALSE)*C34,0)","v":0},{"$f":"IF(ISTEXT(A34),VLOOKUP($A34,'tekn adm - produktlistor'!$AR$6:$AV$511,4,FALSE)*$C34,0)","v":0},{"$f":"IF(ISTEXT(A34),VLOOKUP($A34,'tekn adm - produktlistor'!$AR$6:$AV$511,5,FALSE)*$C34,0)","v":0},null,null,null,"Hittar du inte rätt? Testa ett annat ord! I databasen finns både foderåvaror (t ex havre)  och foder (t ex  L Blenda). "]
[null,null,null,{"$f":"IF(ISTEXT(A35),VLOOKUP(A35,'tekn adm - produktlistor'!$AR$6:$AY$511,7,FALSE),0)","v":0},0,0,0,{"$f":"IF(ISTEXT('2.3 Utfodrat'!A35),VLOOKUP('2.3 Utfodrat'!$A35,'tekn adm - produktlistor'!$AR$6:$BA$511,IF(B35='Teknisk administration'!$K$356,10,9),FALSE),0)","v":0},null,null,null,{"$f":"IF(AND(I35>0,I35<40),I35,H35)","v":0},{"$f":"IF($B35=M$18,1,0)","v":0},0,{"$f":"IF(ISTEXT(A35),IF(VLOOKUP(A35,'tekn adm - produktlistor'!$AR$6:$BB$511,11,FALSE)=inköpt,inköpt,'Teknisk administration'!$L$3),'Teknisk administration'!$L$3)","v":"Välj"},1,{"$f":"IF(ISTEXT(A35),VLOOKUP(A35,'tekn adm - produktlistor'!$AR$6:$AV$511,3,FALSE)*C35,0)","v":0},{"$f":"IF(ISTEXT(A35),VLOOKUP($A35,'tekn adm - produktlistor'!$AR$6:$AV$511,4,FALSE)*$C35,0)","v":0},{"$f":"IF(ISTEXT(A35),VLOOKUP($A35,'tekn adm - produktlistor'!$AR$6:$AV$511,5,FALSE)*$C35,0)","v":0},null,null,null,"Förkortning framför kraftfoder indikerar foderleverantör (L = Lantmännen)"]
[null,null,null,{"$f":"IF(ISTEXT(A36),VLOOKUP(A36,'tekn adm - produktlistor'!$AR$6:$AY$511,7,FALSE),0)","v":0},0,0,0,{"$f":"IF(ISTEXT('2.3 Utfodrat'!A36),VLOOKUP('2.3 Utfodrat'!$A36,'tekn adm - produktlistor'!$AR$6:$BA$511,IF(B36='Teknisk administration'!$K$356,10,9),FALSE),0)","v":0},null,null,null,0,0,0,{"$f":"IF(ISTEXT(A36),IF(VLOOKUP(A36,'tekn adm - produktlistor'!$AR$6:$BB$511,11,FALSE)=inköpt,inköpt,'Teknisk administration'!$L$3),'Teknisk administration'!$L$3)","v":"Välj"},1,{"$f":"IF(ISTEXT(A36),VLOOKUP(A36,'tekn adm - produktlistor'!$AR$6:$AV$511,3,FALSE)*C36,0)","v":0},{"$f":"IF(ISTEXT(A36),VLOOKUP($A36,'tekn adm - produktlistor'!$AR$6:$AV$511,4,FALSE)*$C36,0)","v":0},{"$f":"IF(ISTEXT(A36),VLOOKUP($A36,'tekn adm - produktlistor'!$AR$6:$AV$511,5,FALSE)*$C36,0)","v":0},null,null,null,"fodermedelet som jag söker efter:"]
[null,null,null,{"$f":"IF(ISTEXT(A37),VLOOKUP(A37,'tekn adm - produktlistor'!$AR$6:$AY$511,7,FALSE),0)","v":0},0,0,0,{"$f":"IF(ISTEXT('2.3 Utfodrat'!A37),VLOOKUP('2.3 Utfodrat'!$A37,'tekn adm - produktlistor'!$AR$6:$BA$511,IF(B37='Teknisk administration'!$K$356,10,9),FALSE),0)","v":0},null,null,null,0,0,0,{"$f":"IF(ISTEXT(A37),IF(VLOOKUP(A37,'tekn adm - produktlistor'!$AR$6:$BB$511,11,FALSE)=inköpt,inköpt,'Teknisk administration'!$L$3),'Teknisk administration'!$L$3)","v":"Välj"},1,{"$f":"IF(ISTEXT(A37),VLOOKUP(A37,'tekn adm - produktlistor'!$AR$6:$AV$511,3,FALSE)*C37,0)","v":0},{"$f":"IF(ISTEXT(A37),VLOOKUP($A37,'tekn adm - produktlistor'!$AR$6:$AV$511,4,FALSE)*$C37,0)","v":0},{"$f":"IF(ISTEXT(A37),VLOOKUP($A37,'tekn adm - produktlistor'!$AR$6:$AV$511,5,FALSE)*$C37,0)","v":0},null,null,null,"premix"]
[null,null,null,{"$f":"IF(ISTEXT(A38),VLOOKUP(A38,'tekn adm - produktlistor'!$AR$6:$AY$511,7,FALSE),0)","v":0},0,0,0,{"$f":"IF(ISTEXT('2.3 Utfodrat'!A38),VLOOKUP('2.3 Utfodrat'!$A38,'tekn adm - produktlistor'!$AR$6:$BA$511,IF(B38='Teknisk administration'!$K$356,10,9),FALSE),0)","v":0},null,null,null,0,{"$f":"IF($B38=M$18,1,0)","v":0},0,{"$f":"IF(ISTEXT(A38),IF(VLOOKUP(A38,'tekn adm - produktlistor'!$AR$6:$BB$511,11,FALSE)=inköpt,inköpt,'Teknisk administration'!$L$3),'Teknisk administration'!$L$3)","v":"Välj"},1,{"$f":"IF(ISTEXT(A38),VLOOKUP(A38,'tekn adm - produktlistor'!$AR$6:$AV$511,3,FALSE)*C38,0)","v":0},{"$f":"IF(ISTEXT(A38),VLOOKUP($A38,'tekn adm - produktlistor'!$AR$6:$AV$511,4,FALSE)*$C38,0)","v":0},{"$f":"IF(ISTEXT(A38),VLOOKUP($A38,'tekn adm - produktlistor'!$AR$6:$AV$511,5,FALSE)*$C38,0)","v":0}]
[null,null,null,{"$f":"IF(ISTEXT(A39),VLOOKUP(A39,'tekn adm - produktlistor'!$AR$6:$AY$511,7,FALSE),0)","v":0},0,0,0,{"$f":"IF(ISTEXT('2.3 Utfodrat'!A39),VLOOKUP('2.3 Utfodrat'!$A39,'tekn adm - produktlistor'!$AR$6:$BA$511,IF(B39='Teknisk administration'!$K$356,10,9),FALSE),0)","v":0},null,null,null,0,0,0,{"$f":"IF(ISTEXT(A39),IF(VLOOKUP(A39,'tekn adm - produktlistor'!$AR$6:$BB$511,11,FALSE)=inköpt,inköpt,'Teknisk administration'!$L$3),'Teknisk administration'!$L$3)","v":"Välj"},1,{"$f":"IF(ISTEXT(A39),VLOOKUP(A39,'tekn adm - produktlistor'!$AR$6:$AV$511,3,FALSE)*C39,0)","v":0},{"$f":"IF(ISTEXT(A39),VLOOKUP($A39,'tekn adm - produktlistor'!$AR$6:$AV$511,4,FALSE)*$C39,0)","v":0},{"$f":"IF(ISTEXT(A39),VLOOKUP($A39,'tekn adm - produktlistor'!$AR$6:$AV$511,5,FALSE)*$C39,0)","v":0},null,null,null,"Lista över fodermedel att välja på:"]
[null,null,null,{"$f":"IF(ISTEXT(A40),VLOOKUP(A40,'tekn adm - produktlistor'!$AR$6:$AY$511,7,FALSE),0)","v":0},0,0,0,{"$f":"IF(ISTEXT('2.3 Utfodrat'!A40),VLOOKUP('2.3 Utfodrat'!$A40,'tekn adm - produktlistor'!$AR$6:$BA$511,IF(B40='Teknisk administration'!$K$356,10,9),FALSE),0)","v":0},null,null,null,0,0,0,{"$f":"IF(ISTEXT(A40),IF(VLOOKUP(A40,'tekn adm - produktlistor'!$AR$6:$BB$511,11,FALSE)=inköpt,inköpt,'Teknisk administration'!$L$3),'Teknisk administration'!$L$3)","v":"Välj"},1,{"$f":"IF(ISTEXT(A40),VLOOKUP(A40,'tekn adm - produktlistor'!$AR$6:$AV$511,3,FALSE)*C40,0)","v":0},{"$f":"IF(ISTEXT(A40),VLOOKUP($A40,'tekn adm - produktlistor'!$AR$6:$AV$511,4,FALSE)*$C40,0)","v":0},{"$f":"IF(ISTEXT(A40),VLOOKUP($A40,'tekn adm - produktlistor'!$AR$6:$AV$511,5,FALSE)*$C40,0)","v":0},null,null,null,{"$f":"IF(ISTEXT(AL41),AL41,\"--Inga foder hittade, ändra sökningen---\")","v":"L Gårdspremix Vit + Spårämne Slakt  "},null,null,null,null,null,null,null,null,null,null,null,null,null,null,null,"rad nr"]
[null,null,null,{"$f":"IF(ISTEXT(A41),VLOOKUP(A41,'tekn adm - produktlistor'!$AR$6:$AY$511,7,FALSE),0)","v":0},0,0,0,{"$f":"IF(ISTEXT('2.3 Utfodrat'!A41),VLOOKUP('2.3 Utfodrat'!$A41,'tekn adm - produktlistor'!$AR$6:$BA$511,IF(B41='Teknisk administration'!$K$356,10,9),FALSE),0)","v":0},null,null,null,0,0,0,{"$f":"IF(ISTEXT(A41),IF(VLOOKUP(A41,'tekn adm - produktlistor'!$AR$6:$BB$511,11,FALSE)=inköpt,inköpt,'Teknisk administration'!$L$3),'Teknisk administration'!$L$3)","v":"Välj"},1,{"$f":"IF(ISTEXT(A41),VLOOKUP(A41,'tekn adm - produktlistor'!$AR$6:$AV$511,3,FALSE)*C41,0)","v":0},{"$f":"IF(ISTEXT(A41),VLOOKUP($A41,'tekn adm - produktlistor'!$AR$6:$AV$511,4,FALSE)*$C41,0)","v":0},{"$f":"IF(ISTEXT(A41),VLOOKUP($A41,'tekn adm - produktlistor'!$AR$6:$AV$511,5,FALSE)*$C41,0)","v":0},null,null,null,{"$f":"IF(AN42=1,AL42,\"\")","v":"SF Premix 301 Slakt"},null,null,null,null,null,null,null,null,null,null,null,null,null,null,{"$f":"INDEX('tekn adm - produktlistor'!AR6:AR512,MATCH(\"*\"&'2.3 Utfodrat'!$W$37&\"*\",'tekn adm - produktlistor'!AR6:AR512,0))","v":"L Gårdspremix Vit + Spårämne Slakt  "},{"$f":"VLOOKUP(AL41,'tekn adm - produktlistor'!$AR$6:$AW$631,6,FALSE)","v":272},1]
[null,null,null,{"$f":"IF(ISTEXT(A42),VLOOKUP(A42,'tekn adm - produktlistor'!$AR$6:$AY$511,7,FALSE),0)","v":0},0,0,0,{"$f":"IF(ISTEXT('2.3 Utfodrat'!A42),VLOOKUP('2.3 Utfodrat'!$A42,'tekn adm - produktlistor'!$AR$6:$BA$511,IF(B42='Teknisk administration'!$K$356,10,9),FALSE),0)","v":0},null,null,null,0,0,0,{"$f":"IF(ISTEXT(A42),IF(VLOOKUP(A42,'tekn adm - produktlistor'!$AR$6:$BB$511,11,FALSE)=inköpt,inköpt,'Teknisk administration'!$L$3),'Teknisk administration'!$L$3)","v":"Välj"},1,{"$f":"IF(ISTEXT(A42),VLOOKUP(A42,'tekn adm - produktlistor'!$AR$6:$AV$511,3,FALSE)*C42,0)","v":0},{"$f":"IF(ISTEXT(A42),VLOOKUP($A42,'tekn adm - produktlistor'!$AR$6:$AV$511,4,FALSE)*$C42,0)","v":0},{"$f":"IF(ISTEXT(A42),VLOOKUP($A42,'tekn adm - produktlistor'!$AR$6:$AV$511,5,FALSE)*$C42,0)","v":0},null,null,null,{"$f":"IF(AN43=1,AL43,\"\")","v":"SF Premix 302 Slakt"},null,null,null,null,null,null,null,null,null,null,null,null,null,null,{"$f":"INDEX(OFFSET('tekn adm - produktlistor'!$AR$6,AM41,0):'tekn adm - produktlistor'!$AR$511,MATCH(\"*\"&'2.3 Utfodrat'!$W$37&\"*\",OFFSET('tekn adm - produktlistor'!$AR$6,AM41,0):'tekn adm - produktlistor'!$AR$511,0))","v":"SF Premix 301 Slakt"},{"$f":"VLOOKUP(AL42,'tekn adm - produktlistor'!$AR$6:$AW$631,6,FALSE)","v":384},{"$f":"IF(ISNUMBER(AM42),IF(AND(AM42>AM41,AN41=1),1,0),0)","v":1}]
["Summa (kg, kg ts, N, P, K resp MJ)",null,{"$f":"SUM(C34:C42)","v":0},{"$f":"SUMPRODUCT(C34:C42,D34:D42)","v":0},{"$f":"SUM(Q34:Q42)","v":0},{"$f":"SUM(R34:R42)","v":0},{"$f":"SUM(S34:S42)","v":0},{"$f":"SUMPRODUCT(C34:C42,L34:L42)","v":0},null,null,null,null,{"$f":"IF(SUMPRODUCT(C34:C42,H34:H42)+SUMPRODUCT(C19:C24,H19:H24)=0,0,(SUMPRODUCT(C34:C42,H34:H42,M34:M42)+SUMPRODUCT(C19:C24,H19:H24,M19:M24))/(SUMPRODUCT(C34:C42,H34:H42)+SUMPRODUCT(C19:C24,H19:H24)))","v":0},null,null,null,null,null,null,null,null,null,{"$f":"IF(AN44=1,AL44,\"\")","v":"SF Premix 303 Slakt"},null,null,null,null,null,null,null,null,null,null,null,null,null,null,{"$f":"INDEX(OFFSET('tekn adm - produktlistor'!$AR$6,AM42,0):'tekn adm - produktlistor'!$AR$511,MATCH(\"*\"&'2.3 Utfodrat'!$W$37&\"*\",OFFSET('tekn adm - produktlistor'!$AR$6,AM42,0):'tekn adm - produktlistor'!$AR$511,0))","v":"SF Premix 302 Slakt"},{"$f":"VLOOKUP(AL43,'tekn adm - produktlistor'!$AR$6:$AW$631,6,FALSE)","v":385},{"$f":"IF(ISNUMBER(AM43),IF(AND(AM43>AM42,AN42=1),1,0),0)","v":1}]
["Varav i inköpt foder",null,{"$f":"SUMPRODUCT(C34:C42,$P34:$P42)","v":0},{"$f":"SUMPRODUCT(C34:C42,D34:D42,P34:P42)","v":0},{"$f":"SUMPRODUCT(Q34:Q42,$P34:$P42)","v":0},{"$f":"SUMPRODUCT(R34:R42,$P34:$P42)","v":0},{"$f":"SUMPRODUCT(S34:S42,$P34:$P42)","v":0},{"$f":"SUMPRODUCT(L34:L42,$P34:$P42,C34:C42)","v":0},null,null,null,null,null,null,null,null,null,null,null,null,null,null,{"$f":"IF(AN45=1,AL45,\"\")","v":"SF Premix 304 Knorr"},null,null,null,null,null,null,null,null,null,null,null,null,null,null,{"$f":"INDEX(OFFSET('tekn adm - produktlistor'!$AR$6,AM43,0):'tekn adm - produktlistor'!$AR$511,MATCH(\"*\"&'2.3 Utfodrat'!$W$37&\"*\",OFFSET('tekn adm - produktlistor'!$AR$6,AM43,0):'tekn adm - produktlistor'!$AR$511,0))","v":"SF Premix 303 Slakt"},{"$f":"VLOOKUP(AL44,'tekn adm - produktlistor'!$AR$6:$AW$631,6,FALSE)","v":386},1]
["* Om cellen är röd finns inte energiinnehållet i databasen, och du behöver fylla i ett värde för att MJ foder ska kunna beräknas. Varningen släcks när du fyllt i värde. Om cellen är prickig innebär det att du kan skriva in eget värde, om du vill.",null,null,null,null,null,null,null,null,null,null,null,null,null,null,null,null,null,null,null,null,null,{"$f":"IF(AN46=1,AL46,\"\")","v":"SF Premix 305 Slakt"},null,null,null,null,null,null,null,null,null,null,null,null,null,null,{"$f":"INDEX(OFFSET('tekn adm - produktlistor'!$AR$6,AM44,0):'tekn adm - produktlistor'!$AR$511,MATCH(\"*\"&'2.3 Utfodrat'!$W$37&\"*\",OFFSET('tekn adm - produktlistor'!$AR$6,AM44,0):'tekn adm - produktlistor'!$AR$511,0))","v":"SF Premix 304 Knorr"},{"$f":"VLOOKUP(AL45,'tekn adm - produktlistor'!$AR$6:$AW$631,6,FALSE)","v":387},1]
["** Om cellen är orange ska du ange om det är ett inköpt foder (=införd växtnäring) eller eget foder (=tas inte med i beräkning av växtnäringsutnyttjandet). Vissa foder, som inköpta färdigfoder, förutsätts alltid vara inköpta.",null,null,null,null,null,null,null,null,null,null,null,null,null,null,null,null,null,null,null,null,null,{"$f":"IF(AN47=1,AL47,\"\")","v":"SF Premix 401 Sugg"},null,null,null,null,null,null,null,null,null,null,null,null,null,null,{"$f":"INDEX(OFFSET('tekn adm - produktlistor'!$AR$6,AM45,0):'tekn adm - produktlistor'!$AR$511,MATCH(\"*\"&'2.3 Utfodrat'!$W$37&\"*\",OFFSET('tekn adm - produktlistor'!$AR$6,AM45,0):'tekn adm - produktlistor'!$AR$511,0))","v":"SF Premix 305 Slakt"},{"$f":"VLOOKUP(AL46,'tekn adm - produktlistor'!$AR$6:$AW$631,6,FALSE)","v":388},1]
[null,null,null,null,null,null,null,null,null,null,null,null,null,null,null,null,null,null,null,null,null,null,"SF Premix 410 Sugg",null,null,null,null,null,null,null,null,null,null,null,null,null,null,{"$f":"INDEX(OFFSET('tekn adm - produktlistor'!$AR$6,AM46,0):'tekn adm - produktlistor'!$AR$511,MATCH(\"*\"&'2.3 Utfodrat'!$W$37&\"*\",OFFSET('tekn adm - produktlistor'!$AR$6,AM46,0):'tekn adm - produktlistor'!$AR$511,0))","v":"SF Premix 401 Sugg"},{"$f":"VLOOKUP(AL47,'tekn adm - produktlistor'!$AR$6:$AW$631,6,FALSE)","v":389},1]
[null,null,null,null,null,null,null,null,null,null,null,null,null,null,null,null,null,null,null,null,null,null,"SF Premix Grön KRAV PK",null,null,null,null,null,null,null,null,null,null,null,null,null,null,{"$f":"INDEX(OFFSET('tekn adm - produktlistor'!$AR$6,AM47,0):'tekn adm - produktlistor'!$AR$511,MATCH(\"*\"&'2.3 Utfodrat'!$W$37&\"*\",OFFSET('tekn adm - produktlistor'!$AR$6,AM47,0):'tekn adm - produktlistor'!$AR$511,0))","v":"SF Premix 410 Sugg"},{"$f":"VLOOKUP(AL48,'tekn adm - produktlistor'!$AR$6:$AW$631,6,FALSE)","v":390},1]
[null,null,null,null,null,null,null,null,null,null,null,null,null,null,null,null,null,null,null,null,null,null,"",null,null,null,null,null,null,null,null,null,null,null,null,null,null,{"$f":"INDEX(OFFSET('tekn adm - produktlistor'!$AR$6,AM48,0):'tekn adm - produktlistor'!$AR$511,MATCH(\"*\"&'2.3 Utfodrat'!$W$37&\"*\",OFFSET('tekn adm - produktlistor'!$AR$6,AM48,0):'tekn adm - produktlistor'!$AR$511,0))","v":"SF Premix Grön KRAV PK"},{"$f":"VLOOKUP(AL49,'tekn adm - produktlistor'!$AR$6:$AW$631,6,FALSE)","v":391},1]
[{"$f":"\"Summering utfodrat \" &period_1","v":"Summering utfodrat Period 1"},"Enhet","kg","kg ts","MJ","Förklaring",null,null,null,null,null,null,null,null,null,null,null,null,null,null,null,null,"",null,null,null,null,null,null,null,null,null,null,null,null,null,null,{"$f":"INDEX(OFFSET('tekn adm - produktlistor'!$AR$6,AM49,0):'tekn adm - produktlistor'!$AR$511,MATCH(\"*\"&'2.3 Utfodrat'!$W$37&\"*\",OFFSET('tekn adm - produktlistor'!$AR$6,AM49,0):'tekn adm - produktlistor'!$AR$511,0))","v":{"$error":"#N/A"}},{"$f":"VLOOKUP(AL50,'tekn adm - produktlistor'!$AR$6:$AW$631,6,FALSE)","v":{"$error":"#N/A"}},0]
["total mängd utfodrat","totalt",{"$f":"SUM(C52:C53)","v":0},{"$f":"SUM(D52:D53)","v":0},{"$f":"SUM(E52:E53)","v":0},"summering av mängderna enligt alternativ 1 och 2 ovan",null,null,null,null,null,null,null,null,null,null,null,null,null,null,null,null,"",null,null,null,null,null,null,null,null,null,null,null,null,null,null,{"$f":"INDEX(OFFSET('tekn adm - produktlistor'!$AR$6,AM50,0):'tekn adm - produktlistor'!$AR$511,MATCH(\"*\"&'2.3 Utfodrat'!$W$37&\"*\",OFFSET('tekn adm - produktlistor'!$AR$6,AM50,0):'tekn adm - produktlistor'!$AR$511,0))","v":{"$error":"#N/A"}},{"$f":"VLOOKUP(AL51,'tekn adm - produktlistor'!$AR$6:$AW$631,6,FALSE)","v":{"$error":"#N/A"}},0]
["växande","till växande grisar",{"$f":"SUMPRODUCT(C34:C42,M34:M42)+SUMPRODUCT(C19:C24,M19:M24)","v":0},{"$f":"SUMPRODUCT(C34:C42,D34:D42,M34:M42)+SUMPRODUCT(C19:C24,D19:D24,M19:M24)","v":0},{"$f":"SUMPRODUCT(C34:C42,L34:L42,M34:M42)+SUMPRODUCT(C19:C24,H19:H24,M19:M24)","v":0},"varav till växande grisar",null,null,null,null,null,null,null,null,null,null,null,null,null,null,null,null,"",null,null,null,null,null,null,null,null,null,null,null,null,null,null,{"$f":"INDEX(OFFSET('tekn adm - produktlistor'!$AR$6,AM51,0):'tekn adm - produktlistor'!$AR$511,MATCH(\"*\"&'2.3 Utfodrat'!$W$37&\"*\",OFFSET('tekn adm - produktlistor'!$AR$6,AM51,0):'tekn adm - produktlistor'!$AR$511,0))","v":{"$error":"#N/A"}},{"$f":"VLOOKUP(AL52,'tekn adm - produktlistor'!$AR$6:$AW$631,6,FALSE)","v":{"$error":"#N/A"}},0]
["suggor","till suggor",{"$f":"SUMPRODUCT(C34:C42,N34:N42)+SUMPRODUCT(C19:C24,N19:N24)","v":0},{"$f":"SUMPRODUCT(C34:C42,D34:D42,N34:N42)+SUMPRODUCT(C19:C24,D19:D24,N19:N24)","v":0},{"$f":"SUMPRODUCT(C34:C42,L34:L42,N34:N42)+SUMPRODUCT(C19:C24,H19:H24,N19:N24)","v":0},"varav till suggor och gyltor",null,null,null,null,null,null,null,null,null,null,null,null,null,null,null,null,"",null,null,null,null,null,null,null,null,null,null,null,null,null,null,{"$f":"INDEX(OFFSET('tekn adm - produktlistor'!$AR$6,AM52,0):'tekn adm - produktlistor'!$AR$511,MATCH(\"*\"&'2.3 Utfodrat'!$W$37&\"*\",OFFSET('tekn adm - produktlistor'!$AR$6,AM52,0):'tekn adm - produktlistor'!$AR$511,0))","v":{"$error":"#N/A"}},{"$f":"VLOOKUP(AL53,'tekn adm - produktlistor'!$AR$6:$AW$631,6,FALSE)","v":{"$error":"#N/A"}},0]
["Totalt mängd utfodrat dividerat med total mängd kött","per kg kött (inkl förändringar i levandelager)",{"$f":"IF(SUM('6 Resultat'!$Q$35:$Q$37,'6 Resultat'!$Q$38)=0,0,C51/SUM('6 Resultat'!$Q$35:$Q$37,'6 Resultat'!$Q$38))","v":0},{"$f":"IF(SUM('6 Resultat'!$Q$35:$Q$37,'6 Resultat'!$Q$38)=0,0,D51/SUM('6 Resultat'!$Q$35:$Q$37,'6 Resultat'!$Q$38))","v":0},{"$f":"IF(SUM('6 Resultat'!$Q$35:$Q$37,'6 Resultat'!$Q$38)=0,0,E51/SUM('6 Resultat'!$Q$35:$Q$37,'6 Resultat'!$Q$38))","v":0},"Kött från tillväxtgrisar, suggor och ev förändrat levandelager",null,null,null,null,null,null,null,null,null,null,null,null,null,null,null,null,"",null,null,null,null,null,null,null,null,null,null,null,null,null,null,{"$f":"INDEX(OFFSET('tekn adm - produktlistor'!$AR$6,AM53,0):'tekn adm - produktlistor'!$AR$511,MATCH(\"*\"&'2.3 Utfodrat'!$W$37&\"*\",OFFSET('tekn adm - produktlistor'!$AR$6,AM53,0):'tekn adm - produktlistor'!$AR$511,0))","v":{"$error":"#N/A"}},{"$f":"VLOOKUP(AL54,'tekn adm - produktlistor'!$AR$6:$AW$631,6,FALSE)","v":{"$error":"#N/A"}},0]
["växande","per kg kött ",{"$f":"IF(SUM('6 Resultat'!$Q$35:$Q$36)=0,0,C52/SUM('6 Resultat'!$Q$35:$Q$36))","v":0},{"$f":"IF(SUM('6 Resultat'!$Q$35:$Q$36)=0,0,D52/SUM('6 Resultat'!$Q$35:$Q$36))","v":0},{"$f":"IF(SUM('6 Resultat'!$Q$35:$Q$36)=0,0,E52/SUM('6 Resultat'!$Q$35:$Q$36))","v":0},"Per kg kött från tillväxtgrisar",null,null,null,null,null,null,null,null,null,null,null,null,null,null,null,null,"",null,null,null,null,null,null,null,null,null,null,null,null,null,null,{"$f":"INDEX(OFFSET('tekn adm - produktlistor'!$AR$6,AM54,0):'tekn adm - produktlistor'!$AR$511,MATCH(\"*\"&'2.3 Utfodrat'!$W$37&\"*\",OFFSET('tekn adm - produktlistor'!$AR$6,AM54,0):'tekn adm - produktlistor'!$AR$511,0))","v":{"$error":"#N/A"}},{"$f":"VLOOKUP(AL55,'tekn adm - produktlistor'!$AR$6:$AW$631,6,FALSE)","v":{"$error":"#N/A"}},0]
["suggor","per kg kött ",{"$f":"IF('6 Resultat'!$Q$37=0,0,C53/'6 Resultat'!$Q$37)","v":0},{"$f":"IF('6 Resultat'!$Q$37=0,0,D53/'6 Resultat'!$Q$37)","v":0},{"$f":"IF('6 Resultat'!$Q$37=0,0,E53/'6 Resultat'!$Q$37)","v":0},"Per kg kött från suggor",null,null,null,null,null,null,null,null,null,null,null,null,null,null,null,null,"",null,null,null,null,null,null,null,null,null,null,null,null,null,null,{"$f":"INDEX(OFFSET('tekn adm - produktlistor'!$AR$6,AM55,0):'tekn adm - produktlistor'!$AR$511,MATCH(\"*\"&'2.3 Utfodrat'!$W$37&\"*\",OFFSET('tekn adm - produktlistor'!$AR$6,AM55,0):'tekn adm - produktlistor'!$AR$511,0))","v":{"$error":"#N/A"}},{"$f":"VLOOKUP(AL56,'tekn adm - produktlistor'!$AR$6:$AW$631,6,FALSE)","v":{"$error":"#N/A"}},0]
[null,null,null,null,null,null,null,null,null,null,null,null,null,null,null,null,null,null,null,null,null,null,"",null,null,null,null,null,null,null,null,null,null,null,null,null,null,{"$f":"INDEX(OFFSET('tekn adm - produktlistor'!$AR$6,AM56,0):'tekn adm - produktlistor'!$AR$511,MATCH(\"*\"&'2.3 Utfodrat'!$W$37&\"*\",OFFSET('tekn adm - produktlistor'!$AR$6,AM56,0):'tekn adm - produktlistor'!$AR$511,0))","v":{"$error":"#N/A"}},{"$f":"VLOOKUP(AL57,'tekn adm - produktlistor'!$AR$6:$AW$631,6,FALSE)","v":{"$error":"#N/A"}},0]
[null,null,null,null,null,null,null,null,null,null,null,null,null,null,null,null,null,null,null,null,null,null,"",null,null,null,null,null,null,null,null,null,null,null,null,null,null,{"$f":"INDEX(OFFSET('tekn adm - produktlistor'!$AR$6,AM57,0):'tekn adm - produktlistor'!$AR$511,MATCH(\"*\"&'2.3 Utfodrat'!$W$37&\"*\",OFFSET('tekn adm - produktlistor'!$AR$6,AM57,0):'tekn adm - produktlistor'!$AR$511,0))","v":{"$error":"#N/A"}},{"$f":"VLOOKUP(AL58,'tekn adm - produktlistor'!$AR$6:$AW$631,6,FALSE)","v":{"$error":"#N/A"}},0]
[null,null,null,null,null,null,null,null,null,null,null,null,null,null,null,null,null,null,null,null,null,null,"",null,null,null,null,null,null,null,null,null,null,null,null,null,null,{"$f":"INDEX(OFFSET('tekn adm - produktlistor'!$AR$6,AM58,0):'tekn adm - produktlistor'!$AR$511,MATCH(\"*\"&'2.3 Utfodrat'!$W$37&\"*\",OFFSET('tekn adm - produktlistor'!$AR$6,AM58,0):'tekn adm - produktlistor'!$AR$511,0))","v":{"$error":"#N/A"}},{"$f":"VLOOKUP(AL59,'tekn adm - produktlistor'!$AR$6:$AW$631,6,FALSE)","v":{"$error":"#N/A"}},0]
[null,null,null,null,null,null,null,null,null,null,null,null,null,null,null,null,null,null,null,null,null,null,"",null,null,null,null,null,null,null,null,null,null,null,null,null,null,{"$f":"INDEX(OFFSET('tekn adm - produktlistor'!$AR$6,AM59,0):'tekn adm - produktlistor'!$AR$511,MATCH(\"*\"&'2.3 Utfodrat'!$W$37&\"*\",OFFSET('tekn adm - produktlistor'!$AR$6,AM59,0):'tekn adm - produktlistor'!$AR$511,0))","v":{"$error":"#N/A"}},{"$f":"VLOOKUP(AL60,'tekn adm - produktlistor'!$AR$6:$AW$631,6,FALSE)","v":{"$error":"#N/A"}},0]
[null,null,null,null,null,null,null,null,null,null,null,null,null,null,null,null,null,null,null,null,null,null,"",null,null,null,null,null,null,null,null,null,null,null,null,null,null,{"$f":"INDEX(OFFSET('tekn adm - produktlistor'!$AR$6,AM60,0):'tekn adm - produktlistor'!$AR$511,MATCH(\"*\"&'2.3 Utfodrat'!$W$37&\"*\",OFFSET('tekn adm - produktlistor'!$AR$6,AM60,0):'tekn adm - produktlistor'!$AR$511,0))","v":{"$error":"#N/A"}},{"$f":"VLOOKUP(AL61,'tekn adm - produktlistor'!$AR$6:$AW$631,6,FALSE)","v":{"$error":"#N/A"}},0]
[null,null,null,null,null,null,null,null,null,null,null,null,null,null,null,null,null,null,null,null,null,null,"",null,null,null,null,null,null,null,null,null,null,null,null,null,null,{"$f":"INDEX(OFFSET('tekn adm - produktlistor'!$AR$6,AM61,0):'tekn adm - produktlistor'!$AR$511,MATCH(\"*\"&'2.3 Utfodrat'!$W$37&\"*\",OFFSET('tekn adm - produktlistor'!$AR$6,AM61,0):'tekn adm - produktlistor'!$AR$511,0))","v":{"$error":"#N/A"}},{"$f":"VLOOKUP(AL62,'tekn adm - produktlistor'!$AR$6:$AW$631,6,FALSE)","v":{"$error":"#N/A"}},0]
[null,null,null,null,null,null,null,null,null,null,null,null,null,null,null,null,null,null,null,null,null,null,"",null,null,null,null,null,null,null,null,null,null,null,null,null,null,{"$f":"INDEX(OFFSET('tekn adm - produktlistor'!$AR$6,AM62,0):'tekn adm - produktlistor'!$AR$511,MATCH(\"*\"&'2.3 Utfodrat'!$W$37&\"*\",OFFSET('tekn adm - produktlistor'!$AR$6,AM62,0):'tekn adm - produktlistor'!$AR$511,0))","v":{"$error":"#N/A"}},{"$f":"VLOOKUP(AL63,'tekn adm - produktlistor'!$AR$6:$AW$631,6,FALSE)","v":{"$error":"#N/A"}},0]
[null,null,null,null,null,null,null,null,null,null,null,null,null,null,null,null,null,null,null,null,null,null,"",null,null,null,null,null,null,null,null,null,null,null,null,null,null,{"$f":"INDEX(OFFSET('tekn adm - produktlistor'!$AR$6,AM63,0):'tekn adm - produktlistor'!$AR$511,MATCH(\"*\"&'2.3 Utfodrat'!$W$37&\"*\",OFFSET('tekn adm - produktlistor'!$AR$6,AM63,0):'tekn adm - produktlistor'!$AR$511,0))","v":{"$error":"#N/A"}},{"$f":"VLOOKUP(AL64,'tekn adm - produktlistor'!$AR$6:$AW$631,6,FALSE)","v":{"$error":"#N/A"}},0]
[null,null,null,null,null,null,null,null,null,null,null,null,null,null,null,null,null,null,null,null,null,null,"",null,null,null,null,null,null,null,null,null,null,null,null,null,null,{"$f":"INDEX(OFFSET('tekn adm - produktlistor'!$AR$6,AM64,0):'tekn adm - produktlistor'!$AR$511,MATCH(\"*\"&'2.3 Utfodrat'!$W$37&\"*\",OFFSET('tekn adm - produktlistor'!$AR$6,AM64,0):'tekn adm - produktlistor'!$AR$511,0))","v":{"$error":"#N/A"}},{"$f":"VLOOKUP(AL65,'tekn adm - produktlistor'!$AR$6:$AW$631,6,FALSE)","v":{"$error":"#N/A"}},0]
[null,null,null,null,null,null,null,null,null,null,null,null,null,null,null,null,null,null,null,null,null,null,"",null,null,null,null,null,null,null,null,null,null,null,null,null,null,{"$f":"INDEX(OFFSET('tekn adm - produktlistor'!$AR$6,AM65,0):'tekn adm - produktlistor'!$AR$511,MATCH(\"*\"&'2.3 Utfodrat'!$W$37&\"*\",OFFSET('tekn adm - produktlistor'!$AR$6,AM65,0):'tekn adm - produktlistor'!$AR$511,0))","v":{"$error":"#N/A"}},{"$f":"VLOOKUP(AL66,'tekn adm - produktlistor'!$AR$6:$AW$631,6,FALSE)","v":{"$error":"#N/A"}},0]
[{"$f":"Bakgrund!S7","v":"Period 2"},null,null,null,null,null,null,null,null,null,null,null,null,null,null,null,null,null,null,null,null,null,"",null,null,null,null,null,null,null,null,null,null,null,null,null,null,{"$f":"INDEX(OFFSET('tekn adm - produktlistor'!$AR$6,AM66,0):'tekn adm - produktlistor'!$AR$511,MATCH(\"*\"&'2.3 Utfodrat'!$W$37&\"*\",OFFSET('tekn adm - produktlistor'!$AR$6,AM66,0):'tekn adm - produktlistor'!$AR$511,0))","v":{"$error":"#N/A"}},{"$f":"VLOOKUP(AL67,'tekn adm - produktlistor'!$AR$6:$AW$631,6,FALSE)","v":{"$error":"#N/A"}},0]
["Alternativ 1: Lägg in eget recept",null,null,null,null,null,null,null,null,null,"  ",null,null,null,null,null,null,null,null,null,null,null,"",null,null,null,null,null,null,null,null,null,null,null,null,null,null,{"$f":"INDEX(OFFSET('tekn adm - produktlistor'!$AR$6,AM67,0):'tekn adm - produktlistor'!$AR$511,MATCH(\"*\"&'2.3 Utfodrat'!$W$37&\"*\",OFFSET('tekn adm - produktlistor'!$AR$6,AM67,0):'tekn adm - produktlistor'!$AR$511,0))","v":{"$error":"#N/A"}},{"$f":"VLOOKUP(AL68,'tekn adm - produktlistor'!$AR$6:$AW$631,6,FALSE)","v":{"$error":"#N/A"}},0]
["Foder, fritext","Fodret ges till: Välj ur lista!","Mängd (kg)","ts-halt (%)*","Råprotein (g/kg)**","Fosfor \n(g/kg)**","Kalium \n(g/kg)**","Energi \n(MJ NE per kg)***","Inköpt eller eget foder - välj ur lista!","Egen kommentar","  ","    ","växande","suggor","Kolumn3","inköpt",null,null,null,null,null,null,"",null,null,null,null,null,null,null,null,null,null,null,null,null,null,{"$f":"INDEX(OFFSET('tekn adm - produktlistor'!$AR$6,AM68,0):'tekn adm - produktlistor'!$AR$511,MATCH(\"*\"&'2.3 Utfodrat'!$W$37&\"*\",OFFSET('tekn adm - produktlistor'!$AR$6,AM68,0):'tekn adm - produktlistor'!$AR$511,0))","v":{"$error":"#N/A"}},{"$f":"VLOOKUP(AL69,'tekn adm - produktlistor'!$AR$6:$AW$631,6,FALSE)","v":{"$error":"#N/A"}},0]
[null,null,null,0.88,null,null,null,null,null,null,null,null,{"$f":"IF($B70=M$18,1,0)","v":0},{"$f":"IF($B70=N$18,1,0)","v":0},null,{"$f":"IF(OR(I70=inköpt,NOT(ISTEXT(I70))),1,0)","v":1},null,null,null,null,null,null,"",null,null,null,null,null,null,null,null,null,null,null,null,null,null,{"$f":"INDEX(OFFSET('tekn adm - produktlistor'!$AR$6,AM69,0):'tekn adm - produktlistor'!$AR$511,MATCH(\"*\"&'2.3 Utfodrat'!$W$37&\"*\",OFFSET('tekn adm - produktlistor'!$AR$6,AM69,0):'tekn adm - produktlistor'!$AR$511,0))","v":{"$error":"#N/A"}},{"$f":"VLOOKUP(AL70,'tekn adm - produktlistor'!$AR$6:$AW$631,6,FALSE)","v":{"$error":"#N/A"}},0]
[null,null,null,0.88,null,null,null,null,null,null,null,null,{"$f":"IF($B71=M$18,1,0)","v":0},0,null,1,null,null,null,null,null,null,"",null,null,null,null,null,null,null,null,null,null,null,null,null,null,{"$f":"INDEX(OFFSET('tekn adm - produktlistor'!$AR$6,AM70,0):'tekn adm - produktlistor'!$AR$511,MATCH(\"*\"&'2.3 Utfodrat'!$W$37&\"*\",OFFSET('tekn adm - produktlistor'!$AR$6,AM70,0):'tekn adm - produktlistor'!$AR$511,0))","v":{"$error":"#N/A"}},{"$f":"VLOOKUP(AL71,'tekn adm - produktlistor'!$AR$6:$AW$631,6,FALSE)","v":{"$error":"#N/A"}},0]
[null,null,null,0.88,null,null,null,null,null,null,null,null,0,0,null,1,null,null,null,null,null,null,"",null,null,null,null,null,null,null,null,null,null,null,null,null,null,{"$f":"INDEX(OFFSET('tekn adm - produktlistor'!$AR$6,AM71,0):'tekn adm - produktlistor'!$AR$511,MATCH(\"*\"&'2.3 Utfodrat'!$W$37&\"*\",OFFSET('tekn adm - produktlistor'!$AR$6,AM71,0):'tekn adm - produktlistor'!$AR$511,0))","v":{"$error":"#N/A"}},{"$f":"VLOOKUP(AL72,'tekn adm - produktlistor'!$AR$6:$AW$631,6,FALSE)","v":{"$error":"#N/A"}},0]
[null,null,null,0.88,null,null,null,null,null,null,null,null,0,0,null,1,null,null,null,null,null,null,"",null,null,null,null,null,null,null,null,null,null,null,null,null,null,{"$f":"INDEX(OFFSET('tekn adm - produktlistor'!$AR$6,AM72,0):'tekn adm - produktlistor'!$AR$511,MATCH(\"*\"&'2.3 Utfodrat'!$W$37&\"*\",OFFSET('tekn adm - produktlistor'!$AR$6,AM72,0):'tekn adm - produktlistor'!$AR$511,0))","v":{"$error":"#N/A"}},{"$f":"VLOOKUP(AL73,'tekn adm - produktlistor'!$AR$6:$AW$631,6,FALSE)","v":{"$error":"#N/A"}},0]
[null,null,null,0.88,null,null,null,null,null,null,null,null,0,0,null,1,null,null,null,null,null,null,"",null,null,null,null,null,null,null,null,null,null,null,null,null,null,{"$f":"INDEX(OFFSET('tekn adm - produktlistor'!$AR$6,AM73,0):'tekn adm - produktlistor'!$AR$511,MATCH(\"*\"&'2.3 Utfodrat'!$W$37&\"*\",OFFSET('tekn adm - produktlistor'!$AR$6,AM73,0):'tekn adm - produktlistor'!$AR$511,0))","v":{"$error":"#N/A"}},{"$f":"VLOOKUP(AL74,'tekn adm - produktlistor'!$AR$6:$AW$631,6,FALSE)","v":{"$error":"#N/A"}},0]
[null,null,null,0.88,null,null,null,null,null,null,null,null,0,0,null,1,null,null,null,null,null,null,{"$f":"IF(AN75=1,\"--Förfina sökningen för att se fler alternativ--\",\"\")","v":""},null,null,null,null,null,null,null,null,null,null,null,null,null,null,{"$f":"INDEX(OFFSET('tekn adm - produktlistor'!$AR$6,AM74,0):'tekn adm - produktlistor'!$AR$511,MATCH(\"*\"&'2.3 Utfodrat'!$W$37&\"*\",OFFSET('tekn adm - produktlistor'!$AR$6,AM74,0):'tekn adm - produktlistor'!$AR$511,0))","v":{"$error":"#N/A"}},{"$f":"VLOOKUP(AL75,'tekn adm - produktlistor'!$AR$6:$AW$631,6,FALSE)","v":{"$error":"#N/A"}},0]
["Summa (kg, kg ts, N, P, K resp MJ)",null,{"$f":"SUM(C70:C75)","v":0},{"$f":"SUMPRODUCT(C70:C75,D70:D75)","v":0},{"$f":"SUMPRODUCT(C70:C75,E70:E75)/1000/6.25","v":0},{"$f":"SUMPRODUCT(C70:C75,F70:F75)/1000","v":0},{"$f":"SUMPRODUCT(C70:C75,G70:G75)/1000","v":0},{"$f":"SUMPRODUCT(C70:C75,H70:H75)","v":0}]
["Varav i inköpt foder",null,{"$f":"SUMPRODUCT(C70:C75,$P70:$P75)","v":0},{"$f":"SUMPRODUCT(C70:C75,D70:D75,$P70:$P75)","v":0},{"$f":"SUMPRODUCT(C70:C75,E70:E75,P70:P75)/1000/6.25","v":0},{"$f":"SUMPRODUCT(F70:F75,P70:P75,C70:C75)/1000","v":0},{"$f":"SUMPRODUCT(G70:G75,P70:P75,C70:C75)/1000","v":0},{"$f":"SUMPRODUCT(H70:H75,P70:P75,C70:C75)","v":0}]
["*Behåll ts-halten eller skriv över med eget värde"]
["** Ange råprotein, fosfor och kalium som g per kg ts . 1 kg råprotein = 0,16 kg N. Uppgifterna behövs om du ska beräkna växtnäringsutnyttjandet"]
["*** Se hjälptabell till höger!"]
[]
[]
[]
[{"$f":"\"Alternativ 2: Välj bland färdiga schablonfoder, råvaror eller namngivna kraftfoder ur lista. \" &IF(Bakgrund!$BI$37=1,\" Om det behövs, ange om det är ett eget eller inköpt foder (välj ur lista) så överförs resultatet till växtnäringsberäkningarna\",\"\")","v":"Alternativ 2: Välj bland färdiga schablonfoder, råvaror eller namngivna kraftfoder ur lista. "}]
["Foder välj ur lista , eller använd hjälpfunktion till höger!","Fodret ges till: \nVälj ur lista!","Mängd (kg)","ts-halt (%)","Kväve","Fosfor","Kalium","MJ NE per kg, från tabell","MJ NE per kg, eget värde*","Inköpt eller eget foder - välj ur lista om cellen är orange!**","Egen kommentar","MJ/kg, använt","växande","suggor","Kolumn1","Kolumn2","N","P","K"]
[null,null,null,{"$f":"IF(ISTEXT(A86),VLOOKUP(A86,'tekn adm - produktlistor'!$AR$6:$AY$511,7,FALSE),0)","v":0},{"$f":"Q86","v":0},{"$f":"R86","v":0},{"$f":"S86","v":0},{"$f":"IF(ISTEXT('2.3 Utfodrat'!A86),VLOOKUP('2.3 Utfodrat'!$A86,'tekn adm - produktlistor'!$AR$6:$BA$511,IF(B86='Teknisk administration'!$K$356,10,9),FALSE),0)","v":0},null,null,null,{"$f":"IF(AND(I86>0,I86<40),I86,'2.3 Utfodrat'!H86)","v":0},{"$f":"IF($B86=M$18,1,0)","v":0},{"$f":"IF($B86=N$18,1,0)","v":0},{"$f":"IF(ISTEXT(A86),IF(VLOOKUP(A86,'tekn adm - produktlistor'!$AR$6:$BB$511,11,FALSE)=inköpt,inköpt,'Teknisk administration'!$L$3),'Teknisk administration'!$L$3)","v":"Välj"},{"$f":"IF(OR(J86=inköpt,NOT(ISTEXT(J86))),1,0)","v":1},{"$f":"IF(ISTEXT(A86),VLOOKUP(A86,'tekn adm - produktlistor'!$AR$6:$AV$511,3,FALSE)*C86,0)","v":0},{"$f":"IF(ISTEXT(A86),VLOOKUP($A86,'tekn adm - produktlistor'!$AR$6:$AV$511,4,FALSE)*$C86,0)","v":0},{"$f":"IF(ISTEXT(A86),VLOOKUP($A86,'tekn adm - produktlistor'!$AR$6:$AV$511,5,FALSE)*$C86,0)","v":0}]
[null,null,null,{"$f":"IF(ISTEXT(A87),VLOOKUP(A87,'tekn adm - produktlistor'!$AR$6:$AY$511,7,FALSE),0)","v":0},0,0,0,{"$f":"IF(ISTEXT('2.3 Utfodrat'!A87),VLOOKUP('2.3 Utfodrat'!$A87,'tekn adm - produktlistor'!$AR$6:$BA$511,IF(B87='Teknisk administration'!$K$356,10,9),FALSE),0)","v":0},null,null,null,{"$f":"IF(AND(I87>0,I87<40),I87,H87)","v":0},{"$f":"IF($B87=M$18,1,0)","v":0},0,{"$f":"IF(ISTEXT(A87),IF(VLOOKUP(A87,'tekn adm - produktlistor'!$AR$6:$BB$511,11,FALSE)=inköpt,inköpt,'Teknisk administration'!$L$3),'Teknisk administration'!$L$3)","v":"Välj"},1,{"$f":"IF(ISTEXT(A87),VLOOKUP(A87,'tekn adm - produktlistor'!$AR$6:$AV$511,3,FALSE)*C87,0)","v":0},{"$f":"IF(ISTEXT(A87),VLOOKUP($A87,'tekn adm - produktlistor'!$AR$6:$AV$511,4,FALSE)*$C87,0)","v":0},{"$f":"IF(ISTEXT(A87),VLOOKUP($A87,'tekn adm - produktlistor'!$AR$6:$AV$511,5,FALSE)*$C87,0)","v":0}]
[null,null,null,{"$f":"IF(ISTEXT(A88),VLOOKUP(A88,'tekn adm - produktlistor'!$AR$6:$AY$511,7,FALSE),0)","v":0},0,0,0,{"$f":"IF(ISTEXT('2.3 Utfodrat'!A88),VLOOKUP('2.3 Utfodrat'!$A88,'tekn adm - produktlistor'!$AR$6:$BA$511,IF(B88='Teknisk administration'!$K$356,10,9),FALSE),0)","v":0},null,null,null,0,0,0,{"$f":"IF(ISTEXT(A88),IF(VLOOKUP(A88,'tekn adm - produktlistor'!$AR$6:$BB$511,11,FALSE)=inköpt,inköpt,'Teknisk administration'!$L$3),'Teknisk administration'!$L$3)","v":"Välj"},1,{"$f":"IF(ISTEXT(A88),VLOOKUP(A88,'tekn adm - produktlistor'!$AR$6:$AV$511,3,FALSE)*C88,0)","v":0},{"$f":"IF(ISTEXT(A88),VLOOKUP($A88,'tekn adm - produktlistor'!$AR$6:$AV$511,4,FALSE)*$C88,0)","v":0},{"$f":"IF(ISTEXT(A88),VLOOKUP($A88,'tekn adm - produktlistor'!$AR$6:$AV$511,5,FALSE)*$C88,0)","v":0}]
[null,null,null,{"$f":"IF(ISTEXT(A89),VLOOKUP(A89,'tekn adm - produktlistor'!$AR$6:$AY$511,7,FALSE),0)","v":0},0,0,0,{"$f":"IF(ISTEXT('2.3 Utfodrat'!A89),VLOOKUP('2.3 Utfodrat'!$A89,'tekn adm - produktlistor'!$AR$6:$BA$511,IF(B89='Teknisk administration'!$K$356,10,9),FALSE),0)","v":0},null,null,null,0,{"$f":"IF($B89=M$18,1,0)","v":0},{"$f":"IF($B89=N$18,1,0)","v":0},{"$f":"IF(ISTEXT(A89),IF(VLOOKUP(A89,'tekn adm - produktlistor'!$AR$6:$BB$511,11,FALSE)=inköpt,inköpt,'Teknisk administration'!$L$3),'Teknisk administration'!$L$3)","v":"Välj"},1,{"$f":"IF(ISTEXT(A89),VLOOKUP(A89,'tekn adm - produktlistor'!$AR$6:$AV$511,3,FALSE)*C89,0)","v":0},{"$f":"IF(ISTEXT(A89),VLOOKUP($A89,'tekn adm - produktlistor'!$AR$6:$AV$511,4,FALSE)*$C89,0)","v":0},{"$f":"IF(ISTEXT(A89),VLOOKUP($A89,'tekn adm - produktlistor'!$AR$6:$AV$511,5,FALSE)*$C89,0)","v":0}]
[null,null,null,{"$f":"IF(ISTEXT(A90),VLOOKUP(A90,'tekn adm - produktlistor'!$AR$6:$AY$511,7,FALSE),0)","v":0},0,0,0,{"$f":"IF(ISTEXT('2.3 Utfodrat'!A90),VLOOKUP('2.3 Utfodrat'!$A90,'tekn adm - produktlistor'!$AR$6:$BA$511,IF(B90='Teknisk administration'!$K$356,10,9),FALSE),0)","v":0},null,null,null,0,{"$f":"IF($B90=M$18,1,0)","v":0},{"$f":"IF($B90=N$18,1,0)","v":0},{"$f":"IF(ISTEXT(A90),IF(VLOOKUP(A90,'tekn adm - produktlistor'!$AR$6:$BB$511,11,FALSE)=inköpt,inköpt,'Teknisk administration'!$L$3),'Teknisk administration'!$L$3)","v":"Välj"},1,{"$f":"IF(ISTEXT(A90),VLOOKUP(A90,'tekn adm - produktlistor'!$AR$6:$AV$511,3,FALSE)*C90,0)","v":0},{"$f":"IF(ISTEXT(A90),VLOOKUP($A90,'tekn adm - produktlistor'!$AR$6:$AV$511,4,FALSE)*$C90,0)","v":0},{"$f":"IF(ISTEXT(A90),VLOOKUP($A90,'tekn adm - produktlistor'!$AR$6:$AV$511,5,FALSE)*$C90,0)","v":0}]
[null,null,null,{"$f":"IF(ISTEXT(A91),VLOOKUP(A91,'tekn adm - produktlistor'!$AR$6:$AY$511,7,FALSE),0)","v":0},0,0,0,{"$f":"IF(ISTEXT('2.3 Utfodrat'!A91),VLOOKUP('2.3 Utfodrat'!$A91,'tekn adm - produktlistor'!$AR$6:$BA$511,IF(B91='Teknisk administration'!$K$356,10,9),FALSE),0)","v":0},null,null,null,0,0,0,{"$f":"IF(ISTEXT(A91),IF(VLOOKUP(A91,'tekn adm - produktlistor'!$AR$6:$BB$511,11,FALSE)=inköpt,inköpt,'Teknisk administration'!$L$3),'Teknisk administration'!$L$3)","v":"Välj"},1,{"$f":"IF(ISTEXT(A91),VLOOKUP(A91,'tekn adm - produktlistor'!$AR$6:$AV$511,3,FALSE)*C91,0)","v":0},{"$f":"IF(ISTEXT(A91),VLOOKUP($A91,'tekn adm - produktlistor'!$AR$6:$AV$511,4,FALSE)*$C91,0)","v":0},{"$f":"IF(ISTEXT(A91),VLOOKUP($A91,'tekn adm - produktlistor'!$AR$6:$AV$511,5,FALSE)*$C91,0)","v":0}]
[null,null,null,{"$f":"IF(ISTEXT(A92),VLOOKUP(A92,'tekn adm - produktlistor'!$AR$6:$AY$511,7,FALSE),0)","v":0},0,0,0,{"$f":"IF(ISTEXT('2.3 Utfodrat'!A92),VLOOKUP('2.3 Utfodrat'!$A92,'tekn adm - produktlistor'!$AR$6:$BA$511,IF(B92='Teknisk administration'!$K$356,10,9),FALSE),0)","v":0},null,null,null,0,0,0,{"$f":"IF(ISTEXT(A92),IF(VLOOKUP(A92,'tekn adm - produktlistor'!$AR$6:$BB$511,11,FALSE)=inköpt,inköpt,'Teknisk administration'!$L$3),'Teknisk administration'!$L$3)","v":"Välj"},1,{"$f":"IF(ISTEXT(A92),VLOOKUP(A92,'tekn adm - produktlistor'!$AR$6:$AV$511,3,FALSE)*C92,0)","v":0},{"$f":"IF(ISTEXT(A92),VLOOKUP($A92,'tekn adm - produktlistor'!$AR$6:$AV$511,4,FALSE)*$C92,0)","v":0},{"$f":"IF(ISTEXT(A92),VLOOKUP($A92,'tekn adm - produktlistor'!$AR$6:$AV$511,5,FALSE)*$C92,0)","v":0}]
[null,null,null,{"$f":"IF(ISTEXT(A93),VLOOKUP(A93,'tekn adm - produktlistor'!$AR$6:$AY$511,7,FALSE),0)","v":0},0,0,0,{"$f":"IF(ISTEXT('2.3 Utfodrat'!A93),VLOOKUP('2.3 Utfodrat'!$A93,'tekn adm - produktlistor'!$AR$6:$BA$511,IF(B93='Teknisk administration'!$K$356,10,9),FALSE),0)","v":0},null,null,null,0,0,0,{"$f":"IF(ISTEXT(A93),IF(VLOOKUP(A93,'tekn adm - produktlistor'!$AR$6:$BB$511,11,FALSE)=inköpt,inköpt,'Teknisk administration'!$L$3),'Teknisk administration'!$L$3)","v":"Välj"},1,{"$f":"IF(ISTEXT(A93),VLOOKUP(A93,'tekn adm - produktlistor'!$AR$6:$AV$511,3,FALSE)*C93,0)","v":0},{"$f":"IF(ISTEXT(A93),VLOOKUP($A93,'tekn adm - produktlistor'!$AR$6:$AV$511,4,FALSE)*$C93,0)","v":0},{"$f":"IF(ISTEXT(A93),VLOOKUP($A93,'tekn adm - produktlistor'!$AR$6:$AV$511,5,FALSE)*$C93,0)","v":0}]
[null,null,null,{"$f":"IF(ISTEXT(A94),VLOOKUP(A94,'tekn adm - produktlistor'!$AR$6:$AY$511,7,FALSE),0)","v":0},0,0,0,{"$f":"IF(ISTEXT('2.3 Utfodrat'!A94),VLOOKUP('2.3 Utfodrat'!$A94,'tekn adm - produktlistor'!$AR$6:$BA$511,IF(B94='Teknisk administration'!$K$356,10,9),FALSE),0)","v":0},null,null,null,0,0,0,{"$f":"IF(ISTEXT(A94),IF(VLOOKUP(A94,'tekn adm - produktlistor'!$AR$6:$BB$511,11,FALSE)=inköpt,inköpt,'Teknisk administration'!$L$3),'Teknisk administration'!$L$3)","v":"Välj"},1,{"$f":"IF(ISTEXT(A94),VLOOKUP(A94,'tekn adm - produktlistor'!$AR$6:$AV$511,3,FALSE)*C94,0)","v":0},{"$f":"IF(ISTEXT(A94),VLOOKUP($A94,'tekn adm - produktlistor'!$AR$6:$AV$511,4,FALSE)*$C94,0)","v":0},{"$f":"IF(ISTEXT(A94),VLOOKUP($A94,'tekn adm - produktlistor'!$AR$6:$AV$511,5,FALSE)*$C94,0)","v":0}]
["Summa (kg, kg ts, N, P, K resp MJ)",null,{"$f":"SUM(C86:C94)","v":0},{"$f":"SUMPRODUCT(C86:C94,D86:D94)","v":0},{"$f":"SUM(Q86:Q94)","v":0},{"$f":"SUM(R86:R94)","v":0},{"$f":"SUM(S86:S94)","v":0},{"$f":"SUMPRODUCT(C86:C94,L86:L94)","v":0},null,null,null,null,{"$f":"IF(SUMPRODUCT(C86:C94,H86:H94)+SUMPRODUCT(C70:C75,H70:H75)=0,0,(SUMPRODUCT(C86:C94,H86:H94,M86:M94)+SUMPRODUCT(C70:C75,H70:H75,M70:M75))/(SUMPRODUCT(C86:C94,H86:H94)+SUMPRODUCT(C70:C75,H70:H75)))","v":0}]
["Varav i inköpt foder",null,{"$f":"SUMPRODUCT(C86:C94,$P86:$P94)","v":0},{"$f":"SUMPRODUCT(C86:C94,D86:D94,P86:P94)","v":0},{"$f":"SUMPRODUCT(Q86:Q94,$P86:$P94)","v":0},{"$f":"SUMPRODUCT(R86:R94,$P86:$P94)","v":0},{"$f":"SUMPRODUCT(S86:S94,$P86:$P94)","v":0},{"$f":"SUMPRODUCT(L86:L94,$P86:$P94,C86:C94)","v":0}]
["* Om cellen är röd finns inte energiinnehållet i databasen, och du behöver fylla i ett värde för att MJ foder ska kunna beräknas. Varningen släcks när du fyllt i värde. Om cellen är prickig innebär det att du kan skriva in eget värde, om du vill."]
["** Om cellen är orange ska du ange om det är ett inköpt foder (=införd växtnäring) eller eget foder (=tas inte med i beräkning av växtnäringsutnyttjandet). Vissa foder, som inköpta färdigfoder, förutsätts alltid vara inköpta."]
[]
[]
[]
[]
[{"$f":"\"Summering utfodrat \" &period_2","v":"Summering utfodrat Period 2"},"Enhet","kg","kg ts","MJ"]
["total mängd utfodrat","totalt",{"$f":"SUM(C105:C106)","v":0},{"$f":"SUM(D105:D106)","v":0},{"$f":"SUM(E105:E106)","v":0},"summering av mängderna enligt alternativ 1 och 2 ovan"]
["växande","till växande grisar",{"$f":"SUMPRODUCT(C86:C94,M86:M94)+SUMPRODUCT(C70:C75,M70:M75)","v":0},{"$f":"SUMPRODUCT(C86:C94,D86:D94,M86:M94)+SUMPRODUCT(C70:C75,D70:D75,M70:M75)","v":0},{"$f":"SUMPRODUCT(C86:C94,L86:L94,M86:M94)+SUMPRODUCT(C70:C75,H70:H75,M70:M75)","v":0},"varav till växande grisar"]
["suggor","till suggor",{"$f":"SUMPRODUCT(C86:C94,N86:N94)+SUMPRODUCT(C70:C75,N70:N75)","v":0},{"$f":"SUMPRODUCT(C86:C94,D86:D94,N86:N94)+SUMPRODUCT(C70:C75,D70:D75,N70:N75)","v":0},{"$f":"SUMPRODUCT(C86:C94,L86:L94,N86:N94)+SUMPRODUCT(C70:C75,H70:H75,N70:N75)","v":0},"varav till suggor och gyltor"]
["Totalt mängd utfodrat dividerat med total mängd kött","per kg kött (inkl förändringar i levandelager)",{"$f":"IF(SUM('6 Resultat'!$R$35:$R$37,'6 Resultat'!$R$38)=0,0,C104/SUM('6 Resultat'!$R$35:$R$37,'6 Resultat'!$R$38))","v":0},{"$f":"IF(SUM('6 Resultat'!$R$35:$R$37,'6 Resultat'!$R$38)=0,0,D104/SUM('6 Resultat'!$R$35:$R$37,'6 Resultat'!$R$38))","v":0},{"$f":"IF(SUM('6 Resultat'!$R$35:$R$37,'6 Resultat'!$R$38)=0,0,E104/SUM('6 Resultat'!$R$35:$R$37,'6 Resultat'!$R$38))","v":0},"Kött från tillväxtgrisar, suggor och ev förändrat levandelager"]
["växande","per kg kött ",{"$f":"IF(SUM('6 Resultat'!$R$35:$R$36)=0,0,C105/SUM('6 Resultat'!$R$35:$R$36))","v":0},{"$f":"IF(SUM('6 Resultat'!$R$35:$R$36)=0,0,D105/SUM('6 Resultat'!$R$35:$R$36))","v":0},{"$f":"IF(SUM('6 Resultat'!$R$35:$R$36)=0,0,E105/SUM('6 Resultat'!$R$35:$R$36))","v":0},"Per kg kött från tillväxtgrisar"]
["suggor","per kg kött ",{"$f":"IF('6 Resultat'!$R$37=0,0,C106/'6 Resultat'!$R$37)","v":0},{"$f":"IF('6 Resultat'!$R$37=0,0,D106/'6 Resultat'!$R$37)","v":0},{"$f":"IF('6 Resultat'!$R$37=0,0,E106/'6 Resultat'!$R$37)","v":0},"Per kg kött från suggor"]
[]
[]
[]
[]
[]
[]
[]
[]
[]
[{"$f":"Bakgrund!T7","v":"Period 3"}]
["Alternativ 1: Lägg in eget recept"]
["Foder, fritext","Fodret ges till: Välj ur lista!","Mängd (kg)","ts-halt (%)*","Råprotein (g/kg)**","Fosfor \n(g/kg)**","Kalium \n(g/kg)**","Energi \n(MJ NE per kg)***","Inköpt eller eget foder - välj ur lista!","Egen kommentar","  ","     ","växande","suggor","Kolumn3","inköpt?"]
[null,null,null,0.88,null,null,null,null,null,null,null,null,{"$f":"IF($B122=M$18,1,0)","v":0},{"$f":"IF($B122=N$18,1,0)","v":0},null,{"$f":"IF(OR(I122=inköpt,NOT(ISTEXT(I122))),1,0)","v":1}]
[null,null,null,0.88,null,null,null,null,null,null,null,null,{"$f":"IF($B123=M$18,1,0)","v":0},0,null,1]
[null,null,null,0.88,null,null,null,null,null,null,null,null,0,0,null,1]
[null,null,null,0.88,null,null,null,null,null,null,null,null,0,0,null,1]
[null,null,null,0.88,null,null,null,null,null,null,null,null,0,0,null,1]
[null,null,null,0.88,null,null,null,null,null,null,null,null,0,0,null,1]
["Summa (kg, kg ts, N, P, K resp MJ)",null,{"$f":"SUM(C122:C127)","v":0},{"$f":"SUMPRODUCT(C122:C127,D122:D127)","v":0},{"$f":"SUMPRODUCT(C122:C127,E122:E127)/1000/6.25","v":0},{"$f":"SUMPRODUCT(C122:C127,F122:F127)/1000","v":0},{"$f":"SUMPRODUCT(C122:C127,G122:G127)/1000","v":0},{"$f":"SUMPRODUCT(C122:C127,H122:H127)","v":0}]
["Varav i inköpt foder",null,{"$f":"SUMPRODUCT(C122:C127,$P122:$P127)","v":0},{"$f":"SUMPRODUCT(C122:C127,D122:D127,$P122:$P127)","v":0},{"$f":"SUMPRODUCT(C122:C127,E122:E127,P122:P127)/1000/6.25","v":0},{"$f":"SUMPRODUCT(F122:F127,P122:P127,C122:C127)/1000","v":0},{"$f":"SUMPRODUCT(G122:G127,P122:P127,C122:C127)/1000","v":0},{"$f":"SUMPRODUCT(H122:H127,P122:P127,C122:C127)","v":0}]
["*Behåll ts-halten eller skriv över med eget värde"]
["** Ange råprotein, fosfor och kalium som g per kg ts . 1 kg råprotein = 0,16 kg N. Uppgifterna behövs om du ska beräkna växtnäringsutnyttjandet"]
["*** Se hjälptabell till höger!"]
[]
[]
[]
[{"$f":"\"Alternativ 2: Välj bland färdiga schablonfoder, råvaror eller namngivna kraftfoder ur lista. \" &IF(Bakgrund!$BI$37=1,\" Om det behövs, ange om det är ett eget eller inköpt foder (välj ur lista) så överförs resultatet till växtnäringsberäkningarna\",\"\")","v":"Alternativ 2: Välj bland färdiga schablonfoder, råvaror eller namngivna kraftfoder ur lista. "}]
["Foder välj ur lista , eller använd hjälpfunktion till höger!","Fodret ges till: \nVälj ur lista!","Mängd (kg)","ts-halt (%)","Kväve","Fosfor","Kalium","MJ NE per kg, från tabell","MJ NE per kg, eget värde*","Inköpt eller eget foder - välj ur lista om cellen är orange!**","Egen kommentar","MJ/kg, använt","växande","suggor","Kolumn1","Kolumn2","Kväve2","Fosfor3","Kalium4"]
[null,null,null,{"$f":"IF(ISTEXT(A138),VLOOKUP(A138,'tekn adm - produktlistor'!$AR$6:$AY$511,7,FALSE),0)","v":0},{"$f":"Q138","v":0},{"$f":"R138","v":0},{"$f":"S138","v":0},{"$f":"IF(ISTEXT('2.3 Utfodrat'!A138),VLOOKUP('2.3 Utfodrat'!$A138,'tekn adm - produktlistor'!$AR$6:$BA$511,IF(B138='Teknisk administration'!$K$356,10,9),FALSE),0)","v":0},null,null,null,{"$f":"IF(AND(I138>0,I138<40),I138,'2.3 Utfodrat'!H138)","v":0},{"$f":"IF($B138=M$18,1,0)","v":0},{"$f":"IF($B138=N$18,1,0)","v":0},{"$f":"IF(ISTEXT(A138),IF(VLOOKUP(A138,'tekn adm - produktlistor'!$AR$6:$BB$511,11,FALSE)=inköpt,inköpt,'Teknisk administration'!$L$3),'Teknisk administration'!$L$3)","v":"Välj"},{"$f":"IF(OR(J138=inköpt,NOT(ISTEXT(J138))),1,0)","v":1},{"$f":"IF(ISTEXT(A138),VLOOKUP(A138,'tekn adm - produktlistor'!$AR$6:$AV$511,3,FALSE)*C138,0)","v":0},{"$f":"IF(ISTEXT(A138),VLOOKUP($A138,'tekn adm - produktlistor'!$AR$6:$AV$511,4,FALSE)*$C138,0)","v":0},{"$f":"IF(ISTEXT(A138),VLOOKUP($A138,'tekn adm - produktlistor'!$AR$6:$AV$511,5,FALSE)*$C138,0)","v":0}]
[null,null,null,{"$f":"IF(ISTEXT(A139),VLOOKUP(A139,'tekn adm - produktlistor'!$AR$6:$AY$511,7,FALSE),0)","v":0},0,{"$f":"R139","v":0},{"$f":"S139","v":0},{"$f":"IF(ISTEXT('2.3 Utfodrat'!A139),VLOOKUP('2.3 Utfodrat'!$A139,'tekn adm - produktlistor'!$AR$6:$BA$511,IF(B139='Teknisk administration'!$K$356,10,9),FALSE),0)","v":0},null,null,null,{"$f":"IF(AND(I139>0,I139<40),I139,H139)","v":0},{"$f":"IF($B139=M$18,1,0)","v":0},0,{"$f":"IF(ISTEXT(A139),IF(VLOOKUP(A139,'tekn adm - produktlistor'!$AR$6:$BB$511,11,FALSE)=inköpt,inköpt,'Teknisk administration'!$L$3),'Teknisk administration'!$L$3)","v":"Välj"},1,{"$f":"IF(ISTEXT(A139),VLOOKUP(A139,'tekn adm - produktlistor'!$AR$6:$AV$511,3,FALSE)*C139,0)","v":0},{"$f":"IF(ISTEXT(A139),VLOOKUP($A139,'tekn adm - produktlistor'!$AR$6:$AV$511,4,FALSE)*$C139,0)","v":0},{"$f":"IF(ISTEXT(A139),VLOOKUP($A139,'tekn adm - produktlistor'!$AR$6:$AV$511,5,FALSE)*$C139,0)","v":0}]
[null,null,null,{"$f":"IF(ISTEXT(A140),VLOOKUP(A140,'tekn adm - produktlistor'!$AR$6:$AY$511,7,FALSE),0)","v":0},0,0,0,{"$f":"IF(ISTEXT('2.3 Utfodrat'!A140),VLOOKUP('2.3 Utfodrat'!$A140,'tekn adm - produktlistor'!$AR$6:$BA$511,IF(B140='Teknisk administration'!$K$356,10,9),FALSE),0)","v":0},null,null,null,0,0,0,{"$f":"IF(ISTEXT(A140),IF(VLOOKUP(A140,'tekn adm - produktlistor'!$AR$6:$BB$511,11,FALSE)=inköpt,inköpt,'Teknisk administration'!$L$3),'Teknisk administration'!$L$3)","v":"Välj"},1,{"$f":"IF(ISTEXT(A140),VLOOKUP(A140,'tekn adm - produktlistor'!$AR$6:$AV$511,3,FALSE)*C140,0)","v":0},{"$f":"IF(ISTEXT(A140),VLOOKUP($A140,'tekn adm - produktlistor'!$AR$6:$AV$511,4,FALSE)*$C140,0)","v":0},{"$f":"IF(ISTEXT(A140),VLOOKUP($A140,'tekn adm - produktlistor'!$AR$6:$AV$511,5,FALSE)*$C140,0)","v":0}]
[null,null,null,{"$f":"IF(ISTEXT(A141),VLOOKUP(A141,'tekn adm - produktlistor'!$AR$6:$AY$511,7,FALSE),0)","v":0},0,0,0,{"$f":"IF(ISTEXT('2.3 Utfodrat'!A141),VLOOKUP('2.3 Utfodrat'!$A141,'tekn adm - produktlistor'!$AR$6:$BA$511,IF(B141='Teknisk administration'!$K$356,10,9),FALSE),0)","v":0},null,null,null,0,0,0,{"$f":"IF(ISTEXT(A141),IF(VLOOKUP(A141,'tekn adm - produktlistor'!$AR$6:$BB$511,11,FALSE)=inköpt,inköpt,'Teknisk administration'!$L$3),'Teknisk administration'!$L$3)","v":"Välj"},1,{"$f":"IF(ISTEXT(A141),VLOOKUP(A141,'tekn adm - produktlistor'!$AR$6:$AV$511,3,FALSE)*C141,0)","v":0},{"$f":"IF(ISTEXT(A141),VLOOKUP($A141,'tekn adm - produktlistor'!$AR$6:$AV$511,4,FALSE)*$C141,0)","v":0},{"$f":"IF(ISTEXT(A141),VLOOKUP($A141,'tekn adm - produktlistor'!$AR$6:$AV$511,5,FALSE)*$C141,0)","v":0}]
[null,null,null,{"$f":"IF(ISTEXT(A142),VLOOKUP(A142,'tekn adm - produktlistor'!$AR$6:$AY$511,7,FALSE),0)","v":0},0,0,0,{"$f":"IF(ISTEXT('2.3 Utfodrat'!A142),VLOOKUP('2.3 Utfodrat'!$A142,'tekn adm - produktlistor'!$AR$6:$BA$511,IF(B142='Teknisk administration'!$K$356,10,9),FALSE),0)","v":0},null,null,null,0,{"$f":"IF($B142=M$18,1,0)","v":0},{"$f":"IF($B142=N$18,1,0)","v":0},{"$f":"IF(ISTEXT(A142),IF(VLOOKUP(A142,'tekn adm - produktlistor'!$AR$6:$BB$511,11,FALSE)=inköpt,inköpt,'Teknisk administration'!$L$3),'Teknisk administration'!$L$3)","v":"Välj"},1,{"$f":"IF(ISTEXT(A142),VLOOKUP(A142,'tekn adm - produktlistor'!$AR$6:$AV$511,3,FALSE)*C142,0)","v":0},{"$f":"IF(ISTEXT(A142),VLOOKUP($A142,'tekn adm - produktlistor'!$AR$6:$AV$511,4,FALSE)*$C142,0)","v":0},{"$f":"IF(ISTEXT(A142),VLOOKUP($A142,'tekn adm - produktlistor'!$AR$6:$AV$511,5,FALSE)*$C142,0)","v":0}]
[null,null,null,{"$f":"IF(ISTEXT(A143),VLOOKUP(A143,'tekn adm - produktlistor'!$AR$6:$AY$511,7,FALSE),0)","v":0},0,0,0,{"$f":"IF(ISTEXT('2.3 Utfodrat'!A143),VLOOKUP('2.3 Utfodrat'!$A143,'tekn adm - produktlistor'!$AR$6:$BA$511,IF(B143='Teknisk administration'!$K$356,10,9),FALSE),0)","v":0},null,null,null,0,{"$f":"IF($B143=M$18,1,0)","v":0},{"$f":"IF($B143=N$18,1,0)","v":0},{"$f":"IF(ISTEXT(A143),IF(VLOOKUP(A143,'tekn adm - produktlistor'!$AR$6:$BB$511,11,FALSE)=inköpt,inköpt,'Teknisk administration'!$L$3),'Teknisk administration'!$L$3)","v":"Välj"},1,{"$f":"IF(ISTEXT(A143),VLOOKUP(A143,'tekn adm - produktlistor'!$AR$6:$AV$511,3,FALSE)*C143,0)","v":0},{"$f":"IF(ISTEXT(A143),VLOOKUP($A143,'tekn adm - produktlistor'!$AR$6:$AV$511,4,FALSE)*$C143,0)","v":0},{"$f":"IF(ISTEXT(A143),VLOOKUP($A143,'tekn adm - produktlistor'!$AR$6:$AV$511,5,FALSE)*$C143,0)","v":0}]
[null,null,null,{"$f":"IF(ISTEXT(A144),VLOOKUP(A144,'tekn adm - produktlistor'!$AR$6:$AY$511,7,FALSE),0)","v":0},0,0,0,{"$f":"IF(ISTEXT('2.3 Utfodrat'!A144),VLOOKUP('2.3 Utfodrat'!$A144,'tekn adm - produktlistor'!$AR$6:$BA$511,IF(B144='Teknisk administration'!$K$356,10,9),FALSE),0)","v":0},null,null,null,0,0,0,{"$f":"IF(ISTEXT(A144),IF(VLOOKUP(A144,'tekn adm - produktlistor'!$AR$6:$BB$511,11,FALSE)=inköpt,inköpt,'Teknisk administration'!$L$3),'Teknisk administration'!$L$3)","v":"Välj"},1,{"$f":"IF(ISTEXT(A144),VLOOKUP(A144,'tekn adm - produktlistor'!$AR$6:$AV$511,3,FALSE)*C144,0)","v":0},{"$f":"IF(ISTEXT(A144),VLOOKUP($A144,'tekn adm - produktlistor'!$AR$6:$AV$511,4,FALSE)*$C144,0)","v":0},{"$f":"IF(ISTEXT(A144),VLOOKUP($A144,'tekn adm - produktlistor'!$AR$6:$AV$511,5,FALSE)*$C144,0)","v":0}]
[null,null,null,{"$f":"IF(ISTEXT(A145),VLOOKUP(A145,'tekn adm - produktlistor'!$AR$6:$AY$511,7,FALSE),0)","v":0},0,0,0,{"$f":"IF(ISTEXT('2.3 Utfodrat'!A145),VLOOKUP('2.3 Utfodrat'!$A145,'tekn adm - produktlistor'!$AR$6:$BA$511,IF(B145='Teknisk administration'!$K$356,10,9),FALSE),0)","v":0},null,null,null,0,0,0,{"$f":"IF(ISTEXT(A145),IF(VLOOKUP(A145,'tekn adm - produktlistor'!$AR$6:$BB$511,11,FALSE)=inköpt,inköpt,'Teknisk administration'!$L$3),'Teknisk administration'!$L$3)","v":"Välj"},1,{"$f":"IF(ISTEXT(A145),VLOOKUP(A145,'tekn adm - produktlistor'!$AR$6:$AV$511,3,FALSE)*C145,0)","v":0},{"$f":"IF(ISTEXT(A145),VLOOKUP($A145,'tekn adm - produktlistor'!$AR$6:$AV$511,4,FALSE)*$C145,0)","v":0},{"$f":"IF(ISTEXT(A145),VLOOKUP($A145,'tekn adm - produktlistor'!$AR$6:$AV$511,5,FALSE)*$C145,0)","v":0}]
[null,null,null,{"$f":"IF(ISTEXT(A146),VLOOKUP(A146,'tekn adm - produktlistor'!$AR$6:$AY$511,7,FALSE),0)","v":0},0,0,0,{"$f":"IF(ISTEXT('2.3 Utfodrat'!A146),VLOOKUP('2.3 Utfodrat'!$A146,'tekn adm - produktlistor'!$AR$6:$BA$511,IF(B146='Teknisk administration'!$K$356,10,9),FALSE),0)","v":0},null,null,null,0,0,0,{"$f":"IF(ISTEXT(A146),IF(VLOOKUP(A146,'tekn adm - produktlistor'!$AR$6:$BB$511,11,FALSE)=inköpt,inköpt,'Teknisk administration'!$L$3),'Teknisk administration'!$L$3)","v":"Välj"},1,{"$f":"IF(ISTEXT(A146),VLOOKUP(A146,'tekn adm - produktlistor'!$AR$6:$AV$511,3,FALSE)*C146,0)","v":0},{"$f":"IF(ISTEXT(A146),VLOOKUP($A146,'tekn adm - produktlistor'!$AR$6:$AV$511,4,FALSE)*$C146,0)","v":0},{"$f":"IF(ISTEXT(A146),VLOOKUP($A146,'tekn adm - produktlistor'!$AR$6:$AV$511,5,FALSE)*$C146,0)","v":0}]
["Summa (kg, kg ts, N, P, K resp MJ)",null,{"$f":"SUM(C138:C146)","v":0},{"$f":"SUMPRODUCT(C138:C146,D138:D146)","v":0},{"$f":"SUM(Q138:Q146)","v":0},{"$f":"SUM(R138:R146)","v":0},{"$f":"SUM(S138:S146)","v":0},{"$f":"SUMPRODUCT(C138:C146,L138:L146)","v":0},null,null,null,null,{"$f":"IF(SUMPRODUCT(C138:C146,H138:H146)+SUMPRODUCT(C122:C127,H122:H127)=0,0,(SUMPRODUCT(C138:C146,H138:H146,M138:M146)+SUMPRODUCT(C122:C127,H122:H127,M122:M127))/(SUMPRODUCT(C138:C146,H138:H146)+SUMPRODUCT(C122:C127,H122:H127)))","v":0}]
["Varav i inköpt foder",null,{"$f":"SUMPRODUCT(C138:C146,$P138:$P146)","v":0},{"$f":"SUMPRODUCT(C138:C146,D138:D146,P138:P146)","v":0},{"$f":"SUMPRODUCT(Q138:Q146,$P138:$P146)","v":0},{"$f":"SUMPRODUCT(R138:R146,$P138:$P146)","v":0},{"$f":"SUMPRODUCT(S138:S146,$P138:$P146)","v":0},{"$f":"SUMPRODUCT(L138:L146,$P138:$P146,C138:C146)","v":0}]
["* Om cellen är röd finns inte energiinnehållet i databasen, och du behöver fylla i ett värde för att MJ foder ska kunna beräknas. Varningen släcks när du fyllt i värde. Om cellen är prickig innebär det att du kan skriva in eget värde, om du vill."]
["** Om cellen är orange ska du ange om det är ett inköpt foder (=införd växtnäring) eller eget foder (=tas inte med i beräkning av växtnäringsutnyttjandet). Vissa foder, som inköpta färdigfoder, förutsätts alltid vara inköpta."]
[]
[]
[]
[]
[{"$f":"\"Summering utfodrat \" &period_3","v":"Summering utfodrat Period 3"},"Enhet","kg","kg ts","MJ"]
["total mängd utfodrat","totalt",{"$f":"SUM(C157:C158)","v":0},{"$f":"SUM(D157:D158)","v":0},{"$f":"SUM(E157:E158)","v":0},"summering av mängderna enligt alternativ 1 och 2 ovan"]
["växande","till växande grisar",{"$f":"SUMPRODUCT(C138:C146,M138:M146)+SUMPRODUCT(C122:C127,M122:M127)","v":0},{"$f":"SUMPRODUCT(C138:C146,D138:D146,M138:M146)+SUMPRODUCT(C122:C127,D122:D127,M122:M127)","v":0},{"$f":"SUMPRODUCT(C138:C146,L138:L146,M138:M146)+SUMPRODUCT(C122:C127,H122:H127,M122:M127)","v":0},"varav till växande grisar"]
["suggor","till suggor",{"$f":"SUMPRODUCT(C138:C146,N138:N146)+SUMPRODUCT(C122:C127,N122:N127)","v":0},{"$f":"SUMPRODUCT(C138:C146,D138:D146,N138:N146)+SUMPRODUCT(C122:C127,D122:D127,N122:N127)","v":0},{"$f":"SUMPRODUCT(C138:C146,L138:L146,N138:N146)+SUMPRODUCT(C122:C127,H122:H127,N122:N127)","v":0},"varav till suggor och gyltor"]
["Totalt mängd utfodrat dividerat med total mängd kött","per kg kött (inkl förändringar i levandelager)",{"$f":"IF(SUM('6 Resultat'!$S$35:$S$37,'6 Resultat'!$S$38)=0,0,C156/SUM('6 Resultat'!$S$35:$S$37,'6 Resultat'!$S$38))","v":0},{"$f":"IF(SUM('6 Resultat'!$S$35:$S$37,'6 Resultat'!$S$38)=0,0,D156/SUM('6 Resultat'!$S$35:$S$37,'6 Resultat'!$S$38))","v":0},{"$f":"IF(SUM('6 Resultat'!$S$35:$S$37,'6 Resultat'!$S$38)=0,0,E156/SUM('6 Resultat'!$S$35:$S$37,'6 Resultat'!$S$38))","v":0},"Kött från tillväxtgrisar, suggor och ev förändrat levandelager"]
["växande","per kg kött ",{"$f":"IF(SUM('6 Resultat'!$S$35:$S$36)=0,0,C157/SUM('6 Resultat'!$S$35:$S$36))","v":0},{"$f":"IF(SUM('6 Resultat'!$S$35:$S$36)=0,0,D157/SUM('6 Resultat'!$S$35:$S$36))","v":0},{"$f":"IF(SUM('6 Resultat'!$S$35:$S$36)=0,0,E157/SUM('6 Resultat'!$S$35:$S$36))","v":0},"Per kg kött från tillväxtgrisar"]
["suggor","per kg kött ",{"$f":"IF('6 Resultat'!$S$37=0,0,C158/'6 Resultat'!$S$37)","v":0},{"$f":"IF('6 Resultat'!$S$37=0,0,D158/'6 Resultat'!$S$37)","v":0},{"$f":"IF('6 Resultat'!$S$37=0,0,E158/'6 Resultat'!$S$37)","v":0},"Per kg kött från suggor"]

{"sheet":"2.4 Kasserat foder och spill","index":11,"n_rows":61,"n_cols":12,"rows_kept":61,"cut":false,"hidden":false,"merged":[[33,5,34,5],[35,5,36,5],[37,5,38,5],[56,5,57,5],[1,7,1,9],[2,7,2,9],[3,7,3,9],[4,7,4,9],[5,7,5,9],[6,7,6,9],[7,7,7,9]]}
["2.4 Kasserat foder och spill",null,null,null,null,null,null,"Det här betyder färgerna:",null,null,null,"Snabblänkar till bladen i verktyget:"]
[{"$f":"VLOOKUP('2 Intro foder'!B15,'Teknisk administration'!$G$4:$H$6,2,FALSE)","v":"Obligatoriskt blad"},null,null,null,null,null,null,"Cell med värden hämtade från annan cell",null,null,null,"Instruktion"]
["Här beräknas hur mycket foder som kasserats under perioden i form av kasserade balar, mögligt ensilage etc. samt spill i samband med utfodring, t ex nedtrampat foder vid foderhäck eller ratat foder.",null,null,null,null,null,null,"Fyll i din egen siffra",null,null,null,"Bakgrund"]
[null,null,null,null,null,null,null,"Fyll i egen siffra - frivilligt, t ex om du har tillgång till uppgift eller om du vill räkna med annat värde än det schablonvärde som visas i angränsande cell",null,null,null,"1 Intro djuren"]
[null,null,null,null,null,null,null,"Resultat/uträkning",null,null,null,"1.1 Kött"]
[null,null,null,null,null,null,null,"Schablonvärde",null,null,null,"1.2 Tillväxt & förökning"]
["Kasserat foder",null,null,null,null,null,null,"Förklaringar till raden",null,null,null,"1.3 Hälsa & dödlighet"]
["Försök att uppskatta hur hur många lass med dåligt foder som körts bort under hela perioden. Det behöver alltså inte vara kopplat till vad och hur mycket du odlat under perioden.",null,null,null,null,null,null,"Plats för egna kommentarer",null,null,null,"2 Intro foder"]
["Fyll i tabellerna nedan. I tre översta är identiska - fyll i en eller flera beroende på om du vill separera uppgifterna t ex om du kasserat foder med olika volymvikt eller haft olika stora lass. ",null,null,null,null,null,null,null,null,null,null,"2.1 Odling foder"]
["I de två nedersta kan du fylla i ev kasserat ensilage etc. ",null,null,null,null,null,null,null,null,null,null,"2.1b Halm, odling grovfoder"]
[null,null,null,null,null,null,null,null,null,null,null,"2.2 Förluster vid lagring"]
[null,null,null,null,null,null,null,null,null,null,null,"2.3 Utfodrat"]
["Kasserat foder","Enhet",{"$f":"Bakgrund!R$7","v":"Period 1"},{"$f":"Bakgrund!S$7","v":"Period 2"},{"$f":"Bakgrund!T$7","v":"Period 3"},"Förklaring","Egen kommentar",null,"Volymvikter","ref: agriwise",null,"2.4 Kasserat foder och spill"]
["Antal kärror som körs iväg med dåligt foder","st",null,null,null,"Kasserat foder pga skador, mögel, angrepp osv",null,null,"Typ av foder","kg ts per m3",null,"3 Växtnäringsutnyttjande (1)"]
["Mängd per lass","m3",null,null,null,"Volymen (m3) bortforslat foder per lass",null,null,"kraftfoder, pellets",530,null,"3 Växtnäringsutnyttjande (2)"]
["ts i kasserat foder","kg ts per m3",500,500,500,"Fyll i eget värde eller behåll befintligt, se tabell till höger",null,null,"vete, råg",650,null,"3 Växtnäringsutnyttjande (3)"]
["Övrigt kasserat foder","kg ts",{"$f":"C15*C14*C16","v":0},{"$f":"D15*D14*D16","v":0},{"$f":"E15*E14*E16","v":0},"Beräknas som Antal lass*m2 per lass*kg ts per m3",null,null,"korn",570,null,"4 Energi och bränsle"]
[null,null,null,null,null,null,null,null,"havre",500,null,"5 Vattenanvändning"]
["Kasserat foder",null,null,null,null,null,null,null,"trindsäd",700,null,"6 Resultat"]
["Antal kärror som körs iväg med dåligt foder","st",null,null,null,"Kasserat foder pga skador, mögel, angrepp osv",null,null,"potatis, foderbetor etc",150,null,"6B Klimat"]
["mängd per lass etc.","m3",null,null,null,"Volymen (m3) bortforslat foder per lass",null,null,"hö",60]
["ts i kasserat foder","kg ts per m3",500,500,500,"Fyll i eget värde eller behåll befintligt, se tabell till höger",null,null,"halm",50]
["summa","kg ts",{"$f":"C21*C20*C22","v":0},{"$f":"D21*D20*D22","v":0},{"$f":"E21*E20*E22","v":0},"Beräknas som Antal lass*m2 per lass*kg ts per m3"]
[]
["Kasserat foder"]
["Antal kärror som körs iväg med dåligt foder","st",null,null,null,"Kasserat foder pga skador, mögel, angrepp osv"]
["mängd per lass etc.","m3",null,null,null,"Volymen (m3) bortforslat foder per lass"]
["ts i kasserat foder","kg ts per m3",500,500,500,"Fyll i eget värde eller behåll befintligt, se tabell till höger"]
["summa","kg ts",{"$f":"C27*C26*C28","v":0},{"$f":"D27*D26*D28","v":0},{"$f":"E27*E26*E28","v":0},"Beräknas som Antal lass*m2 per lass*kg ts per m3"]
[]
[]
[]
["Kasserade storbalar (ensilage, halm)"]
["Antal kasserade rundbalar","st per år",null,null,null,"Fyll i antal balar som kasserats under perioden"]
["Antal kasserade fyrkantsbalar","st per år"]
["Beräknad mängd ts per rundbalar","kg ts per bal",{"$f":"IF('2.1b Halm, odling grovfoder'!Z58=0,'Teknisk administration'!$C484,'2.1b Halm, odling grovfoder'!Z58)*(1-'2.2 Förluster vid lagring'!C$45)","v":295.00805018534754},{"$f":"IF('2.1b Halm, odling grovfoder'!Z104=0,'Teknisk administration'!$C484,'2.1b Halm, odling grovfoder'!Z104)*(1-'2.2 Förluster vid lagring'!D$45)","v":295.00805018534754},{"$f":"IF('2.1b Halm, odling grovfoder'!Z152=0,'Teknisk administration'!$C484,'2.1b Halm, odling grovfoder'!Z152)*(1-'2.2 Förluster vid lagring'!E$45)","v":295.00805018534754},{"$f":"\"Värde hämtat från bladet \"& '2.1b Halm, odling grovfoder'!A1 &\" om du skördat storbalar under perioden och angett antal skördade balar, annars schablonvärde.\"","v":"Värde hämtat från bladet 2.1b Halm, odling grovfoder om du skördat storbalar under perioden och angett antal skördade balar, annars schablonvärde."}]
["Beräknad mängd ts per fyrkantsbalar","kg ts per bal",{"$f":"IF('2.1b Halm, odling grovfoder'!AA58=0,'Teknisk administration'!$C485,'2.1b Halm, odling grovfoder'!AA58)*(1-'2.2 Förluster vid lagring'!C$45)","v":455.14332863999999},{"$f":"IF('2.1b Halm, odling grovfoder'!AA104=0,'Teknisk administration'!$C485,'2.1b Halm, odling grovfoder'!AA104)*(1-'2.2 Förluster vid lagring'!D$45)","v":455.14332863999999},{"$f":"IF('2.1b Halm, odling grovfoder'!AA152=0,'Teknisk administration'!$C485,'2.1b Halm, odling grovfoder'!AA152)*(1-'2.2 Förluster vid lagring'!E$45)","v":455.14332863999999}]
["Eget värde, mängd ts per rundbal","kg ts per bal",null,null,null,"Här kan du fylla i eget värde om du inte vill använda den beräknade mängden ts per bal enligt ovan"]
["Eget värde, mängd ts per fyrkantsbal","kg ts per bal"]
["Total mängd ts i kasserade storbalar","kg ts",{"$f":"C34*IF(ISNUMBER(C38),C38,C36)+C35*IF(ISNUMBER(C39),C39,C37)","v":0},{"$f":"D34*IF(ISNUMBER(D38),D38,D36)+D35*IF(ISNUMBER(D39),D39,D37)","v":0},{"$f":"E34*IF(ISNUMBER(E38),E38,E36)+E35*IF(ISNUMBER(E39),E39,E37)","v":0}]
[]
["Dåligt ensilage från plan- och tornsilo"]
["Antal lass som körs iväg med dåligt grovfoder från plan- och tornsilo","st",null,null,null,"Antal lass med foder som kasserats foder pga skador, mögel, angrepp osv."]
["Mängd per lass","m3",null,null,null,"Volymen (m3) bortforslat grovfoder per lass"]
["ts i kasserat foder","kg ts per m3",175,175,175,"Fyll i eget värde eller behåll befintligt. Brukar vara 150-200 kg ts per m3 vid ts-halter mellan 23-45 %"]
["Dåligt grovfoder från plan- och tornsilo","kg ts",{"$f":"C44*C43*C45","v":0},{"$f":"D44*D43*D45","v":0},{"$f":"E44*E43*E45","v":0},"Beräknas som Antal lass*m2 per lass*kg ts per m3"]
[]
[]
["Totalt kasserat","kg ts",{"$f":"C40+C46+C17+C23+C29","v":0},{"$f":"D40+D46+D17+D23+D29","v":0},{"$f":"E40+E46+E17+E23+E29","v":0},"Summering av tabellerna ovan"]
[]
[]
[]
[]
["Spill vid utfodring"]
["Här beräknar du mängden foder som inte äts av djuren. Skriv gärna ner hur ofta utfordring sker, och om det varit några problem. "]
[null,"Enhet",{"$f":"Bakgrund!R$7","v":"Period 1"},{"$f":"Bakgrund!S$7","v":"Period 2"},{"$f":"Bakgrund!T$7","v":"Period 3"},"Förklaring","Egen kommentar"]
["Total mängd utfodrat","MJ",{"$f":"'2.3 Utfodrat'!E51","v":0},{"$f":"'2.3 Utfodrat'!E104","v":0},{"$f":"'2.3 Utfodrat'!E156","v":0},{"$f":"\"Hämtas från bladet \"&C_G_Summering","v":"Hämtas från bladet 2.3 Utfodrat"}]
["Total mängd utfodrat","kg ts",{"$f":"'2.3 Utfodrat'!D51","v":0},{"$f":"'2.3 Utfodrat'!D104","v":0},{"$f":"'2.3 Utfodrat'!D156","v":0}]
["Andel av fodret som spills","%",0.02,0.02,0.02,"Fyll i eget värde eller behåll befinligt. "]
["Totala förluster vid utfodring","MJ",{"$f":"C57*C$59","v":0},{"$f":"D57*D$59","v":0},0]
["Totala förluster vid utfodring","kg ts",{"$f":"C58*C$59","v":0},{"$f":"D58*D$59","v":0},0]

{"sheet":"3 Växtnäringsutnyttjande (1)","index":12,"n_rows":102,"n_cols":13,"rows_kept":102,"cut":false,"hidden":false,"merged":[[99,5,99,6],[100,5,100,6],[101,5,101,6],[92,5,92,6],[93,5,93,6],[94,5,94,6],[96,5,96,6],[98,5,98,6],[42,5,42,6],[1,0,1,11],[38,5,38,6],[39,5,39,6],[40,5,40,6],[41,5,41,6],[1,12,1,13],[2,12,2,13],[3,12,3,13],[4,12,4,13],[5,12,5,13],[11,12,11,13],[7,12,7,13],[6,12,6,13],[8,12,8,13],[9,12,9,13],[10,12,10,13]]}
[{"$f":"\"3 Växtnäringsutnyttjande period 1, \" &period_1","v":"3 Växtnäringsutnyttjande period 1, Period 1"},null,null,null,null,null,null,null,null,null,null,null,"Det här betyder färgerna:"]
[{"$f":"IF(Bakgrund!BI37=0,'Teknisk administration'!H6,'Teknisk administration'!H5)","v":"Bladet är inte relevant för dig"},null,null,null,null,null,null,null,null,null,null,null,"Cell med värden hämtade från annan cell"]
["Här beräknar du växtnäringsutnyttjandet, d v s hur många kg inköpt kväve, fosfor och kalium som gått åt för att producera köttet. ",null,null,null,null,null,null,null,null,null,null,null,"Beräkning"]
["Om du säljer grödor kommer du först få göra avräkning för inköpt växtnäring som använts i odlingen av dessa grödor.",null,null,null,null,null,null,null,null,null,null,null,"Fyll i din egen siffra"]
["Det finns två alternativ för att beräkna växtnäringsinsatsen:",null,null,null,null,null,null,null,null,null,null,null,"Fyll i egen siffra - frivilligt, t ex om du har tillgång till uppgift eller om du vill räkna med annat värde än det schablonvärde som visas i angränsande cell"]
["       1) Mata in färdiga resultat, t ex från växtnäringsbalans gjord inom Greppa Näringen. Detta alternativ visas om du redan har en växtnäringsbalans för perioden",null,null,null,null,null,null,null,null,null,null,null,"Egen uppgift, men välj värde ur rullista. "]
["      2) Beräkna mängden växtnäring i inköpta produkter samt sålda grödor. Visas om du inte har en aktuell växtnäringsbalans",null,null,null,null,null,null,null,null,null,null,null,"Resultat/uträkning"]
["Ljusgrå text och vita rutor = avsnittet är inte relevant för dig.",null,null,null,null,null,null,null,null,null,null,null,"Schablonvärde"]
[null,null,null,null,null,null,null,null,null,null,null,null,"Förklaringar till raden"]
[{"$f":"IF(Bakgrund!R13=1,\"\",\"Obs! Perioden är inte ett helt år, och vissa indata behöver anpassas. Instruktioner ges vid aktuella tabeller. Tolkningen av resultaten kan också påverkas, t ex om perioden inte täcker hela växtodlingssäsongen.\")","v":"Obs! Perioden är inte ett helt år, och vissa indata behöver anpassas. Instruktioner ges vid aktuella tabeller. Tolkningen av resultaten kan också påverkas, t ex om perioden inte täcker hela växtodlingssäsongen."},null,null,null,null,null,null,null,null,null,null,null,"Plats för egna kommentarer"]
["Räcker inte raderna till? Infoga ny rad genom att högerklicka i en cell i tabellen och välj Infoga och Tabellrader ovanför",null,null,null,null,null,null,null,null,null,null,null,"Glöm inte att fylla i värde! (Här krävs ett värde för att andra beräkningar ska fungera"]
[null,null,null,null,null,null,null,null,null,null,null,null,"Grå text, ev vit bakgrund: Avsnittet är inte relevant för dig baserat på svaren på ja/nej-frågor på bladet Bakgrund"]
[]
[null,null,null,null,null,null,null,null,null,null,null,null,"Snabblänkar till bladen i verktyget:"]
[null,null,null,null,null,null,null,null,null,null,null,null,"Instruktion"]
[{"$f":"\"Sålda grödor \"& Bakgrund!R7","v":"Sålda grödor Period 1"},null,null,null,null,null,null,null,null,null,null,null,"Bakgrund"]
[{"$f":"IF(Bakgrund!$AT$37=0,\"Du har på bladet Bakgrund svarat att du inte säljer några grödor. Detta avsnitt är därmed inte relevant att fylla i för dig\", \"Här fyller du mängden grödor som du sålt/kommer att sälja av det du odlat aktuell period.\")","v":"Här fyller du mängden grödor som du sålt/kommer att sälja av det du odlat aktuell period."},null,null,null,null,null,null,null,null,null,null,null,"1 Intro djuren"]
[{"$f":"IF(Bakgrund!$AT$37=0,\"\",\"Uppgifterna används för att beräkna växtnäringsinsatsen för de sålda grödorna. Denna växtnäring räknas sedan av från övrig växtnäring som tagit in under perioden så att växtnäringsinsatsen för köttet kan beräknas.\")","v":"Uppgifterna används för att beräkna växtnäringsinsatsen för de sålda grödorna. Denna växtnäring räknas sedan av från övrig växtnäring som tagit in under perioden så att växtnäringsinsatsen för köttet kan beräknas."},null,null,null,null,null,null,null,null,null,null,null,"1.1 Kött"]
[{"$f":"IF(Bakgrund!$AT$37=0,\"\",\"Här antas att växtnäringsinsatsen är 1 kg P och 1 kg K per kg P respektive K i grödan. För N justeras växtnäringsinsatsen utifrån grödans kväveeffektivitet och ev kvävefixering\")","v":"Här antas att växtnäringsinsatsen är 1 kg P och 1 kg K per kg P respektive K i grödan. För N justeras växtnäringsinsatsen utifrån grödans kväveeffektivitet och ev kvävefixering"},null,null,null,null,null,null,null,null,null,null,null,"1.2 Tillväxt & förökning"]
[null,null,null,null,null,null,null,null,null,null,null,null,"1.3 Hälsa & dödlighet"]
[{"$f":"IF(Bakgrund!R13=1,\"\",\"Perioden är inte ett helt år: Justera mängden sålda grödor så att det motsvarar genomsnitt över ett år. Så om perioden är 180 dagar och du på ett helår sålt 20 000 kg korn ska du fylla i 20 000*180/360 = 10 000 kg\")","v":"Perioden är inte ett helt år: Justera mängden sålda grödor så att det motsvarar genomsnitt över ett år. Så om perioden är 180 dagar och du på ett helår sålt 20 000 kg korn ska du fylla i 20 000*180/360 = 10 000 kg"},null,null,null,null,null,null,null,null,null,null,null,"2 Intro foder"]
[null,null,null,"Växtnäringsinsats (kg per gröda)",null,null,null,null,null,null,null,null,"2.1 Odling foder"]
["Gröda","Enhet","Mängd","Kväve","Fosfor","Kalium"," ","N-effektivitet","Kväve2","Fosfor3","Kalium4",null,"2.1b Halm, odling grovfoder"]
[null,{"$f":"IF(ISTEXT(A24),VLOOKUP(A24,'tekn adm - produktlistor'!$X$6:$AB$31,2,FALSE),\"\")","v":""},null,{"$f":"I24","v":0},{"$f":"J24","v":0},{"$f":"K24","v":0},null,{"$f":"IF(ISTEXT(A24),VLOOKUP(A24,'tekn adm - produktlistor'!$X$6:$AC$31,6,FALSE),0)","v":0},{"$f":"IF(ISTEXT(A24),VLOOKUP(A24,'tekn adm - produktlistor'!$X$6:$AB$31,3,FALSE)*C24,0)*H24","v":0},{"$f":"IF(ISTEXT(A24),VLOOKUP(A24,'tekn adm - produktlistor'!$X$6:$AB$31,4,FALSE)*C24,0)","v":0},{"$f":"IF(ISTEXT(A24),VLOOKUP(A24,'tekn adm - produktlistor'!$X$6:$AB$31,5,FALSE)*C24,0)","v":0},null,"2.2 Förluster vid lagring"]
[null,{"$f":"IF(ISTEXT(A25),VLOOKUP(A25,'tekn adm - produktlistor'!$X$6:$AB$31,2,FALSE),\"\")","v":""},null,0,0,0,null,{"$f":"IF(ISTEXT(A25),VLOOKUP(A25,'tekn adm - produktlistor'!$X$6:$AC$31,6,FALSE),0)","v":0},{"$f":"IF(ISTEXT(A25),VLOOKUP(A25,'tekn adm - produktlistor'!$X$6:$AB$31,3,FALSE)*C25,0)*H25","v":0},{"$f":"IF(ISTEXT(A25),VLOOKUP(A25,'tekn adm - produktlistor'!$X$6:$AB$31,4,FALSE)*C25,0)","v":0},{"$f":"IF(ISTEXT(A25),VLOOKUP(A25,'tekn adm - produktlistor'!$X$6:$AB$31,5,FALSE)*C25,0)","v":0},null,"2.3 Utfodrat"]
[null,{"$f":"IF(ISTEXT(A26),VLOOKUP(A26,'tekn adm - produktlistor'!$X$6:$AB$31,2,FALSE),\"\")","v":""},null,0,0,0,null,{"$f":"IF(ISTEXT(A26),VLOOKUP(A26,'tekn adm - produktlistor'!$X$6:$AC$31,6,FALSE),0)","v":0},{"$f":"IF(ISTEXT(A26),VLOOKUP(A26,'tekn adm - produktlistor'!$X$6:$AB$31,3,FALSE)*C26,0)*H26","v":0},{"$f":"IF(ISTEXT(A26),VLOOKUP(A26,'tekn adm - produktlistor'!$X$6:$AB$31,4,FALSE)*C26,0)","v":0},{"$f":"IF(ISTEXT(A26),VLOOKUP(A26,'tekn adm - produktlistor'!$X$6:$AB$31,5,FALSE)*C26,0)","v":0},null,"2.4 Kasserat foder och spill"]
[null,{"$f":"IF(ISTEXT(A27),VLOOKUP(A27,'tekn adm - produktlistor'!$X$6:$AB$31,2,FALSE),\"\")","v":""},null,0,0,0,null,{"$f":"IF(ISTEXT(A27),VLOOKUP(A27,'tekn adm - produktlistor'!$X$6:$AC$31,6,FALSE),0)","v":0},{"$f":"IF(ISTEXT(A27),VLOOKUP(A27,'tekn adm - produktlistor'!$X$6:$AB$31,3,FALSE)*C27,0)*H27","v":0},{"$f":"IF(ISTEXT(A27),VLOOKUP(A27,'tekn adm - produktlistor'!$X$6:$AB$31,4,FALSE)*C27,0)","v":0},{"$f":"IF(ISTEXT(A27),VLOOKUP(A27,'tekn adm - produktlistor'!$X$6:$AB$31,5,FALSE)*C27,0)","v":0},null,"3 Växtnäringsutnyttjande (1)"]
[null,{"$f":"IF(ISTEXT(A28),VLOOKUP(A28,'tekn adm - produktlistor'!$X$6:$AB$31,2,FALSE),\"\")","v":""},null,0,0,0,null,{"$f":"IF(ISTEXT(A28),VLOOKUP(A28,'tekn adm - produktlistor'!$X$6:$AC$31,6,FALSE),0)","v":0},{"$f":"IF(ISTEXT(A28),VLOOKUP(A28,'tekn adm - produktlistor'!$X$6:$AB$31,3,FALSE)*C28,0)*H28","v":0},{"$f":"IF(ISTEXT(A28),VLOOKUP(A28,'tekn adm - produktlistor'!$X$6:$AB$31,4,FALSE)*C28,0)","v":0},{"$f":"IF(ISTEXT(A28),VLOOKUP(A28,'tekn adm - produktlistor'!$X$6:$AB$31,5,FALSE)*C28,0)","v":0},null,"3 Växtnäringsutnyttjande (2)"]
["Summa",null,null,{"$f":"I29","v":0},0,0,null,null,{"$f":"SUBTOTAL(109,'3 Växtnäringsutnyttjande (1)'!$I$24:$I$28)","v":0},{"$f":"SUBTOTAL(109,'3 Växtnäringsutnyttjande (1)'!$J$24:$J$28)","v":0},{"$f":"SUBTOTAL(109,'3 Växtnäringsutnyttjande (1)'!$K$24:$K$28)","v":0},null,"3 Växtnäringsutnyttjande (3)"]
[null,null,null,null,null,null,null,null,null,null,null,null,"4 Energi och bränsle"]
[null,null,null,null,null,null,null,null,null,null,null,null,"5 Vattenanvändning"]
[null,null,null,null,null,null,null,null,null,null,null,null,"6 Resultat"]
[null,null,null,null,null,null,null,null,null,null,null,null,"6B Klimat"]
[{"$f":"\"Inköpta produkter \" & Bakgrund!R7","v":"Inköpta produkter Period 1"}]
["Alternativ 1. Färdigt resultat"]
[]
["Totalt för gården, kg per period. Fyll i uppgifter från växtnäringsbalansen"]
[null,"Kväve","Fosfor","Kalium","Egen kommentar","Förklaring"]
["Tillförsel",null,null,null,null,"växtnäring i inköpta produkter samt kväve från kvävenedfall och ev kvävefixering"]
["Varav:  kvävenedfall"]
["kvävefixering"]
["Bortförsel",null,null,null,null,"bortfört via sålt kött, mjölk, grödor och stallgödsel"]
["Differens:",{"$f":"B39-ABS(B42)","v":0},{"$f":"C39-ABS(C42)","v":0},{"$f":"D39-ABS(D42)","v":0},null,"Positivt värde = överskott. Negativt värde = mer växtnäring bortförs än tillförs via inköpta produkter"]
[]
[]
[]
[]
["Alternativ 2. Beräkna mängden växtnäring själv"]
["Här fyller  du i mängd inköpta produkter som förbrukats under perioden. Justera för ev överlagring av foder, gödsel etc.! "]
[]
["Inköpt foder"]
[{"$f":"\"Uppgifterna hämtas från bladet \"&C_G_Summering&\". Gå tillbaks till det bladet om du vill kontrollera uppgifterna.\"","v":"Uppgifterna hämtas från bladet 2.3 Utfodrat. Gå tillbaks till det bladet om du vill kontrollera uppgifterna."}]
["Inköpt foder","Enhet","ts","Kväve","Fosfor","Kalium","Egen kommentar"]
["Totalt","kg",{"$f":"'2.3 Utfodrat'!D44+'2.3 Utfodrat'!D26","v":0},{"$f":"'2.3 Utfodrat'!E44+'2.3 Utfodrat'!E26","v":0},{"$f":"'2.3 Utfodrat'!F44+'2.3 Utfodrat'!F26","v":0},{"$f":"'2.3 Utfodrat'!G44+'2.3 Utfodrat'!G26","v":0},null,null,{"$f":"'2.3 Utfodrat'!E44+'2.3 Utfodrat'!E26","v":0},{"$f":"'2.3 Utfodrat'!F44+'2.3 Utfodrat'!F26","v":0},{"$f":"'2.3 Utfodrat'!G44+'2.3 Utfodrat'!G26","v":0}]
[]
[]
[{"$f":"IF(Bakgrund!R13=1,\"\",\"Perioden är inte ett helt år: Justera mängden mineralgödsel så att det motsvarar ett genomsnitt över året. Om t ex perioden är 180 dagar och du använt 10 000 kg Axan under hela år, ska du fylla i 10 000*180/360 = 5 000 kg\")","v":"Perioden är inte ett helt år: Justera mängden mineralgödsel så att det motsvarar ett genomsnitt över året. Om t ex perioden är 180 dagar och du använt 10 000 kg Axan under hela år, ska du fylla i 10 000*180/360 = 5 000 kg"}]
["Mineralgödsel","Enhet","Mängd","Kväve","Fosfor","Kalium","Egen kommentar","Kolumn2","Kväve2","Fosfor3","Kalium4"]
[null,{"$f":"IF(ISTEXT(A59),VLOOKUP(A59,'tekn adm - produktlistor'!$B$6:$F$150,2,FALSE),\"\")","v":""},null,{"$f":"I59","v":0},{"$f":"J59","v":0},{"$f":"K59","v":0},null,null,{"$f":"IF(ISTEXT(A59),VLOOKUP(A59,'tekn adm - produktlistor'!$B$6:$F$150,3,FALSE)*C59,0)","v":0},{"$f":"IF(ISTEXT(A59),VLOOKUP(A59,'tekn adm - produktlistor'!$B$6:$F$150,4,FALSE)*C59,0)","v":0},{"$f":"IF(ISTEXT(A59),VLOOKUP(A59,'tekn adm - produktlistor'!$B$6:$F$150,5,FALSE)*C59,0)","v":0}]
[null,{"$f":"IF(ISTEXT(A60),VLOOKUP(A60,'tekn adm - produktlistor'!$B$6:$F$150,2,FALSE),\"\")","v":""},null,0,0,0,null,null,{"$f":"IF(ISTEXT(A60),VLOOKUP(A60,'tekn adm - produktlistor'!$B$6:$F$150,3,FALSE)*C60,0)","v":0},{"$f":"IF(ISTEXT(A60),VLOOKUP(A60,'tekn adm - produktlistor'!$B$6:$F$150,4,FALSE)*C60,0)","v":0},{"$f":"IF(ISTEXT(A60),VLOOKUP(A60,'tekn adm - produktlistor'!$B$6:$F$150,5,FALSE)*C60,0)","v":0}]
[null,{"$f":"IF(ISTEXT(A61),VLOOKUP(A61,'tekn adm - produktlistor'!$B$6:$F$150,2,FALSE),\"\")","v":""},null,0,0,0,null,null,{"$f":"IF(ISTEXT(A61),VLOOKUP(A61,'tekn adm - produktlistor'!$B$6:$F$150,3,FALSE)*C61,0)","v":0},{"$f":"IF(ISTEXT(A61),VLOOKUP(A61,'tekn adm - produktlistor'!$B$6:$F$150,4,FALSE)*C61,0)","v":0},{"$f":"IF(ISTEXT(A61),VLOOKUP(A61,'tekn adm - produktlistor'!$B$6:$F$150,5,FALSE)*C61,0)","v":0}]
[null,{"$f":"IF(ISTEXT(A62),VLOOKUP(A62,'tekn adm - produktlistor'!$B$6:$F$150,2,FALSE),\"\")","v":""},null,0,0,0,null,null,{"$f":"IF(ISTEXT(A62),VLOOKUP(A62,'tekn adm - produktlistor'!$B$6:$F$150,3,FALSE)*C62,0)","v":0},{"$f":"IF(ISTEXT(A62),VLOOKUP(A62,'tekn adm - produktlistor'!$B$6:$F$150,4,FALSE)*C62,0)","v":0},{"$f":"IF(ISTEXT(A62),VLOOKUP(A62,'tekn adm - produktlistor'!$B$6:$F$150,5,FALSE)*C62,0)","v":0}]
[null,{"$f":"IF(ISTEXT(A63),VLOOKUP(A63,'tekn adm - produktlistor'!$B$6:$F$150,2,FALSE),\"\")","v":""},null,0,0,0,null,null,{"$f":"IF(ISTEXT(A63),VLOOKUP(A63,'tekn adm - produktlistor'!$B$6:$F$150,3,FALSE)*C63,0)","v":0},{"$f":"IF(ISTEXT(A63),VLOOKUP(A63,'tekn adm - produktlistor'!$B$6:$F$150,4,FALSE)*C63,0)","v":0},{"$f":"IF(ISTEXT(A63),VLOOKUP(A63,'tekn adm - produktlistor'!$B$6:$F$150,5,FALSE)*C63,0)","v":0}]
["Summa",null,null,{"$f":"I64","v":0},0,0,null,null,{"$f":"SUBTOTAL(109,Tabell91935[Kväve])","v":0},{"$f":"SUBTOTAL(109,Tabell91935[Fosfor])","v":0},{"$f":"SUBTOTAL(109,Tabell91935[Kalium])","v":0}]
[]
[]
[{"$f":"IF(Bakgrund!R13=1,\"\",\"Perioden är inte ett helt år: Justera mängden införd organisk gödsel så att det motsvarar ett genomsnitt över året. Om t ex perioden är 180 dagar och du använt 10 000 kg hönsgödsel under hela år, ska du fylla i 10 000*180/360 = 5 000 kg\")","v":"Perioden är inte ett helt år: Justera mängden införd organisk gödsel så att det motsvarar ett genomsnitt över året. Om t ex perioden är 180 dagar och du använt 10 000 kg hönsgödsel under hela år, ska du fylla i 10 000*180/360 = 5 000 kg"}]
["Enbart införd organisk gödsel, d v s ta inte med egen stallgödsel!"]
["Införd organisk gödsel","Enhet","Mängd","Kväve","Fosfor","Kalium","Egen kommentar","Kolumn2","Kväve2","Fosfor3","Kalium4"]
[null,{"$f":"IF(ISTEXT(A70),VLOOKUP(A70,'tekn adm - produktlistor'!$J$6:$N$97,2,FALSE),\"\")","v":""},null,{"$f":"I70","v":0},{"$f":"J70","v":0},{"$f":"K70","v":0},null,null,{"$f":"IF(ISTEXT(A70),VLOOKUP(A70,'tekn adm - produktlistor'!$J$6:$N$97,3,FALSE)*C70,0)","v":0},{"$f":"IF(ISTEXT(A70),VLOOKUP(A70,'tekn adm - produktlistor'!$J$6:$N$97,4,FALSE)*C70,0)","v":0},{"$f":"IF(ISTEXT(A70),VLOOKUP(A70,'tekn adm - produktlistor'!$J$6:$N$97,3,FALSE)*C70,0)","v":0}]
[null,{"$f":"IF(ISTEXT(A71),VLOOKUP(A71,'tekn adm - produktlistor'!$J$6:$N$97,2,FALSE),\"\")","v":""},null,0,0,0,null,null,{"$f":"IF(ISTEXT(A71),VLOOKUP(A71,'tekn adm - produktlistor'!$J$6:$N$97,3,FALSE)*C71,0)","v":0},{"$f":"IF(ISTEXT(A71),VLOOKUP(A71,'tekn adm - produktlistor'!$J$6:$N$97,4,FALSE)*C71,0)","v":0},{"$f":"IF(ISTEXT(A71),VLOOKUP(A71,'tekn adm - produktlistor'!$J$6:$N$97,3,FALSE)*C71,0)","v":0}]
[null,{"$f":"IF(ISTEXT(A72),VLOOKUP(A72,'tekn adm - produktlistor'!$J$6:$N$97,2,FALSE),\"\")","v":""},null,0,0,{"$f":"K72","v":0},null,null,{"$f":"IF(ISTEXT(A72),VLOOKUP(A72,'tekn adm - produktlistor'!$J$6:$N$97,3,FALSE)*C72,0)","v":0},{"$f":"IF(ISTEXT(A72),VLOOKUP(A72,'tekn adm - produktlistor'!$J$6:$N$97,4,FALSE)*C72,0)","v":0},{"$f":"IF(ISTEXT(A72),VLOOKUP(A72,'tekn adm - produktlistor'!$J$6:$N$97,3,FALSE)*C72,0)","v":0}]
[null,{"$f":"IF(ISTEXT(A73),VLOOKUP(A73,'tekn adm - produktlistor'!$J$6:$N$97,2,FALSE),\"\")","v":""},null,0,0,0,null,null,{"$f":"IF(ISTEXT(A73),VLOOKUP(A73,'tekn adm - produktlistor'!$J$6:$N$97,3,FALSE)*C73,0)","v":0},{"$f":"IF(ISTEXT(A73),VLOOKUP(A73,'tekn adm - produktlistor'!$J$6:$N$97,4,FALSE)*C73,0)","v":0},{"$f":"IF(ISTEXT(A73),VLOOKUP(A73,'tekn adm - produktlistor'!$J$6:$N$97,3,FALSE)*C73,0)","v":0}]
[null,{"$f":"IF(ISTEXT(A74),VLOOKUP(A74,'tekn adm - produktlistor'!$J$6:$N$97,2,FALSE),\"\")","v":""},null,0,0,0,null,null,{"$f":"IF(ISTEXT(A74),VLOOKUP(A74,'tekn adm - produktlistor'!$J$6:$N$97,3,FALSE)*C74,0)","v":0},{"$f":"IF(ISTEXT(A74),VLOOKUP(A74,'tekn adm - produktlistor'!$J$6:$N$97,4,FALSE)*C74,0)","v":0},{"$f":"IF(ISTEXT(A74),VLOOKUP(A74,'tekn adm - produktlistor'!$J$6:$N$97,3,FALSE)*C74,0)","v":0}]
["Summa",null,null,{"$f":"I75","v":0},0,0,null,null,{"$f":"SUBTOTAL(109,Tabell112137[Kväve])","v":0},{"$f":"SUBTOTAL(109,Tabell112137[Fosfor])","v":0},{"$f":"SUBTOTAL(109,Tabell112137[Kalium])","v":0}]
[]
[]
[]
["Utsäde och inköpt strö","Enhet","Mängd","Kväve","Fosfor","Kalium","Egen kommentar","Kolumn2","Kväve2","Fosfor3","Kalium4"]
[null,{"$f":"IF(ISTEXT(A80),VLOOKUP(A80,'tekn adm - produktlistor'!$BO$6:$BS$18,2,FALSE),\"\")","v":""},null,{"$f":"I80","v":0},{"$f":"J80","v":0},{"$f":"K80","v":0},null,null,{"$f":"IF(ISTEXT(A80),VLOOKUP(A80,'tekn adm - produktlistor'!$BO$6:$BS$18,3,FALSE)*C80,0)","v":0},{"$f":"IF(ISTEXT(A80),VLOOKUP(A80,'tekn adm - produktlistor'!$BO$6:$BS$18,4,FALSE)*C80,0)","v":0},{"$f":"IF(ISTEXT(A80),VLOOKUP(A80,'tekn adm - produktlistor'!$BO$6:$BS$18,5,FALSE)*C80,0)","v":0}]
[null,{"$f":"IF(ISTEXT(A81),VLOOKUP(A81,'tekn adm - produktlistor'!$BO$6:$BS$18,2,FALSE),\"\")","v":""},null,0,0,0,null,null,{"$f":"IF(ISTEXT(A81),VLOOKUP(A81,'tekn adm - produktlistor'!$BO$6:$BS$18,3,FALSE)*C81,0)","v":0},{"$f":"IF(ISTEXT(A81),VLOOKUP(A81,'tekn adm - produktlistor'!$BO$6:$BS$18,4,FALSE)*C81,0)","v":0},{"$f":"IF(ISTEXT(A81),VLOOKUP(A81,'tekn adm - produktlistor'!$BO$6:$BS$18,5,FALSE)*C81,0)","v":0}]
[null,{"$f":"IF(ISTEXT(A82),VLOOKUP(A82,'tekn adm - produktlistor'!$BO$6:$BS$18,2,FALSE),\"\")","v":""},null,0,0,0,null,null,{"$f":"IF(ISTEXT(A82),VLOOKUP(A82,'tekn adm - produktlistor'!$BO$6:$BS$18,3,FALSE)*C82,0)","v":0},{"$f":"IF(ISTEXT(A82),VLOOKUP(A82,'tekn adm - produktlistor'!$BO$6:$BS$18,4,FALSE)*C82,0)","v":0},{"$f":"IF(ISTEXT(A82),VLOOKUP(A82,'tekn adm - produktlistor'!$BO$6:$BS$18,5,FALSE)*C82,0)","v":0}]
[null,{"$f":"IF(ISTEXT(A83),VLOOKUP(A83,'tekn adm - produktlistor'!$BO$6:$BS$18,2,FALSE),\"\")","v":""},null,0,0,0,null,null,{"$f":"IF(ISTEXT(A83),VLOOKUP(A83,'tekn adm - produktlistor'!$BO$6:$BS$18,3,FALSE)*C83,0)","v":0},{"$f":"IF(ISTEXT(A83),VLOOKUP(A83,'tekn adm - produktlistor'!$BO$6:$BS$18,4,FALSE)*C83,0)","v":0},{"$f":"IF(ISTEXT(A83),VLOOKUP(A83,'tekn adm - produktlistor'!$BO$6:$BS$18,5,FALSE)*C83,0)","v":0}]
[null,{"$f":"IF(ISTEXT(A84),VLOOKUP(A84,'tekn adm - produktlistor'!$BO$6:$BS$18,2,FALSE),\"\")","v":""},null,0,0,0,null,null,{"$f":"IF(ISTEXT(A84),VLOOKUP(A84,'tekn adm - produktlistor'!$BO$6:$BS$18,3,FALSE)*C84,0)","v":0},{"$f":"IF(ISTEXT(A84),VLOOKUP(A84,'tekn adm - produktlistor'!$BO$6:$BS$18,4,FALSE)*C84,0)","v":0},{"$f":"IF(ISTEXT(A84),VLOOKUP(A84,'tekn adm - produktlistor'!$BO$6:$BS$18,5,FALSE)*C84,0)","v":0}]
["Summa",null,null,{"$f":"I85","v":0},0,0,null,null,{"$f":"SUBTOTAL(109,Tabell122238[Kväve])","v":0},{"$f":"SUBTOTAL(109,Tabell122238[Fosfor])","v":0},{"$f":"SUBTOTAL(109,Tabell122238[Kalium])","v":0}]
[]
[]
[]
[]
["Nyckeltal Växtnäringsutnyttjande per kg kött"]
[]
["Totalt för gården","Enhet","Kväve","Fosfor","Kalium","Förklaring"]
["Tillfört via inköp","kg hela gården",{"$f":"I93","v":0},{"$f":"J93","v":0},0,null,null,null,{"$f":"IF(Bakgrund!$AU$37>0,B39-B40-B41,I64+I75+I85+I54)","v":0},{"$f":"IF(Bakgrund!$AU$37>0,C39-C40-C41,J64+J75+J85+J54)","v":0},{"$f":"IF(Bakgrund!$AU$37>0,D39-D40-D41,K64+K75+K85+K54)","v":0}]
["Varav använt till avsalugrödor","kg hela gården",{"$f":"I94","v":0},{"$f":"J94","v":0},{"$f":"K94","v":0},null,null,null,{"$f":"I29","v":0},{"$f":"J29","v":0},{"$f":"K29","v":0}]
["Differens, till djuren","kg hela gården",0,0,0,"Tillfört minus växtnäring som använts till avsalugrödor. Stor mängd sålda grödor och/eller liten mängd inköpta varor ger lågt värde. Värdena kan t o m bli negativa om stor mängd grödor säljs. Lågt/negativt värde på kväve kan bero på omfattande odling av kvävefixerande grödor - detta kväve är inte inköpt och ingår därför inte i balansen. ",null,null,{"$f":"I93-I94","v":0},{"$f":"J93-J94","v":0},{"$f":"K93-K94","v":0}]
[]
["Växtnäringsinsats","g växtnäring per kg kött",0,{"$f":"J97","v":0},{"$f":"K97","v":0},"Avdrag har gjorts för inköpt växtnäring som går till ev sålda grödor. Lågt värde innebär att det gått åt lite inköpta resurser i form av växtnäring för att producera köttet",null,{"$f":"SUM('6 Resultat'!Q35:'6 Resultat'!Q37)","v":0},{"$f":"IF($H97=0,0,I95/$H97)*1000","v":0},{"$f":"IF($H97=0,0,J95/$H97)*1000","v":0},{"$f":"IF($H97=0,0,K95/$H97)*1000","v":0}]
[]
["Mängd producerat kött","kg",{"$f":"I99","v":0},null,null,"Hämtat från 1.1 Kött",null,null,{"$f":"'1.1 Kött'!S86","v":0}]
[]
["Växtnäringsinnehåll i köttet","kg",{"$f":"I101","v":0},{"$f":"J101","v":0},{"$f":"K101","v":0},"Mängd växtnäring i producerat kött",null,"Grisar",{"$f":"VLOOKUP($H101,'tekn adm - produktlistor'!$BU$6:$BY$11,3,FALSE)*$H97","v":0},{"$f":"VLOOKUP($H101,'tekn adm - produktlistor'!$BU$6:$BY$11,4,FALSE)*$H97","v":0},{"$f":"VLOOKUP($H101,'tekn adm - produktlistor'!$BU$6:$BY$11,5,FALSE)*$H97","v":0}]
["Växtnäringsinsats/växtnäringsinnehåll i köttet","%",{"$f":"I102","v":0},0,0,"Ju lägre tal, desto mer kött har producerats per kg inköpt växtnäring. Obs, i Kväve ingår inte N-fixering, så omfattande odling av kvävefixerande grödor kan ge ett mycket lågt tal.",null,null,{"$f":"IF(I101=0,0,I95/I101)","v":0},{"$f":"IF(J101=0,0,J95/J101)","v":0},{"$f":"IF(K101=0,0,K95/K101)","v":0}]

{"sheet":"3 Växtnäringsutnyttjande (2)","index":13,"n_rows":104,"n_cols":13,"rows_kept":104,"cut":false,"hidden":false,"merged":[[103,5,103,6],[100,5,100,6],[95,5,95,6],[96,5,96,6],[10,12,10,15],[98,5,98,6],[42,5,42,6],[101,5,101,6],[102,5,102,6],[41,5,41,6],[94,5,94,6],[11,12,11,15],[1,0,1,11],[38,5,38,6],[39,5,39,6],[40,5,40,6],[1,12,1,15],[2,12,2,15],[3,12,3,15],[4,12,4,15],[5,12,5,15],[6,12,6,15],[7,12,7,15],[8,12,8,15],[9,12,9,15]]}
[{"$f":"\"3 Växtnäringsutnyttjande period 2, \" &period_2","v":"3 Växtnäringsutnyttjande period 2, Period 2"},null,null,null,null,null,null,null,null,null,null,null,"Det här betyder färgerna:"]
[{"$f":"IF(Bakgrund!BI37=0,'Teknisk administration'!H6,'Teknisk administration'!H5)","v":"Bladet är inte relevant för dig"},null,null,null,null,null,null,null,null,null,null,null,"Cell med värden hämtade från annan cell"]
["Här beräknar du växtnäringsutnyttjandet, d v s hur många kg inköpt kväve, fosfor och kalium som gått åt för att producera köttet. ",null,null,null,null,null,null,null,null,null,null,null,"Beräkning"]
["Om du säljer grödor kommer du först få göra avräkning för inköpt växtnäring som använts i odlingen av dessa grödor.",null,null,null,null,null,null,null,null,null,null,null,"Fyll i din egen siffra"]
["Det finns två alternativ för att beräkna växtnäringsinsatsen:",null,null,null,null,null,null,null,null,null,null,null,"Fyll i egen siffra - frivilligt, t ex om du har tillgång till uppgift eller om du vill räkna med annat värde än det schablonvärde som visas i angränsande cell"]
["       1) Mata in färdiga resultat, t ex från växtnäringsbalans gjord inom Greppa Näringen. Detta alternativ visas om du redan har en växtnäringsbalans för perioden",null,null,null,null,null,null,null,null,null,null,null,"Egen uppgift, men välj värde ur rullista. "]
["      2) Beräkna mängden växtnäring i inköpta produkter samt sålda grödor. Visas om du inte har en aktuell växtnäringsbalans",null,null,null,null,null,null,null,null,null,null,null,"Resultat/uträkning"]
["Ljusgrå text och vita rutor = avsnittet är inte relevant för dig.",null,null,null,null,null,null,null,null,null,null,null,"Schablonvärde"]
[null,null,null,null,null,null,null,null,null,null,null,null,"Förklaringar till raden"]
[{"$f":"IF(Bakgrund!S13=1,\"\",\"Obs! Perioden är inte ett helt år, och vissa indata behöver anpassas. Instruktioner ges vid aktuella tabeller. Tolkningen av resultaten kan också påverkas, t ex om perioden inte täcker hela växtodlingssäsongen.\")","v":"Obs! Perioden är inte ett helt år, och vissa indata behöver anpassas. Instruktioner ges vid aktuella tabeller. Tolkningen av resultaten kan också påverkas, t ex om perioden inte täcker hela växtodlingssäsongen."},null,null,null,null,null,null,null,null,null,null,null,"Plats för egna kommentarer"]
["Räcker inte raderna till? Infoga ny rad genom att högerklicka i en cell i tabellen och välj Infoga och Tabellrader ovanför",null,null,null,null,null,null,null,null,null,null,null,"Glöm inte att fylla i värde! (Här krävs ett värde för att andra beräkningar ska fungera"]
[null,null,null,null,null,null,null,null,null,null,null,null,"grå text, ev vit bakgrund: Avsnittet är inte relevant för dig baserat på svaren på ja/nej-frågor på bladet Bakgrund"]
[]
[null,null,null,null,null,null,null,null,null,null,null,null,"Snabblänkar till bladen i verktyget:"]
[null,null,null,null,null,null,null,null,null,null,null,null,"Instruktion"]
[{"$f":"\"Sålda grödor \"& Bakgrund!S7","v":"Sålda grödor Period 2"},null,null,null,null,null,null,null,null,null,null,null,"Bakgrund"]
[{"$f":"IF(Bakgrund!$AT$37=0,\"Du har på bladet Bakgrund svarat att du inte säljer några grödor. Detta avsnitt är därmed inte relevant att fylla i för dig\", \"Här fyller du mängden grödor som du sålt/kommer att sälja av det du odlat aktuell period.\")","v":"Här fyller du mängden grödor som du sålt/kommer att sälja av det du odlat aktuell period."},null,null,null,null,null,null,null,null,null,null,null,"1 Intro djuren"]
[{"$f":"IF(Bakgrund!$AT$37=0,\"\",\"Uppgifterna används för att beräkna växtnäringsinsatsen för de sålda grödorna. Denna växtnäring räknas sedan av från övrig växtnäring som tagit in under perioden så att växtnäringsinsatsen för köttet kan beräknas.\")","v":"Uppgifterna används för att beräkna växtnäringsinsatsen för de sålda grödorna. Denna växtnäring räknas sedan av från övrig växtnäring som tagit in under perioden så att växtnäringsinsatsen för köttet kan beräknas."},null,null,null,null,null,null,null,null,null,null,null,"1.1 Kött"]
[{"$f":"IF(Bakgrund!$AT$37=0,\"\",\"Här antas att växtnäringsinsatsen är 1 kg P och 1 kg K per kg P respektive K i grödan. För N justeras växtnäringsinsatsen utifrån grödans kväveeffektivitet och ev kvävefixering\")","v":"Här antas att växtnäringsinsatsen är 1 kg P och 1 kg K per kg P respektive K i grödan. För N justeras växtnäringsinsatsen utifrån grödans kväveeffektivitet och ev kvävefixering"},null,null,null,null,null,null,null,null,null,null,null,"1.2 Tillväxt & förökning"]
[null,null,null,null,null,null,null,null,null,null,null,null,"1.3 Hälsa & dödlighet"]
[{"$f":"IF(Bakgrund!S13=1,\"\",\"Perioden är inte ett helt år: Justera mängden sålda grödor så att det motsvarar genomsnitt över ett år. Så om perioden är 180 dagar och du på ett helår sålt 20 000 kg korn ska du fylla i 20 000*180/360 = 10 000 kg\")","v":"Perioden är inte ett helt år: Justera mängden sålda grödor så att det motsvarar genomsnitt över ett år. Så om perioden är 180 dagar och du på ett helår sålt 20 000 kg korn ska du fylla i 20 000*180/360 = 10 000 kg"},null,null,null,null,null,null,null,null,null,null,null,"2 Intro foder"]
[null,null,null,"Växtnäringsinsats (kg per gröda)",null,null,null,null,null,null,null,null,"2.1 Odling foder"]
["Gröda","Enhet","Mängd","Kväve","Fosfor","Kalium"," ","N-effektivitet","Kväve2","Fosfor3","Kalium4",null,"2.1b Halm, odling grovfoder"]
[null,{"$f":"IF(ISTEXT(A24),VLOOKUP(A24,'tekn adm - produktlistor'!$X$6:$AB$31,2,FALSE),\"\")","v":""},null,{"$f":"I24","v":0},{"$f":"J24","v":0},{"$f":"K24","v":0},null,{"$f":"IF(ISTEXT(A24),VLOOKUP(A24,'tekn adm - produktlistor'!$X$6:$AC$31,6,FALSE),0)","v":0},{"$f":"IF(ISTEXT(A24),VLOOKUP(A24,'tekn adm - produktlistor'!$X$6:$AB$31,3,FALSE)*C24,0)*H24","v":0},{"$f":"IF(ISTEXT(A24),VLOOKUP(A24,'tekn adm - produktlistor'!$X$6:$AB$31,4,FALSE)*C24,0)","v":0},{"$f":"IF(ISTEXT(A24),VLOOKUP(A24,'tekn adm - produktlistor'!$X$6:$AB$31,5,FALSE)*C24,0)","v":0},null,"2.2 Förluster vid lagring"]
[null,{"$f":"IF(ISTEXT(A25),VLOOKUP(A25,'tekn adm - produktlistor'!$X$6:$AB$31,2,FALSE),\"\")","v":""},null,0,0,0,null,{"$f":"IF(ISTEXT(A25),VLOOKUP(A25,'tekn adm - produktlistor'!$X$6:$AC$31,6,FALSE),0)","v":0},{"$f":"IF(ISTEXT(A25),VLOOKUP(A25,'tekn adm - produktlistor'!$X$6:$AB$31,3,FALSE)*C25,0)*H25","v":0},{"$f":"IF(ISTEXT(A25),VLOOKUP(A25,'tekn adm - produktlistor'!$X$6:$AB$31,4,FALSE)*C25,0)","v":0},{"$f":"IF(ISTEXT(A25),VLOOKUP(A25,'tekn adm - produktlistor'!$X$6:$AB$31,5,FALSE)*C25,0)","v":0},null,"2.3 Utfodrat"]
[null,{"$f":"IF(ISTEXT(A26),VLOOKUP(A26,'tekn adm - produktlistor'!$X$6:$AB$31,2,FALSE),\"\")","v":""},null,0,0,0,null,{"$f":"IF(ISTEXT(A26),VLOOKUP(A26,'tekn adm - produktlistor'!$X$6:$AC$31,6,FALSE),0)","v":0},{"$f":"IF(ISTEXT(A26),VLOOKUP(A26,'tekn adm - produktlistor'!$X$6:$AB$31,3,FALSE)*C26,0)*H26","v":0},{"$f":"IF(ISTEXT(A26),VLOOKUP(A26,'tekn adm - produktlistor'!$X$6:$AB$31,4,FALSE)*C26,0)","v":0},{"$f":"IF(ISTEXT(A26),VLOOKUP(A26,'tekn adm - produktlistor'!$X$6:$AB$31,5,FALSE)*C26,0)","v":0},null,"2.4 Kasserat foder och spill"]
[null,{"$f":"IF(ISTEXT(A27),VLOOKUP(A27,'tekn adm - produktlistor'!$X$6:$AB$31,2,FALSE),\"\")","v":""},null,0,0,0,null,{"$f":"IF(ISTEXT(A27),VLOOKUP(A27,'tekn adm - produktlistor'!$X$6:$AC$31,6,FALSE),0)","v":0},{"$f":"IF(ISTEXT(A27),VLOOKUP(A27,'tekn adm - produktlistor'!$X$6:$AB$31,3,FALSE)*C27,0)*H27","v":0},{"$f":"IF(ISTEXT(A27),VLOOKUP(A27,'tekn adm - produktlistor'!$X$6:$AB$31,4,FALSE)*C27,0)","v":0},{"$f":"IF(ISTEXT(A27),VLOOKUP(A27,'tekn adm - produktlistor'!$X$6:$AB$31,5,FALSE)*C27,0)","v":0},null,"3 Växtnäringsutnyttjande (1)"]
[null,{"$f":"IF(ISTEXT(A28),VLOOKUP(A28,'tekn adm - produktlistor'!$X$6:$AB$31,2,FALSE),\"\")","v":""},null,0,0,0,null,{"$f":"IF(ISTEXT(A28),VLOOKUP(A28,'tekn adm - produktlistor'!$X$6:$AC$31,6,FALSE),0)","v":0},{"$f":"IF(ISTEXT(A28),VLOOKUP(A28,'tekn adm - produktlistor'!$X$6:$AB$31,3,FALSE)*C28,0)*H28","v":0},{"$f":"IF(ISTEXT(A28),VLOOKUP(A28,'tekn adm - produktlistor'!$X$6:$AB$31,4,FALSE)*C28,0)","v":0},{"$f":"IF(ISTEXT(A28),VLOOKUP(A28,'tekn adm - produktlistor'!$X$6:$AB$31,5,FALSE)*C28,0)","v":0},null,"3 Växtnäringsutnyttjande (2)"]
["Summa",null,null,{"$f":"I29","v":0},0,{"$f":"K29","v":0},null,null,{"$f":"SUBTOTAL(109,'3 Växtnäringsutnyttjande (2)'!$I$24:$I$28)","v":0},{"$f":"SUBTOTAL(109,'3 Växtnäringsutnyttjande (2)'!$J$24:$J$28)","v":0},{"$f":"SUBTOTAL(109,'3 Växtnäringsutnyttjande (2)'!$K$24:$K$28)","v":0},null,"3 Växtnäringsutnyttjande (3)"]
[null,null,null,null,null,null,null,null,null,null,null,null,"4 Energi och bränsle"]
[null,null,null,null,null,null,null,null,null,null,null,null,"5 Vattenanvändning"]
[null,null,null,null,null,null,null,null,null,null,null,null,"6 Resultat"]
[null,null,null,null,null,null,null,null,null,null,null,null,"6B Klimat"]
[{"$f":"\"Inköpta produkter \" & Bakgrund!S7","v":"Inköpta produkter Period 2"}]
["Alternativ 1. Färdigt resultat"]
[]
["Totalt för gården, kg per period. Fyll i uppgifter från växtnäringsbalansen"]
[null,"Kväve","Fosfor","Kalium","Egen kommentar","Förklaring"]
["Tillförsel",null,null,null,null,"växtnäring i inköpta produkter samt kväve från kvävenedfall och ev kvävefixering"]
["Varav:  kvävenedfall"]
["kvävefixering"]
["Bortförsel",null,null,null,null,"bortfört via sålt kött, mjölk, grödor och stallgödsel"]
["Differens:",{"$f":"B39-ABS(B42)","v":0},{"$f":"C39-ABS(C42)","v":0},{"$f":"D39-ABS(D42)","v":0},null,"Positivt värde = överskott. Negativt värde = mer växtnäring bortförs än tillförs via inköpta produkter"]
[]
[]
[]
[]
["Alternativ 2. Beräkna mängden växtnäring själv"]
["Här fyller  du i mängd inköpta produkter som förbrukats under perioden. Justera för ev överlagring av foder, gödsel etc.! "]
[]
["Inköpt foder"]
[{"$f":"\"Uppgifterna hämtas från bladet \"&C_G_Summering&\". Gå tillbaks till det bladet om du vill kontrollera uppgifterna.\"","v":"Uppgifterna hämtas från bladet 2.3 Utfodrat. Gå tillbaks till det bladet om du vill kontrollera uppgifterna."}]
["Inköpt foder","Enhet","ts","Kväve","Fosfor","Kalium","Egen kommentar"]
["Totalt","kg",{"$f":"'2.3 Utfodrat'!D96+'2.3 Utfodrat'!D77","v":0},{"$f":"'2.3 Utfodrat'!E96+'2.3 Utfodrat'!E77","v":0},{"$f":"'2.3 Utfodrat'!F96+'2.3 Utfodrat'!F77","v":0},{"$f":"'2.3 Utfodrat'!G96+'2.3 Utfodrat'!G77","v":0}]
[]
[]
[{"$f":"IF(Bakgrund!S13=1,\"\",\"Perioden är inte ett helt år: Justera mängden mineralgödsel så att det motsvarar ett genomsnitt över året. Om t ex perioden är 180 dagar och du använt 10 000 kg Axan under hela år, ska du fylla i 10 000*180/360 = 5 000 kg\")","v":"Perioden är inte ett helt år: Justera mängden mineralgödsel så att det motsvarar ett genomsnitt över året. Om t ex perioden är 180 dagar och du använt 10 000 kg Axan under hela år, ska du fylla i 10 000*180/360 = 5 000 kg"}]
["Mineralgödsel","Enhet","Mängd","Kväve","Fosfor","Kalium","Egen kommentar","Kolumn2","Kväve2","Fosfor3","Kalium4"]
[null,{"$f":"IF(ISTEXT(A59),VLOOKUP(A59,'tekn adm - produktlistor'!$B$6:$F$150,2,FALSE),\"\")","v":""},null,{"$f":"I59","v":0},{"$f":"J59","v":0},{"$f":"K59","v":0},null,null,{"$f":"IF(ISTEXT(A59),VLOOKUP(A59,'tekn adm - produktlistor'!$B$6:$F$150,3,FALSE)*C59,0)","v":0},{"$f":"IF(ISTEXT(A59),VLOOKUP(A59,'tekn adm - produktlistor'!$B$6:$F$150,4,FALSE)*C59,0)","v":0},{"$f":"IF(ISTEXT(A59),VLOOKUP(A59,'tekn adm - produktlistor'!$B$6:$F$150,5,FALSE)*C59,0)","v":0}]
[null,{"$f":"IF(ISTEXT(A60),VLOOKUP(A60,'tekn adm - produktlistor'!$B$6:$F$150,2,FALSE),\"\")","v":""},null,0,0,0,null,null,{"$f":"IF(ISTEXT(A60),VLOOKUP(A60,'tekn adm - produktlistor'!$B$6:$F$150,3,FALSE)*C60,0)","v":0},{"$f":"IF(ISTEXT(A60),VLOOKUP(A60,'tekn adm - produktlistor'!$B$6:$F$150,4,FALSE)*C60,0)","v":0},{"$f":"IF(ISTEXT(A60),VLOOKUP(A60,'tekn adm - produktlistor'!$B$6:$F$150,5,FALSE)*C60,0)","v":0}]
[null,{"$f":"IF(ISTEXT(A61),VLOOKUP(A61,'tekn adm - produktlistor'!$B$6:$F$150,2,FALSE),\"\")","v":""},null,0,0,0,null,null,{"$f":"IF(ISTEXT(A61),VLOOKUP(A61,'tekn adm - produktlistor'!$B$6:$F$150,3,FALSE)*C61,0)","v":0},{"$f":"IF(ISTEXT(A61),VLOOKUP(A61,'tekn adm - produktlistor'!$B$6:$F$150,4,FALSE)*C61,0)","v":0},{"$f":"IF(ISTEXT(A61),VLOOKUP(A61,'tekn adm - produktlistor'!$B$6:$F$150,5,FALSE)*C61,0)","v":0}]
[null,{"$f":"IF(ISTEXT(A62),VLOOKUP(A62,'tekn adm - produktlistor'!$B$6:$F$150,2,FALSE),\"\")","v":""},null,0,0,0,null,null,{"$f":"IF(ISTEXT(A62),VLOOKUP(A62,'tekn adm - produktlistor'!$B$6:$F$150,3,FALSE)*C62,0)","v":0},{"$f":"IF(ISTEXT(A62),VLOOKUP(A62,'tekn adm - produktlistor'!$B$6:$F$150,4,FALSE)*C62,0)","v":0},{"$f":"IF(ISTEXT(A62),VLOOKUP(A62,'tekn adm - produktlistor'!$B$6:$F$150,5,FALSE)*C62,0)","v":0}]
[null,{"$f":"IF(ISTEXT(A63),VLOOKUP(A63,'tekn adm - produktlistor'!$B$6:$F$150,2,FALSE),\"\")","v":""},null,0,0,0,null,null,{"$f":"IF(ISTEXT(A63),VLOOKUP(A63,'tekn adm - produktlistor'!$B$6:$F$150,3,FALSE)*C63,0)","v":0},{"$f":"IF(ISTEXT(A63),VLOOKUP(A63,'tekn adm - produktlistor'!$B$6:$F$150,4,FALSE)*C63,0)","v":0},{"$f":"IF(ISTEXT(A63),VLOOKUP(A63,'tekn adm - produktlistor'!$B$6:$F$150,5,FALSE)*C63,0)","v":0}]
["Summa",null,null,{"$f":"SUBTOTAL(109,Tabell122238106[Kväve])","v":0},{"$f":"SUBTOTAL(109,Tabell122238106[Fosfor])","v":0},{"$f":"SUBTOTAL(109,Tabell122238106[Kalium])","v":0},null,null,{"$f":"SUBTOTAL(109,Tabell91935104[Kväve])","v":0},{"$f":"SUBTOTAL(109,Tabell91935104[Fosfor])","v":0},{"$f":"SUBTOTAL(109,Tabell91935104[Kalium])","v":0}]
[]
[]
[{"$f":"IF(Bakgrund!S13=1,\"\",\"Perioden är inte ett helt år: Justera mängden införd organisk gödsel så att det motsvarar ett genomsnitt över året. Om t ex perioden är 180 dagar och du använt 10 000 kg hönsgödsel under hela år, ska du fylla i 10 000*180/360 = 5 000 kg\")","v":"Perioden är inte ett helt år: Justera mängden införd organisk gödsel så att det motsvarar ett genomsnitt över året. Om t ex perioden är 180 dagar och du använt 10 000 kg hönsgödsel under hela år, ska du fylla i 10 000*180/360 = 5 000 kg"}]
["Enbart införd organisk gödsel, d v s ta inte med egen stallgödsel!"]
["Införd organisk gödsel","Enhet","Mängd","Kväve","Fosfor","Kalium","Egen kommentar","Kolumn2","Kväve2","Fosfor3","Kalium4"]
[null,{"$f":"IF(ISTEXT(A70),VLOOKUP(A70,'tekn adm - produktlistor'!$J$6:$N$97,2,FALSE),\"\")","v":""},null,{"$f":"I70","v":0},{"$f":"J70","v":0},{"$f":"K70","v":0},null,null,{"$f":"IF(ISTEXT(A70),VLOOKUP(A70,'tekn adm - produktlistor'!$J$6:$N$97,3,FALSE)*C70,0)","v":0},{"$f":"IF(ISTEXT(A70),VLOOKUP(A70,'tekn adm - produktlistor'!$J$6:$N$97,4,FALSE)*C70,0)","v":0},{"$f":"IF(ISTEXT(A70),VLOOKUP(A70,'tekn adm - produktlistor'!$J$6:$N$97,3,FALSE)*C70,0)","v":0}]
[null,{"$f":"IF(ISTEXT(A71),VLOOKUP(A71,'tekn adm - produktlistor'!$J$6:$N$97,2,FALSE),\"\")","v":""},null,0,0,0,null,null,{"$f":"IF(ISTEXT(A71),VLOOKUP(A71,'tekn adm - produktlistor'!$J$6:$N$97,3,FALSE)*C71,0)","v":0},{"$f":"IF(ISTEXT(A71),VLOOKUP(A71,'tekn adm - produktlistor'!$J$6:$N$97,4,FALSE)*C71,0)","v":0},{"$f":"IF(ISTEXT(A71),VLOOKUP(A71,'tekn adm - produktlistor'!$J$6:$N$97,3,FALSE)*C71,0)","v":0}]
[null,{"$f":"IF(ISTEXT(A72),VLOOKUP(A72,'tekn adm - produktlistor'!$J$6:$N$97,2,FALSE),\"\")","v":""},null,0,0,0,null,null,{"$f":"IF(ISTEXT(A72),VLOOKUP(A72,'tekn adm - produktlistor'!$J$6:$N$97,3,FALSE)*C72,0)","v":0},{"$f":"IF(ISTEXT(A72),VLOOKUP(A72,'tekn adm - produktlistor'!$J$6:$N$97,4,FALSE)*C72,0)","v":0},{"$f":"IF(ISTEXT(A72),VLOOKUP(A72,'tekn adm - produktlistor'!$J$6:$N$97,3,FALSE)*C72,0)","v":0}]
[null,{"$f":"IF(ISTEXT(A73),VLOOKUP(A73,'tekn adm - produktlistor'!$J$6:$N$97,2,FALSE),\"\")","v":""},null,0,0,0,null,null,{"$f":"IF(ISTEXT(A73),VLOOKUP(A73,'tekn adm - produktlistor'!$J$6:$N$97,3,FALSE)*C73,0)","v":0},{"$f":"IF(ISTEXT(A73),VLOOKUP(A73,'tekn adm - produktlistor'!$J$6:$N$97,4,FALSE)*C73,0)","v":0},{"$f":"IF(ISTEXT(A73),VLOOKUP(A73,'tekn adm - produktlistor'!$J$6:$N$97,3,FALSE)*C73,0)","v":0}]
[null,{"$f":"IF(ISTEXT(A74),VLOOKUP(A74,'tekn adm - produktlistor'!$J$6:$N$97,2,FALSE),\"\")","v":""},null,0,0,0,null,null,{"$f":"IF(ISTEXT(A74),VLOOKUP(A74,'tekn adm - produktlistor'!$J$6:$N$97,3,FALSE)*C74,0)","v":0},{"$f":"IF(ISTEXT(A74),VLOOKUP(A74,'tekn adm - produktlistor'!$J$6:$N$97,4,FALSE)*C74,0)","v":0},{"$f":"IF(ISTEXT(A74),VLOOKUP(A74,'tekn adm - produktlistor'!$J$6:$N$97,3,FALSE)*C74,0)","v":0}]
["Summa",null,null,{"$f":"SUBTOTAL(109,Tabell122238106[Kväve])","v":0},{"$f":"SUBTOTAL(109,Tabell122238106[Fosfor])","v":0},{"$f":"SUBTOTAL(109,Tabell122238106[Kalium])","v":0},null,null,{"$f":"SUBTOTAL(109,Tabell112137105[Kväve])","v":0},{"$f":"SUBTOTAL(109,Tabell112137105[Fosfor])","v":0},{"$f":"SUBTOTAL(109,Tabell112137105[Kalium])","v":0}]
[]
[]
[]
["Utsäde och inköpt strö","Enhet","Mängd","Kväve","Fosfor","Kalium","Egen kommentar","Kolumn2","Kväve2","Fosfor3","Kalium4"]
[null,{"$f":"IF(ISTEXT(A80),VLOOKUP(A80,'tekn adm - produktlistor'!$BO$6:$BS$18,2,FALSE),\"\")","v":""},null,{"$f":"I80","v":0},{"$f":"J80","v":0},{"$f":"K80","v":0},null,null,{"$f":"IF(ISTEXT(A80),VLOOKUP(A80,'tekn adm - produktlistor'!$BO$6:$BS$18,3,FALSE)*C80,0)","v":0},{"$f":"IF(ISTEXT(A80),VLOOKUP(A80,'tekn adm - produktlistor'!$BO$6:$BS$18,4,FALSE)*C80,0)","v":0},{"$f":"IF(ISTEXT(A80),VLOOKUP(A80,'tekn adm - produktlistor'!$BO$6:$BS$18,5,FALSE)*C80,0)","v":0}]
[null,{"$f":"IF(ISTEXT(A81),VLOOKUP(A81,'tekn adm - produktlistor'!$BO$6:$BS$18,2,FALSE),\"\")","v":""},null,0,0,0,null,null,{"$f":"IF(ISTEXT(A81),VLOOKUP(A81,'tekn adm - produktlistor'!$BO$6:$BS$18,3,FALSE)*C81,0)","v":0},{"$f":"IF(ISTEXT(A81),VLOOKUP(A81,'tekn adm - produktlistor'!$BO$6:$BS$18,4,FALSE)*C81,0)","v":0},{"$f":"IF(ISTEXT(A81),VLOOKUP(A81,'tekn adm - produktlistor'!$BO$6:$BS$18,5,FALSE)*C81,0)","v":0}]
[null,{"$f":"IF(ISTEXT(A82),VLOOKUP(A82,'tekn adm - produktlistor'!$BO$6:$BS$18,2,FALSE),\"\")","v":""},null,0,0,0,null,null,{"$f":"IF(ISTEXT(A82),VLOOKUP(A82,'tekn adm - produktlistor'!$BO$6:$BS$18,3,FALSE)*C82,0)","v":0},{"$f":"IF(ISTEXT(A82),VLOOKUP(A82,'tekn adm - produktlistor'!$BO$6:$BS$18,4,FALSE)*C82,0)","v":0},{"$f":"IF(ISTEXT(A82),VLOOKUP(A82,'tekn adm - produktlistor'!$BO$6:$BS$18,5,FALSE)*C82,0)","v":0}]
[null,{"$f":"IF(ISTEXT(A83),VLOOKUP(A83,'tekn adm - produktlistor'!$BO$6:$BS$18,2,FALSE),\"\")","v":""},null,0,0,0,null,null,{"$f":"IF(ISTEXT(A83),VLOOKUP(A83,'tekn adm - produktlistor'!$BO$6:$BS$18,3,FALSE)*C83,0)","v":0},{"$f":"IF(ISTEXT(A83),VLOOKUP(A83,'tekn adm - produktlistor'!$BO$6:$BS$18,4,FALSE)*C83,0)","v":0},{"$f":"IF(ISTEXT(A83),VLOOKUP(A83,'tekn adm - produktlistor'!$BO$6:$BS$18,5,FALSE)*C83,0)","v":0}]
[null,{"$f":"IF(ISTEXT(A84),VLOOKUP(A84,'tekn adm - produktlistor'!$BO$6:$BS$18,2,FALSE),\"\")","v":""},null,0,0,0,null,null,{"$f":"IF(ISTEXT(A84),VLOOKUP(A84,'tekn adm - produktlistor'!$BO$6:$BS$18,3,FALSE)*C84,0)","v":0},{"$f":"IF(ISTEXT(A84),VLOOKUP(A84,'tekn adm - produktlistor'!$BO$6:$BS$18,4,FALSE)*C84,0)","v":0},{"$f":"IF(ISTEXT(A84),VLOOKUP(A84,'tekn adm - produktlistor'!$BO$6:$BS$18,5,FALSE)*C84,0)","v":0}]
["Summa",null,null,{"$f":"SUBTOTAL(109,Tabell122238106[Kväve])","v":0},{"$f":"SUBTOTAL(109,Tabell122238106[Fosfor])","v":0},{"$f":"SUBTOTAL(109,Tabell122238106[Kalium])","v":0},null,null,{"$f":"SUBTOTAL(109,Tabell122238106[Kväve])","v":0},{"$f":"SUBTOTAL(109,Tabell122238106[Fosfor])","v":0},{"$f":"SUBTOTAL(109,Tabell122238106[Kalium])","v":0}]
[]
[]
[]
[]
[]
[]
["Nyckeltal Växtnäringsutnyttjande per kg kött"]
[]
["Totalt för gården","Enhet","Kväve","Fosfor","Kalium","Förklaring"]
["Tillfört via inköp","kg hela gården",{"$f":"I95","v":0},{"$f":"J95","v":0},0,null,null,null,{"$f":"IF(Bakgrund!$AU$37>0,B39-B40-B41,I64+I75+I85+D54)","v":0},{"$f":"IF(Bakgrund!$AU$37>0,C39-C40-C41,J64+J75+J85+E54)","v":0},{"$f":"IF(Bakgrund!$AU$37>0,D39-D40-D41,K64+K75+K85+F54)","v":0}]
["Varav använt till avsalugrödor","kg hela gården",{"$f":"I96","v":0},0,0,null,null,null,{"$f":"I29","v":0},{"$f":"J29","v":0},{"$f":"K29","v":0}]
["Differens, till djuren","kg hela gården",0,0,0,"Tillfört minus växtnäring som använts till avsalugrödor. Stor mängd sålda grödor och/eller liten mängd inköpta varor ger lågt värde. Värdena kan t o m bli negativa om stor mängd grödor säljs. Lågt/negativt värde på kväve kan bero på omfattande odling av kvävefixerande grödor - detta kväve är inte inköpt och ingår därför inte i balansen. ",null,null,{"$f":"I95-I96","v":0},{"$f":"J95-J96","v":0},0]
[]
["Växtnäringsinsats","g växtnäring per kg kött",0,{"$f":"J99","v":0},{"$f":"K99","v":0},"Avdrag har gjorts för inköpt växtnäring som går till ev sålda grödor. Lågt värde innebär att det gått åt lite inköpta resurser i form av växtnäring för att producera köttet",null,{"$f":"SUM('6 Resultat'!R35:'6 Resultat'!R37)","v":0},{"$f":"IF($H99=0,0,I97/$H99)*1000","v":0},{"$f":"IF($H99=0,0,J97/$H99)*1000","v":0},{"$f":"IF($H99=0,0,K97/$H99)*1000","v":0}]
[]
["Mängd producerat kött","kg",{"$f":"I101","v":0},null,null,"Hämtat från 1.1 Kött",null,null,{"$f":"'1.1 Kött'!T86","v":0}]
[]
["Växtnäringsinnehåll i köttet","kg",{"$f":"I103","v":0},{"$f":"J103","v":0},0,"Mängd växtnäring i producerat kött",null,"Grisar",{"$f":"VLOOKUP($H103,'tekn adm - produktlistor'!$BU$6:$BY$11,3,FALSE)*$H99","v":0},{"$f":"VLOOKUP($H103,'tekn adm - produktlistor'!$BU$6:$BY$11,4,FALSE)*$H99","v":0},{"$f":"VLOOKUP($H103,'tekn adm - produktlistor'!$BU$6:$BY$11,5,FALSE)*$H99","v":0}]
["Växtnäringsinsats/växtnäringsinnehåll i köttet","%",{"$f":"I104","v":0},0,0,"Ju lägre tal, desto mer kött har producerats per kg inköpt växtnäring. Obs, i Kväve ingår inte N-fixering, så omfattande odling av kvävefixerande grödor kan ge ett mycket lågt tal.",null,null,{"$f":"IF(I103=0,0,I97/I103)","v":0},{"$f":"IF(J103=0,0,J97/J103)","v":0},{"$f":"IF(K103=0,0,K97/K103)","v":0}]

{"sheet":"3 Växtnäringsutnyttjande (3)","index":14,"n_rows":101,"n_cols":13,"rows_kept":101,"cut":false,"hidden":false,"merged":[[100,5,100,6],[97,5,97,6],[92,5,92,6],[93,5,93,6],[10,12,10,15],[95,5,95,6],[42,5,42,6],[98,5,98,6],[99,5,99,6],[41,5,41,6],[91,5,91,6],[11,12,11,15],[38,5,38,6],[39,5,39,6],[40,5,40,6],[6,12,6,15],[7,12,7,15],[8,12,8,15],[9,12,9,15],[1,12,1,15],[2,12,2,15],[3,12,3,15],[4,12,4,15],[5,12,5,15]]}
[{"$f":"\"3 Växtnäringsutnyttjande period 3, \" &period_3","v":"3 Växtnäringsutnyttjande period 3, Period 3"},null,null,null,null,null,null,null,null,null,null,null,"Det här betyder färgerna:"]
[{"$f":"IF(Bakgrund!BI37=0,'Teknisk administration'!H6,'Teknisk administration'!H5)","v":"Bladet är inte relevant för dig"},null,null,null,null,null,null,null,null,null,null,null,"Cell med värden hämtade från annan cell"]
["Här beräknar du växtnäringsutnyttjandet, d v s hur många kg inköpt kväve, fosfor och kalium som gått åt för att producera köttet. ",null,null,null,null,null,null,null,null,null,null,null,"Beräkning"]
["Om du säljer grödor kommer du först få göra avräkning för inköpt växtnäring som använts i odlingen av dessa grödor.",null,null,null,null,null,null,null,null,null,null,null,"Fyll i din egen siffra"]
["Det finns två alternativ för att beräkna växtnäringsinsatsen:",null,null,null,null,null,null,null,null,null,null,null,"Fyll i egen siffra - frivilligt, t ex om du har tillgång till uppgift eller om du vill räkna med annat värde än det schablonvärde som visas i angränsande cell"]
["       1) Mata in färdiga resultat, t ex från växtnäringsbalans gjord inom Greppa Näringen. Detta alternativ visas om du redan har en växtnäringsbalans för perioden",null,null,null,null,null,null,null,null,null,null,null,"Egen uppgift, men välj värde ur rullista. "]
["      2) Beräkna mängden växtnäring i inköpta produkter samt sålda grödor. Visas om du inte har en aktuell växtnäringsbalans",null,null,null,null,null,null,null,null,null,null,null,"Resultat/uträkning"]
["Ljusgrå text och vita rutor = avsnittet är inte relevant för dig.",null,null,null,null,null,null,null,null,null,null,null,"Schablonvärde"]
[null,null,null,null,null,null,null,null,null,null,null,null,"Förklaringar till raden"]
[{"$f":"IF(Bakgrund!T13=1,\"\",\"Obs! Perioden är inte ett helt år, och vissa indata behöver anpassas. Instruktioner ges vid aktuella tabeller. Tolkningen av resultaten kan också påverkas, t ex om perioden inte täcker hela växtodlingssäsongen.\")","v":"Obs! Perioden är inte ett helt år, och vissa indata behöver anpassas. Instruktioner ges vid aktuella tabeller. Tolkningen av resultaten kan också påverkas, t ex om perioden inte täcker hela växtodlingssäsongen."},null,null,null,null,null,null,null,null,null,null,null,"Plats för egna kommentarer"]
["Räcker inte raderna till? Infoga ny rad genom att högerklicka i en cell i tabellen och välj Infoga och Tabellrader ovanför",null,null,null,null,null,null,null,null,null,null,null,"Glöm inte att fylla i värde! (Här krävs ett värde för att andra beräkningar ska fungera"]
[null,null,null,null,null,null,null,null,null,null,null,null,"grå text, ev vit bakgrund: Avsnittet är inte relevant för dig baserat på svaren på ja/nej-frågor på bladet Bakgrund"]
[]
[null,null,null,null,null,null,null,null,null,null,null,null,"Snabblänkar till bladen i verktyget:"]
[null,null,null,null,null,null,null,null,null,null,null,null,"Instruktion"]
[{"$f":"\"Sålda grödor \"& Bakgrund!T7","v":"Sålda grödor Period 3"},null,null,null,null,null,null,null,null,null,null,null,"Bakgrund"]
[{"$f":"IF(Bakgrund!$AT$37=0,\"Du har på bladet Bakgrund svarat att du inte säljer några grödor. Detta avsnitt är därmed inte relevant att fylla i för dig\", \"Här fyller du mängden grödor som du sålt/kommer att sälja av det du odlat aktuell period.\")","v":"Här fyller du mängden grödor som du sålt/kommer att sälja av det du odlat aktuell period."},null,null,null,null,null,null,null,null,null,null,null,"1 Intro djuren"]
[{"$f":"IF(Bakgrund!$AT$37=0,\"\",\"Uppgifterna används för att beräkna växtnäringsinsatsen för de sålda grödorna. Denna växtnäring räknas sedan av från övrig växtnäring som tagit in under perioden så att växtnäringsinsatsen för köttet kan beräknas.\")","v":"Uppgifterna används för att beräkna växtnäringsinsatsen för de sålda grödorna. Denna växtnäring räknas sedan av från övrig växtnäring som tagit in under perioden så att växtnäringsinsatsen för köttet kan beräknas."},null,null,null,null,null,null,null,null,null,null,null,"1.1 Kött"]
[{"$f":"IF(Bakgrund!$AT$37=0,\"\",\"Här antas att växtnäringsinsatsen är 1 kg P och 1 kg K per kg P respektive K i grödan. För N justeras växtnäringsinsatsen utifrån grödans kväveeffektivitet och ev kvävefixering\")","v":"Här antas att växtnäringsinsatsen är 1 kg P och 1 kg K per kg P respektive K i grödan. För N justeras växtnäringsinsatsen utifrån grödans kväveeffektivitet och ev kvävefixering"},null,null,null,null,null,null,null,null,null,null,null,"1.2 Tillväxt & förökning"]
[null,null,null,null,null,null,null,null,null,null,null,null,"1.3 Hälsa & dödlighet"]
[{"$f":"IF(Bakgrund!T13=1,\"\",\"Perioden är inte ett helt år: Justera mängden sålda grödor så att det motsvarar genomsnitt över ett år. Så om perioden är 180 dagar och du på ett helår sålt 20 000 kg korn ska du fylla i 20 000*180/360 = 10 000 kg\")","v":"Perioden är inte ett helt år: Justera mängden sålda grödor så att det motsvarar genomsnitt över ett år. Så om perioden är 180 dagar och du på ett helår sålt 20 000 kg korn ska du fylla i 20 000*180/360 = 10 000 kg"},null,null,null,null,null,null,null,null,null,null,null,"2 Intro foder"]
[null,null,null,"Växtnäringsinsats (kg per gröda)",null,null,null,null,null,null,null,null,"2.1 Odling foder"]
["Gröda","Enhet","Mängd","Kväve","Fosfor","Kalium"," ","N-effektivitet","Kväve2","Fosfor3","Kalium4",null,"2.1b Halm, odling grovfoder"]
[null,{"$f":"IF(ISTEXT(A24),VLOOKUP(A24,'tekn adm - produktlistor'!$X$6:$AB$31,2,FALSE),\"\")","v":""},null,{"$f":"I24","v":0},{"$f":"J24","v":0},{"$f":"K24","v":0},null,{"$f":"IF(ISTEXT(A24),VLOOKUP(A24,'tekn adm - produktlistor'!$X$6:$AC$31,6,FALSE),0)","v":0},{"$f":"IF(ISTEXT(A24),VLOOKUP(A24,'tekn adm - produktlistor'!$X$6:$AB$31,3,FALSE)*C24,0)*H24","v":0},{"$f":"IF(ISTEXT(A24),VLOOKUP(A24,'tekn adm - produktlistor'!$X$6:$AB$31,4,FALSE)*C24,0)","v":0},{"$f":"IF(ISTEXT(A24),VLOOKUP(A24,'tekn adm - produktlistor'!$X$6:$AB$31,5,FALSE)*C24,0)","v":0},null,"2.2 Förluster vid lagring"]
[null,{"$f":"IF(ISTEXT(A25),VLOOKUP(A25,'tekn adm - produktlistor'!$X$6:$AB$31,2,FALSE),\"\")","v":""},null,0,0,0,null,{"$f":"IF(ISTEXT(A25),VLOOKUP(A25,'tekn adm - produktlistor'!$X$6:$AC$31,6,FALSE),0)","v":0},{"$f":"IF(ISTEXT(A25),VLOOKUP(A25,'tekn adm - produktlistor'!$X$6:$AB$31,3,FALSE)*C25,0)*H25","v":0},{"$f":"IF(ISTEXT(A25),VLOOKUP(A25,'tekn adm - produktlistor'!$X$6:$AB$31,4,FALSE)*C25,0)","v":0},{"$f":"IF(ISTEXT(A25),VLOOKUP(A25,'tekn adm - produktlistor'!$X$6:$AB$31,5,FALSE)*C25,0)","v":0},null,"2.3 Utfodrat"]
[null,{"$f":"IF(ISTEXT(A26),VLOOKUP(A26,'tekn adm - produktlistor'!$X$6:$AB$31,2,FALSE),\"\")","v":""},null,0,0,0,null,{"$f":"IF(ISTEXT(A26),VLOOKUP(A26,'tekn adm - produktlistor'!$X$6:$AC$31,6,FALSE),0)","v":0},{"$f":"IF(ISTEXT(A26),VLOOKUP(A26,'tekn adm - produktlistor'!$X$6:$AB$31,3,FALSE)*C26,0)*H26","v":0},{"$f":"IF(ISTEXT(A26),VLOOKUP(A26,'tekn adm - produktlistor'!$X$6:$AB$31,4,FALSE)*C26,0)","v":0},{"$f":"IF(ISTEXT(A26),VLOOKUP(A26,'tekn adm - produktlistor'!$X$6:$AB$31,5,FALSE)*C26,0)","v":0},null,"2.4 Kasserat foder och spill"]
[null,{"$f":"IF(ISTEXT(A27),VLOOKUP(A27,'tekn adm - produktlistor'!$X$6:$AB$31,2,FALSE),\"\")","v":""},null,0,0,0,null,{"$f":"IF(ISTEXT(A27),VLOOKUP(A27,'tekn adm - produktlistor'!$X$6:$AC$31,6,FALSE),0)","v":0},{"$f":"IF(ISTEXT(A27),VLOOKUP(A27,'tekn adm - produktlistor'!$X$6:$AB$31,3,FALSE)*C27,0)*H27","v":0},{"$f":"IF(ISTEXT(A27),VLOOKUP(A27,'tekn adm - produktlistor'!$X$6:$AB$31,4,FALSE)*C27,0)","v":0},{"$f":"IF(ISTEXT(A27),VLOOKUP(A27,'tekn adm - produktlistor'!$X$6:$AB$31,5,FALSE)*C27,0)","v":0},null,"3 Växtnäringsutnyttjande (1)"]
[null,{"$f":"IF(ISTEXT(A28),VLOOKUP(A28,'tekn adm - produktlistor'!$X$6:$AB$31,2,FALSE),\"\")","v":""},null,0,0,0,null,{"$f":"IF(ISTEXT(A28),VLOOKUP(A28,'tekn adm - produktlistor'!$X$6:$AC$31,6,FALSE),0)","v":0},{"$f":"IF(ISTEXT(A28),VLOOKUP(A28,'tekn adm - produktlistor'!$X$6:$AB$31,3,FALSE)*C28,0)*H28","v":0},{"$f":"IF(ISTEXT(A28),VLOOKUP(A28,'tekn adm - produktlistor'!$X$6:$AB$31,4,FALSE)*C28,0)","v":0},{"$f":"IF(ISTEXT(A28),VLOOKUP(A28,'tekn adm - produktlistor'!$X$6:$AB$31,5,FALSE)*C28,0)","v":0},null,"3 Växtnäringsutnyttjande (2)"]
["Summa",null,null,0,0,0,null,null,{"$f":"SUBTOTAL(109,'3 Växtnäringsutnyttjande (3)'!$I$24:$I$28)","v":0},{"$f":"SUBTOTAL(109,'3 Växtnäringsutnyttjande (3)'!$J$24:$J$28)","v":0},{"$f":"SUBTOTAL(109,'3 Växtnäringsutnyttjande (3)'!$K$24:$K$28)","v":0},null,"3 Växtnäringsutnyttjande (3)"]
[null,null,null,null,null,null,null,null,null,null,null,null,"4 Energi och bränsle"]
[null,null,null,null,null,null,null,null,null,null,null,null,"5 Vattenanvändning"]
[null,null,null,null,null,null,null,null,null,null,null,null,"6 Resultat"]
[null,null,null,null,null,null,null,null,null,null,null,null,"6B Klimat"]
[{"$f":"\"Inköpta produkter \" & Bakgrund!S7","v":"Inköpta produkter Period 2"}]
["Alternativ 1. Färdigt resultat"]
[]
["Totalt för gården, kg per period. Fyll i uppgifter från växtnäringsbalansen"]
[null,"Kväve","Fosfor","Kalium","Egen kommentar","Förklaring"]
["Tillförsel",null,null,null,null,"växtnäring i inköpta produkter samt kväve från kvävenedfall och ev kvävefixering"]
["Varav:  kvävenedfall"]
["kvävefixering"]
["Bortförsel",null,null,null,null," bortfört via sålt kött, mjölk, grödor och stallgödsel"]
["Differens:",{"$f":"B39-ABS(B42)","v":0},{"$f":"C39-ABS(C42)","v":0},{"$f":"D39-ABS(D42)","v":0},null,"Positivt värde = överskott. Negativt värde = mer växtnäring bortförs än tillförs via inköpta produkter"]
[]
[]
[]
[]
["Alternativ 2. Beräkna mängden växtnäring själv"]
["Här fyller  du i mängd inköpta produkter som förbrukats under perioden. Justera för ev överlagring av foder, gödsel etc.! "]
[]
["Inköpt foder"]
[{"$f":"\"Uppgifterna hämtas från bladet \"&C_G_Summering&\". Gå tillbaks till det bladet om du vill kontrollera uppgifterna.\"","v":"Uppgifterna hämtas från bladet 2.3 Utfodrat. Gå tillbaks till det bladet om du vill kontrollera uppgifterna."}]
["Inköpt foder","Enhet","ts","Kväve","Fosfor","Kalium","Egen kommentar"]
["Totalt","kg",{"$f":"'2.3 Utfodrat'!D148+'2.3 Utfodrat'!D129","v":0},{"$f":"'2.3 Utfodrat'!E148+'2.3 Utfodrat'!E129","v":0},{"$f":"'2.3 Utfodrat'!F148+'2.3 Utfodrat'!F129","v":0},{"$f":"'2.3 Utfodrat'!G148+'2.3 Utfodrat'!G129","v":0}]
[]
[]
[{"$f":"IF(Bakgrund!T13=1,\"\",\"Perioden är inte ett helt år: Justera mängden mineralgödsel så att det motsvarar ett genomsnitt över året. Om t ex perioden är 180 dagar och du använt 10 000 kg Axan under hela år, ska du fylla i 10 000*180/360 = 5 000 kg\")","v":"Perioden är inte ett helt år: Justera mängden mineralgödsel så att det motsvarar ett genomsnitt över året. Om t ex perioden är 180 dagar och du använt 10 000 kg Axan under hela år, ska du fylla i 10 000*180/360 = 5 000 kg"}]
["Mineralgödsel","Enhet","Mängd","Kväve","Fosfor","Kalium","Egen kommentar","Kolumn2","Kväve2","Fosfor3","Kalium4"]
[null,{"$f":"IF(ISTEXT(A59),VLOOKUP(A59,'tekn adm - produktlistor'!$B$6:$F$150,2,FALSE),\"\")","v":""},null,{"$f":"I59","v":0},{"$f":"J59","v":0},{"$f":"K59","v":0},null,null,{"$f":"IF(ISTEXT(A59),VLOOKUP(A59,'tekn adm - produktlistor'!$B$6:$F$150,3,FALSE)*C59,0)","v":0},{"$f":"IF(ISTEXT(A59),VLOOKUP(A59,'tekn adm - produktlistor'!$B$6:$F$150,4,FALSE)*C59,0)","v":0},{"$f":"IF(ISTEXT(A59),VLOOKUP(A59,'tekn adm - produktlistor'!$B$6:$F$150,5,FALSE)*C59,0)","v":0}]
[null,{"$f":"IF(ISTEXT(A60),VLOOKUP(A60,'tekn adm - produktlistor'!$B$6:$F$150,2,FALSE),\"\")","v":""},null,0,{"$f":"J60","v":0},{"$f":"K60","v":0},null,null,{"$f":"IF(ISTEXT(A60),VLOOKUP(A60,'tekn adm - produktlistor'!$B$6:$F$150,3,FALSE)*C60,0)","v":0},{"$f":"IF(ISTEXT(A60),VLOOKUP(A60,'tekn adm - produktlistor'!$B$6:$F$150,4,FALSE)*C60,0)","v":0},{"$f":"IF(ISTEXT(A60),VLOOKUP(A60,'tekn adm - produktlistor'!$B$6:$F$150,5,FALSE)*C60,0)","v":0}]
[null,{"$f":"IF(ISTEXT(A61),VLOOKUP(A61,'tekn adm - produktlistor'!$B$6:$F$150,2,FALSE),\"\")","v":""},null,0,0,0,null,null,{"$f":"IF(ISTEXT(A61),VLOOKUP(A61,'tekn adm - produktlistor'!$B$6:$F$150,3,FALSE)*C61,0)","v":0},{"$f":"IF(ISTEXT(A61),VLOOKUP(A61,'tekn adm - produktlistor'!$B$6:$F$150,4,FALSE)*C61,0)","v":0},{"$f":"IF(ISTEXT(A61),VLOOKUP(A61,'tekn adm - produktlistor'!$B$6:$F$150,5,FALSE)*C61,0)","v":0}]
[null,{"$f":"IF(ISTEXT(A62),VLOOKUP(A62,'tekn adm - produktlistor'!$B$6:$F$150,2,FALSE),\"\")","v":""},null,0,0,0,null,null,{"$f":"IF(ISTEXT(A62),VLOOKUP(A62,'tekn adm - produktlistor'!$B$6:$F$150,3,FALSE)*C62,0)","v":0},{"$f":"IF(ISTEXT(A62),VLOOKUP(A62,'tekn adm - produktlistor'!$B$6:$F$150,4,FALSE)*C62,0)","v":0},{"$f":"IF(ISTEXT(A62),VLOOKUP(A62,'tekn adm - produktlistor'!$B$6:$F$150,5,FALSE)*C62,0)","v":0}]
[null,{"$f":"IF(ISTEXT(A63),VLOOKUP(A63,'tekn adm - produktlistor'!$B$6:$F$150,2,FALSE),\"\")","v":""},null,0,0,0,null,null,{"$f":"IF(ISTEXT(A63),VLOOKUP(A63,'tekn adm - produktlistor'!$B$6:$F$150,3,FALSE)*C63,0)","v":0},{"$f":"IF(ISTEXT(A63),VLOOKUP(A63,'tekn adm - produktlistor'!$B$6:$F$150,4,FALSE)*C63,0)","v":0},{"$f":"IF(ISTEXT(A63),VLOOKUP(A63,'tekn adm - produktlistor'!$B$6:$F$150,5,FALSE)*C63,0)","v":0}]
["Summa",null,null,{"$f":"I64","v":0},0,0,null,null,{"$f":"SUBTOTAL(109,Tabell91935104114[Kväve])","v":0},{"$f":"SUBTOTAL(109,Tabell91935104114[Fosfor])","v":0},{"$f":"SUBTOTAL(109,Tabell91935104114[Kalium])","v":0}]
[]
[]
[{"$f":"IF(Bakgrund!T13=1,\"\",\"Perioden är inte ett helt år: Justera mängden införd organisk gödsel så att det motsvarar ett genomsnitt över året. Om t ex perioden är 180 dagar och du använt 10 000 kg hönsgödsel under hela år, ska du fylla i 10 000*180/360 = 5 000 kg\")","v":"Perioden är inte ett helt år: Justera mängden införd organisk gödsel så att det motsvarar ett genomsnitt över året. Om t ex perioden är 180 dagar och du använt 10 000 kg hönsgödsel under hela år, ska du fylla i 10 000*180/360 = 5 000 kg"}]
["Enbart införd organisk gödsel, d v s ta inte med egen stallgödsel!"]
["Införd organisk gödsel","Enhet","Mängd","Kväve","Fosfor","Kalium","Egen kommentar","Kolumn2","Kväve2","Fosfor3","Kalium4"]
[null,{"$f":"IF(ISTEXT(A70),VLOOKUP(A70,'tekn adm - produktlistor'!$J$6:$N$97,2,FALSE),\"\")","v":""},null,{"$f":"I70","v":0},{"$f":"J70","v":0},{"$f":"K70","v":0},null,null,{"$f":"IF(ISTEXT(A70),VLOOKUP(A70,'tekn adm - produktlistor'!$J$6:$N$97,3,FALSE)*C70,0)","v":0},{"$f":"IF(ISTEXT(A70),VLOOKUP(A70,'tekn adm - produktlistor'!$J$6:$N$97,4,FALSE)*C70,0)","v":0},{"$f":"IF(ISTEXT(A70),VLOOKUP(A70,'tekn adm - produktlistor'!$J$6:$N$97,3,FALSE)*C70,0)","v":0}]
[null,{"$f":"IF(ISTEXT(A71),VLOOKUP(A71,'tekn adm - produktlistor'!$J$6:$N$97,2,FALSE),\"\")","v":""},null,0,0,0,null,null,{"$f":"IF(ISTEXT(A71),VLOOKUP(A71,'tekn adm - produktlistor'!$J$6:$N$97,3,FALSE)*C71,0)","v":0},{"$f":"IF(ISTEXT(A71),VLOOKUP(A71,'tekn adm - produktlistor'!$J$6:$N$97,4,FALSE)*C71,0)","v":0},{"$f":"IF(ISTEXT(A71),VLOOKUP(A71,'tekn adm - produktlistor'!$J$6:$N$97,3,FALSE)*C71,0)","v":0}]
[null,{"$f":"IF(ISTEXT(A72),VLOOKUP(A72,'tekn adm - produktlistor'!$J$6:$N$97,2,FALSE),\"\")","v":""},null,0,0,0,null,null,{"$f":"IF(ISTEXT(A72),VLOOKUP(A72,'tekn adm - produktlistor'!$J$6:$N$97,3,FALSE)*C72,0)","v":0},{"$f":"IF(ISTEXT(A72),VLOOKUP(A72,'tekn adm - produktlistor'!$J$6:$N$97,4,FALSE)*C72,0)","v":0},{"$f":"IF(ISTEXT(A72),VLOOKUP(A72,'tekn adm - produktlistor'!$J$6:$N$97,3,FALSE)*C72,0)","v":0}]
[null,{"$f":"IF(ISTEXT(A73),VLOOKUP(A73,'tekn adm - produktlistor'!$J$6:$N$97,2,FALSE),\"\")","v":""},null,0,0,0,null,null,{"$f":"IF(ISTEXT(A73),VLOOKUP(A73,'tekn adm - produktlistor'!$J$6:$N$97,3,FALSE)*C73,0)","v":0},{"$f":"IF(ISTEXT(A73),VLOOKUP(A73,'tekn adm - produktlistor'!$J$6:$N$97,4,FALSE)*C73,0)","v":0},{"$f":"IF(ISTEXT(A73),VLOOKUP(A73,'tekn adm - produktlistor'!$J$6:$N$97,3,FALSE)*C73,0)","v":0}]
[null,{"$f":"IF(ISTEXT(A74),VLOOKUP(A74,'tekn adm - produktlistor'!$J$6:$N$97,2,FALSE),\"\")","v":""},null,0,0,0,null,null,{"$f":"IF(ISTEXT(A74),VLOOKUP(A74,'tekn adm - produktlistor'!$J$6:$N$97,3,FALSE)*C74,0)","v":0},{"$f":"IF(ISTEXT(A74),VLOOKUP(A74,'tekn adm - produktlistor'!$J$6:$N$97,4,FALSE)*C74,0)","v":0},{"$f":"IF(ISTEXT(A74),VLOOKUP(A74,'tekn adm - produktlistor'!$J$6:$N$97,3,FALSE)*C74,0)","v":0}]
["Summa",null,null,{"$f":"I75","v":0},0,0,null,null,{"$f":"SUBTOTAL(109,Tabell112137105115[Kväve])","v":0},{"$f":"SUBTOTAL(109,Tabell112137105115[Fosfor])","v":0},{"$f":"SUBTOTAL(109,Tabell112137105115[Kalium])","v":0}]
[]
[]
[]
["Utsäde och inköpt strö","Enhet","Mängd","Kväve","Fosfor","Kalium","Egen kommentar","Kolumn2","Kväve2","Fosfor3","Kalium4"]
[null,{"$f":"IF(ISTEXT(A80),VLOOKUP(A80,'tekn adm - produktlistor'!$BO$6:$BS$18,2,FALSE),\"\")","v":""},null,{"$f":"I80","v":0},{"$f":"J80","v":0},{"$f":"K80","v":0},null,null,{"$f":"IF(ISTEXT(A80),VLOOKUP(A80,'tekn adm - produktlistor'!$BO$6:$BS$18,3,FALSE)*C80,0)","v":0},{"$f":"IF(ISTEXT(A80),VLOOKUP(A80,'tekn adm - produktlistor'!$BO$6:$BS$18,4,FALSE)*C80,0)","v":0},{"$f":"IF(ISTEXT(A80),VLOOKUP(A80,'tekn adm - produktlistor'!$BO$6:$BS$18,5,FALSE)*C80,0)","v":0}]
[null,{"$f":"IF(ISTEXT(A81),VLOOKUP(A81,'tekn adm - produktlistor'!$BO$6:$BS$18,2,FALSE),\"\")","v":""},null,0,0,0,null,null,{"$f":"IF(ISTEXT(A81),VLOOKUP(A81,'tekn adm - produktlistor'!$BO$6:$BS$18,3,FALSE)*C81,0)","v":0},{"$f":"IF(ISTEXT(A81),VLOOKUP(A81,'tekn adm - produktlistor'!$BO$6:$BS$18,4,FALSE)*C81,0)","v":0},{"$f":"IF(ISTEXT(A81),VLOOKUP(A81,'tekn adm - produktlistor'!$BO$6:$BS$18,5,FALSE)*C81,0)","v":0}]
[null,{"$f":"IF(ISTEXT(A82),VLOOKUP(A82,'tekn adm - produktlistor'!$BO$6:$BS$18,2,FALSE),\"\")","v":""},null,0,0,0,null,null,{"$f":"IF(ISTEXT(A82),VLOOKUP(A82,'tekn adm - produktlistor'!$BO$6:$BS$18,3,FALSE)*C82,0)","v":0},{"$f":"IF(ISTEXT(A82),VLOOKUP(A82,'tekn adm - produktlistor'!$BO$6:$BS$18,4,FALSE)*C82,0)","v":0},{"$f":"IF(ISTEXT(A82),VLOOKUP(A82,'tekn adm - produktlistor'!$BO$6:$BS$18,5,FALSE)*C82,0)","v":0}]
[null,{"$f":"IF(ISTEXT(A83),VLOOKUP(A83,'tekn adm - produktlistor'!$BO$6:$BS$18,2,FALSE),\"\")","v":""},null,0,0,0,null,null,{"$f":"IF(ISTEXT(A83),VLOOKUP(A83,'tekn adm - produktlistor'!$BO$6:$BS$18,3,FALSE)*C83,0)","v":0},{"$f":"IF(ISTEXT(A83),VLOOKUP(A83,'tekn adm - produktlistor'!$BO$6:$BS$18,4,FALSE)*C83,0)","v":0},{"$f":"IF(ISTEXT(A83),VLOOKUP(A83,'tekn adm - produktlistor'!$BO$6:$BS$18,5,FALSE)*C83,0)","v":0}]
[null,{"$f":"IF(ISTEXT(A84),VLOOKUP(A84,'tekn adm - produktlistor'!$BO$6:$BS$18,2,FALSE),\"\")","v":""},null,0,0,0,null,null,{"$f":"IF(ISTEXT(A84),VLOOKUP(A84,'tekn adm - produktlistor'!$BO$6:$BS$18,3,FALSE)*C84,0)","v":0},{"$f":"IF(ISTEXT(A84),VLOOKUP(A84,'tekn adm - produktlistor'!$BO$6:$BS$18,4,FALSE)*C84,0)","v":0},{"$f":"IF(ISTEXT(A84),VLOOKUP(A84,'tekn adm - produktlistor'!$BO$6:$BS$18,5,FALSE)*C84,0)","v":0}]
["Summa",null,null,{"$f":"I85","v":0},{"$f":"J85","v":0},{"$f":"K85","v":0},null,null,{"$f":"SUBTOTAL(109,Tabell122238106116[Kväve])","v":0},{"$f":"SUBTOTAL(109,Tabell122238106116[Fosfor])","v":0},{"$f":"SUBTOTAL(109,Tabell122238106116[Kalium])","v":0}]
[]
[]
[]
["Nyckeltal Växtnäringsutnyttjande per kg kött"]
[]
["Totalt för gården","Enhet","Kväve","Fosfor","Kalium","Förklaring",null,null,"Kväve","Fosfor","Kalium"]
["Tillfört via inköp","kg hela gården",{"$f":"I92","v":0},{"$f":"J92","v":0},0,null,null,null,{"$f":"IF(Bakgrund!$AU$37>0,B39-B40-B41,I64+I75+I85+D54)","v":0},{"$f":"IF(Bakgrund!$AU$37>0,C39-C40-C41,J64+J75+J85+E54)","v":0},{"$f":"IF(Bakgrund!$AU$37>0,D39-D40-D41,K64+K75+K85+F54)","v":0}]
["Varav använt till avsalugrödor","kg hela gården",{"$f":"I93","v":0},0,0,null,null,null,{"$f":"I29","v":0},{"$f":"J29","v":0},{"$f":"K29","v":0}]
["Differens, till djuren","kg hela gården",{"$f":"I94","v":0},0,0,"Tillfört minus växtnäring som använts till avsalugrödor. Stor mängd sålda grödor och/eller liten mängd inköpta varor ger lågt värde. Värdena kan t o m bli negativa om stor mängd grödor säljs. Lågt/negativt värde på kväve kan bero på omfattande odling av kvävefixerande grödor - detta kväve är inte inköpt och ingår därför inte i balansen. ",null,null,{"$f":"I92-I93","v":0},{"$f":"J92-J93","v":0},{"$f":"K92-K93","v":0}]
[]
["Växtnäringsinsats","g växtnäring per kg kött",0,{"$f":"J96","v":0},{"$f":"K96","v":0},"Avdrag har gjorts för inköpt växtnäring som går till ev sålda grödor. Lågt värde innebär att det gått åt lite inköpta resurser i form av växtnäring för att producera köttet",null,{"$f":"SUM('6 Resultat'!S35:'6 Resultat'!S37)","v":0},{"$f":"IF($H96=0,0,I94/$H96)*1000","v":0},{"$f":"IF($H96=0,0,J94/$H96)*1000","v":0},{"$f":"IF($H96=0,0,K94/$H96)*1000","v":0}]
[]
["Mängd producerat kött","kg",{"$f":"I98","v":0},null,null,"Hämtat från 1.1 Kött",null,null,{"$f":"'1.1 Kött'!U86","v":0}]
[]
["Växtnäringsinnehåll i köttet","kg",{"$f":"I100","v":0},{"$f":"J100","v":0},0,"Mängd växtnäring i producerat kött",null,"Grisar",{"$f":"VLOOKUP($H100,'tekn adm - produktlistor'!$BU$6:$BY$11,3,FALSE)*$H96","v":0},{"$f":"VLOOKUP($H100,'tekn adm - produktlistor'!$BU$6:$BY$11,4,FALSE)*$H96","v":0},{"$f":"VLOOKUP($H100,'tekn adm - produktlistor'!$BU$6:$BY$11,5,FALSE)*$H96","v":0}]
["Växtnäringsinsats/växtnäringsinnehåll i köttet","%",{"$f":"I101","v":0},0,0,"Ju lägre tal, desto mer kött har producerats per kg inköpt växtnäring. Obs, i Kväve ingår inte N-fixering, så omfattande odling av kvävefixerande grödor kan ge ett mycket lågt tal.",null,null,{"$f":"IF(I100=0,0,I94/I100)","v":0},{"$f":"IF(J100=0,0,J94/J100)","v":0},{"$f":"IF(K100=0,0,K94/K100)","v":0}]

{"sheet":"4 Energi och bränsle","index":15,"n_rows":183,"n_cols":14,"rows_kept":183,"cut":false,"hidden":false,"merged":[[34,9,34,10],[35,9,35,10],[36,9,36,10],[7,9,7,10],[8,9,8,10],[15,9,15,10],[16,9,16,10],[17,9,17,10],[14,9,14,10],[2,9,2,10],[3,9,3,10],[4,9,4,10],[5,9,5,10],[6,9,6,10],[75,0,75,7],[76,0,76,7],[73,0,73,7],[43,0,43,1],[51,0,51,1],[44,5,44,7],[45,5,45,7],[46,5,46,7],[47,5,47,7],[52,5,52,7],[43,5,43,7],[53,5,53,7],[54,5,54,7],[55,5,55,7],[51,5,51,7],[61,5,61,7],[72,0,72,7],[74,0,74,7],[58,5,58,7],[62,5,62,7],[63,5,63,7],[64,5,64,7],[65,5,65,7],[37,9,37,10],[30,9,30,10],[13,2,13,4],[13,5,13,7],[71,0,71,7],[23,9,23,10],[24,9,24,10],[25,9,25,10],[18,9,18,10],[19,9,19,10],[20,9,20,10],[21,9,21,10],[22,9,22,10],[31,9,31,10],[32,9,32,10],[33,9,33,10]]}
["4 Energi och bränsle"]
[{"$f":"VLOOKUP('6 Resultat'!E19,'Teknisk administration'!$G$4:$H$6,2,FALSE)","v":"Bladet är frivilligt att fylla i"},null,null,null,null,null,null,null,null,"Det här betyder färgerna:"]
["Här samlar du uppgifter om energi (el, drivmedel, bränslen för uppvärmning och inköpta tjänster) som används i djurhållningen och växtodlingen, både inköpt och egenproducerat. ",null,null,null,null,null,null,null,null,"Cell med värden hämtade från annan cell",null,null,"Snabblänkar till bladen i verktyget:"]
[null,null,null,null,null,null,null,null,null,"Fyll i din egen siffra",null,null,"Instruktion"]
["Gör avdrag för privat användning och annan verksamhet (t ex entreprenad).  ",null,null,null,null,null,null,null,null,"Egen uppgift, men välj värde ur rullista. ",null,null,"Bakgrund"]
["Justera också för eventuell överlagring (t ex diesel)!",null,null,null,null,null,null,null,null,"Resultat/uträkning",null,null,"1 Intro djuren"]
["Användningen räknas om till kWh för att kunna summeras. ",null,null,null,null,null,null,null,null,"Schablonvärde",null,null,"1.1 Kött"]
[null,null,null,null,null,null,null,null,null,"Förklaringar till raden",null,null,"1.2 Tillväxt & förökning"]
[null,null,null,null,null,null,null,null,null,"Plats för egna kommentarer",null,null,"1.3 Hälsa & dödlighet"]
[null,null,null,null,null,null,null,null,null,null,null,null,"2 Intro foder"]
[null,null,null,null,null,null,null,null,null,null,null,null,"2.1 Odling foder"]
[null,null,null,null,null,null,null,null,null,null,null,null,"2.1b Halm, odling grovfoder"]
[null,null,null,null,null,null,null,null,null,null,null,null,"2.2 Förluster vid lagring"]
[null,null,"Period",null,null,"Nyckeltal",null,null,null,null,null,null,"2.3 Utfodrat"]
["Inköpt energi som använts under året. Justera för eventuell överlagring!","Enhet",{"$f":"Bakgrund!R$7","v":"Period 1"},{"$f":"Bakgrund!S$7","v":"Period 2"},{"$f":"Bakgrund!T$7","v":"Period 3"},{"$f":"\"Motsvarar i kWh år \"&C15","v":"Motsvarar i kWh år Period 1"},{"$f":"\"Motsvarar i kWh år \"&D15","v":"Motsvarar i kWh år Period 2"},"Motsvarar i kWh år Period 3","Egen kommentar","Förklaring",null,null,"2.4 Kasserat foder och spill"]
["El","kWh",null,null,null,{"$f":"C16*'Teknisk administration'!$L$15","v":0},{"$f":"D16*'Teknisk administration'!$L$15","v":0},{"$f":"E16*'Teknisk administration'!$L$15","v":0},null,null,null,null,"3 Växtnäringsutnyttjande (1)"]
["Diesel","liter",null,null,null,{"$f":"C17*'Teknisk administration'!$L$16","v":0},{"$f":"D17*'Teknisk administration'!$L$16","v":0},{"$f":"E17*'Teknisk administration'!$L$16","v":0},null,"1 l diesel = 9,8 kWh",null,null,"3 Växtnäringsutnyttjande (2)"]
["Bensin","liter",null,null,null,{"$f":"C18*'Teknisk administration'!$L$17","v":0},{"$f":"D18*'Teknisk administration'!$L$17","v":0},{"$f":"E18*'Teknisk administration'!$L$17","v":0},null,"1 l bensin = 9,1 kWh",null,null,"3 Växtnäringsutnyttjande (3)"]
["Fordonsgas","m3",null,null,null,{"$f":"C19*'Teknisk administration'!$L$18","v":0},{"$f":"D19*'Teknisk administration'!$L$18","v":0},{"$f":"E19*'Teknisk administration'!$L$18","v":0},null,"Naturgas eller uppgraderad biogas 1 m3 = 9,7 kWh. \n1 kg fordonsgas = 1,5 m3 fordonsgas",null,null,"4 Energi och bränsle"]
["Eldningsolja","liter",null,null,null,{"$f":"C20*'Teknisk administration'!$L19","v":0},{"$f":"D20*'Teknisk administration'!$L19","v":0},{"$f":"E20*'Teknisk administration'!$L19","v":0},null,"1 l eldningsolja = 9,95 kWh",null,null,"5 Vattenanvändning"]
["Flis","m3s",null,null,null,{"$f":"C21*'Teknisk administration'!$L20","v":0},{"$f":"D21*'Teknisk administration'!$L20","v":0},{"$f":"E21*'Teknisk administration'!$L20","v":0},null,"kubikmeter stjälpt mått. 1m3s = 750 kWh ",null,null,"6 Resultat"]
["Pellets","ton",null,null,null,{"$f":"C22*'Teknisk administration'!$L21","v":0},{"$f":"D22*'Teknisk administration'!$L21","v":0},{"$f":"E22*'Teknisk administration'!$L21","v":0},null,"1 ton pellets = 4 900 kWh",null,null,"6B Klimat"]
["Ved","m3tr",null,null,null,{"$f":"C23*'Teknisk administration'!$L22","v":0},{"$f":"D23*'Teknisk administration'!$L22","v":0},{"$f":"E23*'Teknisk administration'!$L22","v":0},null,"1 m3 travat mått brännved = 1240 kWh"]
["Övriga bränslen","kWh",null,null,null,{"$f":"C24*'Teknisk administration'!$L23","v":0},{"$f":"D24*'Teknisk administration'!$L23","v":0},{"$f":"E24*'Teknisk administration'!$L23","v":0},null,"1 kbmf ved björk = 2500 kWh"]
["Inhyrda tjänster, dieselåtgången är känd*","liter diesel",null,null,null,{"$f":"C25*'Teknisk administration'!$L24","v":0},{"$f":"D25*'Teknisk administration'!$L24","v":0},{"$f":"E25*'Teknisk administration'!$L24","v":0},null,"* t ex rundbalning, utgödsling. Fyll i denna rad om drivmedelsåtgången (liter) framgår av fakturan. "]
["Inhyrda tjänster, saknar uppgift om dieselåtgång*","liter diesel",{"$f":"E97","v":0},{"$f":"E119","v":0},{"$f":"E139","v":0},{"$f":"C26*'Teknisk administration'!$L25","v":0},{"$f":"D26*'Teknisk administration'!$L25","v":0},{"$f":"E26*'Teknisk administration'!$L25","v":0},null,"* Fyll i hjälptabellen längre ner om du inte vet hur stor drivmedelsförbrukningen var! Obs! En tabell per år. Resultatet överförs automatisk till denna rad."]
["Summa: Inköpt mängd energi","kWh",null,null,null,{"$f":"SUM(F16:F26)","v":0},{"$f":"SUM(G16:G26)","v":0},0]
[]
[]
[]
["Egen produktion för egen användning, justera för eventuell överlagring","Enhet",{"$f":"Bakgrund!R7","v":"Period 1"},{"$f":"Bakgrund!S7","v":"Period 2"},{"$f":"Bakgrund!T7","v":"Period 3"},{"$f":"\"Motsvarar i kWh år \"&C31","v":"Motsvarar i kWh år Period 1"},{"$f":"\"Motsvarar i kWh år \"&D31","v":"Motsvarar i kWh år Period 2"},{"$f":"\"Motsvarar i kWh år \"&E31","v":"Motsvarar i kWh år Period 3"},"Egen kommentar","Förklaring"]
["El","kWh",null,null,null,{"$f":"C32*'Teknisk administration'!$L31","v":0},{"$f":"D32*'Teknisk administration'!$L31","v":0},{"$f":"E32*'Teknisk administration'!$L31","v":0},null,"T ex egen solel, vindkraft"]
["Biogas","m3",null,null,null,{"$f":"C33*'Teknisk administration'!$L32","v":0},{"$f":"D33*'Teknisk administration'!$L32","v":0},{"$f":"E33*'Teknisk administration'!$L32","v":0},null,"Avser rågas. 1 m3 biogas = 5,8 kWh"]
["Flis","m3s",null,null,null,{"$f":"C34*'Teknisk administration'!$L33","v":0},{"$f":"D34*'Teknisk administration'!$L33","v":0},{"$f":"E34*'Teknisk administration'!$L33","v":0},null,"m3s=stjälpt mått, t ex yttermåtten av en flishög. 1m3s = 750 kWh "]
["Pellets","ton",null,null,null,{"$f":"C35*'Teknisk administration'!$L34","v":0},{"$f":"D35*'Teknisk administration'!$L34","v":0},{"$f":"E35*'Teknisk administration'!$L34","v":0},null,"1 ton pellets = 4 900 kWh"]
["Ved","m3tr",null,null,null,{"$f":"C36*'Teknisk administration'!$L35","v":0},{"$f":"D36*'Teknisk administration'!$L35","v":0},{"$f":"E36*'Teknisk administration'!$L35","v":0},null,"m3tr= travat mått brännved\n1 m3tr = 1240 kWh"]
["Halm","ton",null,null,null,{"$f":"C37*'Teknisk administration'!$L36","v":0},{"$f":"D37*'Teknisk administration'!$L36","v":0},{"$f":"E37*'Teknisk administration'!$L36","v":0},null,"1 ton halm = 4000kWh"]
["Övrigt","kWh",null,null,null,{"$f":"C38*'Teknisk administration'!$L37","v":0},{"$f":"D38*'Teknisk administration'!$L37","v":0},{"$f":"E38*'Teknisk administration'!$L37","v":0},null,"T ex 1 kg fordonsgas = 13 kWh, 1 kbmf ved björk = 2500 kWh"]
["Summa: egenproducerad energi","kWh",null,null,null,{"$f":"SUM(F32:F38)","v":0},{"$f":"SUM(G32:G38)","v":0},0]
[]
[]
[]
[]
["Total mängd använd energi (inköpt + egenproducerad), uttryck som kWh",null,{"$f":"Bakgrund!R7","v":"Period 1"},{"$f":"Bakgrund!S7","v":"Period 2"},{"$f":"Bakgrund!T7","v":"Period 3"},"Egen kommentar",null,null,"Förklaring"]
["Totalt, varav...","kWh",{"$f":"F27+F39","v":0},{"$f":"G27+G39","v":0},{"$f":"H27+H39","v":0}]
["...el","kWh",{"$f":"SUMPRODUCT(C16:C38,'Teknisk administration'!$B$14:$B$36,'Teknisk administration'!$L$15:$L$37)","v":0},{"$f":"SUMPRODUCT(D16:D38,'Teknisk administration'!$B$14:$B$36,'Teknisk administration'!$L$15:$L$37)","v":0},{"$f":"SUMPRODUCT(E16:E38,'Teknisk administration'!$B$14:$B$36,'Teknisk administration'!$L$15:$L$37)","v":0}]
["...drivmedel (diesel, bensin)","kWh",{"$f":"SUMPRODUCT(C16:C38,'Teknisk administration'!$C$14:$C$36,'Teknisk administration'!$L$15:$L$37)","v":0},{"$f":"SUMPRODUCT(D16:D38,'Teknisk administration'!$C$14:$C$36,'Teknisk administration'!$L$15:$L$37)","v":0},{"$f":"SUMPRODUCT(E16:E38,'Teknisk administration'!C14:C36,'Teknisk administration'!$L$15:$L$37)","v":0}]
["...bränslen för värme (eldningsolja, flis, halm etc.)","kWh",{"$f":"SUMPRODUCT(C16:C38,'Teknisk administration'!$D$14:$D$36,'Teknisk administration'!$L$15:$L$37)","v":0},{"$f":"SUMPRODUCT(D16:D38,'Teknisk administration'!$D$14:$D$36,'Teknisk administration'!$L$15:$L$37)","v":0},{"$f":"SUMPRODUCT(E16:E38,'Teknisk administration'!$D$14:$D$36,'Teknisk administration'!$L$15:$L$37)","v":0}]
[]
[]
[]
["Total mängd använd energi (inköpt + egenproducerad), som % av total mängd använd energi",null,{"$f":"Bakgrund!R7","v":"Period 1"},{"$f":"Bakgrund!S7","v":"Period 2"},{"$f":"Bakgrund!T7","v":"Period 3"},"Egen kommentar",null,null,"Förklaring"]
["Totalt, varav...","%",{"$f":"SUM(C54:C56)","v":0},{"$f":"SUM(D54:D56)","v":0},0]
["...el","% av totalt",{"$f":"C46/IF(C$45=0,1,C$45)","v":0},0,0]
["...drivmedel (diesel, bensin)","% av totalt",0,0,0]
["...bränslen för värme (eldningsolja, flis, halm etc.)","% av totalt",0,0,0]
[]
[]
["Mängd producerat kött","kg kött per år",{"$f":"'6 Resultat'!Q34","v":0},{"$f":"'6 Resultat'!R34","v":0},{"$f":"'6 Resultat'!S34","v":0}]
[]
[]
["Nyckeltal: Använd mängd energi per kg kött:",null,{"$f":"Bakgrund!R7","v":"Period 1"},{"$f":"Bakgrund!S7","v":"Period 2"},{"$f":"Bakgrund!T7","v":"Period 3"},"Egen kommentar",null,null,"Förklaring",null,"Några nyckeltal om energianvändning inomgårds (uttag foder, stall, utgödsling etc.) (Jordbruksverket. 2010. Rapport 2010:16)"]
["Totalt, varav...","kWh/kg kött",{"$f":"IF(C$59>0,C45/C$59,0)","v":0},{"$f":"IF(D$59>0,D45/D$59,0)","v":0},0,null,null,null,"Se nyckeltal till höger!",null,null,"Nyckeltal","Min-Max"]
["...el","kWh/kg kött",0,0,0,null,null,null,"Eldriven utgödsling, utfordring etc. ger generellt lägre energiförbrukning",null,"Smågrisar (kWh/smågris)",85.94,"5,65-301,79","Uppvärmning och ventilation ofta stora poster. "]
["...drivmedel (diesel, bensin)","kWh/kg kött",0,0,0,null,null,null,"Oftast det mesta från fältarbeten",null,"Slaktsvin (kWh/kg kött)",0.59,"0,11-1,54"]
["...bränslen för värme (eldningsolja, flis, halm etc.)","kWh/kg kött",0,0,0,null,null,null,"Generellt fler kWh för uppvärmning med bränslen än med el/värmepump"]
[]
[]
[]
[]
["Hjälptabeller för att beräkna dieselåtgång för inköpta tjänster"]
["Använd tabellerna nedan för att beräkna hur mycket diesel som gått åt för inköpta tjänser, om du inte kan få fram dieselförbrukningen från fakturan"]
["Välj arbetsmoment (t ex pressning halm, sprutning, rundbalspress) alternativt traktorns storlek (t ex 120 kW (163 hk)) ur rullistan och fyll sedan i antalet timmar eller hektar:"]
["* Listan innehåller några exempel dieselåtgång på arbetsmoment. Enheten är liter per HEKTAR. För upprepade arbetsmoment (t ex vallskörd) eller moment där det kan behövas flera överfarter (t ex vältning) ska detta beaktas. Så om man t ex lejer in sprutning 2 gånger till 10 hektar ska värdet vara 2*10 = 20  "]
["* Traktorerna är indelade i motorstorlekar. Ju större traktor och effekt, desto högre dieselåtgång. Enheten är liter per TIMME. Schablonvärdet gäller blandat arbete, exklusive jordbearbetning. Om det är ett tungt arbete, t ex plöjning, välj då en storlek större på traktorn  så beaktas det extra effektbehovet. Vid lätt arbete kan en storlek mindre väljas. "]
["* I listan finns det några rubriker (t ex \"---Skörd vall---\") för att underlätta orienteringen och som saknar schablonvärden för dieselåtgång. Välj därför ett mer specifikt alternativ."]
[]
["Det finns en tabell per år, och resultatet överförs automatiskt till sammanställningen ovan."]
[]
[]
[{"$f":"\"Inhyrda tjänster år \"&Bakgrund!R7","v":"Inhyrda tjänster år Period 1"}]
["Arbetsmoment eller traktorns storlek - välj alternativ ur lista!","Arbete, timmar eller hektar","Enhet","Egen kommentar","tot dieselåtgång (liter)","Dieselåtgång","Enhet","Förklaring"]
[null,null,{"$f":"IF(ISTEXT($A83),VLOOKUP($A83,'Teknisk administration'!$A$66:$E$99,4,FALSE),\"\")","v":""},null,{"$f":"IF(ISNUMBER(F83),F83,0)*B83","v":0},{"$f":"IF(ISTEXT($A83),VLOOKUP($A83,'Teknisk administration'!$A$66:$E$99,2,FALSE),\"\")","v":""},{"$f":"IF(ISTEXT($A83),VLOOKUP($A83,'Teknisk administration'!$A$66:$D$99,3,FALSE),\"\")","v":""},{"$f":"IF(ISTEXT($A83),VLOOKUP($A83,'Teknisk administration'!$A$66:$E$99,5,FALSE),\"\")","v":""}]
[null,null,{"$f":"IF(ISTEXT($A84),VLOOKUP($A84,'Teknisk administration'!$A$66:$E$99,4,FALSE),\"\")","v":""},null,0,{"$f":"IF(ISTEXT($A84),VLOOKUP($A84,'Teknisk administration'!$A$66:$D$99,2,FALSE),\"\")","v":""},{"$f":"IF(ISTEXT($A84),VLOOKUP($A84,'Teknisk administration'!$A$66:$D$99,3,FALSE),\"\")","v":""},{"$f":"IF(ISTEXT($A84),VLOOKUP($A84,'Teknisk administration'!$A$66:$E$99,5,FALSE),\"\")","v":""}]
[null,null,{"$f":"IF(ISTEXT($A85),VLOOKUP($A85,'Teknisk administration'!$A$66:$E$99,4,FALSE),\"\")","v":""},null,0,{"$f":"IF(ISTEXT($A85),VLOOKUP($A85,'Teknisk administration'!$A$66:$D$99,2,FALSE),\"\")","v":""},{"$f":"IF(ISTEXT($A85),VLOOKUP($A85,'Teknisk administration'!$A$66:$D$99,3,FALSE),\"\")","v":""},{"$f":"IF(ISTEXT($A85),VLOOKUP($A85,'Teknisk administration'!$A$66:$E$99,5,FALSE),\"\")","v":""}]
[null,null,{"$f":"IF(ISTEXT($A86),VLOOKUP($A86,'Teknisk administration'!$A$66:$E$99,4,FALSE),\"\")","v":""},null,0,{"$f":"IF(ISTEXT($A86),VLOOKUP($A86,'Teknisk administration'!$A$66:$D$99,2,FALSE),\"\")","v":""},{"$f":"IF(ISTEXT($A86),VLOOKUP($A86,'Teknisk administration'!$A$66:$D$99,3,FALSE),\"\")","v":""},{"$f":"IF(ISTEXT($A86),VLOOKUP($A86,'Teknisk administration'!$A$66:$E$99,5,FALSE),\"\")","v":""}]
[null,null,{"$f":"IF(ISTEXT($A87),VLOOKUP($A87,'Teknisk administration'!$A$66:$E$99,4,FALSE),\"\")","v":""},null,0,{"$f":"IF(ISTEXT($A87),VLOOKUP($A87,'Teknisk administration'!$A$66:$D$99,2,FALSE),\"\")","v":""},{"$f":"IF(ISTEXT($A87),VLOOKUP($A87,'Teknisk administration'!$A$66:$D$99,3,FALSE),\"\")","v":""},{"$f":"IF(ISTEXT($A87),VLOOKUP($A87,'Teknisk administration'!$A$66:$E$99,5,FALSE),\"\")","v":""}]
[null,null,{"$f":"IF(ISTEXT($A88),VLOOKUP($A88,'Teknisk administration'!$A$66:$E$99,4,FALSE),\"\")","v":""},null,0,{"$f":"IF(ISTEXT($A88),VLOOKUP($A88,'Teknisk administration'!$A$66:$D$99,2,FALSE),\"\")","v":""},{"$f":"IF(ISTEXT($A88),VLOOKUP($A88,'Teknisk administration'!$A$66:$D$99,3,FALSE),\"\")","v":""},{"$f":"IF(ISTEXT($A88),VLOOKUP($A88,'Teknisk administration'!$A$66:$E$99,5,FALSE),\"\")","v":""}]
[null,null,{"$f":"IF(ISTEXT($A89),VLOOKUP($A89,'Teknisk administration'!$A$66:$E$99,4,FALSE),\"\")","v":""},null,0,{"$f":"IF(ISTEXT($A89),VLOOKUP($A89,'Teknisk administration'!$A$66:$D$99,2,FALSE),\"\")","v":""},{"$f":"IF(ISTEXT($A89),VLOOKUP($A89,'Teknisk administration'!$A$66:$D$99,3,FALSE),\"\")","v":""},{"$f":"IF(ISTEXT($A89),VLOOKUP($A89,'Teknisk administration'!$A$66:$E$99,5,FALSE),\"\")","v":""}]
[null,null,{"$f":"IF(ISTEXT($A90),VLOOKUP($A90,'Teknisk administration'!$A$66:$E$99,4,FALSE),\"\")","v":""},null,0,{"$f":"IF(ISTEXT($A90),VLOOKUP($A90,'Teknisk administration'!$A$66:$D$99,2,FALSE),\"\")","v":""},{"$f":"IF(ISTEXT($A90),VLOOKUP($A90,'Teknisk administration'!$A$66:$D$99,3,FALSE),\"\")","v":""},{"$f":"IF(ISTEXT($A90),VLOOKUP($A90,'Teknisk administration'!$A$66:$E$99,5,FALSE),\"\")","v":""}]
[null,null,{"$f":"IF(ISTEXT($A91),VLOOKUP($A91,'Teknisk administration'!$A$66:$E$99,4,FALSE),\"\")","v":""},null,0,{"$f":"IF(ISTEXT($A91),VLOOKUP($A91,'Teknisk administration'!$A$66:$D$99,2,FALSE),\"\")","v":""},{"$f":"IF(ISTEXT($A91),VLOOKUP($A91,'Teknisk administration'!$A$66:$D$99,3,FALSE),\"\")","v":""},{"$f":"IF(ISTEXT($A91),VLOOKUP($A91,'Teknisk administration'!$A$66:$E$99,5,FALSE),\"\")","v":""}]
[null,null,{"$f":"IF(ISTEXT($A92),VLOOKUP($A92,'Teknisk administration'!$A$66:$E$99,4,FALSE),\"\")","v":""},null,0,{"$f":"IF(ISTEXT($A92),VLOOKUP($A92,'Teknisk administration'!$A$66:$D$99,2,FALSE),\"\")","v":""},{"$f":"IF(ISTEXT($A92),VLOOKUP($A92,'Teknisk administration'!$A$66:$D$99,3,FALSE),\"\")","v":""},{"$f":"IF(ISTEXT($A92),VLOOKUP($A92,'Teknisk administration'!$A$66:$E$99,5,FALSE),\"\")","v":""}]
[null,null,{"$f":"IF(ISTEXT($A93),VLOOKUP($A93,'Teknisk administration'!$A$66:$E$99,4,FALSE),\"\")","v":""},null,0,{"$f":"IF(ISTEXT($A93),VLOOKUP($A93,'Teknisk administration'!$A$66:$D$99,2,FALSE),\"\")","v":""},{"$f":"IF(ISTEXT($A93),VLOOKUP($A93,'Teknisk administration'!$A$66:$D$99,3,FALSE),\"\")","v":""},{"$f":"IF(ISTEXT($A93),VLOOKUP($A93,'Teknisk administration'!$A$66:$E$99,5,FALSE),\"\")","v":""}]
[null,null,{"$f":"IF(ISTEXT($A94),VLOOKUP($A94,'Teknisk administration'!$A$66:$E$99,4,FALSE),\"\")","v":""},null,0,{"$f":"IF(ISTEXT($A94),VLOOKUP($A94,'Teknisk administration'!$A$66:$D$99,2,FALSE),\"\")","v":""},{"$f":"IF(ISTEXT($A94),VLOOKUP($A94,'Teknisk administration'!$A$66:$D$99,3,FALSE),\"\")","v":""},{"$f":"IF(ISTEXT($A94),VLOOKUP($A94,'Teknisk administration'!$A$66:$E$99,5,FALSE),\"\")","v":""}]
[null,null,{"$f":"IF(ISTEXT($A95),VLOOKUP($A95,'Teknisk administration'!$A$66:$E$99,4,FALSE),\"\")","v":""},null,0,{"$f":"IF(ISTEXT($A95),VLOOKUP($A95,'Teknisk administration'!$A$66:$D$99,2,FALSE),\"\")","v":""},{"$f":"IF(ISTEXT($A95),VLOOKUP($A95,'Teknisk administration'!$A$66:$D$99,3,FALSE),\"\")","v":""},{"$f":"IF(ISTEXT($A95),VLOOKUP($A95,'Teknisk administration'!$A$66:$E$99,5,FALSE),\"\")","v":""}]
[null,null,{"$f":"IF(ISTEXT($A96),VLOOKUP($A96,'Teknisk administration'!$A$66:$E$99,4,FALSE),\"\")","v":""},null,0,{"$f":"IF(ISTEXT($A96),VLOOKUP($A96,'Teknisk administration'!$A$66:$D$99,2,FALSE),\"\")","v":""},{"$f":"IF(ISTEXT($A96),VLOOKUP($A96,'Teknisk administration'!$A$66:$D$99,3,FALSE),\"\")","v":""},{"$f":"IF(ISTEXT($A96),VLOOKUP($A96,'Teknisk administration'!$A$66:$E$99,5,FALSE),\"\")","v":""}]
[{"$f":"\"Totalt år \"&Bakgrund!R7&\" (liter)\"","v":"Totalt år Period 1 (liter)"},null,null,null,{"$f":"SUM(E83:E96)","v":0},"liter"]
[{"$f":"\"Totalt år \"&Bakgrund!R7&\" (kWh)\"","v":"Totalt år Period 1 (kWh)"},null,null,null,{"$f":"E97*'Teknisk administration'!$L$25","v":0},"kWh"]
[]
[]
[]
[]
[{"$f":"\"Inhyrda tjänster år \"&Bakgrund!S7","v":"Inhyrda tjänster år Period 2"}]
["Arbetsmoment eller traktorns storlek - välj alternativ ur lista!","Arbete, timmar eller hektar","Enhet","Egen kommentar","tot dieselåtgång (liter)","Dieselåtgång","Enhet","Förklaring"]
[null,null,{"$f":"IF(ISTEXT($A105),VLOOKUP($A105,'Teknisk administration'!$A$66:$E$99,4,FALSE),\"\")","v":""},null,{"$f":"IF(ISNUMBER(F105),F105,0)*B105","v":0},{"$f":"IF(ISTEXT($A105),VLOOKUP($A105,'Teknisk administration'!$A$66:$E$99,2,FALSE),\"\")","v":""},{"$f":"IF(ISTEXT($A105),VLOOKUP($A105,'Teknisk administration'!$A$66:$D$99,3,FALSE),\"\")","v":""},{"$f":"IF(ISTEXT($A105),VLOOKUP($A105,'Teknisk administration'!$A$66:$E$99,5,FALSE),\"\")","v":""}]
[null,null,{"$f":"IF(ISTEXT($A106),VLOOKUP($A106,'Teknisk administration'!$A$66:$E$99,4,FALSE),\"\")","v":""},null,0,{"$f":"IF(ISTEXT($A106),VLOOKUP($A106,'Teknisk administration'!$A$66:$D$99,2,FALSE),\"\")","v":""},{"$f":"IF(ISTEXT($A106),VLOOKUP($A106,'Teknisk administration'!$A$66:$D$99,3,FALSE),\"\")","v":""},{"$f":"IF(ISTEXT($A106),VLOOKUP($A106,'Teknisk administration'!$A$66:$E$99,5,FALSE),\"\")","v":""}]
[null,null,{"$f":"IF(ISTEXT($A107),VLOOKUP($A107,'Teknisk administration'!$A$66:$E$99,4,FALSE),\"\")","v":""},null,0,{"$f":"IF(ISTEXT($A107),VLOOKUP($A107,'Teknisk administration'!$A$66:$D$99,2,FALSE),\"\")","v":""},{"$f":"IF(ISTEXT($A107),VLOOKUP($A107,'Teknisk administration'!$A$66:$D$99,3,FALSE),\"\")","v":""},{"$f":"IF(ISTEXT($A107),VLOOKUP($A107,'Teknisk administration'!$A$66:$E$99,5,FALSE),\"\")","v":""}]
[null,null,{"$f":"IF(ISTEXT($A108),VLOOKUP($A108,'Teknisk administration'!$A$66:$E$99,4,FALSE),\"\")","v":""},null,0,{"$f":"IF(ISTEXT($A108),VLOOKUP($A108,'Teknisk administration'!$A$66:$D$99,2,FALSE),\"\")","v":""},{"$f":"IF(ISTEXT($A108),VLOOKUP($A108,'Teknisk administration'!$A$66:$D$99,3,FALSE),\"\")","v":""},{"$f":"IF(ISTEXT($A108),VLOOKUP($A108,'Teknisk administration'!$A$66:$E$99,5,FALSE),\"\")","v":""}]
[null,null,{"$f":"IF(ISTEXT($A109),VLOOKUP($A109,'Teknisk administration'!$A$66:$E$99,4,FALSE),\"\")","v":""},null,0,{"$f":"IF(ISTEXT($A109),VLOOKUP($A109,'Teknisk administration'!$A$66:$D$99,2,FALSE),\"\")","v":""},{"$f":"IF(ISTEXT($A109),VLOOKUP($A109,'Teknisk administration'!$A$66:$D$99,3,FALSE),\"\")","v":""},{"$f":"IF(ISTEXT($A109),VLOOKUP($A109,'Teknisk administration'!$A$66:$E$99,5,FALSE),\"\")","v":""}]
[null,null,{"$f":"IF(ISTEXT($A110),VLOOKUP($A110,'Teknisk administration'!$A$66:$E$99,4,FALSE),\"\")","v":""},null,0,{"$f":"IF(ISTEXT($A110),VLOOKUP($A110,'Teknisk administration'!$A$66:$D$99,2,FALSE),\"\")","v":""},{"$f":"IF(ISTEXT($A110),VLOOKUP($A110,'Teknisk administration'!$A$66:$D$99,3,FALSE),\"\")","v":""},{"$f":"IF(ISTEXT($A110),VLOOKUP($A110,'Teknisk administration'!$A$66:$E$99,5,FALSE),\"\")","v":""}]
[null,null,{"$f":"IF(ISTEXT($A111),VLOOKUP($A111,'Teknisk administration'!$A$66:$E$99,4,FALSE),\"\")","v":""},null,0,{"$f":"IF(ISTEXT($A111),VLOOKUP($A111,'Teknisk administration'!$A$66:$D$99,2,FALSE),\"\")","v":""},{"$f":"IF(ISTEXT($A111),VLOOKUP($A111,'Teknisk administration'!$A$66:$D$99,3,FALSE),\"\")","v":""},{"$f":"IF(ISTEXT($A111),VLOOKUP($A111,'Teknisk administration'!$A$66:$E$99,5,FALSE),\"\")","v":""}]
[null,null,{"$f":"IF(ISTEXT($A112),VLOOKUP($A112,'Teknisk administration'!$A$66:$E$99,4,FALSE),\"\")","v":""},null,0,{"$f":"IF(ISTEXT($A112),VLOOKUP($A112,'Teknisk administration'!$A$66:$D$99,2,FALSE),\"\")","v":""},{"$f":"IF(ISTEXT($A112),VLOOKUP($A112,'Teknisk administration'!$A$66:$D$99,3,FALSE),\"\")","v":""},{"$f":"IF(ISTEXT($A112),VLOOKUP($A112,'Teknisk administration'!$A$66:$E$99,5,FALSE),\"\")","v":""}]
[null,null,{"$f":"IF(ISTEXT($A113),VLOOKUP($A113,'Teknisk administration'!$A$66:$E$99,4,FALSE),\"\")","v":""},null,0,{"$f":"IF(ISTEXT($A113),VLOOKUP($A113,'Teknisk administration'!$A$66:$D$99,2,FALSE),\"\")","v":""},{"$f":"IF(ISTEXT($A113),VLOOKUP($A113,'Teknisk administration'!$A$66:$D$99,3,FALSE),\"\")","v":""},{"$f":"IF(ISTEXT($A113),VLOOKUP($A113,'Teknisk administration'!$A$66:$E$99,5,FALSE),\"\")","v":""}]
[null,null,{"$f":"IF(ISTEXT($A114),VLOOKUP($A114,'Teknisk administration'!$A$66:$E$99,4,FALSE),\"\")","v":""},null,0,{"$f":"IF(ISTEXT($A114),VLOOKUP($A114,'Teknisk administration'!$A$66:$D$99,2,FALSE),\"\")","v":""},{"$f":"IF(ISTEXT($A114),VLOOKUP($A114,'Teknisk administration'!$A$66:$D$99,3,FALSE),\"\")","v":""},{"$f":"IF(ISTEXT($A114),VLOOKUP($A114,'Teknisk administration'!$A$66:$E$99,5,FALSE),\"\")","v":""}]
[null,null,{"$f":"IF(ISTEXT($A115),VLOOKUP($A115,'Teknisk administration'!$A$66:$E$99,4,FALSE),\"\")","v":""},null,0,{"$f":"IF(ISTEXT($A115),VLOOKUP($A115,'Teknisk administration'!$A$66:$D$99,2,FALSE),\"\")","v":""},{"$f":"IF(ISTEXT($A115),VLOOKUP($A115,'Teknisk administration'!$A$66:$D$99,3,FALSE),\"\")","v":""},{"$f":"IF(ISTEXT($A115),VLOOKUP($A115,'Teknisk administration'!$A$66:$E$99,5,FALSE),\"\")","v":""}]
[null,null,{"$f":"IF(ISTEXT($A116),VLOOKUP($A116,'Teknisk administration'!$A$66:$E$99,4,FALSE),\"\")","v":""},null,0,{"$f":"IF(ISTEXT($A116),VLOOKUP($A116,'Teknisk administration'!$A$66:$D$99,2,FALSE),\"\")","v":""},{"$f":"IF(ISTEXT($A116),VLOOKUP($A116,'Teknisk administration'!$A$66:$D$99,3,FALSE),\"\")","v":""},{"$f":"IF(ISTEXT($A116),VLOOKUP($A116,'Teknisk administration'!$A$66:$E$99,5,FALSE),\"\")","v":""}]
[null,null,{"$f":"IF(ISTEXT($A117),VLOOKUP($A117,'Teknisk administration'!$A$66:$E$99,4,FALSE),\"\")","v":""},null,0,{"$f":"IF(ISTEXT($A117),VLOOKUP($A117,'Teknisk administration'!$A$66:$D$99,2,FALSE),\"\")","v":""},{"$f":"IF(ISTEXT($A117),VLOOKUP($A117,'Teknisk administration'!$A$66:$D$99,3,FALSE),\"\")","v":""},{"$f":"IF(ISTEXT($A117),VLOOKUP($A117,'Teknisk administration'!$A$66:$E$99,5,FALSE),\"\")","v":""}]
[null,null,{"$f":"IF(ISTEXT($A118),VLOOKUP($A118,'Teknisk administration'!$A$66:$E$99,4,FALSE),\"\")","v":""},null,0,{"$f":"IF(ISTEXT($A118),VLOOKUP($A118,'Teknisk administration'!$A$66:$D$99,2,FALSE),\"\")","v":""},{"$f":"IF(ISTEXT($A118),VLOOKUP($A118,'Teknisk administration'!$A$66:$D$99,3,FALSE),\"\")","v":""},{"$f":"IF(ISTEXT($A118),VLOOKUP($A118,'Teknisk administration'!$A$66:$E$99,5,FALSE),\"\")","v":""}]
[{"$f":"\"Totalt år \"&Bakgrund!S$7&\" (liter)\"","v":"Totalt år Period 2 (liter)"},null,null,null,{"$f":"SUM(E105:E118)","v":0},"liter"]
[{"$f":"\"Totalt år \"&Bakgrund!S$7&\" (kWh)\"","v":"Totalt år Period 2 (kWh)"},null,null,null,{"$f":"E119*'Teknisk administration'!$L$25","v":0},"kWh"]
[]
[]
[{"$f":"\"Inhyrda tjänster år \"&Bakgrund!T7","v":"Inhyrda tjänster år Period 3"}]
["Arbetsmoment eller traktorns storlek - välj alternativ ur lista!","Arbete, timmar eller hektar","Enhet","Egen kommentar","tot dieselåtgång (liter)","Dieselåtgång","Enhet","Förklaring"]
[null,null,{"$f":"IF(ISTEXT($A125),VLOOKUP($A125,'Teknisk administration'!$A$66:$E$99,4,FALSE),\"\")","v":""},null,{"$f":"IF(ISNUMBER(F125),F125,0)*B125","v":0},{"$f":"IF(ISTEXT($A125),VLOOKUP($A125,'Teknisk administration'!$A$66:$E$99,2,FALSE),\"\")","v":""},{"$f":"IF(ISTEXT($A125),VLOOKUP($A125,'Teknisk administration'!$A$66:$D$99,3,FALSE),\"\")","v":""},{"$f":"IF(ISTEXT($A125),VLOOKUP($A125,'Teknisk administration'!$A$66:$E$99,5,FALSE),\"\")","v":""}]
[null,null,{"$f":"IF(ISTEXT($A126),VLOOKUP($A126,'Teknisk administration'!$A$66:$E$99,4,FALSE),\"\")","v":""},null,0,{"$f":"IF(ISTEXT($A126),VLOOKUP($A126,'Teknisk administration'!$A$66:$D$99,2,FALSE),\"\")","v":""},{"$f":"IF(ISTEXT($A126),VLOOKUP($A126,'Teknisk administration'!$A$66:$D$99,3,FALSE),\"\")","v":""},{"$f":"IF(ISTEXT($A126),VLOOKUP($A126,'Teknisk administration'!$A$66:$E$99,5,FALSE),\"\")","v":""}]
[null,null,{"$f":"IF(ISTEXT($A127),VLOOKUP($A127,'Teknisk administration'!$A$66:$E$99,4,FALSE),\"\")","v":""},null,0,{"$f":"IF(ISTEXT($A127),VLOOKUP($A127,'Teknisk administration'!$A$66:$D$99,2,FALSE),\"\")","v":""},{"$f":"IF(ISTEXT($A127),VLOOKUP($A127,'Teknisk administration'!$A$66:$D$99,3,FALSE),\"\")","v":""},{"$f":"IF(ISTEXT($A127),VLOOKUP($A127,'Teknisk administration'!$A$66:$E$99,5,FALSE),\"\")","v":""}]
[null,null,{"$f":"IF(ISTEXT($A128),VLOOKUP($A128,'Teknisk administration'!$A$66:$E$99,4,FALSE),\"\")","v":""},null,0,{"$f":"IF(ISTEXT($A128),VLOOKUP($A128,'Teknisk administration'!$A$66:$D$99,2,FALSE),\"\")","v":""},{"$f":"IF(ISTEXT($A128),VLOOKUP($A128,'Teknisk administration'!$A$66:$D$99,3,FALSE),\"\")","v":""},{"$f":"IF(ISTEXT($A128),VLOOKUP($A128,'Teknisk administration'!$A$66:$E$99,5,FALSE),\"\")","v":""}]
[null,null,{"$f":"IF(ISTEXT($A129),VLOOKUP($A129,'Teknisk administration'!$A$66:$E$99,4,FALSE),\"\")","v":""},null,0,{"$f":"IF(ISTEXT($A129),VLOOKUP($A129,'Teknisk administration'!$A$66:$D$99,2,FALSE),\"\")","v":""},{"$f":"IF(ISTEXT($A129),VLOOKUP($A129,'Teknisk administration'!$A$66:$D$99,3,FALSE),\"\")","v":""},{"$f":"IF(ISTEXT($A129),VLOOKUP($A129,'Teknisk administration'!$A$66:$E$99,5,FALSE),\"\")","v":""}]
[null,null,{"$f":"IF(ISTEXT($A130),VLOOKUP($A130,'Teknisk administration'!$A$66:$E$99,4,FALSE),\"\")","v":""},null,0,{"$f":"IF(ISTEXT($A130),VLOOKUP($A130,'Teknisk administration'!$A$66:$D$99,2,FALSE),\"\")","v":""},{"$f":"IF(ISTEXT($A130),VLOOKUP($A130,'Teknisk administration'!$A$66:$D$99,3,FALSE),\"\")","v":""},{"$f":"IF(ISTEXT($A130),VLOOKUP($A130,'Teknisk administration'!$A$66:$E$99,5,FALSE),\"\")","v":""}]
[null,null,{"$f":"IF(ISTEXT($A131),VLOOKUP($A131,'Teknisk administration'!$A$66:$E$99,4,FALSE),\"\")","v":""},null,0,{"$f":"IF(ISTEXT($A131),VLOOKUP($A131,'Teknisk administration'!$A$66:$D$99,2,FALSE),\"\")","v":""},{"$f":"IF(ISTEXT($A131),VLOOKUP($A131,'Teknisk administration'!$A$66:$D$99,3,FALSE),\"\")","v":""},{"$f":"IF(ISTEXT($A131),VLOOKUP($A131,'Teknisk administration'!$A$66:$E$99,5,FALSE),\"\")","v":""}]
[null,null,{"$f":"IF(ISTEXT($A132),VLOOKUP($A132,'Teknisk administration'!$A$66:$E$99,4,FALSE),\"\")","v":""},null,0,{"$f":"IF(ISTEXT($A132),VLOOKUP($A132,'Teknisk administration'!$A$66:$D$99,2,FALSE),\"\")","v":""},{"$f":"IF(ISTEXT($A132),VLOOKUP($A132,'Teknisk administration'!$A$66:$D$99,3,FALSE),\"\")","v":""},{"$f":"IF(ISTEXT($A132),VLOOKUP($A132,'Teknisk administration'!$A$66:$E$99,5,FALSE),\"\")","v":""}]
[null,null,{"$f":"IF(ISTEXT($A133),VLOOKUP($A133,'Teknisk administration'!$A$66:$E$99,4,FALSE),\"\")","v":""},null,0,{"$f":"IF(ISTEXT($A133),VLOOKUP($A133,'Teknisk administration'!$A$66:$D$99,2,FALSE),\"\")","v":""},{"$f":"IF(ISTEXT($A133),VLOOKUP($A133,'Teknisk administration'!$A$66:$D$99,3,FALSE),\"\")","v":""},{"$f":"IF(ISTEXT($A133),VLOOKUP($A133,'Teknisk administration'!$A$66:$E$99,5,FALSE),\"\")","v":""}]
[null,null,{"$f":"IF(ISTEXT($A134),VLOOKUP($A134,'Teknisk administration'!$A$66:$E$99,4,FALSE),\"\")","v":""},null,0,{"$f":"IF(ISTEXT($A134),VLOOKUP($A134,'Teknisk administration'!$A$66:$D$99,2,FALSE),\"\")","v":""},{"$f":"IF(ISTEXT($A134),VLOOKUP($A134,'Teknisk administration'!$A$66:$D$99,3,FALSE),\"\")","v":""},{"$f":"IF(ISTEXT($A134),VLOOKUP($A134,'Teknisk administration'!$A$66:$E$99,5,FALSE),\"\")","v":""}]
[null,null,{"$f":"IF(ISTEXT($A135),VLOOKUP($A135,'Teknisk administration'!$A$66:$E$99,4,FALSE),\"\")","v":""},null,0,{"$f":"IF(ISTEXT($A135),VLOOKUP($A135,'Teknisk administration'!$A$66:$D$99,2,FALSE),\"\")","v":""},{"$f":"IF(ISTEXT($A135),VLOOKUP($A135,'Teknisk administration'!$A$66:$D$99,3,FALSE),\"\")","v":""},{"$f":"IF(ISTEXT($A135),VLOOKUP($A135,'Teknisk administration'!$A$66:$E$99,5,FALSE),\"\")","v":""}]
[null,null,{"$f":"IF(ISTEXT($A136),VLOOKUP($A136,'Teknisk administration'!$A$66:$E$99,4,FALSE),\"\")","v":""},null,0,{"$f":"IF(ISTEXT($A136),VLOOKUP($A136,'Teknisk administration'!$A$66:$D$99,2,FALSE),\"\")","v":""},{"$f":"IF(ISTEXT($A136),VLOOKUP($A136,'Teknisk administration'!$A$66:$D$99,3,FALSE),\"\")","v":""},{"$f":"IF(ISTEXT($A136),VLOOKUP($A136,'Teknisk administration'!$A$66:$E$99,5,FALSE),\"\")","v":""}]
[null,null,{"$f":"IF(ISTEXT($A137),VLOOKUP($A137,'Teknisk administration'!$A$66:$E$99,4,FALSE),\"\")","v":""},null,0,{"$f":"IF(ISTEXT($A137),VLOOKUP($A137,'Teknisk administration'!$A$66:$D$99,2,FALSE),\"\")","v":""},{"$f":"IF(ISTEXT($A137),VLOOKUP($A137,'Teknisk administration'!$A$66:$D$99,3,FALSE),\"\")","v":""},{"$f":"IF(ISTEXT($A137),VLOOKUP($A137,'Teknisk administration'!$A$66:$E$99,5,FALSE),\"\")","v":""}]
[null,null,{"$f":"IF(ISTEXT($A138),VLOOKUP($A138,'Teknisk administration'!$A$66:$E$99,4,FALSE),\"\")","v":""},null,0,{"$f":"IF(ISTEXT($A138),VLOOKUP($A138,'Teknisk administration'!$A$66:$D$99,2,FALSE),\"\")","v":""},{"$f":"IF(ISTEXT($A138),VLOOKUP($A138,'Teknisk administration'!$A$66:$D$99,3,FALSE),\"\")","v":""},{"$f":"IF(ISTEXT($A138),VLOOKUP($A138,'Teknisk administration'!$A$66:$E$99,5,FALSE),\"\")","v":""}]
[{"$f":"\"Totalt år \"&Bakgrund!T$7&\" (liter)\"","v":"Totalt år Period 3 (liter)"},null,null,null,{"$f":"SUM(E125:E138)","v":0},"liter"]
[{"$f":"\"Totalt år \"&Bakgrund!T$7&\" (kWh)\"","v":"Totalt år Period 3 (kWh)"},null,null,null,{"$f":"E139*'Teknisk administration'!$L$25","v":0},"kWh"]
[]
[]
[]
[]
["Tycker du att det är intressant med energi? Fortsätt i så fall med en stor energikartläggning! Kontakta din rådgivare!"]
[]
[]
["Mer detaljer om energi och bränsle"]
["Vill du veta var energin går åt? Dela upp den på de olika posterna för att få en mer detaljerad översikt och hitta flaskhalsarna. Här kan du även lägga in och jämföra med privat och annan användning"]
["Använd omräkningsfaktorerna i den blå tabellen ovan för att omvandla till kWh"]
[]
["Djurhållning och växtodling","Enhet",{"$f":"Bakgrund!R7","v":"Period 1"},{"$f":"Bakgrund!S7","v":"Period 2"},{"$f":"Bakgrund!T7","v":"Period 3"},"Egen kommentar","Förklaring"]
["total energianvändning, varav","kWh",{"$f":"C45","v":0},{"$f":"D45","v":0},0]
["...el","kWh",{"$f":"C46","v":0},0,0]
["...drivmedel (diesel, bensin)","kWh",0,0,0]
["...bränslen för värme (eldningsolja, flis, halm etc.)","kWh",0,0,0]
["Djurhållningen"]
["Belysning","kWh"]
["Utfodring","kWh"]
["Utgödsling","kWh"]
["Ventilation","kWh"]
["Uppvärmning","kWh"]
["Övrigt","kWh",null,null,null,null,"T ex stalltvätt, disk, elstängsel"]
["Inhyrda tjänster ","kWh",{"$f":"SUM(F25:F26)","v":0},{"$f":"SUM(G25:G26)","v":0},0,null,"Ex inhyrd utgödsling av stallet där bränsle ombesörjs av entreprenören"]
[]
["Växtodling","kWh"]
["Snöröjning och vägunderhåll","kWh"]
["Skogen","kWh"]
[]
["Privat användning"]
["Företagsbilen","kWh",null,null,null,null,"Fördela gärna användningen på djurdel och övrigt om du har uppgifter om detta"]
["Verkstad","kWh"]
["El","kWh"]
["Ytterbelysning","kWh"]
["Övrigt","kWh",null,null,null,null,"T ex transporter, växtodling, torkanläggning"]
[]
["Körslor åt andra","kWh"]
["Elåtgång åt andra","kWh"]
[]
["Summa använd energi","kWh"]
[]
[]
["Såld energi ",null,null,null,null,null,"Här kan du skriva upp hur mycket energi som du har sålt till andra. Kan vara i form av t ex ved, biogas eller värme. "]

{"sheet":"5 Vattenanvändning","index":16,"n_rows":78,"n_cols":9,"rows_kept":78,"cut":false,"hidden":false,"merged":[[78,5,78,6],[70,5,70,6],[71,5,71,6],[72,5,72,6],[74,5,74,6],[75,5,75,6],[76,5,76,6],[77,5,77,6],[65,5,65,6],[66,5,66,6],[67,5,67,6],[68,5,68,6],[69,5,69,6],[60,5,60,6],[61,5,61,6],[62,5,62,6],[63,5,63,6],[64,5,64,6],[55,5,55,6],[56,5,56,6],[57,5,57,6],[58,5,58,6],[59,5,59,6],[50,5,50,6],[51,5,51,6],[52,5,52,6],[53,5,53,6],[54,5,54,6],[45,5,45,6],[46,5,46,6],[47,5,47,6],[48,5,48,6],[49,5,49,6],[6,2,6,4],[24,2,24,4],[40,5,40,6],[41,5,41,6],[34,6,34,8],[36,6,36,8],[35,6,35,8],[33,6,33,8]]}
["5 Vattenanvändning",null,null,null,null,null,null,null,"Det här betyder färgerna:"]
[{"$f":"VLOOKUP('6 Resultat'!E20,'Teknisk administration'!$G$4:$H$6,2,FALSE)","v":"Bladet är frivilligt att fylla i"},null,null,null,null,null,null,null,"Cell med värden hämtade från annan cell"]
[null,null,null,null,null,null,null,null,"Beräkning"]
[null,null,null,null,null,null,null,null,"Fyll i din egen siffra"]
[null,null,null,null,null,null,null,null,"Fyll i egen siffra - frivilligt, t ex om du har tillgång till uppgift eller om du vill räkna med annat värde än det schablonvärde som visas i angränsande cell"]
[null,null,null,null,null,null,null,null,"Egen uppgift, men välj värde ur rullista. "]
[null,null,"Period",null,null,"Egen kommentar","Förklaring",null,"Resultat/uträkning"]
["Vattenförbrukning i djurproduktionen","Enhet",{"$f":"Bakgrund!R$7","v":"Period 1"},{"$f":"Bakgrund!S$7","v":"Period 2"},{"$f":"Bakgrund!T$7","v":"Period 3"},null,"Hämtas från bladet 1 Intro djuren",null,"Förklaringar till raden"]
["Antal djur i besättningen","antal",{"$f":"'1 Intro djuren'!C33","v":0},{"$f":"'1 Intro djuren'!D33","v":0},{"$f":"'1 Intro djuren'!E33","v":0},null,"Hämtas från bladet 1.1 Kött",null,"Plats för egna kommentarer"]
["Kg kött producerat","kg",{"$f":"'6 Resultat'!Q34","v":0},{"$f":"'6 Resultat'!R34","v":0},{"$f":"'6 Resultat'!S34","v":0}]
["Dricksvatten till djuren","liter",null,null,null,null,null,null,"Snabblänkar till bladen i verktyget:"]
["Vattenförbrukning till tvätt av stallar","liter",null,null,null,null,null,null,"Instruktion"]
["Övrig vattenförbrukning","liter",null,null,null,null,null,null,"Bakgrund"]
["Total vattenförbrukning i djurproduktionen","liter",{"$f":"SUM(C11:C13)","v":0},{"$f":"SUM(D11:D13)","v":0},0,null,"Summa av vattenförbrukningen. (Om du bara vet din totalkonsumtion av vatten skriv den här.)",null,"1 Intro djuren"]
[null,null,null,null,null,null,null,null,"1.1 Kött"]
["Vattenförbrukning per djur","liter/djur",{"$f":"IF(C14=0,0,C14/C9)","v":0},{"$f":"IF(D14=0,0,D14/D9)","v":0},0,null,"Om nyckeltalet är högt kan det tyda på en vattenläcka. Nyckeltalet bör inte heller vara för lågt, snarare inom ett intervall. Allt för låg vattenförbrukning kan ju indikera att djuren dricker för dåligt, t ex pga dåligt flöde i vattenkoppar.",null,"1.2 Tillväxt & förökning"]
["Vattenförbrukning per kg kött","liter/kg kött",{"$f":"IF(C10=0,0,C14/C10)","v":0},{"$f":"IF(D10=0,0,D14/D10)","v":0},0,null,null,null,"1.3 Hälsa & dödlighet"]
["...varav dricksvatten till djuren","liter/kg kött",{"$f":"IF(C10=0,0,C11/C10)","v":0},{"$f":"IF(D10=0,0,D11/D10)","v":0},0,null,null,null,"2 Intro foder"]
["…varav vatten till tvätt av stallar + övrig förbrukning","liter/kg kött",{"$f":"IF(C10=0,0,(C12+C13)/C10)","v":0},{"$f":"IF(D10=0,0,(D12+D13)/D10)","v":0},0,null,null,null,"2.1 Odling foder"]
[null,null,null,null,null,null,null,null,"2.1b Halm, odling grovfoder"]
[null,null,null,null,null,null,null,null,"2.2 Förluster vid lagring"]
[null,null,null,null,null,null,null,null,"2.3 Utfodrat"]
["Mer detaljer om vattenanvändning",null,null,null,null,null,null,null,"2.4 Kasserat foder och spill"]
["Tycker du att det är intressant med vattenförbrukning? Här kan du gå in på mer detaljer:",null,null,null,null,null,null,null,"3 Växtnäringsutnyttjande (1)"]
[null,null,"Period",null,null,"Egen kommentar","Förklaring",null,"3 Växtnäringsutnyttjande (2)"]
["Dricksvatten","Enhet",{"$f":"Bakgrund!R$7","v":"Period 1"},{"$f":"Bakgrund!S$7","v":"Period 2"},{"$f":"Bakgrund!T$7","v":"Period 3"},null,null,null,"3 Växtnäringsutnyttjande (3)"]
["Egen bostad","liter",null,null,null,null,null,null,"4 Energi och bränsle"]
["Uthyrda bostäder","liter",null,null,null,null,null,null,"5 Vattenanvändning"]
["Annan verksamhet","liter",null,null,null,null,null,null,"6 Resultat"]
["Total dricksvattenförbrukning","liter",{"$f":"SUM(C27:C29)","v":0},{"$f":"SUM(D27:D29)","v":0},0,null,null,null,"6B Klimat"]
[]
[]
["Vattentäkt"]
["Total årsförbrukning från vattentäkt","liter"]
["Total årsförbrukning från alternativ vattenkälla","liter",null,null,null,null,"Vatten som tas från en annan vattentäkt än den som primärt används till djurproduktionen, t ex en annan brunn, damm eller regnvatten."]
["Total årsförbrukning vatten ","liter",{"$f":"SUM(C34:C35)","v":0},{"$f":"SUM(D34:D35)","v":0},0]
["Möjligt uttag ur primär vattentäkt","liter",null,null,null,null,"Egen uppfattning eller uppmätt kapacitet. Data över grundvattenmagasin finns också på https://sgu.se/grundvatten/. Om fler utnyttjar vattenmagasinet bör det beaktas. "]
[]
[]
["Vattenkvalitet",{"$f":"Bakgrund!R$7","v":"Period 1"},{"$f":"Bakgrund!S$7","v":"Period 2"},{"$f":"Bakgrund!T$7","v":"Period 3"},"Egen kommentar","Förklaring"]
["Tjänligt med anmärkning",null,null,null,null,"Välj i rullistan de parametrar som är markerade som tjänligt med anmärkning. Du kan välja flera alternativ."]
["Otjänligt",null,null,null,null,"Välj i rullistan de parametrar som är markerade som otjänligt"]
[]
["Om otjänligt/med anmärkning fyll i analysvärden på respektve parameter för att se förändringar"]
[null,null,null,null,null,"Tolkningshjälp, vad de olika analysresultaten kan bero på och/eller ge för effekter"]
["- Kemisk analys -","Resultat prov 1","Resultat prov 2","Resultat prov 3","Egen kommentar","Kan indikera ett för högt vattenuttag ur vattentäkten, förorening från gödsel eller industri, eller orsaka problem med ledningar och annan utrustning. Kan också påverka hälsan hos både människor och djur. Var observant på förändringar"]
["Kemisk syreförbrukning (COD-Mn)",null,null,null,null,"Hög halt kan tyda på påverkan av ytligt markvatten eller föroreningar"]
["Ammonium-kväve",null,null,null,null,"Kan tyda på föroreningar från avlopp eller liknande, men förekommer också naturligt i områden med mycket järn eller humus. Risk för nitritbildning"]
["Nitrat-kväve",null,null,null,null,"Indikerar påverkan från avlopp, gödsling eller andra föroreningskällor"]
["Alkalinitet",null,null,null,null,"Lågt värde kan orsaka angrepp på metall i t ex ledningar"]
["Nitrit-nitrogen, NO2-N",null,null,null,null,"Indikerar påverkan från avlopp, gödsling eller andra föroreningskällor"]
["Fluorid",null,null,null,null,"Vatten med för hög fluoridhalt  innebär risk för osteofluoros (fluorinlagring i benvävnad). Fluorid har nästan alltid geologiskt ursprung"]
["Sulfat",null,null,null,null,"Risk för korrosion ökar. Kan ge smakförändringar samt övergående diarré hos barn"]
["Fosfatfosfor",null,null,null,null,"Indikerar föroreningar från avlopp eller gödsel, men kan också ha naturligt geologiskt ursprung"]
["Färg (410 nm)",null,null,null,null,"orsakas vanligen av multnande växtdelar, humusämnen"]
["Konduktivitet",null,null,null,null,"Konduktivitet är ett mått på vattnets elektriska ledningsförmåga och stiger med ökad salthalt, som kan vara ett tecken på överuttag i vattentäkten"]
["Lukt vid 20°C",null,null,null,null,"Kan indikera påverkan från främmande ämnen och göra vattnet osmakligt"]
["pH",null,null,null,null,"Ett pH-värdet under 6,5 kan ge korrosionsskador på rörledningar av metall. Vid lågt pH är det viktigt att spola ur ledningarna på morgonen, då ledningssystemets metaller kan ha lösts ut i vattnet. Vid pH-värde över 10,5 ska vattnet inte användas då det innebär risk för skador på ögon och slemhinnor"]
["Turbiditet",null,null,null,null,"Är ett mått på vattnets grumlighet och indikerar påverkan från ytligt vatten, dvs att brunnen är otät. Onormalt ökad turbiditet innebär ökad risk för vattenburen smitta och mikrobiologisk tillväxt"]
["Kalcium",null,null,null,null,"Lagom halt minskat risken för korrosion, för hög ger risk för utfällningar i ledningar och kärl"]
["Koppar",null,null,null,null,"Kan orsakas av korrosion på kopparledningar, och kan leda till diarré hos barn"]
[" Järn",null,null,null,null,"Risk för missfärgning av tvätt och sanitetsporslin, samt slambildning och igensättning av ledningar och dålig lukt"]
["Kalium",null,null,null,null,"Indikerar påverkan från förorening som t.ex. konstgödsel, men kan också ha ett naturligt geologiskt ursprung"]
["Magnesium",null,null,null,null,"Kan ge smakförändringar i vattnet"]
["Mangan",null,null,null,null,"Risk för utfällningar som när de lossnar missfärgar vattnet"]
["Natrium",null,null,null,null,"Risk för smakförändringar i vattnet"]
["Total hårdhet dH°",null,null,null,null,"hög hårdhetsgrad ger risk för utfällningar i ledningar och kärl"]
["Nitrit NO2",null,null,null,null,"Indikerar påverkan från avlopp, gödsling, mm. Vid halt över 50mg/l kan vattnet vara hälsovådligt för barn och unga djur p.g.a. risk för försämrad syreupptagning i blodet"]
["Nitrat NO3 ",null,null,null,null,"Indikerar påverkan från avlopp, gödsling eller andra föroreningskällor"]
["NO3/50 + NO2/0,5",null,null,null,null,"Indikerar påverkan från avlopp, gödsling eller andra föroreningskällor"]
["Fosfat PO4 ",null,null,null,null,"Tyder på föroreningar från avlopp eller gödsling, men kan också ha geologiskt ursprung"]
["Ammonium NH4 ",null,null,null,null,"Kan tyda på föroreningar från avlopp eller liknande, men förekommer också naturligt i områden med mycket järn eller humus. Risk för nitritbildning"]
["Klorid",null,null,null,null,"Orsakas av saltpåverkat grundvatten och kan bero på överuttag i vattentäkten"]
[]
["- Mikrobiologisk analys -",null,null,null,null,"Om vattnet är otjänligt eller har anmärkning ur mikrobiologisk synpunkt bör orsaken alltid undersökas. Kan påverka hälsan hos både människor och djur"]
["E.coli",null,null,null,null,"Tyder på påverkan från avlopp, gödsel eller liknande, men kan också bero på direkt påverkan (t.ex. att smådjur har fallit ner i brunnen)"]
["Koliforma bakterier",null,null,null,null,"Indikerar att ytvatten påverkar brunnen"]
["Odlingsbara mikroorganismer vid 22°C i 3 dygn",null,null,null,null,"Indikerar att ytvatten påverkar brunnen"]

{"sheet":"6 Resultat","index":17,"n_rows":384,"n_cols":19,"rows_kept":384,"cut":false,"hidden":false,"merged":[[189,0,191,0],[183,6,185,6],[186,6,188,6],[32,0,32,1],[112,6,113,6],[41,0,41,1],[42,0,42,1],[48,0,48,1],[49,0,49,1],[52,0,52,1],[53,0,53,1],[33,0,33,1],[173,6,175,6],[246,6,247,6],[115,6,117,6],[244,6,245,6],[211,6,212,6],[237,6,238,6],[179,6,181,6],[176,6,178,6],[189,6,191,6],[203,6,205,6],[206,6,208,6],[239,6,240,6],[195,6,197,6],[192,6,194,6]]}
["6 Resultat"]
[null,null,null,null,null,null,null,"Snabblänkar till bladen i verktyget:",null,"Det här betyder färgerna:"]
[null,null,null,null,null,null,null,"Instruktion",null,"Cell med värden hämtade från annan cell"]
["Delar i verktyget - vilka blad är obligatoriska att fylla i, och har jag fyllt i dem?",null,null,null,null,null,null,"Bakgrund",null,"Fyll i din egen siffra"]
[null,"Period 1","Period 2","Period 3",null,null,null,"1 Intro djuren",null,"Fyll i egen siffra - frivilligt"]
[null,{"$f":"period_1","v":"Period 1"},{"$f":"period_2","v":"Period 2"},{"$f":"period_3","v":"Period 3"},null,null,null,"1.1 Kött",null,"Egen uppgift, men välj värde ur rullista. "]
[{"$f":"A_Bakgrund","v":"Bakgrund"},{"$f":"IF(AND(NOT(period_1=0),Bakgrund!B14>1),'Teknisk administration'!$G$19,'Teknisk administration'!$G$20)","v":"Inte ifylld"},{"$f":"IF(AND(NOT(period_1=0),Bakgrund!C14>1),'Teknisk administration'!$G$19,'Teknisk administration'!$G$20)","v":"Inte ifylld"},{"$f":"IF(AND(NOT(period_1=0),Bakgrund!D14>1),'Teknisk administration'!$G$19,'Teknisk administration'!$G$20)","v":"Inte ifylld"},{"$f":"'Teknisk administration'!G4","v":"obligatoriskt"},null,null,"1.2 Tillväxt & förökning",null,"Resultat/uträkning"]
[{"$f":"B_G_Intro_djur","v":"1 Intro djuren"},{"$f":"IF('1 Intro djuren'!C33>0,'Teknisk administration'!$G$13,'Teknisk administration'!$G$14)","v":"Inte ifylld"},{"$f":"IF('1 Intro djuren'!D33>0,'Teknisk administration'!$G$13,'Teknisk administration'!$G$14)","v":"Inte ifylld"},{"$f":"IF('1 Intro djuren'!E33>0,'Teknisk administration'!$G$13,'Teknisk administration'!$G$14)","v":"Inte ifylld"},{"$f":"'1 Intro djuren'!B13","v":"obligatoriskt"},null,null,"1.3 Hälsa & dödlighet",null,"Schablonvärde"]
[{"$f":"B_G_Tillvaxt","v":"1.2 Tillväxt & förökning"},{"$f":"IF(SUM('1.2 Tillväxt & förökning'!D30:D32)>0,'Teknisk administration'!$G$13,'Teknisk administration'!$G$14)","v":"Inte ifylld"},{"$f":"IF(SUM('1.2 Tillväxt & förökning'!E30:E32)>0,'Teknisk administration'!$G$13,'Teknisk administration'!$G$14)","v":"Inte ifylld"},{"$f":"IF(SUM('1.2 Tillväxt & förökning'!F30:F32)>0,'Teknisk administration'!$G$13,'Teknisk administration'!$G$14)","v":"Inte ifylld"},{"$f":"'1 Intro djuren'!B15","v":"frivilligt"},null,null,"2 Intro foder",null,"Förklaringar till raden"]
[{"$f":"B_G_Halsa","v":"1.3 Hälsa & dödlighet"},{"$f":"IF('1.3 Hälsa & dödlighet'!C16>0,'Teknisk administration'!$G$13,'Teknisk administration'!$G$14)","v":"Inte ifylld"},{"$f":"IF('1.3 Hälsa & dödlighet'!D16>0,'Teknisk administration'!$G$13,'Teknisk administration'!$G$14)","v":"Inte ifylld"},{"$f":"IF('1.3 Hälsa & dödlighet'!E16>0,'Teknisk administration'!$G$13,'Teknisk administration'!$G$14)","v":"Inte ifylld"},{"$f":"'1 Intro djuren'!B16","v":"frivilligt"},null,null,"2.1 Odling foder",null,"Plats för egna kommentarer"]
[{"$f":"B_G_Kött","v":"1.1 Kött"},{"$f":"IF('1.1 Kött'!C86>0,'Teknisk administration'!$G$13,'Teknisk administration'!$G$14)","v":"Inte ifylld"},{"$f":"IF('1.1 Kött'!D86>0,'Teknisk administration'!$G$13,'Teknisk administration'!$G$14)","v":"Inte ifylld"},{"$f":"IF('1.1 Kött'!E86>0,'Teknisk administration'!$G$13,'Teknisk administration'!$G$14)","v":"Inte ifylld"},{"$f":"'1 Intro djuren'!B14","v":"obligatoriskt"},null,null,"2.1b Halm, odling grovfoder",null,"Grå text, ev vit bakgrund: Avsnittet är inte relevant för dig baserat på svaren på ja/nej-frågor på bladet Bakgrund"]
[{"$f":"C_Foder","v":"2 Intro foder"},{"$f":"IF('2 Intro foder'!N28>0,'Teknisk administration'!$G$13,'Teknisk administration'!$G$14)","v":"Inte ifylld"},{"$f":"IF('2 Intro foder'!O28>0,'Teknisk administration'!$G$13,'Teknisk administration'!$G$14)","v":"Inte ifylld"},{"$f":"IF('2 Intro foder'!P28>0,'Teknisk administration'!$G$13,'Teknisk administration'!$G$14)","v":"Inte ifylld"},{"$f":"'2 Intro foder'!B10","v":"obligatoriskt"},null,null,"2.2 Förluster vid lagring"]
[{"$f":"C_Odling_foder","v":"2.1 Odling foder"},{"$f":"IF('2.1 Odling foder'!B25>0,'Teknisk administration'!$G$13,'Teknisk administration'!$G$14)","v":"Inte ifylld"},{"$f":"IF('2.1 Odling foder'!B45>0,'Teknisk administration'!$G$13,'Teknisk administration'!$G$14)","v":"Inte ifylld"},{"$f":"IF('2.1 Odling foder'!B67>0,'Teknisk administration'!$G$13,'Teknisk administration'!$G$14)","v":"Inte ifylld"},{"$f":"'2 Intro foder'!B11","v":"obligatoriskt"},null,null,"2.3 Utfodrat"]
[{"$f":"'2 Intro foder'!A12","v":"2.1b Halm, odling grovfoder"},{"$f":"IF($E14=inte_relevant,'Teknisk administration'!$G$21,IF(SUM('2.1b Halm, odling grovfoder'!H38,'2.1b Halm, odling grovfoder'!M58,Tabell221[Mängd (kg ts)])>0,'Teknisk administration'!$G$13,'Teknisk administration'!$G$14))","v":"ej relevant"},{"$f":"IF($E14=inte_relevant,'Teknisk administration'!$G$21,IF(SUM('2.1b Halm, odling grovfoder'!H84,'2.1b Halm, odling grovfoder'!O104)>0,'Teknisk administration'!$G$13,'Teknisk administration'!$G$14))","v":"ej relevant"},{"$f":"IF($E14=inte_relevant,'Teknisk administration'!$G$21,IF(SUM('2.1b Halm, odling grovfoder'!H132,'2.1b Halm, odling grovfoder'!O152)>0,'Teknisk administration'!$G$13,'Teknisk administration'!$G$14))","v":"ej relevant"},{"$f":"'2 Intro foder'!B12","v":"inte relevant för dig"},null,null,"2.4 Kasserat foder och spill"]
[{"$f":"C_forluster_lagring","v":"2.2 Förluster vid lagring"},{"$f":"IF('2.2 Förluster vid lagring'!C57>0,'Teknisk administration'!$G$13,'Teknisk administration'!$G$14)","v":"Inte ifylld"},{"$f":"IF('2.2 Förluster vid lagring'!D57>0,'Teknisk administration'!$G$13,'Teknisk administration'!$G$14)","v":"Inte ifylld"},{"$f":"IF('2.2 Förluster vid lagring'!E57>0,'Teknisk administration'!$G$13,'Teknisk administration'!$G$14)","v":"Inte ifylld"},{"$f":"'2 Intro foder'!B13","v":"obligatoriskt"},null,null,"3 Växtnäringsutnyttjande (1)"]
[{"$f":"C_G_Summering","v":"2.3 Utfodrat"},{"$f":"IF('2.3 Utfodrat'!C51>0,'Teknisk administration'!$G$13,'Teknisk administration'!$G$14)","v":"Inte ifylld"},{"$f":"IF('2.3 Utfodrat'!D51>0,'Teknisk administration'!$G$13,'Teknisk administration'!$G$14)","v":"Inte ifylld"},{"$f":"IF('2.3 Utfodrat'!E51>0,'Teknisk administration'!$G$13,'Teknisk administration'!$G$14)","v":"Inte ifylld"},{"$f":"'2 Intro foder'!B14","v":"obligatoriskt"},null,null,"3 Växtnäringsutnyttjande (2)"]
[{"$f":"C_Kasserat","v":"2.4 Kasserat foder och spill"},{"$f":"IF('2.4 Kasserat foder och spill'!C49>0,'Teknisk administration'!$G$13,'Teknisk administration'!$G$14)","v":"Inte ifylld"},{"$f":"IF('2.4 Kasserat foder och spill'!D49>0,'Teknisk administration'!$G$13,'Teknisk administration'!$G$14)","v":"Inte ifylld"},{"$f":"IF('2.4 Kasserat foder och spill'!E49>0,'Teknisk administration'!$G$13,'Teknisk administration'!$G$14)","v":"Inte ifylld"},{"$f":"'2 Intro foder'!B15","v":"obligatoriskt"},null,null,"3 Växtnäringsutnyttjande (3)"]
["Växtnäringsutnyttjande",{"$f":"IF($E18=inte_relevant,'Teknisk administration'!$G$21,IF(SUM('3 Växtnäringsutnyttjande (1)'!I95:K95)=0,'Teknisk administration'!$G$14,'Teknisk administration'!$G$13))","v":"ej relevant"},{"$f":"IF($E18=inte_relevant,'Teknisk administration'!$G$21,IF(SUM('3 Växtnäringsutnyttjande (2)'!I97:K97)=0,'Teknisk administration'!$G$14,'Teknisk administration'!$G$13))","v":"ej relevant"},{"$f":"IF($E18=inte_relevant,'Teknisk administration'!$G$21,IF(SUM('3 Växtnäringsutnyttjande (3)'!I94:K94)=0,'Teknisk administration'!$G$14,'Teknisk administration'!$G$13))","v":"ej relevant"},{"$f":"IF(Bakgrund!BI37=0,'Teknisk administration'!G6,'Teknisk administration'!G4)","v":"inte relevant för dig"},null,null,"4 Energi och bränsle"]
[{"$f":"E_Energi","v":"4 Energi och bränsle"},{"$f":"IF('4 Energi och bränsle'!C45>0,'Teknisk administration'!$G$13,'Teknisk administration'!$G$14)","v":"Inte ifylld"},{"$f":"IF('4 Energi och bränsle'!D45>0,'Teknisk administration'!$G$13,'Teknisk administration'!$G$14)","v":"Inte ifylld"},{"$f":"IF('4 Energi och bränsle'!E45>0,'Teknisk administration'!$G$13,'Teknisk administration'!$G$14)","v":"Inte ifylld"},{"$f":"IF(Bakgrund!AX37=0,'Teknisk administration'!G6,'Teknisk administration'!G5)","v":"frivilligt"},null,null,"5 Vattenanvändning"]
[{"$f":"F_Vatten","v":"5 Vattenanvändning"},{"$f":"IF('5 Vattenanvändning'!C16>0,'Teknisk administration'!$G$13,'Teknisk administration'!$G$14)","v":"Inte ifylld"},{"$f":"IF('5 Vattenanvändning'!D16>0,'Teknisk administration'!$G$13,'Teknisk administration'!$G$14)","v":"Inte ifylld"},{"$f":"IF('5 Vattenanvändning'!E16>0,'Teknisk administration'!$G$13,'Teknisk administration'!$G$14)","v":"Inte ifylld"},{"$f":"IF(Bakgrund!AX37=0,'Teknisk administration'!G6,'Teknisk administration'!G5)","v":"frivilligt"},null,null,"6 Resultat"]
[null,null,null,null,null,null,null,"6B Klimat"]
[]
[]
[]
[]
[]
["Del 1 Djuren:"]
[]
[]
[]
["Mängd kött"]
[{"$f":"\"Sammanställning från bladet \"&B_G_Kött&\". \"","v":"Sammanställning från bladet 1.1 Kött. "}]
["Faktisk mängd producerat kött",null,"Enhet",{"$f":"period_1","v":"Period 1"},{"$f":"period_2","v":"Period 2"},{"$f":"period_3","v":"Period 3"},"Förklaring","Egen kommentar"]
["Totalt, inkl förändring levandelager, varav",null,"kg kött",{"$f":"SUM(D35:D38)","v":0},{"$f":"SUM(E35:E38)","v":0},0,"Summering av mängd kött från alla grisar, samt ev förändring i levandelager",null,null,null,null,null,null,null,null,null,{"$f":"SUM(Q35:Q38)","v":0},{"$f":"SUM(R35:R38)","v":0},0]
["slaktgrisar",null,"kg kött",{"$f":"Q35","v":0},{"$f":"R35","v":0},0,null,null,null,null,null,null,null,null,null,null,{"$f":"'1.1 Kött'!S88","v":0},{"$f":"'1.1 Kött'!T88","v":0},{"$f":"'1.1 Kött'!U88","v":0}]
["smågrisar",null,"kg kött",{"$f":"Q36","v":0},0,0,"Total mängd sålda grisar, omräknat till kg kött. Antagit slaktutbytesfaktor 1,34 för att räkna om smågrisar till kg kött",null,null,null,null,null,null,null,null,null,{"$f":"'1.1 Kött'!S89","v":0},{"$f":"'1.1 Kött'!T89","v":0},{"$f":"'1.1 Kött'!U89","v":0}]
["gyltor/suggor",null,"kg kött",0,0,0,null,null,null,null,null,null,null,null,null,null,{"$f":"'1.1 Kött'!S90","v":0},{"$f":"'1.1 Kött'!T90","v":0},{"$f":"'1.1 Kött'!U90","v":0}]
["förändringar i levandelager ",null,"kg kött",0,0,0,null,null,null,null,null,null,null,null,null,null,{"$f":"'1.1 Kött'!S91","v":0},{"$f":"'1.1 Kött'!T91","v":0},{"$f":"'1.1 Kött'!U91","v":0}]
[]
[]
[{"$f":"\"Sammanställning från bladet \"&B_G_Halsa&\".\"","v":"Sammanställning från bladet 1.3 Hälsa & dödlighet."}]
["Svinn i form av \"potentiellt\" kött från djur som dött eller avlivats","välj typ ur lista","Enhet",{"$f":"period_1","v":"Period 1"},{"$f":"period_2","v":"Period 2"},{"$f":"period_3","v":"Period 3"},"Förklaring","Egen kommentar"]
["Totalt svinn potentiellt kött från gården, varav ",null,"kg kött",{"$f":"'1.3 Hälsa & dödlighet'!C60","v":0},{"$f":"'1.3 Hälsa & dödlighet'!D60","v":0},{"$f":"'1.3 Hälsa & dödlighet'!E60","v":0},{"$f":"\"Potentiellt kött fån döda och avlivade suggor och tillväxtgrisar. För fler detaljer se \"&B_G_Halsa&\".\"","v":"Potentiellt kött fån döda och avlivade suggor och tillväxtgrisar. För fler detaljer se 1.3 Hälsa & dödlighet."}]
["Tillväxtgrisar",null,"kg kött",{"$f":"'1.3 Hälsa & dödlighet'!C48+'1.3 Hälsa & dödlighet'!C58","v":0},{"$f":"'1.3 Hälsa & dödlighet'!D48+'1.3 Hälsa & dödlighet'!D58","v":0},{"$f":"'1.3 Hälsa & dödlighet'!E48+'1.3 Hälsa & dödlighet'!E58","v":0},"Smågrisar+tillväxtgrisar"]
["Suggor",null,"kg kött",{"$f":"'1.3 Hälsa & dödlighet'!C39","v":0},{"$f":"'1.3 Hälsa & dödlighet'!D39","v":0},{"$f":"'1.3 Hälsa & dödlighet'!E39","v":0}]
[]
[]
["Summering av tabellerna ovan. Resultaten presenteras även som diagram, ett med kg kött och ett diagram som % av den totala möjliga mängden kött."]
["Summering",null,"Enhet",{"$f":"period_1","v":"Period 1"},{"$f":"period_2","v":"Period 2"},{"$f":"period_3","v":"Period 3"},"Förklaring","Egen kommentar"]
["Total mängd möjligt kött, varav",null,"kg kött",{"$f":"SUM(D51:D53)","v":0},{"$f":"SUM(R35:R38,E43:E43)","v":0},{"$f":"SUM(S35:S38,F43:F43)","v":0},"Summa av Sålt kött och Potentiellt kött. Exkl förändring levandelager"]
["Sålt kött tillväxtgrisar",null,"kg kött",{"$f":"Q35+Q36","v":0},{"$f":"R35+R36","v":0},{"$f":"S35+S36","v":0}]
["Sålt kött suggor",null,"kg kött",{"$f":"Q37","v":0},{"$f":"R37","v":0},{"$f":"S37","v":0}]
["Potentiellt kött",null,"kg kött",{"$f":"SUM(D43:D43)","v":0},{"$f":"SUM(E43:E43)","v":0},0]
["Faktisk mängd producerat kött som andel av möjlig mängd kött",null,"%",{"$f":"IF(D50=0,0,SUM(D51:D52)/D50)","v":0},{"$f":"IF(E50=0,0,SUM(E51:E52)/E50)","v":0},0,"Sålt kött dividerat med Sålt kött plus Potentiellt kött. Ju närmare 100 % desto bättre, d v s desto lägre svinn"]
[]
[]
[]
[]
[]
[]
[]
[]
[]
[]
[]
[]
[]
[]
[]
[]
[]
[]
[]
[]
[]
[]
["Nyckeltal smågrisproduktion"]
[]
[{"$f":"\"Summering från bladet \"& B_G_Tillvaxt &\", visas i tabell och diagram. Fyll i eget mål (se blå tabell till höger för schablonvärden) så visas värdet i stapeln ''mål'' i diagrammen. Om du inte fyller i ett eget mål används medelvärdet för de perioder du redan fyllt i.\"","v":"Summering från bladet 1.2 Tillväxt & förökning, visas i tabell och diagram. Fyll i eget mål (se blå tabell till höger för schablonvärden) så visas värdet i stapeln ''mål'' i diagrammen. Om du inte fyller i ett eget mål används medelvärdet för de perioder du redan fyllt i."}]
[null,"Enhet","Eget mål",{"$f":"Bakgrund!R7","v":"Period 1"},{"$f":"Bakgrund!S7","v":"Period 2"},{"$f":"Bakgrund!T7","v":"Period 3"},"Förklaring","Medel","Bästa 25% "]
["Medelantal suggor i besättningen (SIP)","antal",null,{"$f":"'1 Intro djuren'!C25","v":0},{"$f":"'1 Intro djuren'!D25","v":0},{"$f":"'1 Intro djuren'!E25","v":0},null,371,452]
["Antal producerade smågrisar under perioden","antal",null,{"$f":"'1 Intro djuren'!C27","v":0},{"$f":"'1 Intro djuren'!D27","v":0},{"$f":"'1 Intro djuren'!E27","v":0},"Totalt antal smågrisar som sålts eller flyttats till slaktsvinsstall"]
["Producerade grisar per sugga under perioden","smågrisar/ sugga",null,{"$f":"IF(D81=0,0,D82/D81)","v":0},{"$f":"IF(E81=0,0,E82/E81)","v":0},{"$f":"IF(F81=0,0,F82/F81)","v":0}]
["Periodens längd","dagar",null,{"$f":"Bakgrund!B14","v":0},{"$f":"Bakgrund!C14","v":0},{"$f":"Bakgrund!D14","v":0}]
["Producerade grisar per årssugga i WinPig","smågrisar/ sugga",null,{"$f":"'1 Intro djuren'!C26","v":0},{"$f":"'1 Intro djuren'!D26","v":0},{"$f":"'1 Intro djuren'!E26","v":0},"Korrigerat nyckeltal som tar hänsyn till fler faktorer"]
["Producerade smågrisar per årssugga","smågrisar/ sugga",null,{"$f":"IF(D85=0,IF(D84=0,0,D83/(D84/365)),D85)","v":0},{"$f":"IF(E85=0,IF(E84=0,0,E83/(E84/365)),E85)","v":0},0,"Ökar med kortare digivningstid, lägre dödlighet och låg improduktiv tid för suggorna",27.1,29.8]
[]
[]
[]
[]
[]
[]
[]
[]
[]
[]
[]
[]
[]
[]
[]
[]
[]
[]
[]
["Tillväxt"]
[{"$f":"\"Summering från bladet \"& B_G_Tillvaxt &\", visas i tabell och diagram. Fyll i eget mål om tillväxt per dag så visas värdet i diagrammet. \"","v":"Summering från bladet 1.2 Tillväxt & förökning, visas i tabell och diagram. Fyll i eget mål om tillväxt per dag så visas värdet i diagrammet. "}]
[]
["Tillväxt","Enhet","Eget mål (g/dag)",{"$f":"period_1","v":"Period 1"},{"$f":"period_2","v":"Period 2"},{"$f":"period_3","v":"Period 3"},"Förklaring"]
["Digivande","g/dag",null,{"$f":"'1.2 Tillväxt & förökning'!D30","v":0},{"$f":"'1.2 Tillväxt & förökning'!E30","v":0},{"$f":"'1.2 Tillväxt & förökning'!F30","v":0}]
["Avvanda","g/dag",null,{"$f":"'1.2 Tillväxt & förökning'!D31","v":0},{"$f":"'1.2 Tillväxt & förökning'!E31","v":0},{"$f":"'1.2 Tillväxt & förökning'!F31","v":0}]
["Slaktsvin","g/dag",null,{"$f":"'1.2 Tillväxt & förökning'!D32","v":0},{"$f":"'1.2 Tillväxt & förökning'!E32","v":0},{"$f":"'1.2 Tillväxt & förökning'!F32","v":0}]
[{"$f":"'1.2 Tillväxt & förökning'!A60","v":"Tillväxt per dag i g per godkänd stallplats enligt förprövning"},{"$f":"'1.2 Tillväxt & förökning'!B60","v":"g/dag/ godkänd stallplats"},null,{"$f":"'1.2 Tillväxt & förökning'!C60","v":0},{"$f":"'1.2 Tillväxt & förökning'!D60","v":0},{"$f":"'1.2 Tillväxt & förökning'!E60","v":0},"Genomsnittlig tillväxt för alla tillväxtgrisar under hela perioden. Beräknas som antal diande grisar, avvanda grisar resp slaktgrisar*tillväxt per åldersgrupp*uppfödningstid per åldersgrupp dividerat med periodens längd*antal stallplatser"]
[{"$f":"'1.2 Tillväxt & förökning'!A61","v":"Tillväxt per dag i g per egen önskad beläggning"},{"$f":"'1.2 Tillväxt & förökning'!B61","v":"g/dag/önskad stallplats"},null,{"$f":"'1.2 Tillväxt & förökning'!C61","v":0},{"$f":"'1.2 Tillväxt & förökning'!D61","v":0},{"$f":"'1.2 Tillväxt & förökning'!E61","v":0}]
["Beräknad total tillväxt på gården under perioden, varav","kg tillväxt",null,{"$f":"SUM(D116:D118)","v":0},{"$f":"SUM(E116:E118)","v":0},{"$f":"SUM(F116:F118)","v":0},"Summa av raderna under"]
["tillväxt diande grisar","kg tillväxt",null,{"$f":"'diagramunderlag G'!K25","v":0},{"$f":"'1.2 Tillväxt & förökning'!D40","v":0},{"$f":"'1.2 Tillväxt & förökning'!E40","v":0},"Om du har redan hade färdiga uppgifter om tillväxt används den i första hand. I andra hand visas tillväxten som du beräknat i verktyget"]
["tillväxt avvanda grisar","kg tillväxt",null,{"$f":"'diagramunderlag G'!K26","v":0},{"$f":"'diagramunderlag G'!L25","v":0},{"$f":"'diagramunderlag G'!M25","v":0}]
["tillväxt slaktsvin","kg tillväxt",null,{"$f":"IF('1.2 Tillväxt & förökning'!D41>0,'1.2 Tillväxt & förökning'!D41,'1.2 Tillväxt & förökning'!D47)","v":0},{"$f":"IF('1.2 Tillväxt & förökning'!E41>0,'1.2 Tillväxt & förökning'!E41,'1.2 Tillväxt & förökning'!E47)","v":0},{"$f":"IF('1.2 Tillväxt & förökning'!F41>0,'1.2 Tillväxt & förökning'!F41,'1.2 Tillväxt & förökning'!F47)","v":0}]
[]
[]
[]
[]
[]
[]
[]
[]
[]
[]
[]
[]
[]
[]
[]
[]
[]
[]
[]
[]
[]
["Hälsa"]
["Smågrisproduktion"]
["Kostnader och notering om ohälsa","Enhet","Eget mål",{"$f":"period_1","v":"Period 1"},{"$f":"period_2","v":"Period 2"},{"$f":"period_3","v":"Period 3"},"Förklaring","Egen kommentar"]
[{"$f":"'1.3 Hälsa & dödlighet'!A16&\" smågrisproduktion\"","v":"Total kostnad för veterinär och behandlingar smågrisproduktion"},{"$f":"'1.3 Hälsa & dödlighet'!B16","v":"kr"},null,{"$f":"'1.3 Hälsa & dödlighet'!C16","v":0},{"$f":"'1.3 Hälsa & dödlighet'!D16","v":0},{"$f":"'1.3 Hälsa & dödlighet'!E16","v":0}]
[{"$f":"'1.3 Hälsa & dödlighet'!A17","v":"Veterinärkostnad per smågris"},{"$f":"'1.3 Hälsa & dödlighet'!B17","v":"kr/djur"},null,{"$f":"'1.3 Hälsa & dödlighet'!C17","v":0},{"$f":"'1.3 Hälsa & dödlighet'!D17","v":0},{"$f":"'1.3 Hälsa & dödlighet'!E17","v":0}]
[{"$f":"'1.3 Hälsa & dödlighet'!A18","v":"Veterinärkostnad per sugga"},{"$f":"'1.3 Hälsa & dödlighet'!B18","v":"kr/djur"},null,{"$f":"'1.3 Hälsa & dödlighet'!C18","v":0},{"$f":"'1.3 Hälsa & dödlighet'!D18","v":0},{"$f":"'1.3 Hälsa & dödlighet'!E18","v":0}]
["Dödlighet suggor ",{"$f":"'1.3 Hälsa & dödlighet'!B38","v":"%"},null,{"$f":"'1.3 Hälsa & dödlighet'!C38","v":0},{"$f":"'1.3 Hälsa & dödlighet'!D38","v":0},{"$f":"'1.3 Hälsa & dödlighet'!E38","v":0}]
["Dödlighet producerade smågrisar",{"$f":"'1.3 Hälsa & dödlighet'!B46","v":"%"},null,{"$f":"'1.3 Hälsa & dödlighet'!C46","v":0},{"$f":"'1.3 Hälsa & dödlighet'!D46","v":0},{"$f":"'1.3 Hälsa & dödlighet'!E46","v":0}]
[]
["Slaktsvinsproduktion"]
["Kostnader och notering om ohälsa","Enhet","Eget mål",{"$f":"period_1","v":"Period 1"},{"$f":"period_2","v":"Period 2"},{"$f":"period_3","v":"Period 3"},"Förklaring","Egen kommentar"]
[{"$f":"'1.3 Hälsa & dödlighet'!A27&\" slaktsvin\"","v":"Total kostnad för veterinär och behandlingar slaktsvin"},{"$f":"'1.3 Hälsa & dödlighet'!B27","v":"kr"},null,{"$f":"'1.3 Hälsa & dödlighet'!C27","v":0},{"$f":"'1.3 Hälsa & dödlighet'!D27","v":0},{"$f":"'1.3 Hälsa & dödlighet'!E27","v":0}]
[{"$f":"'1.3 Hälsa & dödlighet'!A28","v":"Veterinärkostnad/slaktsvin"},{"$f":"'1.3 Hälsa & dödlighet'!B28","v":"kr/djur"},null,{"$f":"'1.3 Hälsa & dödlighet'!C28","v":0},{"$f":"'1.3 Hälsa & dödlighet'!D25","v":0},{"$f":"'1.3 Hälsa & dödlighet'!E25","v":0}]
[{"$f":"'1.3 Hälsa & dödlighet'!A26","v":"Annan veterinärkostnad"},{"$f":"'1.3 Hälsa & dödlighet'!B26","v":"kr"},null,{"$f":"'1.3 Hälsa & dödlighet'!C26","v":0},{"$f":"'1.3 Hälsa & dödlighet'!D26","v":0},{"$f":"'1.3 Hälsa & dödlighet'!E26","v":0}]
["Dödlighet slaktsvin",{"$f":"'1.3 Hälsa & dödlighet'!B55","v":"%"},null,{"$f":"'1.3 Hälsa & dödlighet'!C55","v":0},{"$f":"'1.3 Hälsa & dödlighet'!D55","v":0},{"$f":"'1.3 Hälsa & dödlighet'!E55","v":0}]
[]
[]
[]
["Del 2 Foder och odling"]
[]
["Odling av foder"]
["Mängd odlat foder samt arealen foder.Välj om du vill visa energiinnehållet som för suggor eller växande grisar i organge cellen till höger"]
[null,null,"Enhet",{"$f":"Bakgrund!R$7","v":"Period 1"},{"$f":"Bakgrund!S$7","v":"Period 2"},{"$f":"Bakgrund!T$7","v":"Period 3"},"Förklaring","Egen kommentar"]
["Mängd foder",null,"kg ts",{"$f":"'2.2 Förluster vid lagring'!C14","v":0},{"$f":"'2.2 Förluster vid lagring'!D14","v":0},{"$f":"'2.2 Förluster vid lagring'!E14","v":0}]
[null,null,"MJ",{"$f":"IF(I164='Teknisk administration'!K8,'2.1 Odling foder'!F25,'2.1 Odling foder'!G25)","v":0},{"$f":"IF(I164='Teknisk administration'!K8,'2.1 Odling foder'!F45,'2.1 Odling foder'!G45)","v":0},{"$f":"IF(I164='Teknisk administration'!K8,'2.1 Odling foder'!F67,'2.1 Odling foder'!G67)","v":0},null,null,"suggor"]
["Areal",null,"hektar",{"$f":"SUMPRODUCT('2 Intro foder'!C23:C29,'Teknisk administration'!$C$554:$C$560)","v":0},{"$f":"SUMPRODUCT('2 Intro foder'!D23:D29,'Teknisk administration'!$C$554:$C$560)","v":0},{"$f":"SUMPRODUCT('2 Intro foder'!E23:E29,'Teknisk administration'!$C$554:$C$560)","v":0},{"$f":"\"Summering av åkerareal som odlas för foder enligt bladet \"&C_Foder &\".\"","v":"Summering av åkerareal som odlas för foder enligt bladet 2 Intro foder."}]
["Mängd bärgat foder per hektar",null,"kg ts/ha",{"$f":"ROUND(IF('6 Resultat'!D165=0,0,(D163)/'6 Resultat'!D165),-1)","v":0},{"$f":"ROUND(IF('6 Resultat'!E165=0,0,(E163)/'6 Resultat'!E165),-1)","v":0},{"$f":"ROUND(IF('6 Resultat'!F165=0,0,(F163)/'6 Resultat'!F165),-1)","v":0}]
[null,null,"MJ/ha",{"$f":"ROUND(IF('6 Resultat'!D165=0,0,(D164)/'6 Resultat'!D165),-1)","v":0},{"$f":"ROUND(IF('6 Resultat'!E165=0,0,(E164)/'6 Resultat'!E165),-1)","v":0},{"$f":"ROUND(IF('6 Resultat'!F165=0,0,(F164)/'6 Resultat'!F165),-1)","v":0}]
[]
[]
[]
["Mängd utfodrat"]
["Mängd utfodrat foder, eget och inköpt."]
["Utfodrat foder","Enhet","Eget mål",{"$f":"Bakgrund!R$7","v":"Period 1"},{"$f":"Bakgrund!S$7","v":"Period 2"},{"$f":"Bakgrund!T$7","v":"Period 3"},"Förklaring","Egen kommentar"]
["Total mängd utfodrat, varav…","kg",null,{"$f":"ROUND(D177+D180,3-LEN(INT(D177+D180)))","v":0},{"$f":"ROUND(E177+E180,3-LEN(INT(E177+E180)))","v":0},0,"Summering av raderna nedan"]
[null,"kg ts",null,{"$f":"ROUND(D178+D181,3-LEN(INT(D178+D181)))","v":0},0,0]
[null,"MJ ",null,{"$f":"ROUND(D179+D182,3-LEN(INT(D179+D182)))","v":0},{"$f":"ROUND(E179+E182,3-LEN(INT(E179+E182)))","v":0},0]
["Växande","kg",null,{"$f":"'2.3 Utfodrat'!C52","v":0},{"$f":"'2.3 Utfodrat'!C105","v":0},{"$f":"'2.3 Utfodrat'!C157","v":0},{"$f":"\"Sammanställning från bladet \"&'2.3 Utfodrat'!A1","v":"Sammanställning från bladet 2.3 Utfodrat"}]
[null,"kg ts",null,{"$f":"'2.3 Utfodrat'!D52","v":0},{"$f":"'2.3 Utfodrat'!D105","v":0},{"$f":"'2.3 Utfodrat'!D157","v":0}]
[null,"MJ",null,{"$f":"'2.3 Utfodrat'!E52","v":0},{"$f":"'2.3 Utfodrat'!E105","v":0},{"$f":"'2.3 Utfodrat'!E157","v":0}]
["Suggor ","kg",null,{"$f":"'2.3 Utfodrat'!C53","v":0},{"$f":"'2.3 Utfodrat'!C106","v":0},{"$f":"'2.3 Utfodrat'!C158","v":0}]
[null,"kg ts",null,{"$f":"'2.3 Utfodrat'!D53","v":0},{"$f":"'2.3 Utfodrat'!D106","v":0},{"$f":"'2.3 Utfodrat'!D158","v":0}]
[null,"MJ",null,{"$f":"'2.3 Utfodrat'!E53","v":0},{"$f":"'2.3 Utfodrat'!E106","v":0},{"$f":"'2.3 Utfodrat'!E158","v":0}]
["Utfodrat per kg tillväxt respektive per sugga under perioden"]
["Växande","kg/kg tillväxt",null,{"$f":"IF(SUM(D$117:D$118)=0,0,D177/SUM(D$117:D$118))","v":0},0,0,"Här beräknat på tillväxt från och med avvänjning. Normalt 25 MJ NE/kg tillväxt i slaktgrisstallet"]
[null,"kg ts/kg tillväxt",null,0,0,0]
[null,"MJ/kg tillväxt",null,0,0,0]
["Suggor ","kg/sugga",null,{"$f":"IF(D$81=0,0,D180/D$81)","v":0},{"$f":"IF(E$81=0,0,E180/E$81)","v":0},0,"utfodrat per sugga under perioden. Normalt 13 500 MJ NE/sugga och år"]
[null,"kg ts/sugga",null,{"$f":"IF(D$81=0,0,D181/D$81)","v":0},0,0]
[null,"MJ/sugga",null,{"$f":"IF(D$81=0,0,D182/D$81)","v":0},0,0]
["Totalt mängd utfodrat dividerat med total mängd kött","kg/kg kött",null,{"$f":"'2.3 Utfodrat'!C54","v":0},{"$f":"'2.3 Utfodrat'!C107","v":0},{"$f":"'2.3 Utfodrat'!C159","v":0},"per kg kött, inkl ev förändring i levandelager"]
[null,"kg ts/kg kött",null,{"$f":"'2.3 Utfodrat'!D54","v":0},{"$f":"'2.3 Utfodrat'!D107","v":0},{"$f":"'2.3 Utfodrat'!D159","v":0}]
[null,"MJ/kg kött",null,{"$f":"'2.3 Utfodrat'!E54","v":0},{"$f":"'2.3 Utfodrat'!E107","v":0},{"$f":"'2.3 Utfodrat'!E159","v":0}]
["växande","kg/kg kött",null,{"$f":"'2.3 Utfodrat'!C55","v":0},{"$f":"'2.3 Utfodrat'!C108","v":0},{"$f":"'2.3 Utfodrat'!C160","v":0},"per kg kött, exkl förändringar i levandelager"]
[null,"kg ts/kg kött",null,{"$f":"'2.3 Utfodrat'!D55","v":0},{"$f":"'2.3 Utfodrat'!D108","v":0},{"$f":"'2.3 Utfodrat'!D160","v":0}]
[null,"MJ/kg kött",null,{"$f":"'2.3 Utfodrat'!E55","v":0},{"$f":"'2.3 Utfodrat'!E108","v":0},{"$f":"'2.3 Utfodrat'!E160","v":0}]
["suggor","kg/kg kött",null,{"$f":"'2.3 Utfodrat'!C56","v":0},{"$f":"'2.3 Utfodrat'!C109","v":0},{"$f":"'2.3 Utfodrat'!C161","v":0},"per kg kött, exkl förändringar i levandelager"]
[null,"kg ts/kg kött",null,{"$f":"'2.3 Utfodrat'!D56","v":0},{"$f":"'2.3 Utfodrat'!D109","v":0},{"$f":"'2.3 Utfodrat'!D161","v":0}]
[null,"MJ/kg kött",null,{"$f":"'2.3 Utfodrat'!E56","v":0},{"$f":"'2.3 Utfodrat'!E109","v":0},{"$f":"'2.3 Utfodrat'!E161","v":0}]
[]
[]
["Självförsörjningsgrad"]
["Mängd och andel av fodret som har odlats själv"]
["Utfodrat foder","Enhet","Eget mål",{"$f":"Bakgrund!R$7","v":"Period 1"},{"$f":"Bakgrund!S$7","v":"Period 2"},{"$f":"Bakgrund!T$7","v":"Period 3"},"Förklaring","Egen kommentar"]
["Eget","kg",null,{"$f":"D174-D207","v":0},{"$f":"E174-E207","v":0},0,"Summering av raderna nedan"]
[null,"kg ts",null,{"$f":"D175-D208","v":0},0,0]
[null,"MJ ",null,{"$f":"D176-D209","v":0},{"$f":"E176-E209","v":0},{"$f":"F176-F209","v":0}]
["Inköpt","kg",null,{"$f":"'2.3 Utfodrat'!C26+'2.3 Utfodrat'!C44","v":0},{"$f":"'2.3 Utfodrat'!C77+'2.3 Utfodrat'!C96","v":0},{"$f":"'2.3 Utfodrat'!C129+'2.3 Utfodrat'!C148","v":0},{"$f":"\"Sammanställning från bladet \"&'2.3 Utfodrat'!A29","v":"Sammanställning från bladet *** Se hjälptabell till höger!"}]
[null,"kg ts",null,{"$f":"'2.3 Utfodrat'!D26+'2.3 Utfodrat'!D44","v":0},{"$f":"'2.3 Utfodrat'!D77+'2.3 Utfodrat'!D96","v":0},{"$f":"'2.3 Utfodrat'!D129+'2.3 Utfodrat'!D148","v":0}]
[null,"MJ",null,{"$f":"'2.3 Utfodrat'!H26+'2.3 Utfodrat'!H44","v":0},{"$f":"'2.3 Utfodrat'!H77+'2.3 Utfodrat'!H96","v":0},{"$f":"'2.3 Utfodrat'!H129+'2.3 Utfodrat'!H148","v":0}]
[]
[]
["Självförsörjningsgrad, kg foder","% av kg foder",null,{"$f":"IF(D174=0,0,D204/D174)","v":0},{"$f":"IF(E174=0,0,E204/E174)","v":0},{"$f":"IF(F174=0,0,F204/F174)","v":0},"Mängd eget foder dividerat med total mängd utfodrat"]
["Självförsörjningsgrad, MJ","% av MJ",null,{"$f":"IF(D176=0,0,D206/D176)","v":0},{"$f":"IF(E176=0,0,E206/E176)","v":0},{"$f":"IF(F176=0,0,F206/F176)","v":0}]
[]
[]
[]
["Areal åker för att odla fodret"]
["I tabellen nedan beräknas hur stor yta det behövts för att odla fodret per kg producerat kött. Värdet är beräknat utifrån mängd egenproducerat foder som utfodrats aktuell period och beräknad genomsnittlig skörd för grödor som odlats aktuell period."]
["Obs! Om en stor andel av utfodrat foder odlades föregående år (t ex om perioden är ett kalenderår) kan resultatet bli missvisande om hektarskördarna och/eller foderstaterna skiljer sig mycket mellan åren."]
["För att kunna jämföra år med olika tillgång på eget foder redovisas även foderarealen justerat för självförsörjningsgraden. "]
[null,"Enhet","Eget mål",{"$f":"Bakgrund!R$7","v":"Period 1"},{"$f":"Bakgrund!S$7","v":"Period 2"},{"$f":"Bakgrund!T$7","v":"Period 3"},"Förklaring","Egen kommentar"]
["Egen foderareal","m2/kg kött",null,{"$f":"IF(D167=0,0,D192/D167*10000)","v":0},{"$f":"IF(E167=0,0,E192/E167*10000)","v":0},{"$f":"IF(F167=0,0,F192/F167*10000)","v":0},"Beräknas som foderbehov(MJ)  per kg kött dividerat med skördemängd (MJ) per hektar. Värdet blir 0 om du inte odlat eget foder aktuell period"]
["Foderareal, justerat för självförsörjningsgraden","m2/kg kött",null,{"$f":"ROUND(IF(D212=0,0,D222/D212),3-LEN(INT(IF(D212=0,0,D222/D212))))","v":0},{"$f":"ROUND(IF(E212=0,0,E222/E212),3-LEN(INT(IF(E212=0,0,E222/E212))))","v":0},0,"Egen foderareal dividerat med självförsörjningsgrad (% av ts). Ett lågt tal indikerar resurseffektiv markanvändning i form av stor mängd konsumerat foder per hektar och effektiv foderomvandling"]
[]
[]
[]
[]
["Förluster vid lagring och kasserat foder"]
[]
["Förluster vid lagring av periodens skörd",null,"Enhet",{"$f":"Bakgrund!R$7","v":"Period 1"},{"$f":"Bakgrund!S$7","v":"Period 2"},{"$f":"Bakgrund!T$7","v":"Period 3"},"Förklaring"]
["ts-förluster vid lagring",null,"kg ts",{"$f":"'2.2 Förluster vid lagring'!C16","v":0},{"$f":"'2.2 Förluster vid lagring'!D16","v":0},{"$f":"'2.2 Förluster vid lagring'!E16","v":0},{"$f":"\"Uppgifter från bladet \"&C_forluster_lagring","v":"Uppgifter från bladet 2.2 Förluster vid lagring"}]
["Förluster av energi vid lagring",null,"MJ/kg ts",{"$f":"D233*D164","v":0},{"$f":"E233*E164","v":0},0,"Förluster uttrycka som MJ. Behåll schablonvärdet till höger eller skriv över med eget värde!"]
["Totalt, av bärgat foder",null,"% av ts",{"$f":"IF(D163=0,0,D231/D163)","v":0},{"$f":"IF(E163=0,0,E231/E163)","v":0},0,"Förlusterna under lagring jämfört med mängd ts och MJ som bärgats"]
[]
["Kasserat foder och spill/förluster vid utfodring",null,"Enhet",{"$f":"Bakgrund!R$7","v":"Period 1"},{"$f":"Bakgrund!S$7","v":"Period 2"},{"$f":"Bakgrund!T$7","v":"Period 3"},"Förklaring"]
["Kasserat foder före utfodring",null,"kg ts",{"$f":"'2.4 Kasserat foder och spill'!C17+'2.4 Kasserat foder och spill'!C23+'2.4 Kasserat foder och spill'!C29","v":0},{"$f":"'2.4 Kasserat foder och spill'!D17+'2.4 Kasserat foder och spill'!D23+'2.4 Kasserat foder och spill'!D29","v":0},{"$f":"'2.4 Kasserat foder och spill'!E17+'2.4 Kasserat foder och spill'!E23+'2.4 Kasserat foder och spill'!E29","v":0},{"$f":"\"Uppgifter från bladet \"&C_Kasserat","v":"Uppgifter från bladet 2.4 Kasserat foder och spill"},"MJ/kg kasserat foder"]
[null,null,"MJ",{"$f":"D236*$H$237","v":0},{"$f":"E236*$H$237","v":0},{"$f":"F236*$H$237","v":0},"Behåll eller ändra MJ/kg foder i cellen till höger!",10]
["Spill vid utfodring",null,"kg ts",{"$f":"'2.4 Kasserat foder och spill'!C61","v":0},{"$f":"'2.4 Kasserat foder och spill'!D61","v":0},{"$f":"'2.4 Kasserat foder och spill'!E61","v":0},{"$f":"\"Uppgifter från bladet \"&C_Kasserat","v":"Uppgifter från bladet 2.4 Kasserat foder och spill"}]
[null,null,"MJ",{"$f":"'2.4 Kasserat foder och spill'!C60","v":0},{"$f":"'2.4 Kasserat foder och spill'!D60","v":0},{"$f":"'2.4 Kasserat foder och spill'!E60","v":0}]
["Totalt av utfodrat",null,"kg ts",{"$f":"D238+D236","v":0},{"$f":"E238+E236","v":0},0,"Kasserat foder och spill som andel av mängd utfodrat foder"]
[null,null,"% av ts",{"$f":"IF(D175=0,0,D240/D175)","v":0},{"$f":"IF(E175=0,0,E240/E175)","v":0},{"$f":"IF(F175=0,0,F240/F175)","v":0}]
[]
[]
["Totala förluster lagring, kassation och spill",null,"Enhet",{"$f":"Bakgrund!R$7","v":"Period 1"},{"$f":"Bakgrund!S$7","v":"Period 2"},{"$f":"Bakgrund!T$7","v":"Period 3"},"Förklaring"]
["Totalt",null,"kg ts",{"$f":"D236+D238+D231","v":0},0,0]
[null,null,"MJ",0,0,0]
["Totalt,jämfört med utfodrat foder",null,"% av ts",{"$f":"IF(D175=0,0,D245/D175)","v":0},{"$f":"IF(E175=0,0,E245/E175)","v":0},0,"Förluster under lagring samt kasserat foder och spill som andel av mängd utfodrat foder"]
[null,null,"% av MJ",{"$f":"IF(D176=0,0,D246/D176)","v":0},{"$f":"IF(E176=0,0,E246/E176)","v":0},0]
[]
[]
[]
[]
[]
[]
[]
[]
[]
[]
[]
[]
[]
[]
[]
[]
[]
[]
[]
[]
[]
[]
[]
[]
[]
[]
[]
[]
[]
[]
[]
[]
[]
[]
[]
[]
[]
[]
[]
[]
[]
["Växtnäringsutnyttjande"]
[]
[{"$f":"period_1","v":"Period 1"},"Enhet",null,"Kväve","Fosfor","Kalium","Förklaring","Egen kommentar"]
["Växtnäringsinsats","kg till djur och foder",null,{"$f":"'3 Växtnäringsutnyttjande (1)'!I95","v":0},{"$f":"'3 Växtnäringsutnyttjande (1)'!J95","v":0},{"$f":"'3 Växtnäringsutnyttjande (1)'!K95","v":0},"Tillförd växtnäring i gödsel, foder etc. minus växtnäring som använts till ev avsalugrödor"]
["Växtnäring i köttet","kg",null,{"$f":"'3 Växtnäringsutnyttjande (1)'!I101","v":0},{"$f":"'3 Växtnäringsutnyttjande (1)'!J101","v":0},{"$f":"'3 Växtnäringsutnyttjande (1)'!K101","v":0},"Mängd växtnäring i producerat kött"]
["Växtnäringsinsats per kg kött","g växtnäring per kg kött",null,{"$f":"'3 Växtnäringsutnyttjande (1)'!I97","v":0},{"$f":"'3 Växtnäringsutnyttjande (1)'!J97","v":0},{"$f":"'3 Växtnäringsutnyttjande (1)'!K97","v":0},"Växtnäringsinsats dividerat med kg producerat kött. Lågt värde innebär att det gått åt lite inköpta resurser i form av växtnäring för att producera köttet"]
["Växtnäringsinsats/växtnäringsinnehåll i köttet","%",null,{"$f":"'3 Växtnäringsutnyttjande (1)'!I102","v":0},{"$f":"'3 Växtnäringsutnyttjande (1)'!J102","v":0},{"$f":"'3 Växtnäringsutnyttjande (1)'!K102","v":0},"Växtnäringsinsats dividerat med växtnäring i producerat kött. Ju lägre tal, desto mer kött har producerats per kg inköpt växtnäring. Obs, i Kväve ingår inte N-fixering, så omfattande odling av kvävefixerande grödor kan ge ett mycket lågt tal."]
[{"$f":"period_2","v":"Period 2"}]
["Växtnäringsinsats","kg till djur och foder",null,{"$f":"'3 Växtnäringsutnyttjande (2)'!I97","v":0},{"$f":"'3 Växtnäringsutnyttjande (2)'!J97","v":0},{"$f":"'3 Växtnäringsutnyttjande (2)'!K97","v":0},"se ovan"]
["Växtnäring i köttet","kg",null,{"$f":"'3 Växtnäringsutnyttjande (2)'!I103","v":0},{"$f":"'3 Växtnäringsutnyttjande (2)'!J103","v":0},{"$f":"'3 Växtnäringsutnyttjande (2)'!K103","v":0}]
["Växtnäringsinsats per kg kött","g växtnäring per kg kött",null,{"$f":"'3 Växtnäringsutnyttjande (2)'!I99","v":0},{"$f":"'3 Växtnäringsutnyttjande (2)'!J99","v":0},{"$f":"'3 Växtnäringsutnyttjande (2)'!K99","v":0}]
["Växtnäringsinsats/växtnäringsinnehåll i köttet","%",null,{"$f":"'3 Växtnäringsutnyttjande (2)'!I104","v":0},{"$f":"'3 Växtnäringsutnyttjande (2)'!J104","v":0},{"$f":"'3 Växtnäringsutnyttjande (2)'!K104","v":0}]
[{"$f":"period_3","v":"Period 3"}]
["Växtnäringsinsats","kg till djur och foder",null,{"$f":"'3 Växtnäringsutnyttjande (3)'!I95","v":0},{"$f":"'3 Växtnäringsutnyttjande (3)'!J95","v":0},{"$f":"'3 Växtnäringsutnyttjande (3)'!K95","v":0},"se ovan"]
["Växtnäring i köttet","kg",null,{"$f":"'3 Växtnäringsutnyttjande (3)'!I101","v":0},{"$f":"'3 Växtnäringsutnyttjande (3)'!J101","v":0},{"$f":"'3 Växtnäringsutnyttjande (3)'!K101","v":0}]
["Växtnäringsinsats per kg kött","g växtnäring per kg kött",null,{"$f":"'3 Växtnäringsutnyttjande (3)'!I97","v":0},{"$f":"'3 Växtnäringsutnyttjande (3)'!J97","v":0},{"$f":"'3 Växtnäringsutnyttjande (3)'!K97","v":0}]
["Växtnäringsinsats/växtnäringsinnehåll i köttet","%",null,{"$f":"'3 Växtnäringsutnyttjande (3)'!C102","v":0},{"$f":"'3 Växtnäringsutnyttjande (3)'!D102","v":0},{"$f":"'3 Växtnäringsutnyttjande (3)'!E102","v":0}]
[]
[]
[]
[]
[]
[]
[]
[]
[]
[]
[]
[]
[]
[]
[]
[]
[]
[]
[]
[]
[]
[]
[]
[]
[]
[]
[]
[]
[]
[]
[]
[]
[]
["Energi och bränsle"]
[]
["Total mängd använd energi",null,"Enhet",{"$f":"period_1","v":"Period 1"},{"$f":"period_2","v":"Period 2"},{"$f":"period_3","v":"Period 3"}]
["Totalt, varav...",null,{"$f":"'4 Energi och bränsle'!B45","v":"kWh"},{"$f":"ROUND('4 Energi och bränsle'!C45,3-LEN(INT('4 Energi och bränsle'!C45)))","v":0},{"$f":"ROUND('4 Energi och bränsle'!D45,3-LEN(INT('4 Energi och bränsle'!D45)))","v":0},{"$f":"ROUND('4 Energi och bränsle'!E45,3-LEN(INT('4 Energi och bränsle'!E45)))","v":0}]
["...el",null,{"$f":"'4 Energi och bränsle'!B46","v":"kWh"},{"$f":"ROUND('4 Energi och bränsle'!C46,3-LEN(INT('4 Energi och bränsle'!C46)))","v":0},{"$f":"ROUND('4 Energi och bränsle'!D46,3-LEN(INT('4 Energi och bränsle'!D46)))","v":0},{"$f":"ROUND('4 Energi och bränsle'!E46,3-LEN(INT('4 Energi och bränsle'!E46)))","v":0}]
["...drivmedel (diesel, bensin)",null,{"$f":"'4 Energi och bränsle'!B47","v":"kWh"},{"$f":"ROUND('4 Energi och bränsle'!C47,3-LEN(INT('4 Energi och bränsle'!C47)))","v":0},{"$f":"ROUND('4 Energi och bränsle'!D47,3-LEN(INT('4 Energi och bränsle'!D47)))","v":0},{"$f":"ROUND('4 Energi och bränsle'!E47,3-LEN(INT('4 Energi och bränsle'!E47)))","v":0}]
["...bränslen för värme (eldningsolja, flis, halm etc.)",null,{"$f":"'4 Energi och bränsle'!B48","v":"kWh"},{"$f":"ROUND('4 Energi och bränsle'!C48,3-LEN(INT('4 Energi och bränsle'!C48)))","v":0},{"$f":"ROUND('4 Energi och bränsle'!D48,3-LEN(INT('4 Energi och bränsle'!D48)))","v":0},{"$f":"ROUND('4 Energi och bränsle'!E48,3-LEN(INT('4 Energi och bränsle'!E48)))","v":0}]
[]
[null,null,null,null,null,null,null,"Nyckeltal om energianvändning inomgårds (uttag foder, stall, utgödsling etc.) (Jordbruksverket. 2010. Rapport 2010:16)"]
["Använd mängd energi per kg kött:","Enhet","Eget mål",{"$f":"period_1","v":"Period 1"},{"$f":"period_2","v":"Period 2"},{"$f":"period_3","v":"Period 3"},"Förklaring",null,"medel","Min-Max"]
["Totalt, varav...",{"$f":"'4 Energi och bränsle'!B63","v":"kWh/kg kött"},null,{"$f":"IF(SUM(Q35:Q38)=0,0,ROUND(D343/SUM(Q35:Q38),7-LEN(INT(D343/SUM(Q35:Q38)*10000))))","v":0},{"$f":"IF(SUM(R35:R38)=0,0,ROUND(E343/SUM(R35:R38),7-LEN(INT(E343/SUM(R35:R38)*10000))))","v":0},{"$f":"IF(SUM(S35:S38)=0,0,ROUND(F343/SUM(S35:S38),7-LEN(INT(F343/SUM(S35:S38)*10000))))","v":0},"Se schablonvärden till höger!","Smågrisar (kWh/smågris)",85.94,"5,65-301,79","Uppvärmning och ventilation ofta stora poster. "]
["...el",{"$f":"'4 Energi och bränsle'!B64","v":"kWh/kg kött"},null,{"$f":"IF(SUM(Q35:Q38)=0,0,ROUND(D344/SUM(Q35:Q38),7-LEN(INT(D344/SUM(Q35:Q38)*10000))))","v":0},{"$f":"IF(SUM(R35:R38)=0,0,ROUND(E344/SUM(R35:R38),7-LEN(INT(E344/SUM(R35:R38)*10000))))","v":0},{"$f":"IF(SUM(S35:S38)=0,0,ROUND(F344/SUM(S35:S38),7-LEN(INT(F344/SUM(S35:S38)*10000))))","v":0},"Eldriven utgödsling, utfordring etc. ger generellt lägre energiförbrukning","Slaktsvin (kWh/kg kött)",0.59,"0,11-1,54"]
["...drivmedel (diesel, bensin)",{"$f":"'4 Energi och bränsle'!B65","v":"kWh/kg kött"},null,{"$f":"IF(SUM(Q35:Q38)=0,0,ROUND(D345/SUM(Q35:Q38),7-LEN(INT(D345/SUM(Q35:Q38)*10000))))","v":0},{"$f":"IF(SUM(R35:R38)=0,0,ROUND(E345/SUM(R35:R38),7-LEN(INT(E345/SUM(R35:R38)*10000))))","v":0},{"$f":"IF(SUM(S35:S38)=0,0,ROUND(F345/SUM(S35:S38),7-LEN(INT(F345/SUM(S35:S38)*10000))))","v":0},"Oftast det mesta från fältarbeten. Obs! fältarbeten ingår inte i schablonvärdena till höger"]
["...bränslen för värme (eldningsolja, flis, halm etc.)",{"$f":"'4 Energi och bränsle'!B66","v":"kWh/kg kött"},null,{"$f":"IF(SUM(Q35:Q38)=0,0,ROUND(D346/SUM(Q35:Q38),7-LEN(INT(D346/SUM(Q35:Q38)*10000))))","v":0},{"$f":"IF(SUM(R35:R38)=0,0,ROUND(E346/SUM(R35:R38),7-LEN(INT(E346/SUM(R35:R38)*10000))))","v":0},{"$f":"IF(SUM(S35:S38)=0,0,ROUND(F346/SUM(S35:S38),7-LEN(INT(F346/SUM(S35:S38)*10000))))","v":0},"Generellt fler kWh för uppvärmning med bränslen än med el/värmepump"]
[]
[]
[]
[]
[]
[]
[]
[]
[]
[]
[]
[]
[]
[]
[]
[]
[]
[]
[]
[]
[]
[]
[]
["Vattenanvändning"]
[]
[null,"Enhet","Eget mål",{"$f":"period_1","v":"Period 1"},{"$f":"period_2","v":"Period 2"},{"$f":"period_3","v":"Period 3"},"Förklaring"]
[{"$f":"'5 Vattenanvändning'!A14","v":"Total vattenförbrukning i djurproduktionen"},{"$f":"'5 Vattenanvändning'!B14","v":"liter"},null,{"$f":"'5 Vattenanvändning'!C14","v":0},{"$f":"'5 Vattenanvändning'!D14","v":0},{"$f":"'5 Vattenanvändning'!E14","v":0},"Summa av vattenförbrukningen."]
[{"$f":"'5 Vattenanvändning'!A16","v":"Vattenförbrukning per djur"},{"$f":"'5 Vattenanvändning'!B16","v":"liter/djur"},null,{"$f":"'5 Vattenanvändning'!C16","v":0},{"$f":"'5 Vattenanvändning'!D16","v":0},{"$f":"'5 Vattenanvändning'!E16","v":0},"Om nyckeltalet är högt kan det tyda på en vattenläcka. Nyckeltalet bör inte heller vara för lågt, snarare inom ett intervall. Allt för låg vattenförbrukning kan ju indikera att djuren dricker för dåligt, t ex pga dåligt flöde i vattenkoppar."]
[{"$f":"'5 Vattenanvändning'!A17","v":"Vattenförbrukning per kg kött"},{"$f":"'5 Vattenanvändning'!B17","v":"liter/kg kött"},null,{"$f":"'5 Vattenanvändning'!C17","v":0},{"$f":"'5 Vattenanvändning'!D17","v":0},{"$f":"'5 Vattenanvändning'!E17","v":0}]
[{"$f":"'5 Vattenanvändning'!A18","v":"...varav dricksvatten till djuren"},{"$f":"'5 Vattenanvändning'!B18","v":"liter/kg kött"},null,{"$f":"'5 Vattenanvändning'!C18","v":0},{"$f":"'5 Vattenanvändning'!D18","v":0},{"$f":"'5 Vattenanvändning'!E18","v":0}]
[{"$f":"'5 Vattenanvändning'!A19","v":"…varav vatten till tvätt av stallar + övrig förbrukning"},{"$f":"'5 Vattenanvändning'!B19","v":"liter/kg kött"},null,{"$f":"'5 Vattenanvändning'!C19","v":0},{"$f":"'5 Vattenanvändning'!D19","v":0},{"$f":"'5 Vattenanvändning'!E19","v":0}]

{"sheet":"6B Klimat","index":18,"n_rows":33,"n_cols":12,"rows_kept":33,"cut":false,"hidden":false,"merged":[[29,5,32,5],[29,6,32,6],[30,7,32,7],[6,2,6,4],[6,8,6,9],[14,5,17,5],[14,6,17,6],[14,7,17,7],[22,5,23,5],[22,6,23,6],[22,7,23,7]]}
["6B Klimat","Viktiga nyckeltal för grisgårdens klimatpåverkan",null,null,null,null,null,null,null,null,null,"Det här betyder färgerna:"]
["Här visas ett urval av produktionsnyckeltalen som även är viktiga ur klimatsynpunkt. Bra resursutnyttjande är en av hörnstenarna i en klimateffektiv produktion",null,null,null,null,null,null,null,null,null,null,"Cell med värden hämtade från annan cell"]
["Det finns en förklaring till klimatrelevansen för varje nyckeltal",null,null,null,null,null,null,null,null,null,null,"Beräkning"]
[null,null,null,null,null,null,null,null,null,null,null,"Fyll i din egen siffra"]
[null,null,null,null,null,null,null,null,null,null,null,"Fyll i egen siffra - frivilligt, t ex om du har tillgång till uppgift eller om du vill räkna med annat värde än det schablonvärde som visas i angränsande cell"]
[null,null,null,null,null,null,null,null,null,null,null,"Egen uppgift, men välj värde ur rullista. "]
[null,null,"Period",null,null,null,null,null,"Jämförelsetal 2019",null,null,"Resultat/uträkning"]
["Klimatnyckeltal för:","enhet",{"$f":"Bakgrund!R$7","v":"Period 1"},{"$f":"Bakgrund!S$7","v":"Period 2"},{"$f":"Bakgrund!T$7","v":"Period 3"},"Egen kommentar","Koppling till klimat","Kommentarer","Medel","Bästa 25%",null,"Schablonvärde"]
["PRODUKTION",null,null,null,null,null,null,null,null,null,null,"Förklaringar till raden"]
["Producerade smågrisar per sugga årssugga","st",{"$f":"'6 Resultat'!D83","v":0},{"$f":"'6 Resultat'!E83","v":0},{"$f":"'6 Resultat'!F83","v":0},null,"Ett högt utbyte från suggorna ger en resurseffektiv produktion. De resurser som suggan förbrukar kan fördelas på fler smågrisar.","Ju högre desto bättre. Beräkningen utgår från att suggorna grisar flera gånger per år, om inte så måste perioden sättas till ett år för att beräkningen ska bli rätt",27.1,29.8,null,"Plats för egna kommentarer"]
["Smågrisarnas ålder vid 30 kg","dagar",{"$f":"'1.2 Tillväxt & förökning'!D26","v":0},{"$f":"'1.2 Tillväxt & förökning'!E26","v":0},{"$f":"'1.2 Tillväxt & förökning'!F26","v":0},null,"En snabb tillväxt kan ge en snabbare genomströmning av djur eller högre vikter vid leverans. Ger normalt även ett bättre foderutnyttjande.","Optimal nivå kan bero på systemval. Alltför hög nivå indikerar dålig tillväxt. Mycket låg nivå kan ge problem med grisarnas hållbarhet och kräva alltför stora insatser.",78,77,null,"Glöm inte att fylla i värde! (Här krävs ett värde för att andra beräkningar ska fungera"]
["Daglig tillväxt (avvänjning-leverans)","g/dag",{"$f":"'1.2 Tillväxt & förökning'!D31","v":0},{"$f":"'1.2 Tillväxt & förökning'!E31","v":0},{"$f":"'1.2 Tillväxt & förökning'!F31","v":0},null,null,null,473,481,null,"grå text, ev vit bakgrund: Avsnittet är inte relevant för dig baserat på svaren på ja/nej-frågor på bladet Bakgrund"]
["Daglig tillväxt slaktgrisar","g/dag",{"$f":"'1.2 Tillväxt & förökning'!D32","v":0},{"$f":"'1.2 Tillväxt & förökning'!E32","v":0},{"$f":"'1.2 Tillväxt & förökning'!F32","v":0},null,"En hög tillväxt innebär en snabbare genomströmning av djur och ofta ett bättre foderutnyttjande.","Ju högre desto bättre, men kan bero på systemval. Medeltalet är korrigerat till 30 kg insättningsvikt. Bästa 25 % på foder/kg tillväxt. ",948,999]
["DJURHÄLSA",null,null,null,null,null,null,null,null,null,null,"Snabblänkar till bladen i verktyget:"]
["Dödlighet",null,null,null,null,null,"Lägre dödlighet ger mer produkter ut från samma insatser.","Förutsätter att registreringar över döda djur görs i alla olika steg av produktionen.",null,null,null,"Instruktion"]
[" - smågrisar (födsel-avvänjning)","%",{"$f":"'1.3 Hälsa & dödlighet'!C44","v":0},{"$f":"'1.3 Hälsa & dödlighet'!D44","v":0},{"$f":"'1.3 Hälsa & dödlighet'!E44","v":0},null,null,null,0.17699999999999999,0.14399999999999999,null,"Bakgrund"]
[" - tillväxtgrisar (avvänjning-leverans)","%",{"$f":"'1.3 Hälsa & dödlighet'!C45","v":0},{"$f":"'1.3 Hälsa & dödlighet'!D45","v":0},{"$f":"'1.3 Hälsa & dödlighet'!E45","v":0},null,null,null,2.1000000000000001E-2,1.4999999999999999E-2,null,"1 Intro djuren"]
[" - slaktgrisar","%",{"$f":"'1.3 Hälsa & dödlighet'!C55","v":0},{"$f":"'1.3 Hälsa & dödlighet'!D55","v":0},{"$f":"'1.3 Hälsa & dödlighet'!E55","v":0},null,null,null,1.7000000000000001E-2,1.4999999999999999E-2,null,"1.1 Kött"]
["Procent döda av utgångna suggor","%",null,null,null,null,"Självdöda och avlivade djur gör att produkten inte kan användas och ger ökade transporter.","Om nyckeltalet hämtas från PigWin bör det kontrolleras att utgångsrapporteringen görs korrekt.","23% (2011)","Saknas",null,"1.2 Tillväxt & förökning"]
["Kasserade slaktsvin","%",null,null,null,null,"Produkten kan inte användas till livsmedel",null,1.8E-3,1.6000000000000001E-3,null,"1.3 Hälsa & dödlighet"]
["Slaktanmärkningar","%",null,null,null,null,"Ger en indikation på besättningens hälsoläge.","Stor förbättringspotential på gårdar med problem. Jämför varje tal för sig mot det aktuella slakteriet. Stor variation mellan slakterier.",null,null,null,"2 Intro foder"]
["FODER",null,null,null,null,null,null,null,null,null,null,"2.1 Odling foder"]
["Foderutnyttjande tillväxtgrisar från avvänjning till leverans","MJ NE/kg tillväxt",null,null,null,null,"Ett högt foderutnyttjande ger mer produkter ut från gården från mindre förbrukade resurser.","Jämförelsevärdet för tillväxtgrisar är från WinPigs senaste redovisade medeltal 2013. Nyckeltalen måste ses i kombination med gårdens leveransvikt/slaktvikt då lägre leveransvikt/slaktvikt ska ge lägre foderförbrukning. (Medel vikt vid leverans/slakt 31,1/91,6 kg)",18.5,17.5,"MJ OE, 2011","2.1b Halm, odling grovfoder"]
["Foderutnyttjande slaktgrisar från insättning till slakt","MJ NE/kg tillväxt",null,null,null,null,null,null,26.6,25.4,null,"2.2 Förluster vid lagring"]
["Foderutnyttjande, beräknat i verktyget","MJ NE/kg tillväxt",{"$f":"'6 Resultat'!D186","v":0},{"$f":"'6 Resultat'!E186","v":0},{"$f":"'6 Resultat'!F186","v":0},null,null,"(Beräknat som MJ till växande grisar dividerat med total tillväxt för alla grisar)",null,null,null,"2.3 Utfodrat"]
["Kväveeffektivitet","% av kväve i fodret som hamnar i köttet",{"$f":"IF('6 Resultat'!D294*'6 Resultat'!D212=0,0,('6 Resultat'!D293*(1+'6 Resultat'!D212/(1-'6 Resultat'!D212)))/'6 Resultat'!D294)","v":0},{"$f":"IF('6 Resultat'!D299*'6 Resultat'!E212=0,0,('6 Resultat'!D298*(1+'6 Resultat'!E212/(1-'6 Resultat'!E212)))/'6 Resultat'!D299)","v":0},{"$f":"IF('6 Resultat'!D304*'6 Resultat'!F212=0,0,('6 Resultat'!D303*(1+'6 Resultat'!F212/(1-'6 Resultat'!F212)))/'6 Resultat'!D304)","v":0},null,"En hög kväveeffektivitet (% av kväve som djuren äter som hamnar i kött) ger mindre kväve i gödseln där det kan orsaka utsläpp av växthusgaser. Tillverkningen av proteinfodermedel innebär ofta betydande utsläpp av växthusgaser.","Ju högre desto bättre. Normalt hamnar 35-40 % av kvävet i fodret i grisköttet.\nKväve i fodret har här beräknat som kg N i inköpt foder*(1+självförsörjningsgrad/(1-självförsörjningsgrad)). Detta eftersom vi inte känner proteininnehållet i ev eget foder.","35-40%",null,null,"2.4 Kasserat foder och spill"]
["ENERGI",null,null,null,null,null,null,null,null,null,null,"3 Växtnäringsutnyttjande (1)"]
["Energiförbrukning på gården","kWh/kg kött",{"$f":"'6 Resultat'!D350","v":0},{"$f":"'6 Resultat'!E350","v":0},{"$f":"'6 Resultat'!F350","v":0},null,"Förbrukning av energi innebär klimatpåverkan.","Energi i stall, inomgårds och i odling av eget foder. Medeltal från Jordbruksverkets Rapport 2010:16.",0.59,null,null,"3 Växtnäringsutnyttjande (2)"]
["klimatavtryck energi","kg CO2e per kg kött",{"$f":"IF(SUM('6 Resultat'!Q35:Q38)=0,0,(SUMPRODUCT('4 Energi och bränsle'!F16:F26,'Teknisk administration'!$D$40:$D$50)/1000+SUMPRODUCT('4 Energi och bränsle'!F32:F38,'Teknisk administration'!$D$51:$D$57)/1000)/SUM('6 Resultat'!Q35:Q38))","v":0},{"$f":"IF(SUM('6 Resultat'!R35:R38)=0,0,(SUMPRODUCT('4 Energi och bränsle'!G16:G26,'Teknisk administration'!$D$40:$D$50)/1000+SUMPRODUCT('4 Energi och bränsle'!G32:G38,'Teknisk administration'!$D$51:$D$57)/1000)/SUM('6 Resultat'!R35:R38))","v":0},{"$f":"IF(SUM('6 Resultat'!S35:S38)=0,0,(SUMPRODUCT('4 Energi och bränsle'!H16:H26,'Teknisk administration'!$D$40:$D$50)/1000+SUMPRODUCT('4 Energi och bränsle'!H32:H38,'Teknisk administration'!$D$51:$D$57)/1000)/SUM('6 Resultat'!S35:S38))","v":0},null,"Förbrukning av energi ger växthusgasutsläpp. Fossil energi (olja, diesel, bensin) bidrar till de allra mesta växthusgasutsläppen","Talen blir höga speciellt om stallarna värms med olja, spannmål torkas med olja och dieselförbrukningen i växtodlingen är hög. Jämförelsetal från RISE LCA-analys 2020.",0.05,null,null,"3 Växtnäringsutnyttjande (3)"]
["Rutiner för energibesparande åtgärder - rengöring och översyn av:",null,null,null,null,null,"Regelbundna rutiner för detta kan minska onödig energiförbrukning.",null,null,null,null,"4 Energi och bränsle"]
[" - ventilation",null,null,null,null,null,null,"Riktvärden saknas.",null,null,null,"5 Vattenanvändning"]
[" - belysning",null,null,null,null,null,null,null,null,null,null,"6 Resultat"]
[" - foderutrustning",null,null,null,null,null,null,null,null,null,null,"6B Klimat"]

{"sheet":"tekn adm - produktlistor","index":19,"n_rows":631,"n_cols":86,"rows_kept":631,"cut":false,"hidden":true,"merged":[]}
[{"$f":"MID(CELL(\"filnamn\",A1),FIND(\"]\",CELL(\"filnamn\",A1))+1,255)","v":"tekn adm - produktlistor"}]
["Listor som används på flikarna för växtnäringsutnyttjande"]
["reffar: Lista från VERA version 1.1.66.0. % ts och nöt från Spörndly 2003. Gris från EvaPig"]
[null,null,null,null,null,null,null,null,null,null,null,null,null,null,null,null,null,null,null,null,null,null,null,null,null,null,null,null,null,null,null,null,null,null,null,null,null,null,null,null,null,null,null,null,null,null,null,null,null,null,null,"Energivärden från EvaPig 1.4.0.1",null,null,null,null,null,null,null,null,null,null,null,null,null,null,null,null,null,null,null,null,null,null,"kg per kg slaktvikt",null,null,null,"kg per kg levandevikt",null,null,null,null,null,"energi - lamm och nöt","MJ/kg ts"]
[null,"Mineralgödsel","enhet","N","P","K",null,null,null,"Organisk gödsel","enhet","N","P","K",null,null,"Mineralfoder","enhet","N","P","K",null,null,"Vegetabilier","enhet","N","P","K","N-effektivitet",null,null,null,"Fodermedel - nöt",null,"N","P","K",0,"ts-halt %","typ av foder","MJ/kg ts","typ av foder",null,"Fodermedel - gris",null,"N","P","K",0,"ts-halt %","typ av foder","MJ NEv/kg","MJ NE sugg/kg","inköpt?",null,"Fodermedel - Lamm",null,"N","P","K",0,"ts-halt %","typ av foder","MJ/kg ts","typ av foder",null,"Övrigt",null,"N","P","K",null,"Animalier",null,"N","P","K","Levandevikt av slaktvikt","N","P","K",null,null,null,"noll",0]
[null,null,null,null,null,null,null,null,null,null,null,null,null,null,null,null,null,null,null,null,null,null,null,null,null,null,null,null,null,null,null,null,null,null,null,null,null,{"$f":"AL5+1","v":1},null,0,null,null,null,null,null,null,null,null,{"$f":"AW5+1","v":1},null,0,null,null,null,null,null,null,null,null,null,{"$f":"BI5+1","v":1},null,0,null,null,null,null,null,null,null,null,null,null,null,null,null,null,null,null,null,null,null,null,null,{"$f":"\"låg (\"&CH6& \" MJ/kg ts)\"","v":"låg (11,7 MJ/kg ts)"},11.7]
[null,"kväve i gödsel","kg N",1,0,0,null,null,null,"Djupströgödsel får","kg",9.4999999999999998E-3,1.5E-3,0.02,null,null,"mineralfoder får hög P","kg",0,0.01,0,null,null,"Havre, 12 % prot","kg",1.6500000000000001E-2,3.3E-3,4.3E-3,{"$f":"1/0.65","v":1.5384615384615383},null,null,null,"ensilage gräsdominerad sen skörd, kg ts","kg ts",2.128E-2,2.3999999999999998E-3,2.5000000000000001E-2,2,1,1,9.1,"grovfoder",null,"Blandsäd 50% havre/ 50% korn","kg",1.6425599999999999E-2,3.3930000000000002E-3,4.6109999999999996E-3,2,0.874,3,8.73,{"$f":"(8.29+9.73)/2","v":9.01},null,null,"färdigfoder får","kg",3.2000000000000001E-2,5.4999999999999997E-3,{"$f":"BF7*0.3","v":9.5999999999999992E-3},2,0.88,1,12.8,"kraftfoder, spannmål etc.",null,"Spannmålshalm","kg",6.9999999999999993E-3,1E-3,0.01,null,"Får","kg kött",{"$f":"CA7*$BZ7","v":5.9523809523809527E-2},1.7619047619047621E-2,4.0476190476190482E-3,{"$f":"1/0.42","v":2.3809523809523809},2.5000000000000001E-2,7.4000000000000003E-3,1.7000000000000001E-3,null,null,null,{"$f":"\"medel (\"&CH7& \" MJ/kg ts)\"","v":"medel (12,7 MJ/kg ts)"},12.7]
[null,"fosfor i gödsel","kg P",0,1,0,null,null,null,"Djupströ höns 50% ts","kg",1.67E-2,7.8000000000000005E-3,1.04E-2,null,null,"mineralfoder får låg P","kg",0,5.0000000000000001E-3,0,null,null,"Korn, 11,9 % prot","kg",1.6399999999999998E-2,3.4000000000000002E-3,4.3E-3,{"$f":"1/0.65","v":1.5384615384615383},null,null,null,"ensilage gräsdominerad tidig skörd, kg ts","kg ts",2.4479999999999998E-2,3.3300000000000001E-3,2.1000000000000001E-2,3,1,1,11.3,"grovfoder",null,"Blandsäd 50% havre/ 50% vete","kg",1.6843199999999999E-2,3.3059999999999999E-3,4.2630000000000003E-3,3,0.87450000000000006,3,9.2200000000000006,9.4600000000000009,null,null,"koncentrat får","kg",4.8000000000000001E-2,7.0000000000000001E-3,{"$f":"BF8*0.3","v":1.44E-2},3,0.88,1,13.5,"kraftfoder, spannmål etc.",null,"Spån 80% ts","kg",6.0000000000000001E-3,5.9999999999999995E-4,5.0000000000000001E-4,null,"Nöt","kg kött",4.8076923076923073E-2,1.4230769230769231E-2,3.2692307692307691E-3,{"$f":"1/0.52","v":1.9230769230769229},2.5000000000000001E-2,7.4000000000000003E-3,1.7000000000000001E-3,null,null,null,{"$f":"\"hög (\"&CH8& \" MJ/kg ts)\"","v":"hög (14 MJ/kg ts)"},14]
[null,"kalium i gödsel","kg K",0,0,1,null,null,null,"Djupströ slaktkyckling 70% ts","kg",0.03,8.0000000000000002E-3,1.4999999999999999E-2,null,null,"BM Får","kg",0,0.05,0,null,null,"Höstvete foder, 11 % prot","kg",1.5100000000000001E-2,3.0999999999999999E-3,4.3E-3,{"$f":"1/0.65","v":1.5384615384615383},null,null,null,"ensilage klöverrik sen skörd, kg ts","kg ts",2.4E-2,2.8E-3,2.5000000000000001E-2,4,1,1,9.4,"grovfoder",null,"Blandsäd 50% korn/ 50% vete","kg",1.6704E-2,3.1319999999999998E-3,4.5240000000000002E-3,4,0.86750000000000005,3,10.02,10.18,null,null,"mineralfoder får, hög P","kg",0,0.01,0,4,1,1,0,"kraftfoder, spannmål etc.",null,"Torv 60% ts","kg",5.0000000000000001E-3,2.0000000000000001E-4,4.0000000000000002E-4,null,"Grisar","kg kött",3.4840000000000003E-2,7.2360000000000011E-3,2.9480000000000005E-3,1.34,2.6000000000000002E-2,5.4000000000000003E-3,2.2000000000000001E-3]
[null,"axan N27","kg",0.27,0,0,null,null,null,"Djupströgödsel nöt","kg",5.4000000000000003E-3,1.5E-3,0.01,null,null,"FD Vitamin 1,0","kg",0,0.1089,0,null,null,"Åkerbönor","kg",4.5999999999999999E-2,4.0000000000000001E-3,0.01,0,null,null,null,"ensilage klöverrik tidig skörd, kg ts","kg ts",2.5440000000000001E-2,2.7000000000000001E-3,2.5000000000000001E-2,5,1,1,11.7,"grovfoder",null,"Blandsäd havre (70)/ärt (30)","kg",2.0500000000000001E-2,3.3999999999999998E-3,6.0000000000000001E-3,5,0.87590000000000001,3,8.4600000000000009,8.7899999999999991,null,null,"mineralfoder får, låg P","kg",0,5.0000000000000001E-3,0,5,1,1,0,"kraftfoder, spannmål etc.",null,"Spannmålsutsäde","kg",1.66E-2,3.0999999999999999E-3,4.3E-3,null,"Mjölk  ECM","kg ECM",5.3E-3,1E-3,1.6000000000000001E-3,1,5.3E-3,1E-3,1.6000000000000001E-3]
[null,"NPK 22-6-6","kg",0.21600000000000003,5.7999999999999996E-2,5.7999999999999996E-2,null,null,null,"Fastgödsel nöt","kg",5.1999999999999998E-3,1.5E-3,5.0000000000000001E-3,null,null,"FD Vitamin 2,5","kg",0,6.1379999999999997E-2,0,null,null,"Ärter","kg",3.5000000000000003E-2,3.5999999999999999E-3,0.01,0,null,null,null,"ensilage luserndominerad, kg ts","kg ts",3.2000000000000001E-2,2.2000000000000001E-3,2.5000000000000001E-2,6,1,1,10.5,"grovfoder",null,"Blandsäd brokblommig åkerböna (30)/vårvete (70)","kg",2.81E-2,3.3999999999999998E-3,6.0000000000000001E-3,6,0.8659,3,9.48,9.64,null,null,"ensilage gräsdominerad sen kg","kg ts",2.128E-2,2.3999999999999998E-3,2.5000000000000001E-2,6,1,2,9.1,"grovfoder",null,"Åkerbönutsäde","kg",4.5999999999999999E-2,4.0000000000000001E-3,0.01]
[null,"NPK 21-3-10","kg",0.20600000000000002,2.6000000000000002E-2,9.6000000000000002E-2,null,null,null,"Flytgödsel nöt 9% ts","kg",4.3E-3,5.9999999999999995E-4,3.8E-3,null,null,"FD Vitamin 5,4","kg",0,3.168E-2,0,null,null,"Raps","kg",3.5000000000000003E-2,6.0000000000000001E-3,8.0000000000000002E-3,{"$f":"1/0.65","v":1.5384615384615383},null,null,null,"foder nöt växande ungdjur hög","kg",2.7099999999999999E-2,5.7999999999999996E-3,8.1300000000000001E-3,7,0.88,1,13.4,"kraftfoder, spannmål etc.",null,"Blålupin frö","kg",4.9418400000000001E-2,5.1330000000000004E-3,8.8500000000000002E-3,7,0.89,3,null,null,null,null,"ensilage gräsdominerad tidig skörd","kg ts",2.4479999999999998E-2,3.3300000000000001E-3,2.1000000000000001E-2,7,1,2,11.3,"grovfoder",null,"Vallblandning ca 25% klöv","kg",2.7000000000000003E-2,4.5000000000000005E-3,6.5000000000000006E-3]
[null,"NK 22-12","kg",0.21600000000000003,0,0.106,null,null,null,"Urin nöt","kg",3.4999999999999996E-3,1E-4,5.0000000000000001E-3,null,null,"FD VitaMin Mag 2,5","kg",0,4.4549999999999999E-2,0,null,null,"Klövergräsensilage, ts","kg ts",2.7200000000000002E-2,2.0999999999999999E-3,2.5000000000000001E-2,0.8,null,null,null,"foder nöt växande ungdjur låg","kg",2.4E-2,5.1000000000000004E-3,7.1999999999999998E-3,8,0.88,1,11.7,"kraftfoder, spannmål etc.",null,"Bröd 66% ts","kg",1.18E-2,1.5E-3,2.2000000000000001E-3,8,0.66,3,null,null,null,null,"ensilage klöverrik sen skörd","kg ts",2.4E-2,2.8E-3,2.5000000000000001E-2,8,1,2,9.4,"grovfoder",null,"Oljeväxtutsäde","kg",3.5000000000000003E-2,6.0000000000000001E-3,8.0000000000000002E-3]
[null,"NS 30-7","kg",0.3,null,null,null,null,null,"Djupströgödsel svin","kg",4.7999999999999996E-3,1.5E-3,4.5000000000000005E-3,null,null,"Foderkalk","kg",0,0,0,null,null,"Klövergräshö, ts","kg ts",1.9199999999999998E-2,2.5999999999999999E-3,2.5000000000000001E-2,0.8,null,null,null,"foder nöt växande ungdjur mellan","kg",2.4300000000000002E-2,5.4000000000000003E-3,7.2900000000000005E-3,9,0.88,1,12.3,"kraftfoder, spannmål etc.",null,"drank potatis",null,1.9E-3,4.0000000000000001E-3,7.1000000000000004E-3,9,0.06,3,null,null,{"$f":"inköpt","v":"inköpt"},null,"ensilage klöverrik tidig skörd","kg ts",2.5440000000000001E-2,2.7000000000000001E-3,2.5000000000000001E-2,9,1,2,11.7,"grovfoder"]
[null,"kalksalpeter","kg",0.27,null,null,null,null,null,"Fastgödsel svin (sugg-)","kg",6.5000000000000006E-3,2.5000000000000001E-3,2.5000000000000001E-3,null,null,"HO Hiven Magnesiumkivennäinen","kg",0,0.02,0,null,null,"Gräsensilage, ts","kg ts",2.4799999999999999E-2,2.2000000000000001E-3,2.1000000000000001E-2,{"$f":"1/0.65","v":1.5384615384615383},null,null,null,"hö senare skörd, kg ts","kg ts",0.01,2.2000000000000001E-3,2.5000000000000001E-2,10,1,1,9.14,"grovfoder",null,"drav färsk spm",null,7.7000000000000002E-3,1.1000000000000001E-3,4.0000000000000002E-4,10,0.23,3,null,null,{"$f":"inköpt","v":"inköpt"},null,"ensilage luserndominerad","kg ts",3.2000000000000001E-2,2.2000000000000001E-3,2.5000000000000001E-2,10,1,2,10.5,"grovfoder"]
[null,"P 20","kg",0,0.2,0,null,null,null,"Flytgödsel svin 6% ts (slaktsvins-)","kg",2.7000000000000001E-3,5.9999999999999995E-4,1.4000000000000002E-3,null,null,"HO Vital Cow Dry","kg",5.8967999999999998E-3,4.9045499999999999E-2,0,null,null,"Spannmålshalm","kg",6.9999999999999993E-3,1E-3,0.01,{"$f":"1/0.65","v":1.5384615384615383},null,null,null,"hö tidig skörd, kg ts","kg ts",1.7600000000000001E-2,3.0000000000000001E-3,2.5000000000000001E-2,11,1,1,9.1,"grovfoder",null,"drav torr spm",null,3.6999999999999998E-2,5.0000000000000001E-3,1.8E-3,11,0.91,3,null,null,{"$f":"inköpt","v":"inköpt"},null,"hö senare skörd","kg ts",0.01,2.2000000000000001E-3,2.5000000000000001E-2,11,1,2,9.1,"grovfoder"]
[null,"P-Mag 12-4","kg",0,0.124,0,null,null,null,"Urin svin (sugg-)","kg",1.8E-3,2.0000000000000001E-4,1.1999999999999999E-3,null,null,"JH Edel Bete","kg",0,3.9199999999999999E-2,0,null,null,null,null,null,null,null,null,null,null,null,"konc nöt växande ungdjur hög","kg",4.1500000000000002E-2,8.3999999999999995E-3,1.2450000000000001E-2,12,0.88,1,14,"kraftfoder, spannmål etc.",null,"Fiskmjöl, rp 65 %","kg",0.114,2E-3,1E-3,12,0.92,3,9.16,9.11,{"$f":"inköpt","v":"inköpt"},null,"hö tidig skörd","kg ts",1.7600000000000001E-2,3.0000000000000001E-3,2.5000000000000001E-2,12,1,2,10.5,"grovfoder"]
[null,"Yara Superfosfat P20","kg",0,0.2,0,null,null,null,"Biofer 10-3-1","kg",0.10099999999999999,0.03,9.0000000000000011E-3,null,null,"JH Edel Biotin","kg",0,2.9399999999999999E-2,5.8799999999999998E-4,null,null,null,null,null,null,null,null,null,null,null,"konc nöt växande ungdjur låg","kg",3.3599999999999998E-2,4.6999999999999993E-3,1.0079999999999999E-2,13,0.88,1,11.7,"kraftfoder, spannmål etc.",null,"Havre, 12 % prot","kg",1.6500000000000001E-2,3.3E-3,4.3E-3,13,0.87,3,7.93,8.2899999999999991,null,null,"Havre, 12 % prot","kg",1.6500000000000001E-2,3.3E-3,4.3E-3,13,0.87,3,11.7,"kraftfoder, spannmål etc."]
[null,"Adularia","kg",0,0,8.3000000000000004E-2,null,null,null,"Biofer 6-3-12","kg",6.0999999999999999E-2,2.7000000000000003E-2,0.11800000000000001,null,null,"JH Edel Fosfor","kg",0,6.3700000000000007E-2,6.8599999999999998E-4,null,null,null,null,null,null,null,null,null,null,null,"konc nöt växande ungdjur mellan","kg",4.0800000000000003E-2,7.6E-3,1.2240000000000001E-2,14,0.88,1,12.7,"kraftfoder, spannmål etc.",null,"Havrekli","kg",1.0782720000000001E-2,7.2072000000000004E-3,6.5519999999999997E-3,14,0.87,3,null,null,{"$f":"inköpt","v":"inköpt"},null,"Höstvete foder, 11 % prot","kg",1.5100000000000001E-2,3.0999999999999999E-3,4.3E-3,14,0.87,3,14.1,"kraftfoder, spannmål etc.",null,null,null,null,null,null,null,"Får","kg",2.5000000000000001E-2,7.4000000000000003E-3,1.7000000000000001E-3]
[null,"Biokali 20","kg",0,0,0.2,null,null,null,"Biofer 9-3-4","kg",8.8000000000000009E-2,2.7000000000000003E-2,3.5000000000000003E-2,null,null,"JH Edel Fullfoder","kg",0,3.6260000000000001E-2,7.8399999999999997E-4,null,null,null,null,null,null,null,null,null,null,null,"Betfiber melasserad","kg",1.413872E-2,7.2880000000000004E-4,1.68535E-2,15,0.91,3,12.5,"kraftfoder, spannmål etc.",null,"Höstkorn, 11,7 % prot","kg",1.61E-2,3.3999999999999998E-3,4.3E-3,15,0.87,3,9.5299999999999994,9.73,null,null,"Korn, 11,9 % prot","kg",1.6399999999999998E-2,3.4000000000000002E-3,4.3E-3,15,0.87,3,13.2,"kraftfoder, spannmål etc.",null,null,null,null,null,null,null,"Nöt","kg",2.5000000000000001E-2,7.4000000000000003E-3,1.7000000000000001E-3]
[null,"Biotit","kg",0,0,0.05,null,null,null,"Biogödsel - rötrest från biogasframställning, fast","kg",1.7999999999999999E-2,3.5999999999999999E-3,1.2999999999999999E-3,null,null,"JH Edel Grunda","kg",0,1.9599999999999999E-2,5.8799999999999998E-4,null,null,null,null,null,null,null,null,null,null,null,"Betfiber omelasserad","kg",1.3670399999999999E-2,8.8999999999999995E-4,3.2039999999999998E-3,16,0.9,3,12.3,"kraftfoder, spannmål etc.",null,"Höstvete foder, 11 % prot","kg",1.5100000000000001E-2,3.0999999999999999E-3,4.3E-3,16,0.87,3,null,null,null,null,"Raps","kg",3.5000000000000003E-2,6.0000000000000001E-3,8.0000000000000002E-3,16,0.94,3,15.5,"kraftfoder, spannmål etc.",null,null,null,null,null,null,null,"Grisar","kg",2.6000000000000002E-2,5.4000000000000003E-3,2.2000000000000001E-3]
[null,"Kainit","kg",0,0,9.1999999999999998E-2,null,null,null,"Biogödsel - rötrest från biogasframställning, flytande","kg",5.8999999999999999E-3,6.9999999999999999E-4,2.3999999999999998E-3,null,null,"JH Edel Jod","kg",0,1.9599999999999999E-2,6.8599999999999998E-4,null,null,null,null,null,null,null,null,null,null,null,"Blandsäd 50% havre/ 50% korn","kg",1.6425599999999999E-2,3.3930000000000002E-3,4.6109999999999996E-3,17,0.87,3,12.45,"kraftfoder, spannmål etc.",null,"Korn, 11,9 % prot","kg",1.6399999999999998E-2,3.4000000000000002E-3,4.3E-3,17,0.87,3,9.5299999999999994,9.73,null,null,"Åkerbönor","kg",4.5999999999999999E-2,4.0000000000000001E-3,0.01,17,0.76,3,13.6,"kraftfoder, spannmål etc."]
[null,"Kalimagnesia","kg",0,0,0.249,null,null,null,"Biogödsel Jordberga - rötrest från biogasframställning","liter",5.0000000000000001E-3,5.0000000000000001E-4,3.3999999999999998E-3,null,null,"JH Edel Magnesium","kg",0,2.4500000000000001E-2,9.7999999999999997E-5,null,null,null,null,null,null,null,null,null,null,null,"Blandsäd 50% havre/ 50% vete","kg",1.6843199999999999E-2,3.3059999999999999E-3,4.2630000000000003E-3,18,0.87,3,12.9,"kraftfoder, spannmål etc.",null,"Korn, lutad","kg",1.2239999999999999E-2,2.3999999999999998E-3,3.8249999999999998E-3,18,0.87,3,null,null,null,null,"Ärter","kg",3.5000000000000003E-2,3.5999999999999999E-3,0.01,18,0.87,3,14.1,"kraftfoder, spannmål etc."]
[null,"Kaliumklorid","kg",0,0,0.498,null,null,null,"Biogödsel Lidköping - rötrest från biogasframställning","liter",5.7999999999999996E-3,5.0000000000000001E-4,1.2999999999999999E-3,null,null,"JH Edel Sin","kg",0,6.6640000000000005E-2,0,null,null,null,null,null,null,null,null,null,null,null,"Blandsäd 50% korn/ 50% vete","kg",1.6704E-2,3.1319999999999998E-3,4.5240000000000002E-3,19,0.87,3,13.6,"kraftfoder, spannmål etc.",null,"Kornkli","kg",1.4524799999999999E-2,7.1199999999999996E-3,0,19,0.87,3,null,null,{"$f":"inköpt","v":"inköpt"},null,"KLF Lammfoder ","kg",2.6409999999999999E-2,4.7759999999999999E-3,8.8520000000000005E-3,19,0.88,4,null,"kraftfoder, spannmål etc.",null,null,null,"färdig",12.9]
[null,"Kaliumsulfat","kg",0,0,0.42,null,null,null,"Biogödsel Linköping - rötrest från biogasframställning","liter",4.5999999999999999E-3,5.9999999999999995E-4,1.4E-3,null,null,"JH Edel Spira","kg",0,1.8620000000000001E-2,0,null,null,null,null,null,null,null,null,null,null,null,"Blandsäd havre (70)/ärt (30)","kg",2.0500000000000001E-2,3.3999999999999998E-3,6.0000000000000001E-3,20,0.87,3,12.3,"kraftfoder, spannmål etc.",null,"Linfrö","kg",3.3704959999999999E-2,5.2896000000000002E-3,8.2591999999999995E-3,20,0.93,3,null,null,null,null,"KLF Tackfoder","kg",2.7230000000000001E-2,4.5970000000000004E-3,9.0200000000000002E-3,20,0.88,4,null,"kraftfoder, spannmål etc.",null,null,null,null,12.9]
[null,"Yara Polysulphate","kg",0,0,0.11600000000000001,null,null,null,"Biogödsel Västerås - rötrest från biogasframställning","liter",5.0000000000000001E-4,8.0000000000000004E-4,2.7000000000000001E-3,null,null,"KK Bolifor 18","kg",0,0.1764,0,null,null,null,null,null,null,null,null,null,null,null,"Blandsäd åkerböna (30)/vårvete (70)","kg",2.81E-2,3.3999999999999998E-3,6.0000000000000001E-3,21,0.87,3,13.7,"kraftfoder, spannmål etc.",null,"Linfröexpeller","kg",4.5807359999999998E-2,7.7916000000000001E-3,9.9659999999999992E-3,21,0.9,3,null,null,{"$f":"inköpt","v":"inköpt"},null,"L Fårex","kg",4.3200000000000002E-2,6.8999999999999999E-3,1.11E-2,21,0.88,4,13,"kraftfoder, spannmål etc.",null,null,"konc"]
[null,"Agro NS 30-7","kg",0.3,0,0,null,null,null,"Biogödsel Örebro - rötrest från biogasframställning","liter",5.3E-3,8.0000000000000004E-4,2.3E-3,null,null,"KK Bolifor Dcp","kg",0,0.1764,0,null,null,null,null,null,null,null,null,null,null,null,"Blålupin frö","kg",4.9418400000000001E-2,5.1330000000000004E-3,8.8500000000000002E-3,22,0.89,3,13.6,"kraftfoder, spannmål etc.",null,"Linfrökaka","kg",4.5400000000000003E-2,7.4999999999999997E-3,4.7000000000000002E-3,22,0.9,3,null,null,"inköpt",null,"L Lamm 300","kg",2.7199999999999998E-2,5.1000000000000004E-3,8.8000000000000005E-3,22,0.88,4,12.9,"kraftfoder, spannmål etc."]
[null,"Agro NS 38-8","kg",0.38,0,0,null,null,null,"Fosforkalk","kg",2E-3,9.5999999999999992E-3,5.9999999999999995E-4,null,null,"KK Bolifor Mag 33","kg",0,3.4299999999999997E-2,0,null,null,null,null,null,null,null,null,null,null,null,"drank potatis","kg",1.9E-3,4.0000000000000001E-3,7.1000000000000004E-3,23,0.06,3,11.4,"kraftfoder, spannmål etc.",null,"Linfrömjöl","kg",5.6675200000000002E-2,7.8320000000000004E-3,9.7900000000000001E-3,23,0.9,3,null,null,"inköpt",null,"L Lamm 500","kg",2.9600000000000001E-2,5.7000000000000002E-3,7.4999999999999997E-3,23,0.88,4,12.9,"kraftfoder, spannmål etc."]
[null,"Ammoniak","kg",0.82,0,0,null,null,null,"Fosforsyrlighet P28","liter",0,0.28000000000000003,0,null,null,"KK Bolifor Mcp","kg",0,0.2225,0,null,null,null,null,null,null,null,null,null,null,null,"drav färsk spm","kg",7.7000000000000002E-3,1.1000000000000001E-3,4.0000000000000002E-4,24,0.23,3,11.8,"kraftfoder, spannmål etc.",null,"Lysin","kg",0.19,0,0,24,1,3,14.16,14.15,"inköpt",null,"L Tacka","kg",2.9000000000000001E-2,5.7999999999999996E-3,8.0000000000000002E-3,24,0.88,4,12.9,"kraftfoder, spannmål etc.",null,null,"färdig"]
[null,"Ammonsulfat","kg",0.21,0,0,null,null,null,"Fruktsaft","kg",4.0000000000000001E-3,4.0000000000000002E-4,5.0000000000000001E-3,null,null,"KK Bolifor Mgp","kg",0,0.1323,0,null,null,null,null,null,null,null,null,null,null,null,"drav torr spm","kg",3.6999999999999998E-2,5.0000000000000001E-3,1.8E-3,25,0.91,3,11.8,"kraftfoder, spannmål etc.",null,"Majsfodermjöl","kg",1.495872E-2,4.9392000000000004E-3,6.2621999999999999E-3,25,0.92,3,9.2899999999999991,10.14,"inköpt",null,"SA Harmoni U4 Får","kg",2.6447999999999999E-2,4.0889999999999998E-3,7.8300000000000002E-3,25,0.88,4,13.5,"kraftfoder, spannmål etc."]
[null,"ASN","kg",0.26,0,0,null,null,null,"Halmaska","kg",0,1.4E-2,0.15,null,null,"KK Bolifor Msp","kg",0,0.23519999999999999,0,null,null,null,null,null,null,null,null,null,null,null,"Expro(R) Raps mjöl värmebehandlat","kg",5.4702399999999998E-2,1.06505E-2,1.2798500000000001E-2,26,0.94,3,12.2,"kraftfoder, spannmål etc.",null,"Melassmix","kg",6.7999999999999996E-3,2.0000000000000001E-4,3.2000000000000001E-2,26,0.75,3,6.5,6.7,"inköpt",null,"SF Fiol Eko","kg",2.8320000000000001E-2,3.2499999999999999E-3,9.2300000000000004E-3,26,0.88,4,13.6,"kraftfoder, spannmål etc."]
[null,"ASN 26-14 Fertiva","kg",0.26,0,0,null,null,null,"Lyckeby Organic","liter",1.9E-2,4.0000000000000001E-3,5.5E-2,null,null,"KLF BLÅ","kg",0,1.9599999999999999E-2,4.8999999999999998E-4,null,null,null,null,null,null,null,null,null,null,null,"Havre, 12 % prot","kg",1.6500000000000001E-2,3.3E-3,4.3E-3,27,0.87,3,11.7,"kraftfoder, spannmål etc.",null,"Methionin","kg",0.17,0,0,27,1,3,15.26,15.25,"inköpt",null,"SF Fiol Eko KRAV P","kg",2.8337600000000001E-2,3.3899999999999998E-3,9.273E-3,27,0.88,4,null,"kraftfoder, spannmål etc."]
[null,"Axan","kg",0.27,0,0,null,null,null,"Mesakalk P3","kg",0,3.0000000000000001E-3,0,null,null,"KLF GRÖN","kg",0,4.5080000000000002E-2,3.9199999999999999E-4,null,null,null,null,null,null,null,null,null,null,null,"Havrekli","kg",1.0782720000000001E-2,7.2072000000000004E-3,6.5519999999999997E-3,28,0.87,3,7.2,"kraftfoder, spannmål etc.",null,"Potatisprotein","kg",0.11808,3.8700000000000002E-3,5.4000000000000003E-3,28,0.9,3,10.23,10.39,"inköpt",null,"SF Fiol Får","kg",2.512E-2,5.0800000000000003E-3,9.5600000000000008E-3,28,0.88,4,13,"kraftfoder, spannmål etc."]
[null,"Chilesalpeter","kg",0.16,0,0,null,null,null,"Pressaft","kg",1.5E-3,4.0000000000000002E-4,3.7000000000000002E-3,null,null,"KLF GUL","kg",0,9.0160000000000004E-2,3.9199999999999999E-4,null,null,null,null,null,null,null,null,null,null,null,"HP-massa","kg ts",4.7000000000000002E-3,2.0000000000000001E-4,4.0000000000000002E-4,29,1,3,12.8,"grovfoder",null,"Rapsfrö","kg",3.1199999999999999E-2,8.0000000000000002E-3,2.2000000000000001E-3,29,0.93,3,16.63,17.03,null,null,"SF Fiol Vital","kg",2.9600000000000001E-2,4.8399999999999997E-3,9.7800000000000005E-3,29,0.88,4,13.7,"kraftfoder, spannmål etc."]
[null,"Kalkammonsalpeter N 27","kg",0.27,0,0,null,null,null,"Rapshalm","kg",5.0159999999999996E-3,9.5E-4,1.9189999999999999E-2,null,null,"KLF LÅG","kg",0,9.0160000000000004E-2,1.372E-3,null,null,null,null,null,null,null,null,null,null,null,"Höstkorn, 11,7 % prot","kg",1.61E-2,3.3999999999999998E-3,4.3E-3,30,0.87,3,13.2,"kraftfoder, spannmål etc.",null,"Rapskaka","kg",4.7399999999999998E-2,1.03E-2,4.7000000000000002E-3,30,0.94,3,null,null,{"$f":"inköpt","v":"inköpt"},null,"SwA Glänsa  Lamm Intensiv Pell","kg",3.2899999999999999E-2,5.3E-3,1.1209999999999999E-2,30,0.88,4,12.7,"kraftfoder, spannmål etc."]
[null,"Kalksalpeter","kg",0.155,0,0,null,null,null,"Sockerbrukskalk","kg",4.0000000000000001E-3,6.0000000000000001E-3,0,null,null,"KLF Majs","kg",0,5.2920000000000002E-2,4.8999999999999998E-4,null,null,null,null,null,null,null,null,null,null,null,"Höstvete foder, 11 % prot","kg",1.5100000000000001E-2,3.0999999999999999E-3,4.3E-3,31,0.87,3,14.1,"kraftfoder, spannmål etc.",null,"Rapsmjöl","kg",5.44544E-2,1.14036E-2,1.34368E-2,31,0.9,3,6.33,6.84,{"$f":"inköpt","v":"inköpt"},null,"SwA Glänsa FårX Pell","kg",4.3700000000000003E-2,7.5799999999999999E-3,1.244E-2,31,0.88,4,12.8,"kraftfoder, spannmål etc.",null,null,"konc"]
[null,"Kalksalpeter Svavel","kg",0.152,0,0,null,null,null,"Spannmålshalm","kg",7.0000000000000001E-3,1E-3,0.01,null,null,"KLF Mineral foder till nöt","kg",0,5.2919999999999998E-3,0,null,null,null,null,null,null,null,null,null,null,null,"Korn, 11,9 % prot","kg",1.6399999999999998E-2,3.4000000000000002E-3,4.3E-3,32,0.87,3,13.2,"kraftfoder, spannmål etc.",null,"Råg, 10 % prot","kg",1.5100000000000001E-2,3.0999999999999999E-3,4.3E-3,32,0.87,3,9.86,10.07,null,null,"SwA Glänsa Lamm  Pell","kg",2.9600000000000001E-2,5.4999999999999997E-3,9.9900000000000006E-3,32,0.88,4,12.6,"kraftfoder, spannmål etc."]
[null,"N 26","kg",0.26,0,0,null,null,null,"Urearest","kg",3.3000000000000002E-2,0,0,null,null,"KLF Sin Test","kg",0,9.0127499999999999E-2,3.9399999999999998E-4,null,null,null,null,null,null,null,null,null,null,null,"Korn, lutad","kg",1.2239999999999999E-2,2.3999999999999998E-3,3.8249999999999998E-3,33,0.87,3,13.2,"kraftfoder, spannmål etc.",null,"Rågvete, 12,5 % prot","kg",1.72E-2,2.8E-3,4.1000000000000003E-3,33,0.87,3,10.34,10.46,null,null,"SwA Glänsa Lamm Låg  Pell","kg",2.6100000000000002E-2,5.1399999999999996E-3,9.8300000000000002E-3,33,0.88,4,12.3,"kraftfoder, spannmål etc."]
[null,"N 28","kg",0.27600000000000002,0,0,null,null,null,"Djupströgödsel får","kg",9.4999999999999998E-3,1.5E-3,0.02,null,null,"KLF Vilja Hög","kg",0,3.0380000000000001E-2,0,null,null,null,null,null,null,null,null,null,null,null,"Kornkli","kg",1.4524799999999999E-2,7.1199999999999996E-3,0,34,0.87,3,10.3,"kraftfoder, spannmål etc.",null,"Skummjölk","kg",5.1548799999999997E-3,9.167E-4,1.4685E-3,34,0.06,3,null,null,{"$f":"inköpt","v":"inköpt"},null,"SwA Glänsa Tacka Fiber Pell","kg",2.4E-2,4.7699999999999999E-3,1.068E-2,34,0.88,4,11.9,"kraftfoder, spannmål etc."]
[null,"N 30","kg",0.3,0,0,null,null,null,"Djupströgödsel häst","kg",4.8999999999999998E-3,1.6000000000000001E-3,1.06E-2,null,null,"KLF Vilja låg","kg",0,4.9979999999999997E-2,0,null,null,"Lin","kg",3.7999999999999999E-2,5.5000000000000005E-3,1.2E-2,null,null,null,null,"Linfrö","kg",3.3704959999999999E-2,5.2896000000000002E-3,8.2591999999999995E-3,35,0.93,3,20.100000000000001,"kraftfoder, spannmål etc.",null,"Soja böna","kg",5.7193760000000003E-2,5.1446E-3,1.7473900000000001E-2,35,0.87,3,null,null,"inköpt",null,"SwA Glänsa Tacka Pell","kg",2.8400000000000002E-2,5.2100000000000002E-3,9.2899999999999996E-3,35,0.88,4,null,"kraftfoder, spannmål etc."]
[null,"N-34","kg",0.34,0,0,null,null,null,"Djupströ höns 50% ts","kg",1.67E-2,7.7999999999999996E-3,1.04E-2,null,null,"Kv Vitafor Power","kg",0,1.4999999999999999E-2,0,null,null,"Raps","kg",3.5000000000000003E-2,6.0000000000000001E-3,8.0000000000000002E-3,null,null,null,null,"Linfröexpeller","kg",4.5807359999999998E-2,7.7916000000000001E-3,9.9659999999999992E-3,36,0.9,3,16.2,"kraftfoder, spannmål etc.",null,"Sojaböna, rostad","kg",5.7193760000000003E-2,5.1446E-3,1.7473900000000001E-2,36,0.87,3,null,null,"inköpt",null,"VF Får EDEL","kg",2.5055999999999998E-2,4.6979999999999999E-3,8.2649999999999998E-3,36,0.88,4,13,"kraftfoder, spannmål etc."]
[null,"Na-salpeter","kg",0.2,0,0,null,null,null,"Djupströ slaktkyckling 70% ts","kg",0.03,8.0000000000000002E-3,1.4999999999999999E-2,null,null,"Kv Vitafor solid","kg",0,0.02,0,null,null,"Rybs","kg",3.5000000000000003E-2,6.0000000000000001E-3,8.0000000000000002E-3,null,null,null,null,"Linfrökaka","kg",4.5400000000000003E-2,7.4999999999999997E-3,4.7000000000000002E-3,37,0.9,3,16.2,"kraftfoder, spannmål etc.",null,"Sojabönexpeller","kg",6.8966559999999996E-2,6.4609999999999997E-3,1.9936800000000001E-2,37,0.87,3,null,null,"inköpt",null,"Vitafor Derby","kg",0,2E-3,0,37,0.88,4,null,"kraftfoder, spannmål etc."]
[null,"NS 24-6","kg",0.24,0,0,null,null,null,"Djupströgödsel Kalkon","kg",3.5999999999999997E-2,1.2500000000000001E-2,1.54E-2,null,null,"Kv Vitafor strong","kg",0,3.4000000000000002E-2,0,null,null,"Fabrikspotatis","kg",4.0000000000000001E-3,5.9999999999999995E-4,6.0000000000000001E-3,null,null,null,null,"Linfrömjöl","kg",5.6675200000000002E-2,7.8320000000000004E-3,9.7900000000000001E-3,38,0.9,3,12.5,"kraftfoder, spannmål etc.",null,"Sojamjöl","kg",6.825792E-2,6.6575999999999996E-3,2.3651999999999999E-2,38,0.87,3,8.1199999999999992,8.73,"inköpt",null,"Vitafor Derby","kg",0,2E-3,0,38,0.88,4,null,"kraftfoder, spannmål etc."]
[null,"NS 24-6","kg",0.24,0,0,null,null,null,"Flytgödsel höns 11% ts","kg",5.0000000000000001E-3,1.1999999999999999E-3,2.0999999999999999E-3,null,null,"L Effekt Bete 2009","kg",0,5.0337E-2,1.4805E-3,null,null,"Matpotatis","kg",3.4999999999999996E-3,5.0000000000000001E-4,5.0000000000000001E-3,null,null,null,null,"Majsfodermjöl","kg",1.495872E-2,4.9392000000000004E-3,6.2621999999999999E-3,39,0.92,3,16,"kraftfoder, spannmål etc.",null,"Solrosexpeller","kg",3.8965600000000003E-2,8.5467000000000008E-3,1.30498E-2,39,0.92,3,null,null,"inköpt",null,"Vitafor Total","kg",0,4.0000000000000001E-3,0,39,0.88,4,null,"kraftfoder, spannmål etc."]
[null,"NS 27-3","kg",0.27,0,0,null,null,null,"Höns fastgödsel","kg",1.67E-2,7.7999999999999996E-3,1.04E-2,null,null,"L Effekt Biomikro","kg",0,8.8199999999999997E-3,1.372E-3,null,null,"Sockerbetor","kg",2E-3,4.0000000000000002E-4,2E-3,null,null,null,null,"Potatisprotein","kg",0.11808,3.8700000000000002E-3,5.4000000000000003E-3,40,0.9,3,15.5,"kraftfoder, spannmål etc.",null,"Solrosfrö","kg",3.1911679999999998E-2,5.4056E-3,9.1336000000000004E-3,40,0.91,3,15.38,15.69,"inköpt",null,"Vitafor Total","kg",0,4.0000000000000001E-3,0,40,0.88,4,null,"kraftfoder, spannmål etc."]
[null,"NS 27-4","kg",0.27,0,0,null,null,null,"Kletgödsel höns 30% ts","kg",1.2500000000000001E-2,3.8E-3,5.0000000000000001E-3,null,null,"L Effekt Fruktsam","kg",0,4.9299999999999997E-2,1.3803999999999999E-3,null,null,"Höstvete bröds. 12%","kg",1.8100000000000002E-2,3.0999999999999999E-3,4.3E-3,null,null,null,null,"Raps","kg",3.5000000000000003E-2,6.0000000000000001E-3,8.0000000000000002E-3,41,0.94,3,22.1,"kraftfoder, spannmål etc.",null,"Soy Pass","kg",6.9678080000000003E-2,5.3558E-3,1.95794E-2,41,0.87,3,null,null,"inköpt",null,"Bolifor Mag 33","kg",0,3.5000000000000003E-2,0,41,0.88,5,null,"kraftfoder, spannmål etc."]
[null,"NS 27-4 ZAK","kg",0.27,0,0,null,null,null,"Fastgödsel mink","kg",4.4499999999999998E-2,2.12E-2,1.09E-2,null,null,"L Effekt Får med Koppar","kg",1.1919999999999999E-3,0.06,1.9599999999999999E-3,null,null,"Maltkorn, 10,5% prot","kg",1.44E-2,3.4000000000000002E-3,4.3E-3,null,null,null,null,"Raps Expro-kaka 215 e","kg",5.04E-2,1.2699999999999999E-2,3.8E-3,42,0.94,3,15.5,"kraftfoder, spannmål etc.",null,"Sötlupin frö, gul","kg",6.3100000000000003E-2,6.4999999999999997E-3,2.7000000000000001E-3,42,0.87,3,null,null,null,null,"Carli Alfa Pure bales 14","kg",2.0144479999999999E-2,2.1137E-3,2.8121400000000001E-2,42,0.88,5,null,"kraftfoder, spannmål etc."]
[null,"Premago","kg",0.22,0,0,null,null,null,"Djupströgödsel nöt","kg",5.4000000000000003E-3,1.5E-3,0.01,null,null,"L Effekt Får utan Cu","kg",1.1919999999999999E-3,5.9998999999999997E-2,1.9550000000000001E-3,null,null,"Råg, 10 % prot","kg",1.5100000000000001E-2,3.0999999999999999E-3,4.3E-3,null,null,null,null,"Rapsexpeller, 10% fett","kg",4.8710400000000001E-2,9.8235000000000006E-3,1.239E-2,43,0.94,3,15.5,"kraftfoder, spannmål etc.",null,"Treonin","kg",0.12,0,0,43,1,3,null,null,{"$f":"inköpt","v":"inköpt"},null,"Carli Alfa Pure bales 18","kg",2.7379199999999999E-2,2.604E-3,2.7528E-2,43,0.88,5,null,"kraftfoder, spannmål etc."]
[null,"ProBeta N","kg",0.2,0,0,null,null,null,"Fastgödsel nöt","kg",5.1999999999999998E-3,1.5E-3,5.0000000000000001E-3,null,null,"L Effekt Grund","kg",0,2.4649999999999998E-2,1.5776E-3,null,null,"Vårvete, 13,5 % prot","kg",2.0400000000000001E-2,3.0999999999999999E-3,4.3E-3,null,null,null,null,"Rapsexpeller, 20% fett, kallpressad","kg",4.2862400000000002E-2,8.9890000000000005E-3,1.1214E-2,44,0.94,3,15.5,"kraftfoder, spannmål etc.",null,"vassle",null,1.1999999999999999E-3,5.0000000000000001E-4,1.4E-3,44,0.06,3,null,null,{"$f":"inköpt","v":"inköpt"},null,"Carli Alfa Pure bales 20","kg",3.052096E-2,2.5928000000000001E-3,2.3798199999999999E-2,44,0.88,5,null,"kraftfoder, spannmål etc."]
[null,"Skog-CAN","kg",0.27,0,0,null,null,null,"Flytgödsel nöt 9% ts","kg",4.3E-3,5.9999999999999995E-4,3.8E-3,null,null,"L Effekt Intensiv","kg",0,8.8830000000000003E-3,1.7765999999999999E-3,null,null,"Konservärter","kg",0.01,1E-3,2.3E-3,null,null,null,null,"Rapsfrö","kg",3.1199999999999999E-2,8.0000000000000002E-3,2.2000000000000001E-3,45,0.93,3,22.1,"kraftfoder, spannmål etc.",null,"Vete, lutad","kg",1.0919999999999999E-2,2.0149999999999999E-3,2.99E-3,45,0.87,3,null,null,null,null,"Carli Alfa Pure pellet 14","kg",2.316288E-2,3.9903999999999998E-3,1.8745600000000001E-2,45,0.88,5,null,"kraftfoder, spannmål etc."]
[null,"Suprasalpeter N 27","kg",0.27,0,0,null,null,null,"Kletgödsel nöt","kg",4.8999999999999998E-3,1.6000000000000001E-3,5.5999999999999999E-3,null,null,"L Effekt Intensiv balans","kg",0,8.8830000000000003E-3,1.3818000000000001E-3,null,null,"Baljväxtfrö","kg",4.8000000000000001E-2,6.0000000000000001E-3,1.1000000000000001E-2,null,null,null,null,"Rapsmjöl","kg",5.44544E-2,1.14036E-2,1.34368E-2,46,0.9,3,12.4,"kraftfoder, spannmål etc.",null,"Vetekli","kg",2.4081600000000002E-2,1.044E-2,1.044E-2,46,0.87,3,6.26,6.8,{"$f":"inköpt","v":"inköpt"},null,"Carli Alfa Pure pellet 16","kg",2.4842400000000001E-2,3.764E-3,2.0984300000000001E-2,46,0.88,5,null,"kraftfoder, spannmål etc."]
[null,"Svavelsalpeter","kg",0.27,0,0.02,null,null,null,"Urin nöt","kg",3.5000000000000001E-3,1E-4,5.0000000000000001E-3,null,null,"L Effekt Intensiv Pellets","kg",0,8.1259999999999995E-3,4.7800000000000004E-3,null,null,"Gräsfrö","kg",0.02,4.0000000000000001E-3,5.0000000000000001E-3,null,null,null,null,"Rapsmjöl Expro-00 e","kg",5.6000000000000001E-2,1.0800000000000001E-2,5.4000000000000003E-3,47,0.9,3,15.5,"kraftfoder, spannmål etc.",null,"Vicker kärna","kg",4.1799999999999997E-2,4.4999999999999997E-3,0,47,0.87,3,null,null,null,null,"Carli Alfa Pure pellet 20","kg",2.8663040000000001E-2,4.5700000000000003E-3,1.9102600000000001E-2,47,0.88,5,null,"kraftfoder, spannmål etc."]
[null,"Urea","kg",0.46,0,0,null,null,null,"Fontana 9-0-0","kg",0.09,0,0,null,null,"L Effekt Kalva ","kg",0,7.8051999999999996E-2,1.2844E-3,null,null,null,null,null,null,null,null,null,null,null,"Råg, 10 % prot","kg",1.5100000000000001E-2,3.0999999999999999E-3,4.3E-3,48,0.87,3,13.9,"kraftfoder, spannmål etc.",null,"Åkerböna kärna","kg",4.2023999999999999E-2,5.1000000000000004E-3,1.1220000000000001E-2,48,0.76,3,null,null,null,null,"Carli Alfa Pure pellet 22","kg",3.599488E-2,5.5319999999999996E-3,2.0191799999999999E-2,48,0.88,5,null,"kraftfoder, spannmål etc."]
[null,"Urea, Yara","kg",0.46200000000000002,0,0,null,null,null,"Biobact tomat","liter",0.03,0,0.02,null,null,"L Effekt Kalva Betakaroten","kg",0,9.0160000000000004E-2,1.47E-3,null,null,null,null,null,null,null,null,null,null,null,"Rågvete, 12,5 % prot","kg",1.72E-2,2.8E-3,4.1000000000000003E-3,49,0.87,3,14,"kraftfoder, spannmål etc.",null,"Åkerböna kärna rostad","kg",4.3161119999999997E-2,5.2379999999999996E-3,1.15236E-2,49,0.76,3,null,null,null,null,"Carli Rye Star bales 10","kg",1.5351999999999999E-2,2.1849999999999999E-3,1.805E-2,49,0.88,5,null,"kraftfoder, spannmål etc."]
[null,"Yara Liva Nitrabor","kg",0.155,0,0,null,null,null,"Biovinass H 2,5-0-5","kg",2.5000000000000001E-2,0,0.05,null,null,"L Effekt Kalva Cab 2000","kg",0,7.8799999999999995E-2,2.1670000000000001E-3,null,null,null,null,null,null,null,null,null,null,null,"Skummjölk","kg",5.1548799999999997E-3,9.167E-4,1.4685E-3,50,0.06,3,14.9,"kraftfoder, spannmål etc.",null,"Ärter mat/foder kärna","kg",3.15E-2,3.7000000000000002E-3,1.1000000000000001E-3,50,0.87,3,9.69,9.9600000000000009,null,null,"Carli Rye Star bales 12","kg",1.7592960000000001E-2,2.2176000000000001E-3,2.4855599999999999E-2,50,0.88,5,null,"kraftfoder, spannmål etc."]
[null,"Yara Sulfan","kg",0.24,0,0,null,null,null,"DCM Eco-Mix 3","kg",0.12,0,2.5000000000000001E-2,null,null,"L Effekt Kalva Selenjäst","kg",0,9.0620000000000006E-2,2.1670000000000001E-3,null,null,null,null,null,null,null,null,null,null,null,"Soja böna","kg",5.7193760000000003E-2,5.1446E-3,1.7473900000000001E-2,51,0.87,3,16.399999999999999,"kraftfoder, spannmål etc.",null,"Ärtex","kg",6.7000000000000004E-2,2.5999999999999999E-2,1.7000000000000001E-2,51,0.88,3,null,null,{"$f":"inköpt","v":"inköpt"},null,"Carli Rye Star pellet 10","kg",1.499808E-2,1.4704E-3,1.51635E-2,51,0.88,5,null,"kraftfoder, spannmål etc."]
[null,"YaraLiva Calcinit, Kalciumnitrat","kg",0.155,0,0,null,null,null,"DCM Prolico 1","liter",0.06,1E-3,2.5000000000000001E-2,null,null,"L Effekt Klöv","kg",0,1.372E-2,1.372E-3,null,null,null,null,null,null,null,null,null,null,null,"Sojaböna, rostad","kg",5.7193760000000003E-2,5.1446E-3,1.7473900000000001E-2,52,0.87,3,16.399999999999999,"kraftfoder, spannmål etc.",null,"Klövergräsensilage, ts","kg ts",2.7200000000000002E-2,2.0999999999999999E-3,2.5000000000000001E-2,52,1,3.5,null,null,null,null,"Carli Straw Light bales ","kg",9.5436800000000006E-3,1.1184000000000001E-3,1.3886799999999999E-2,52,0.88,5,null,"kraftfoder, spannmål etc."]
[null,"Kieserit","kg",0,0,0,null,null,null,"DCM Prolico 2","liter",2.3E-2,1E-3,0.05,null,null,"L Effekt Lamma med Cu","kg",1.472E-3,7.4999999999999997E-2,1.573E-3,null,null,null,null,null,null,null,null,null,null,null,"Sojamjöl","kg",6.825792E-2,6.6575999999999996E-3,2.3651999999999999E-2,53,0.87,3,14.6,"kraftfoder, spannmål etc.",null,"Klövergräshö, ts","kg ts",1.9199999999999998E-2,2.5999999999999999E-3,2.5000000000000001E-2,53,1,3.5,null,null,null,null,"Carli Straw Light pellets ","kg",9.3403199999999992E-3,1.9139999999999999E-3,1.7226000000000002E-2,53,0.88,5,null,"kraftfoder, spannmål etc."]
[null,"Magnesiumsulfat","kg",0,0,0,null,null,null,"DCM Vivikali","kg",0.02,0,0.16600000000000001,null,null,"L Effekt Lamma utan Cu","kg",1.792E-3,7.4999999999999997E-2,2.0309999999999998E-3,null,null,null,null,null,null,null,null,null,null,null,"Solrosexpeller","kg",3.8965600000000003E-2,8.5467000000000008E-3,1.30498E-2,54,0.92,3,11.7,"kraftfoder, spannmål etc.",null,"Aqua Gylt","kg",1.34E-2,7.0000000000000007E-2,5.0000000000000001E-4,54,0.88,4,null,null,{"$f":"inköpt","v":"inköpt"},null,"E Karisma Emmi Ekologisk","kg",2.5899999999999999E-2,4.1999999999999997E-3,3.5999999999999999E-3,54,0.88,5,null,"kraftfoder, spannmål etc."]
[null,"Kaliumnitrat","kg",0.14000000000000001,0,0.38500000000000001,null,null,null,"Vinass 4-0-4","kg",4.2999999999999997E-2,5.0000000000000001E-4,4.4999999999999998E-2,null,null,"L Effekt Magnesium","kg",0,2.9700000000000001E-2,1.0889999999999999E-3,null,null,null,null,null,null,null,null,null,null,null,"Solrosfrö","kg",3.1911679999999998E-2,5.4056E-3,9.1336000000000004E-3,55,0.91,3,11.4,"kraftfoder, spannmål etc.",null,"Aqua Slakt","kg",1.7000000000000001E-2,2.5999999999999999E-2,2.9999999999999997E-4,55,0.88,4,null,null,"inköpt",null,"E Karisma Nelli Ekologisk","kg",2.92E-2,4.4999999999999997E-3,3.8E-3,55,0.88,5,null,"kraftfoder, spannmål etc."]
[null,"NK 19-16 S+Mg","kg",0.19400000000000001,0,0.156,null,null,null,"Vinass Lallemand ","kg",3.2000000000000001E-2,1E-3,7.0000000000000007E-2,null,null,"L Effekt Mjölka Sund","kg",0,7.0992E-2,9.859999999999999E-4,null,null,null,null,null,null,null,null,null,null,null,"Sötlupin frö","kg",6.1341600000000003E-2,4.3004999999999996E-3,1.281E-2,56,0.87,3,13.6,"kraftfoder, spannmål etc.",null,"Aqua Smågris","kg",7.17E-2,3.4000000000000002E-2,0,56,0.88,4,null,null,"inköpt",null,"E Topp Elton Ekologisk","kg",4.1500000000000002E-2,6.1999999999999998E-3,5.1000000000000004E-3,56,0.88,5,null,"kraftfoder, spannmål etc."]
[null,"NK 20-15","kg",0.19600000000000001,0,0.14599999999999999,null,null,null,"DCM Eco-Fos","kg",0.04,0.1,0,null,null,"L Effekt Optimal","kg",0,6.4089999999999994E-2,1.3803999999999999E-3,null,null,null,null,null,null,null,null,null,null,null,"Sötlupin frö, gul","kg",6.3100000000000003E-2,6.4999999999999997E-3,2.7000000000000001E-3,57,0.87,3,13.6,"kraftfoder, spannmål etc.",null,"Aqua Sugg","kg",3.3999999999999998E-3,7.5999999999999998E-2,5.9999999999999995E-4,57,0.88,4,null,null,"inköpt",null,"E Topp Malte Ekologisk","kg",5.1299999999999998E-2,7.1000000000000004E-3,2.7000000000000001E-3,57,0.88,5,null,"kraftfoder, spannmål etc."]
[null,"NK 22-11","kg",0.216,0,0.106,null,null,null,"Allgrow","liter",7.0000000000000001E-3,1E-3,2E-3,null,null,"L Effekt Optimal Balans","kg",0,6.4155000000000004E-2,1.3818000000000001E-3,null,null,null,null,null,null,null,null,null,null,null,"Urea foder-","kg",0.45707199999999998,0,0,58,1,3,0,"kraftfoder, spannmål etc.",null,"KLF Action ","kg",2.1579999999999998E-2,5.143E-3,4.8999999999999998E-3,58,0.88,4,null,null,"inköpt",null,"Easylin 25 Protect, Agrosom","kg",3.9888E-2,7.92E-3,1.098E-2,58,0.88,5,null,"kraftfoder, spannmål etc."]
[null,"NK 22-12","kg",0.216,0,0.106,null,null,null,"Baralith Enslow 1","kg",1.7000000000000001E-2,2.5000000000000001E-3,1.9E-2,null,null,"L Effekt Optimal Koppar","kg",0,6.4089999999999994E-2,1.5776E-3,null,null,null,null,null,null,null,null,null,null,null,"vassle","kg",1.1999999999999999E-3,5.0000000000000001E-4,1.4E-3,59,0.06,3,13.5,"kraftfoder, spannmål etc.",null,"KLF Ajour ","kg",2.435E-2,5.182E-3,5.9020000000000001E-3,59,0.88,4,null,null,"inköpt",null,"Easylin 48 Protect, Agrosom","kg",7.6752000000000001E-2,6.4799999999999996E-3,8.9999999999999993E-3,59,0.88,5,null,"kraftfoder, spannmål etc."]
[null,"ProMagna NK 18-12","kg",0.18,0,0.12,null,null,null,"Benmjöl","kg",7.1999999999999995E-2,8.8999999999999996E-2,4.0000000000000001E-3,null,null,"L Effekt Optimal Pellets","kg",0,4.3020000000000003E-2,4.7800000000000004E-3,null,null,null,null,null,null,null,null,null,null,null,"Vete, lutad","kg",1.0919999999999999E-2,2.0149999999999999E-3,2.99E-3,60,0.87,3,14.1,"kraftfoder, spannmål etc.",null,"KLF Aktiv ","kg",2.4570000000000002E-2,5.4039999999999999E-3,6.496E-3,60,0.88,4,null,null,"inköpt",null,"Easylin Energy Protect, Agrosom","kg",2.4048E-2,4.9500000000000004E-3,6.0299999999999998E-3,60,0.88,5,null,"kraftfoder, spannmål etc."]
[null,"UniKa 14-19","kg",0.14199999999999999,0,0.187,null,null,null,"Biobact","liter",2.7E-2,4.0000000000000001E-3,1.7000000000000001E-2,null,null,"L Effekt SP Kött Mg","kg",0,5.978E-2,0,null,null,null,null,null,null,null,null,null,null,null,"Vetekli","kg",2.4081600000000002E-2,1.044E-2,1.044E-2,61,0.87,3,11,"kraftfoder, spannmål etc.",null,"KLF Aktiv SSAB","kg",2.5499999999999998E-2,5.2399999999999999E-3,5.398E-3,61,0.88,4,null,null,"inköpt",null,"Extrulin 60, Agrosom","kg",3.1158399999999999E-2,9.0089999999999996E-3,9.0089999999999996E-3,61,0.88,5,null,"kraftfoder, spannmål etc."]
[null,"UniKa Kali","kg",0.13600000000000001,0,0.373,null,null,null,"Biofer 10-3-1","kg",0.10100000000000001,0.03,8.9999999999999993E-3,null,null,"L Effekt Växa Sund","kg",0,7.1279999999999996E-2,1.2869999999999999E-3,null,null,null,null,null,null,null,null,null,null,null,"Vicker kärna","kg",4.1799999999999997E-2,4.4999999999999997E-3,0,62,0.87,3,13.9,"kraftfoder, spannmål etc.",null,"KLF Alice","kg",2.494E-2,5.0480000000000004E-3,5.6860000000000001E-3,62,0.88,4,null,null,"inköpt",null,"FD Vitamilk Str","kg",3.3368000000000002E-2,7.2750000000000002E-3,0,62,0.88,5,null,"kraftfoder, spannmål etc."]
[null,"Yara Unika Calcium","kg",0.14199999999999999,0,0.19900000000000001,null,null,null,"Biofer 6-3-12","kg",6.0999999999999999E-2,2.7E-2,0.11799999999999999,null,null,"L Mixa Intensiv","kg",0,8.8830000000000003E-3,1.3818000000000001E-3,null,null,null,null,null,null,null,null,null,null,null,"Åkerböna kärna","kg",4.2023999999999999E-2,5.1000000000000004E-3,1.1220000000000001E-2,63,0.76,3,12.9,"kraftfoder, spannmål etc.",null,"KLF Alma","kg",2.2200000000000001E-2,4.9129999999999998E-3,6.5170000000000002E-3,63,0.88,4,null,null,"inköpt",null,"FF Acetona Dry Sintidsfoder","kg",1.5488E-2,5.6319999999999999E-3,6.6E-3,63,0.88,5,null,"kraftfoder, spannmål etc."]
[null,"Yara Unika Plus","kg",0.12,0,0.38200000000000001,null,null,null,"Biofer 9-3-4","kg",8.7999999999999995E-2,2.7E-2,3.5000000000000003E-2,null,null,"L Mixa Intensiv MG","kg",0,8.8739999999999999E-3,1.4790000000000001E-3,null,null,null,null,null,null,null,null,null,null,null,"Åkerböna kärna rostad","kg",4.3161119999999997E-2,5.2379999999999996E-3,1.15236E-2,64,0.76,3,12.9,"kraftfoder, spannmål etc.",null,"KLF Alstra ","kg",2.1239999999999998E-2,5.3990000000000002E-3,5.6150000000000002E-3,64,0.88,4,null,null,"inköpt",null,"FF Acetona e-y Flytande","kg",6.1599999999999997E-3,1.54E-4,8.855E-3,64,0.88,5,null,"kraftfoder, spannmål etc."]
[null,"YaraMila 22-0-12","kg",0.2,0,0.11600000000000001,null,null,null,"Blodmjöl","kg",0.14399999999999999,2E-3,7.0000000000000001E-3,null,null,"L Mixa K Sin","kg",0,0.10780000000000001,1.176E-3,null,null,null,null,null,null,null,null,null,null,null,"Ärter mat/foder kärna","kg",3.15E-2,3.7000000000000002E-3,1.1000000000000001E-3,{"$f":"AL69+1","v":65},0.87,3,13.8,"kraftfoder, spannmål etc.",null,"KLF Aria","kg",2.8150000000000001E-2,5.4460000000000003E-3,6.1139999999999996E-3,{"$f":"AW69+1","v":65},0.88,4,null,null,"inköpt",null,"FF Acetona e-y Pellets","kg",1.3224E-2,2.9580000000000001E-3,7.221E-3,{"$f":"BI69+1","v":65},0.88,5,null,"kraftfoder, spannmål etc."]
[null,"NP 12-23 MAP","kg",0.12,0.23,0,null,null,null,"Bycobact 30","liter",2.7E-2,4.0000000000000001E-3,1.7000000000000001E-2,null,null,"L Mixa Optimal","kg",0,6.4155000000000004E-2,1.5792E-3,null,null,null,null,null,null,null,null,null,null,null,"Acetona Lakta Flytande","kg",1E-4,0,0,66,0.05,4,null,"kraftfoder, spannmål etc.",null,"KLF Astrid ","kg",2.3380000000000001E-2,5.1440000000000001E-3,5.2490000000000002E-3,66,0.88,4,null,null,"inköpt",null,"FF Farmarin Rypsi","kg",5.3620000000000001E-2,1.1025E-2,1.33875E-2,66,0.88,5,null,"kraftfoder, spannmål etc."]
[null,"NP 18-20 DAP","kg",0.18,0.2,0,null,null,null,"Bycobact Granulat","kg",0.05,1.4999999999999999E-2,3.5000000000000003E-2,null,null,"L Mixa Optimal Koppar","kg",0,6.4089999999999994E-2,1.7748E-3,null,null,null,null,null,null,null,null,null,null,null,"Bolifor Mag 33","kg",0,3.5000000000000003E-2,0,67,0.88,4,null,"kraftfoder, spannmål etc.",null,"KLF Balans","kg",2.402E-2,5.4130000000000003E-3,7.4289999999999998E-3,67,0.88,4,null,null,"inköpt",null,"FF Mega Kross","kg",2.8535999999999999E-2,4.9589999999999999E-3,9.5700000000000004E-3,67,0.88,5,null,"kraftfoder, spannmål etc."]
[null,"NP 26-4 S","kg",0.26,3.7999999999999999E-2,0,null,null,null,"Condit 5","kg",4.2000000000000003E-2,7.0000000000000001E-3,1.2999999999999999E-2,null,null,"L Mixa Optimal MG ","kg",0,6.4089999999999994E-2,1.2818E-3,null,null,null,null,null,null,null,null,null,null,null,"Carli Alfa Pure bales 14","kg",2.0144479999999999E-2,2.1137E-3,2.8121400000000001E-2,68,0.88,4,null,"kraftfoder, spannmål etc.",null,"KLF Blixtra 2102  ","kg",2.3359999999999999E-2,5.7130000000000002E-3,5.9500000000000004E-3,68,0.88,4,null,null,"inköpt",null,"FF Mega Kross Power","kg",3.2016000000000003E-2,5.2199999999999998E-3,9.5700000000000004E-3,68,0.88,5,null,"kraftfoder, spannmål etc."]
[null,"NP 27-3 S","kg",0.27,0.03,0,null,null,null,"DCM Eco-Mix 1","kg",0.09,2.1999999999999999E-2,2.5000000000000001E-2,null,null,"Lipitec Bovi 85, kalk fett","kg",0,0,0,null,null,null,null,null,null,null,null,null,null,null,"Carli Alfa Pure bales 18","kg",2.7379199999999999E-2,2.604E-3,2.7528E-2,69,0.88,4,null,"kraftfoder, spannmål etc.",null,"KLF Blixtra 2103 ","kg",2.392E-2,5.7499999999999999E-3,5.561E-3,69,0.88,4,null,null,"inköpt",null,"FF Mega Kross Protein","kg",4.0039999999999999E-2,7.6125000000000003E-3,1.18125E-2,69,0.88,5,null,"kraftfoder, spannmål etc."]
[null,"NP 27-5 S","kg",0.27,4.8000000000000001E-2,0,null,null,null,"DCM Eco-Mix 4","kg",7.0000000000000007E-2,3.1E-2,8.3000000000000004E-2,null,null,"Lipitec Bovi LM, saturated fat","kg",0,0,0,null,null,null,null,null,null,null,null,null,null,null,"Carli Alfa Pure bales 20","kg",3.052096E-2,2.5928000000000001E-3,2.3798199999999999E-2,70,0.88,4,null,"kraftfoder, spannmål etc.",null,"KLF Blixtra Bus","kg",2.581E-2,5.7790000000000003E-3,6.2810000000000001E-3,70,0.88,4,null,null,"inköpt",null,"FF Mega Kross Top Sve","kg",3.7379999999999997E-2,7.0000000000000001E-3,1.14625E-2,70,0.88,5,null,"kraftfoder, spannmål etc."]
[null,"Agro NPK 24-4-7","kg",0.24,0.04,7.0000000000000007E-2,null,null,null,"DCM ECO-Xtra 1","kg",0.08,2.1999999999999999E-2,0.05,null,null,"Lipitec GlycoFat, kalk fett","kg",0,0,0,null,null,null,null,null,null,null,null,null,null,null,"Carli Alfa Pure pellet 14","kg",2.316288E-2,3.9903999999999998E-3,1.8745600000000001E-2,71,0.88,4,null,"kraftfoder, spannmål etc.",null,"KLF Cavat ","kg",2.342E-2,4.5409999999999999E-3,5.3489999999999996E-3,71,0.88,4,null,null,"inköpt",null,"Fole 106","kg",2.4639999999999999E-2,4.4000000000000003E-3,8.2719999999999998E-3,71,0.88,5,null,"kraftfoder, spannmål etc."]
[null,"Agro NPK 28-3-5","kg",0.27500000000000002,2.5000000000000001E-2,4.4999999999999998E-2,null,null,null,"Dolagi Ekogödsel NPK 10-1-2","kg",0.1,1.2999999999999999E-2,2.5000000000000001E-2,null,null,"Magnesiumfosfat","kg",0,0.13,0,null,null,null,null,null,null,null,null,null,null,null,"Carli Alfa Pure pellet 16","kg",2.4842400000000001E-2,3.764E-3,2.0984300000000001E-2,72,0.88,4,null,"kraftfoder, spannmål etc.",null,"KLF Central ","kg",2.4060000000000002E-2,4.5929999999999999E-3,5.6239999999999997E-3,72,0.88,4,null,null,"inköpt",null,"Fole 110","kg",2.6752000000000001E-2,4.4000000000000003E-3,8.8000000000000005E-3,72,0.88,5,null,"kraftfoder, spannmål etc."]
[null,"Balans 22-4-7","kg",0.216,0.04,6.6000000000000003E-2,null,null,null,"Dolagi Ekogödsel NPK 3-4-2","kg",3.4000000000000002E-2,4.4999999999999998E-2,0.02,null,null,"Monoammoniumfosfat","kg",0.11360000000000001,0.24,0,null,null,null,null,null,null,null,null,null,null,null,"Carli Alfa Pure pellet 20","kg",2.8663040000000001E-2,4.5700000000000003E-3,1.9102600000000001E-2,73,0.88,4,null,"kraftfoder, spannmål etc.",null,"KLF Combi 7800 ","kg",2.2589999999999999E-2,4.4390000000000002E-3,5.4510000000000001E-3,73,0.88,4,null,null,"inköpt",null,"Fole 120","kg",3.0272E-2,4.4000000000000003E-3,8.8000000000000005E-3,73,0.88,5,null,"kraftfoder, spannmål etc."]
[null,"Balans 26-3-4","kg",0.25600000000000001,2.5999999999999999E-2,3.5999999999999997E-2,null,null,null,"Dolagi Ekogödsel NPK 7-3-8","kg",6.6000000000000003E-2,3.2000000000000001E-2,8.6999999999999994E-2,null,null,"Monokalciumfosfat","kg",0,0.22700000000000001,0,null,null,null,null,null,null,null,null,null,null,null,"Carli Alfa Pure pellet 22","kg",3.599488E-2,5.5319999999999996E-3,2.0191799999999999E-2,74,0.88,4,null,"kraftfoder, spannmål etc.",null,"KLF Combi 7821 ","kg",2.051E-2,4.228E-3,5.7099999999999998E-3,74,0.88,4,null,null,"inköpt",null,"Fole 125","kg",3.3087999999999999E-2,3.96E-3,8.8000000000000005E-3,74,0.88,5,null,"kraftfoder, spannmål etc."]
[null,"Belor NPK 27-3-5","kg",0.27,2.5999999999999999E-2,0.05,null,null,null,"Dolagi Ekogödsel NPK 8-2-7","kg",7.5999999999999998E-2,2.4E-2,8.4000000000000005E-2,null,null,"Mononatriumfosfat","kg",0,0.24,0,null,null,null,null,null,null,null,null,null,null,null,"Carli Rye Star bales 10","kg",1.5351999999999999E-2,2.1849999999999999E-3,1.805E-2,75,0.88,4,null,"kraftfoder, spannmål etc.",null,"KLF Combi 7833 ","kg",2.4680000000000001E-2,3.9189999999999997E-3,5.5030000000000001E-3,75,0.88,4,null,null,"inköpt",null,"Fole Bas","kg",2.3935999999999999E-2,4.8399999999999997E-3,8.8000000000000005E-3,75,0.88,5,null,"kraftfoder, spannmål etc."]
[null,"NPK 13-6-17","kg",0.13,0.06,0.17,null,null,null,"Dolagi Hönsgödsel NPK 4-1-2","kg",3.5999999999999997E-2,1.2E-2,1.7999999999999999E-2,null,null,"SA Best MIDI","kg",0,5.3900000000000003E-2,0,null,null,null,null,null,null,null,null,null,null,null,"Carli Rye Star bales 12","kg",1.7592960000000001E-2,2.2176000000000001E-3,2.4855599999999999E-2,76,0.88,4,null,"kraftfoder, spannmål etc.",null,"KLF Combi 8000 ","kg",2.35E-2,4.3559999999999996E-3,5.0699999999999999E-3,76,0.88,4,null,null,"inköpt",null,"Fole Flott 205","kg",2.8864000000000001E-2,4.8399999999999997E-3,8.8000000000000005E-3,76,0.88,5,null,"kraftfoder, spannmål etc."]
[null,"NPK 16-5-12","kg",0.16,0.05,0.12,null,null,null,"Dolagi Potatisgödsel NPK 4-1-8","kg",4.1000000000000002E-2,0.01,0.08,null,null,"SA Best MINI","kg",0,0.1176,0,null,null,null,null,null,null,null,null,null,null,null,"Carli Rye Star pellet 10","kg",1.499808E-2,1.4704E-3,1.51635E-2,77,0.88,4,null,"kraftfoder, spannmål etc.",null,"KLF Combi 8031 ","kg",1.9290000000000002E-2,3.712E-3,4.1110000000000001E-3,77,0.88,4,null,null,"inköpt",null,"Fole Flott 295","kg",4.2007999999999997E-2,5.7850000000000002E-3,1.0858E-2,77,0.88,5,null,"kraftfoder, spannmål etc."]
[null,"NPK 17-4-12","kg",0.17,0.04,0.12,null,null,null,"Ekogödsel Plus 4,4-1,5-2","kg",4.3999999999999997E-2,1.4999999999999999E-2,2.4E-2,null,null,"SA Bäst 1 till 1","kg",0,8.3299999999999999E-2,0,null,null,null,null,null,null,null,null,null,null,null,"Carli Straw Light bales ","kg",9.5436800000000006E-3,1.1184000000000001E-3,1.3886799999999999E-2,78,0.88,4,null,"kraftfoder, spannmål etc.",null,"KLF Combi 8200 ","kg",2.3990000000000001E-2,5.385E-3,5.0369999999999998E-3,78,0.88,4,null,null,"inköpt",null,"Fole Gotlands Balans","kg",6.0519999999999997E-2,9.7900000000000001E-3,1.0858E-2,78,0.88,5,null,"kraftfoder, spannmål etc."]
[null,"NPK 17-4-13","kg",0.17,0.04,0.13,null,null,null,"Ekogödsel Plus 4-3-3","kg",4.2999999999999997E-2,2.8000000000000001E-2,2.7E-2,null,null,"SA Bäst Gängse","kg",0,3.4299999999999997E-2,0,null,null,null,null,null,null,null,null,null,null,null,"Carli Straw Light pellets ","kg",9.3403199999999992E-3,1.9139999999999999E-3,1.7226000000000002E-2,79,0.88,4,null,"kraftfoder, spannmål etc.",null,"KLF Combi 8311","kg",2.0650000000000002E-2,4.2440000000000004E-3,4.8390000000000004E-3,79,0.88,4,null,null,"inköpt",null,"Fole Grön 100","kg",2.6470400000000002E-2,3.5200000000000001E-3,8.8000000000000005E-3,79,0.88,5,null,"kraftfoder, spannmål etc."]
[null,"NPK 17-6-10","kg",0.17,6.5000000000000002E-2,0.105,null,null,null,"Ekogödsel Plus 6-3-8-5","kg",5.8999999999999997E-2,2.9000000000000001E-2,7.5999999999999998E-2,null,null,"SA Bäst Kött ","kg",0,9.7999999999999997E-3,0,null,null,null,null,null,null,null,null,null,null,null,"E Karisma Emmi Ekologisk","kg",2.5899999999999999E-2,4.1999999999999997E-3,3.5999999999999999E-3,80,0.88,4,null,"kraftfoder, spannmål etc.",null,"KLF Combi 8313 ","kg",2.443E-2,5.4060000000000002E-3,6.463E-3,80,0.88,4,null,null,"inköpt",null,"Fole Grön 120","kg",3.2384000000000003E-2,3.5200000000000001E-3,8.8000000000000005E-3,80,0.88,5,null,"kraftfoder, spannmål etc."]
[null,"NPK 17-7-14","kg",0.17100000000000001,6.7000000000000004E-2,0.13900000000000001,null,null,null,"Ekogödsel Plus 8-3-5-3","kg",7.8E-2,3.2000000000000001E-2,4.9000000000000002E-2,null,null,"SA Bäst Maxi P-kontroll","kg",0,9.7999999999999997E-3,0,null,null,null,null,null,null,null,null,null,null,null,"E Karisma Nelli Ekologisk","kg",2.92E-2,4.4999999999999997E-3,3.8E-3,81,0.88,4,null,"kraftfoder, spannmål etc.",null,"KLF Combi 8321 ","kg",1.9480000000000001E-2,4.2789999999999998E-3,5.2030000000000002E-3,81,0.88,4,null,null,"inköpt",null,"Fole Intensiv","kg",2.8160000000000001E-2,5.104E-3,8.8000000000000005E-3,81,0.88,5,null,"kraftfoder, spannmål etc."]
[null,"NPK 17-7-4","kg",0.17,7.0000000000000007E-2,0.04,null,null,null,"Ekogödsel Plus 9-4-0","kg",9.2999999999999999E-2,4.1000000000000002E-2,4.0000000000000001E-3,null,null,"SA Bäst P-kontroll","kg",0,9.7999999999999997E-3,0,null,null,null,null,null,null,null,null,null,null,null,"E Topp Elton Ekologisk","kg",4.1500000000000002E-2,6.1999999999999998E-3,5.1000000000000004E-3,82,0.88,4,null,"kraftfoder, spannmål etc.",null,"KLF Combi 8322 ","kg",2.2839999999999999E-2,4.398E-3,5.2240000000000003E-3,82,0.88,4,null,null,"inköpt",null,"Fole Kalvstart","kg",2.8160000000000001E-2,3.96E-3,8.8000000000000005E-3,82,0.88,5,null,"kraftfoder, spannmål etc."]
[null,"NPK 18-3-12","kg",0.18,0.03,0.12,null,null,null,"Fontana 4-1-6","kg",0.04,5.0000000000000001E-3,5.5E-2,null,null,"SA Bäst Sansad","kg",0,2.4500000000000001E-2,0,null,null,null,null,null,null,null,null,null,null,null,"E Topp Malte Ekologisk","kg",5.1299999999999998E-2,7.1000000000000004E-3,2.7000000000000001E-3,83,0.88,4,null,"kraftfoder, spannmål etc.",null,"KLF Combi 8323 ","kg",2.53E-2,5.339E-3,7.6379999999999998E-3,83,0.88,4,null,null,"inköpt",null,"HO Hivetona","kg",1.067968E-2,9.9219999999999994E-4,4.5100000000000001E-3,83,0.88,5,null,"kraftfoder, spannmål etc."]
[null,"NPK 18-5-12","kg",0.18,0.05,0.12,null,null,null,"Hönsgödsel Biopower","kg",4.9000000000000002E-2,1.4E-2,2.5999999999999999E-2,null,null,"SA Bäst Turbo","kg",0,9.7999999999999997E-3,0,null,null,null,null,null,null,null,null,null,null,null,"Easylin 25 Protect, Agrosom","kg",3.9888E-2,7.92E-3,1.098E-2,84,0.88,4,null,"kraftfoder, spannmål etc.",null,"KLF Combi 8331 ","kg",2.4320000000000001E-2,4.6810000000000003E-3,6.1029999999999999E-3,84,0.88,4,null,null,"inköpt",null,"HO Hivetonaleik","kg",1.0699999999999999E-2,1E-3,0,84,0.88,5,null,"kraftfoder, spannmål etc."]
[null,"NPK 18-6-12","kg",0.18,0.06,0.12,null,null,null,"PHC 6-2-5","liter",6.0999999999999999E-2,2.3E-2,5.1999999999999998E-2,null,null,"SF Bas Ca Deltamin","kg",1.5744000000000001E-3,6.888E-3,6.8880000000000005E-4,null,null,null,null,null,null,null,null,null,null,null,"Easylin 48 Protect, Agrosom","kg",7.6752000000000001E-2,6.4799999999999996E-3,8.9999999999999993E-3,85,0.88,4,null,"kraftfoder, spannmål etc.",null,"KLF Combi 8333 ","kg",2.138E-2,3.9269999999999999E-3,5.241E-3,85,0.88,4,null,null,"inköpt",null,"HO Hivetona-Liuos","kg",7.9542399999999996E-3,7.4200000000000001E-5,6.6037999999999999E-3,85,0.88,5,null,"kraftfoder, spannmål etc."]
[null,"NPK 20-2-5","kg",0.2,0.02,0.05,null,null,null,"PHC 8-1-3","liter",8.2000000000000003E-2,1.4999999999999999E-2,2.7E-2,null,null,"SF Bas Normal Deltamin","kg",1.5744000000000001E-3,5.0183999999999999E-2,3.9360000000000003E-4,null,null,null,null,null,null,null,null,null,null,null,"Easylin Energy Protect, Agrosom","kg",2.4048E-2,4.9500000000000004E-3,6.0299999999999998E-3,86,0.88,4,null,"kraftfoder, spannmål etc.",null,"KLF Combi 8411 ","kg",2.3439999999999999E-2,4.7270000000000003E-3,4.4539999999999996E-3,86,0.88,4,null,null,"inköpt",null,"HO Propyleeni 80","kg",0,2.4389999999999999E-4,0,86,0.88,5,null,"kraftfoder, spannmål etc."]
[null,"NPK 20-3-5","kg",0.2,0.03,0.05,null,null,null,"Vetesirap","kg",1.7000000000000001E-2,3.3999999999999998E-3,4.5999999999999999E-3,null,null,"SF Deltamin Bete","kg",1.5744000000000001E-3,6.0024000000000001E-2,8.8559999999999995E-4,null,null,null,null,null,null,null,null,null,null,null,"Extrulin 60, Agrosom","kg",3.1158399999999999E-2,9.0089999999999996E-3,9.0089999999999996E-3,87,0.88,4,null,"kraftfoder, spannmål etc.",null,"KLF Combi 8431 ","kg",2.087E-2,3.9439999999999996E-3,3.9830000000000004E-3,87,0.88,4,null,null,"inköpt",null,"JH 138 Ungnöt Edel","kg",1.92096E-2,4.8719999999999996E-3,8.0040000000000007E-3,87,0.88,5,null,"kraftfoder, spannmål etc."]
[null,"NPK 20-4-8","kg",0.2,4.2999999999999997E-2,8.3000000000000004E-2,null,null,null,"Växtnäring Dolagi","kg",2.5000000000000001E-2,1.6E-2,0.08,null,null,"SF Deltamin CAB","kg",1.6000000000000001E-3,0.05,0,null,null,null,null,null,null,null,null,null,null,null,"FD Vitamilk Str","kg",3.3368000000000002E-2,7.2750000000000002E-3,0,88,0.88,4,null,"kraftfoder, spannmål etc.",null,"KLF Combi 8600 ","kg",2.1690000000000001E-2,4.4879999999999998E-3,5.3319999999999999E-3,88,0.88,4,null,null,"inköpt",null,"JH 140 Ungnöt EDEL","kg",1.9487999999999998E-2,4.8719999999999996E-3,7.4819999999999999E-3,88,0.88,5,null,"kraftfoder, spannmål etc."]
[null,"NPK 20-6-8","kg",0.2,0.06,0.08,null,null,null,"Djupströgödsel svin","kg",4.7999999999999996E-3,1.5E-3,4.4999999999999997E-3,null,null,"SF Deltamin Di","kg",1.5679999999999999E-3,8.9179999999999995E-2,4.8999999999999998E-4,null,null,null,null,null,null,null,null,null,null,null,"FF Acetona Dry Sintidsfoder","kg",1.5488E-2,5.6319999999999999E-3,6.6E-3,89,0.88,4,null,"kraftfoder, spannmål etc.",null,"KLF Combi 8611 ","kg",2.121E-2,5.2919999999999998E-3,5.6759999999999996E-3,89,0.88,4,null,null,"inköpt",null,"JH 156 Ungnöt Edel","kg",2.17152E-2,5.2199999999999998E-3,6.96E-3,89,0.88,5,null,"kraftfoder, spannmål etc."]
[null,"NPK 21-3-10","kg",0.20599999999999999,2.5999999999999999E-2,9.6000000000000002E-2,null,null,null,"Fastgödsel svin (sugg-)","kg",6.4999999999999997E-3,2.5000000000000001E-3,2.5000000000000001E-3,null,null,"SF Deltamin EasyLick HighMag","kg",1.552E-3,3.1040000000000002E-2,0,null,null,null,null,null,null,null,null,null,null,null,"FF Acetona e-y Flytande","kg",6.1599999999999997E-3,1.54E-4,8.855E-3,90,0.88,4,null,"kraftfoder, spannmål etc.",null,"KLF Combi 8613 ","kg",2.2780000000000002E-2,4.3220000000000003E-3,5.0639999999999999E-3,90,0.88,4,null,null,"inköpt",null,"JH 165 Ungnöt Edel","kg",2.2967999999999999E-2,5.4809999999999998E-3,7.7429999999999999E-3,90,0.88,5,null,"kraftfoder, spannmål etc."]
[null,"NPK 21-4-8","kg",0.21,4.2999999999999997E-2,8.3000000000000004E-2,null,null,null,"Flytgödsel svin 6% ts (slaktsvins-)","kg",2.7000000000000001E-3,5.9999999999999995E-4,1.4E-3,null,null,"SF Deltamin Fertil Ca","kg",1.536E-3,3.168E-2,5.7600000000000001E-4,null,null,null,null,null,null,null,null,null,null,null,"FF Acetona e-y Pellets","kg",1.3224E-2,2.9580000000000001E-3,7.221E-3,91,0.88,4,null,"kraftfoder, spannmål etc.",null,"KLF Combi 8633 ","kg",1.8599999999999998E-2,4.529E-3,4.2259999999999997E-3,91,0.88,4,null,null,"inköpt",null,"JH 176 Ungnöt Edel","kg",2.4499199999999999E-2,5.3940000000000004E-3,7.0470000000000003E-3,91,0.88,5,null,"kraftfoder, spannmål etc."]
[null,"NPK 22-4-9","kg",0.22,0.04,0.09,null,null,null,"Urin svin (sugg-)","kg",1.8E-3,2.0000000000000001E-4,1.1999999999999999E-3,null,null,"SF Deltamin Fertil P","kg",1.536E-3,4.9919999999999999E-2,6.7199999999999996E-4,null,null,null,null,null,null,null,null,null,null,null,"FF Farmarin Rypsi","kg",5.3620000000000001E-2,1.1025E-2,1.33875E-2,92,0.88,4,null,"kraftfoder, spannmål etc.",null,"KLF Combi 8635 ","kg",2.0140000000000002E-2,4.0730000000000002E-3,4.9569999999999996E-3,92,0.88,4,null,null,"inköpt",null,"JH 180 Vega EDEL","kg",2.5055999999999998E-2,5.2199999999999998E-3,7.8300000000000002E-3,92,0.88,5,null,"kraftfoder, spannmål etc."]
[null,"NPK 22-5-9","kg",0.22,0.05,0.09,null,null,null,null,null,null,null,null,null,null,"SF Deltamin Kviga","kg",1.6000000000000001E-3,0.05,5.0000000000000001E-4,null,null,null,null,null,null,null,null,null,null,null,"FF Mega Kross","kg",2.8535999999999999E-2,4.9589999999999999E-3,9.5700000000000004E-3,93,0.88,4,null,"kraftfoder, spannmål etc.",null,"KLF Combi 8725 ","kg",2.138E-2,4.9309999999999996E-3,4.7549999999999997E-3,93,0.88,4,null,null,"inköpt",null,"JH 185 Nova EDEL","kg",2.5752000000000001E-2,4.6979999999999999E-3,8.0909999999999992E-3,93,0.88,5,null,"kraftfoder, spannmål etc."]
[null,"NPK 22-6-6","kg",0.216,5.8000000000000003E-2,5.8000000000000003E-2,null,null,null,null,null,null,null,null,null,null,"SF Deltamin Kött","kg",1.5679999999999999E-3,3.0380000000000001E-2,4.8999999999999998E-4,null,null,null,null,null,null,null,null,null,null,null,"FF Mega Kross Power","kg",3.2016000000000003E-2,5.2199999999999998E-3,9.5700000000000004E-3,94,0.88,4,null,"kraftfoder, spannmål etc.",null,"KLF Combi 8800 ","kg",2.724E-2,4.2979999999999997E-3,6.2179999999999996E-3,94,0.88,4,null,null,"inköpt",null,"JH 189 Beta Nova Edel","kg",2.63088E-2,4.8719999999999996E-3,6.6119999999999998E-3,94,0.88,5,null,"kraftfoder, spannmål etc."]
[null,"NPK 24-2-8","kg",0.24,0.02,0.08,null,null,null,null,null,null,null,null,null,null,"SF Deltamin Mg","kg",1.5039999999999999E-3,0,3.7599999999999998E-4,null,null,null,null,null,null,null,null,null,null,null,"FF Mega Kross Protein","kg",4.0039999999999999E-2,7.6125000000000003E-3,1.18125E-2,95,0.88,4,null,"kraftfoder, spannmål etc.",null,"KLF Combi 8811 ","kg",2.2040000000000001E-2,4.0889999999999998E-3,4.895E-3,95,0.88,4,null,null,"inköpt",null,"JH 190 Nova EDEL","kg",2.6447999999999999E-2,4.6979999999999999E-3,9.2219999999999993E-3,95,0.88,5,null,"kraftfoder, spannmål etc."]
[null,"NPK 24-4-5","kg",0.24,0.04,0.05,null,null,null,null,null,null,null,null,null,null,"SF Deltamin MikroVit","kg",1.5039999999999999E-3,0,1.222E-3,null,null,null,null,null,null,null,null,null,null,null,"FF Mega Kross Top Sve","kg",3.7379999999999997E-2,7.0000000000000001E-3,1.14625E-2,96,0.88,4,null,"kraftfoder, spannmål etc.",null,"KLF Combi 8821 ","kg",2.009E-2,3.9370000000000004E-3,4.5469999999999998E-3,96,0.88,4,null,null,"inköpt",null,"JH 190 Pärla Nova Edel","kg",2.6447999999999999E-2,5.2199999999999998E-3,6.96E-3,96,0.88,5,null,"kraftfoder, spannmål etc."]
[null,"NPK 25-2-6","kg",0.246,1.6E-2,0.06,null,null,null,null,null,null,null,null,null,null,"SF Deltamin Mixer Ca","kg",1.5792E-3,0,3.948E-4,null,null,null,null,null,null,null,null,null,null,null,"Fole 106","kg",2.4639999999999999E-2,4.4000000000000003E-3,8.2719999999999998E-3,97,0.88,4,null,"kraftfoder, spannmål etc.",null,"KLF Combi 9331","kg",1.9130000000000001E-2,3.748E-3,4.1029999999999999E-3,97,0.88,4,null,null,"inköpt",null,"JH 190 Ungnöt EDEL","kg",2.6447999999999999E-2,5.3940000000000004E-3,8.0040000000000007E-3,97,0.88,5,null,"kraftfoder, spannmål etc."]
[null,"NPK 25-3-5","kg",0.251,0.03,0.05,null,null,null,null,null,null,null,null,null,null,"SF Deltamin Mixer Normal","kg",1.5792E-3,4.0467000000000003E-2,7.896E-4,null,null,null,null,null,null,null,null,null,null,null,"Fole 110","kg",2.6752000000000001E-2,4.4000000000000003E-3,8.8000000000000005E-3,98,0.88,4,null,"kraftfoder, spannmål etc.",null,"KLF Combi 9913 ","kg",2.63E-2,4.1859999999999996E-3,5.4159999999999998E-3,98,0.88,4,null,null,"inköpt",null,"JH 198 Ungnöt Edel","kg",2.7561599999999999E-2,5.9160000000000003E-3,8.6999999999999994E-3,98,0.88,5,null,"kraftfoder, spannmål etc."]
[null,"NPK 26-3-4","kg",0.25600000000000001,2.5999999999999999E-2,3.5999999999999997E-2,null,null,null,null,null,null,null,null,null,null,"SF Deltamin Mixer S","kg",1.5792E-3,7.9947000000000004E-2,1.3818000000000001E-3,null,null,null,null,null,null,null,null,null,null,null,"Fole 120","kg",3.0272E-2,4.4000000000000003E-3,8.8000000000000005E-3,99,0.88,4,null,"kraftfoder, spannmål etc.",null,"KLF Competent ","kg",2.215E-2,4.8060000000000004E-3,5.7530000000000003E-3,99,0.88,4,null,null,"inköpt",null,"JH 200 Vega EDEL","kg",2.784E-2,5.2199999999999998E-3,8.9610000000000002E-3,99,0.88,5,null,"kraftfoder, spannmål etc."]
[null,"NPK 27-3-3","kg",0.27,2.5999999999999999E-2,2.5999999999999999E-2,null,null,null,null,null,null,null,null,null,null,"SF Deltamin Pellets Normal","kg",1.536E-3,4.0320000000000002E-2,6.7199999999999996E-4,null,null,null,null,null,null,null,null,null,null,null,"Fole 125","kg",3.3087999999999999E-2,3.96E-3,8.8000000000000005E-3,100,0.88,4,null,"kraftfoder, spannmål etc.",null,"KLF Complett 7833 ","kg",6.0319999999999999E-2,1.1683000000000001E-2,1.6268000000000001E-2,100,0.88,4,null,null,"inköpt",null,"JH 205 Nova EDEL","kg",2.8535999999999999E-2,4.9589999999999999E-3,9.5700000000000004E-3,100,0.88,5,null,"kraftfoder, spannmål etc."]
[null,"ProBeta NPK 14-4-8","kg",0.13900000000000001,3.5999999999999997E-2,0.08,null,null,null,null,null,null,null,null,null,null,"SF Deltamin ProtiSpar","kg",1.5712E-3,2.946E-2,3.9280000000000001E-4,null,null,null,null,null,null,null,null,null,null,null,"Fole Bas","kg",2.3935999999999999E-2,4.8399999999999997E-3,8.8000000000000005E-3,101,0.88,4,null,"kraftfoder, spannmål etc.",null,"KLF Complett 8031 ","kg",3.5029999999999999E-2,7.3569999999999998E-3,9.2580000000000006E-3,101,0.88,4,null,null,"inköpt",null,"JH 210 Vega EDEL","kg",2.9232000000000001E-2,5.568E-3,7.9170000000000004E-3,101,0.88,5,null,"kraftfoder, spannmål etc."]
[null,"Yara Mila 20-5-10","kg",0.19600000000000001,4.5999999999999999E-2,9.6000000000000002E-2,null,null,null,null,null,null,null,null,null,null,"SF Deltamin Sin","kg",1.5152E-3,5.00016E-2,6.6290000000000001E-4,null,null,null,null,null,null,null,null,null,null,null,"Fole Flott 205","kg",2.8864000000000001E-2,4.8399999999999997E-3,8.8000000000000005E-3,102,0.88,4,null,"kraftfoder, spannmål etc.",null,"KLF Complett 8300 ","kg",5.5129999999999998E-2,6.2890000000000003E-3,1.3546000000000001E-2,102,0.88,4,null,null,"inköpt",null,"JH 215 KHV FUFO EDEL","kg",3.0272E-2,5.5440000000000003E-3,1.0120000000000001E-2,102,0.88,5,null,"kraftfoder, spannmål etc."]
[null,"YaraMila 21-3-10","kg",0.20599999999999999,2.5999999999999999E-2,9.6000000000000002E-2,null,null,null,null,null,null,null,null,null,null,"SF Deltamin Sin Fertil","kg",1.5152E-3,5.00016E-2,6.6290000000000001E-4,null,null,null,null,null,null,null,null,null,null,null,"Fole Flott 295","kg",4.2007999999999997E-2,5.7850000000000002E-3,1.0858E-2,103,0.88,4,null,"kraftfoder, spannmål etc.",null,"KLF Complett 8311 ","kg",4.9110000000000001E-2,7.2789999999999999E-3,1.3731999999999999E-2,103,0.88,4,null,null,"inköpt",null,"JH 215 Nova Edel","kg",2.9928E-2,4.9589999999999999E-3,9.2219999999999993E-3,103,0.88,5,null,"kraftfoder, spannmål etc."]
[null,"YaraMila 21-4-7","kg",0.20599999999999999,3.5999999999999997E-2,6.6000000000000003E-2,null,null,null,null,null,null,null,null,null,null,"SF Deltamin Slick Nöt","kg",1.552E-3,6.0139999999999999E-2,0,null,null,null,null,null,null,null,null,null,null,null,"Fole Gotlands Balans","kg",6.0519999999999997E-2,9.7900000000000001E-3,1.0858E-2,104,0.88,4,null,"kraftfoder, spannmål etc.",null,"KLF Complett 8321","kg",4.6640000000000001E-2,7.9550000000000003E-3,1.2940999999999999E-2,104,0.88,4,null,null,"inköpt",null,"JH 220 KHV FUFO EDEL","kg",3.0976E-2,5.5440000000000003E-3,1.0120000000000001E-2,104,0.88,5,null,"kraftfoder, spannmål etc."]
[null,"YaraMila 22-6-6","kg",0.216,5.8999999999999997E-2,5.8000000000000003E-2,null,null,null,null,null,null,null,null,null,null,"SF Deltamin Topp Ca","kg",1.5712E-3,1.0802000000000001E-2,9.8200000000000002E-4,null,null,null,null,null,null,null,null,null,null,null,"Fole Grön 100","kg",2.6470400000000002E-2,3.5200000000000001E-3,8.8000000000000005E-3,105,0.88,4,null,"kraftfoder, spannmål etc.",null,"KLF Complett 8331 ","kg",4.5969999999999997E-2,6.5830000000000003E-3,1.2078999999999999E-2,105,0.88,4,null,null,"inköpt",null,"JH 220 Nova EDEL","kg",3.0623999999999998E-2,5.2199999999999998E-3,9.1350000000000008E-3,105,0.88,5,null,"kraftfoder, spannmål etc."]
[null,"YaraMila 23-3-7","kg",0.22600000000000001,2.5999999999999999E-2,6.6000000000000003E-2,null,null,null,null,null,null,null,null,null,null,"SF Deltamin Topp Normal","kg",1.5712E-3,4.0261999999999999E-2,3.9280000000000001E-4,null,null,null,null,null,null,null,null,null,null,null,"Fole Grön 120","kg",3.2384000000000003E-2,3.5200000000000001E-3,8.8000000000000005E-3,106,0.88,4,null,"kraftfoder, spannmål etc.",null,"KLF Complett 8336 ","kg",3.3270000000000001E-2,2.0760000000000001E-2,7.2309999999999996E-3,106,0.88,4,null,null,"inköpt",null,"JH 220 Vega EDEL","kg",3.0623999999999998E-2,5.568E-3,9.5700000000000004E-3,106,0.88,5,null,"kraftfoder, spannmål etc."]
[null,"YaraMila 23-3-8","kg",0.23,0.03,0.08,null,null,null,null,null,null,null,null,null,null,"SF Deltamin Topp P","kg",1.5712E-3,8.5433999999999996E-2,6.8740000000000001E-4,null,null,null,null,null,null,null,null,null,null,null,"Fole Intensiv","kg",2.8160000000000001E-2,5.104E-3,8.8000000000000005E-3,107,0.88,4,null,"kraftfoder, spannmål etc.",null,"KLF Complett 8400 ","kg",4.3450000000000003E-2,6.672E-3,1.0349000000000001E-2,107,0.88,4,null,null,"inköpt",null,"JH 225 Nova EDEL","kg",3.1320000000000001E-2,5.2199999999999998E-3,8.9610000000000002E-3,107,0.88,5,null,"kraftfoder, spannmål etc."]
[null,"YaraMila 24-4-5","kg",0.23599999999999999,3.5999999999999997E-2,4.5999999999999999E-2,null,null,null,null,null,null,null,null,null,null,"SF DeltaVit E-5000","kg",1.6000000000000001E-3,0,0,null,null,null,null,null,null,null,null,null,null,null,"Fole Kalvstart","kg",2.8160000000000001E-2,3.96E-3,8.8000000000000005E-3,108,0.88,4,null,"kraftfoder, spannmål etc.",null,"KLF Complett 8423 ","kg",5.0639999999999998E-2,6.8630000000000002E-3,1.2378999999999999E-2,108,0.88,4,null,null,"inköpt",null,"JH 225 Pärla Nova Edel","kg",3.1320000000000001E-2,5.6550000000000003E-3,7.8300000000000002E-3,108,0.88,5,null,"kraftfoder, spannmål etc."]
[null,"YaraMila 27-2-3","kg",0.27,0.02,0.03,null,null,null,null,null,null,null,null,null,null,"SF x-zelit","kg",3.6863999999999998E-3,9.6000000000000002E-4,9.6000000000000002E-4,null,null,null,null,null,null,null,null,null,null,null,"HO Hivetona","kg",1.067968E-2,9.9219999999999994E-4,4.5100000000000001E-3,109,0.88,4,null,"kraftfoder, spannmål etc.",null,"KLF Complett 8425 ","kg",5.5280000000000003E-2,1.0685E-2,1.2522E-2,109,0.88,4,null,null,"inköpt",null,"JH 230 KHV FUFO EDEL","kg",3.2384000000000003E-2,5.5440000000000003E-3,1.0647999999999999E-2,109,0.88,5,null,"kraftfoder, spannmål etc."]
[null,"YaraMila 27-3-3","kg",0.26600000000000001,2.5999999999999999E-2,2.5999999999999999E-2,null,null,null,null,null,null,null,null,null,null,"SF x-zelit Complete","kg",7.2206400000000004E-3,5.9864999999999996E-3,6.447E-4,null,null,null,null,null,null,null,null,null,null,null,"HO Hivetonaleik","kg",1.0699999999999999E-2,1E-3,0,110,0.88,4,null,"kraftfoder, spannmål etc.",null,"KLF Complett 8433 ","kg",5.1999999999999998E-2,6.7390000000000002E-3,1.231E-2,110,0.88,4,null,null,"inköpt",null,"JH 230 Vega EDEL","kg",3.2016000000000003E-2,5.4809999999999998E-3,1.0962E-2,110,0.88,5,null,"kraftfoder, spannmål etc."]
[null,"Kristalon Blue Label","kg",0.19,2.5999999999999999E-2,0.16600000000000001,null,null,null,null,null,null,null,null,null,null,"Slicksten","kg",0,9.5000000000000001E-2,0,null,null,null,null,null,null,null,null,null,null,null,"HO Hivetona-Liuos","kg",7.9542399999999996E-3,7.4200000000000001E-5,6.6037999999999999E-3,111,0.88,4,null,"kraftfoder, spannmål etc.",null,"KLF Complett 8440 ","kg",5.4800000000000001E-2,1.2860999999999999E-2,1.46E-2,111,0.88,4,null,null,"inköpt",null,"JH 240 Nova EDEL","kg",3.3408E-2,6.0899999999999999E-3,9.9179999999999997E-3,111,0.88,5,null,"kraftfoder, spannmål etc."]
[null,"Kristalon Flower","kg",0.14000000000000001,3.9E-2,0.21199999999999999,null,null,null,null,null,null,null,null,null,null,"Sp FufoMix Biotin","kg",0,5.6545999999999999E-2,0,null,null,null,null,null,null,null,null,null,null,null,"HO Propyleeni 80","kg",0,2.4389999999999999E-4,0,112,0.88,4,null,"kraftfoder, spannmål etc.",null,"KLF Complett 8450 ","kg",4.7329999999999997E-2,1.5174E-2,1.1488E-2,112,0.88,4,null,null,"inköpt",null,"JH 270 Komet EDEL","kg",3.8016000000000001E-2,6.8640000000000003E-3,1.1967999999999999E-2,112,0.88,5,null,"kraftfoder, spannmål etc."]
[null,"Kristalon Gena","kg",0.12,5.1999999999999998E-2,0.3,null,null,null,null,null,null,null,null,null,null,"Sp FufoMix Hög","kg",0,1.0094000000000001E-2,0,null,null,null,null,null,null,null,null,null,null,null,"JH 138 Ungnöt Edel","kg",1.92096E-2,4.8719999999999996E-3,8.0040000000000007E-3,113,0.88,4,null,"kraftfoder, spannmål etc.",null,"KLF Complett 8460 ","kg",2.699E-2,9.1190000000000004E-3,5.1130000000000004E-3,113,0.88,4,null,null,"inköpt",null,"JH 280 Vega EDEL","kg",3.9424000000000001E-2,7.744E-3,1.1440000000000001E-2,113,0.88,5,null,"kraftfoder, spannmål etc."]
[null,"Kristalon Indigo","kg",8.5000000000000006E-2,4.9000000000000002E-2,0.247,null,null,null,null,null,null,null,null,null,null,"Sp FufoMix Jäst","kg",0,3.5965999999999998E-2,0,null,null,null,null,null,null,null,null,null,null,null,"JH 140 Ungnöt EDEL","kg",1.9487999999999998E-2,4.8719999999999996E-3,7.4819999999999999E-3,114,0.88,4,null,"kraftfoder, spannmål etc.",null,"KLF Complett 8511 ","kg",5.2810000000000003E-2,7.8549999999999991E-3,1.2749E-2,114,0.88,4,null,null,"inköpt",null,"JH 290 Komet EDEL","kg",4.0832E-2,6.8640000000000003E-3,1.2319999999999999E-2,114,0.88,5,null,"kraftfoder, spannmål etc."]
[null,"Kristalon Scarlet","kg",7.4999999999999997E-2,5.1999999999999998E-2,0.29899999999999999,null,null,null,null,null,null,null,null,null,null,"Sp FufoMix Låg","kg",0,5.6545999999999999E-2,0,null,null,null,null,null,null,null,null,null,null,null,"JH 156 Ungnöt Edel","kg",2.17152E-2,5.2199999999999998E-3,6.96E-3,115,0.88,4,null,"kraftfoder, spannmål etc.",null,"KLF Complett 8622 ","kg",5.8700000000000002E-2,6.9769999999999997E-3,1.3939999999999999E-2,115,0.88,4,null,null,"inköpt",null,"JH 290 Vega EDEL","kg",4.0832E-2,6.6880000000000004E-3,1.1967999999999999E-2,115,0.88,5,null,"kraftfoder, spannmål etc."]
[null,"Kristalon Vega","kg",0.17,2.5999999999999999E-2,0.20699999999999999,null,null,null,null,null,null,null,null,null,null,"Sp FufoMix Normal","kg",0,3.6260000000000001E-2,0,null,null,null,null,null,null,null,null,null,null,null,"JH 165 Ungnöt Edel","kg",2.2967999999999999E-2,5.4809999999999998E-3,7.7429999999999999E-3,116,0.88,4,null,"kraftfoder, spannmål etc.",null,"KLF Complett 8633 ","kg",3.771E-2,1.0521000000000001E-2,8.6250000000000007E-3,116,0.88,4,null,null,"inköpt",null,"JH 305 Vega EDEL","kg",4.2944000000000003E-2,8.2719999999999998E-3,1.1792E-2,116,0.88,5,null,"kraftfoder, spannmål etc."]
[null,"NPK 11-5-17 Mikro","kg",0.11,0.05,0.17,null,null,null,null,null,null,null,null,null,null,"Sp Jermin Balans Hög","kg",0,6.9579999999999998E-3,0,null,null,null,null,null,null,null,null,null,null,null,"JH 176 Ungnöt Edel","kg",2.4499199999999999E-2,5.3940000000000004E-3,7.0470000000000003E-3,117,0.88,4,null,"kraftfoder, spannmål etc.",null,"KLF Complett 8637 ","kg",2.053E-2,1.7794000000000001E-2,2.6489999999999999E-3,117,0.88,4,null,null,"inköpt",null,"JH 315 Vega EDEL","kg",4.4352000000000003E-2,8.2719999999999998E-3,1.1264E-2,117,0.88,5,null,"kraftfoder, spannmål etc."]
[null,"NPK 11-5-18 Mikro","kg",0.11,4.5999999999999999E-2,0.17599999999999999,null,null,null,null,null,null,null,null,null,null,"Sp Jermin Balans Normal","kg",0,3.4986000000000003E-2,0,null,null,null,null,null,null,null,null,null,null,null,"JH 180 Vega EDEL","kg",2.5055999999999998E-2,5.2199999999999998E-3,7.8300000000000002E-3,118,0.88,4,null,"kraftfoder, spannmål etc.",null,"KLF Complett 8933 ","kg",6.2179999999999999E-2,6.3749999999999996E-3,1.6678999999999999E-2,118,0.88,4,null,null,{"$f":"inköpt","v":"inköpt"},null,"JH 335 FUFO EDEL","kg",4.7704000000000003E-2,6.6750000000000004E-3,1.4239999999999999E-2,118,0.88,5,null,"kraftfoder, spannmål etc."]
[null,"NPK 12-4-17 mikro","kg",0.12,0.05,0.17,null,null,null,null,null,null,null,null,null,null,"Sp Jermin Bete","kg",0,3.4986000000000003E-2,0,null,null,null,null,null,null,null,null,null,null,null,"JH 185 Nova EDEL","kg",2.5752000000000001E-2,4.6979999999999999E-3,8.0909999999999992E-3,119,0.88,4,null,"kraftfoder, spannmål etc.",null,"KLF Complett 9021  ","kg",2.673E-2,1.3289E-2,4.4669999999999996E-3,119,0.88,4,null,null,"inköpt",null,"JH 340 Komet EDEL","kg",4.7871999999999998E-2,7.0400000000000003E-3,1.2496E-2,119,0.88,5,null,"kraftfoder, spannmål etc."]
[null,"NPK 17-4-13","kg",0.17,0.04,0.13,null,null,null,null,null,null,null,null,null,null,"Sp Jermin Cell","kg",0,3.9983999999999999E-2,0,null,null,null,null,null,null,null,null,null,null,null,"JH 189 Beta Nova Edel","kg",2.63088E-2,4.8719999999999996E-3,6.6119999999999998E-3,120,0.88,4,null,"kraftfoder, spannmål etc.",null,"KLF Complett 9023 ","kg",5.1769999999999997E-2,8.5590000000000006E-3,1.2056000000000001E-2,120,0.88,4,null,null,"inköpt",null,"JH 360 FUFO EDEL","kg",5.1263999999999997E-2,7.1199999999999996E-3,1.3884000000000001E-2,120,0.88,5,null,"kraftfoder, spannmål etc."]
[null,"NPK 20-4-8S","kg",0.2,0.04,0.08,null,null,null,null,null,null,null,null,null,null,"Sp Jermin Diko","kg",0,6.0564E-2,0,null,null,null,null,null,null,null,null,null,null,null,"JH 190 Nova EDEL","kg",2.6447999999999999E-2,4.6979999999999999E-3,9.2219999999999993E-3,121,0.88,4,null,"kraftfoder, spannmål etc.",null,"KLF Complett 9025 ","kg",3.6249999999999998E-2,9.2250000000000006E-3,9.1389999999999996E-3,121,0.88,4,null,null,"inköpt",null,"JH 397 Vega EDEL","kg",5.6532800000000001E-2,8.2769999999999996E-3,1.1481E-2,121,0.88,5,null,"kraftfoder, spannmål etc."]
[null,"NPK 21-3-10 Svavel","kg",0.20599999999999999,2.5999999999999999E-2,9.6000000000000002E-2,null,null,null,null,null,null,null,null,null,null,"Sp Jermin Elit","kg",1.13344E-2,7.3600000000000002E-3,0,null,null,null,null,null,null,null,null,null,null,null,"JH 190 Pärla Nova Edel","kg",2.6447999999999999E-2,5.2199999999999998E-3,6.96E-3,122,0.88,4,null,"kraftfoder, spannmål etc.",null,"KLF Complett 9033 ","kg",4.5850000000000002E-2,1.0717000000000001E-2,9.9439999999999997E-3,122,0.88,4,null,null,"inköpt",null,"JH 400 FUFO EDEL","kg",5.6959999999999997E-2,6.6750000000000004E-3,1.4062E-2,122,0.88,5,null,"kraftfoder, spannmål etc."]
[null,"NPK 21-4-7S","kg",0.21,3.7999999999999999E-2,7.2999999999999995E-2,null,null,null,null,null,null,null,null,null,null,"Sp Jermin Fosforrik","kg",0,9.9959999999999993E-2,0,null,null,null,null,null,null,null,null,null,null,null,"JH 190 Ungnöt EDEL","kg",2.6447999999999999E-2,5.3940000000000004E-3,8.0040000000000007E-3,123,0.88,4,null,"kraftfoder, spannmål etc.",null,"KLF Complett 9050","kg",5.11E-2,6.8450000000000004E-3,1.1894E-2,123,0.88,4,null,null,"inköpt",null,"JH 425 Vega EDEL","kg",6.0519999999999997E-2,8.8999999999999999E-3,7.0309999999999999E-3,123,0.88,5,null,"kraftfoder, spannmål etc."]
[null,"NPK 24-4-5 Svavel","kg",0.24,0.04,0.05,null,null,null,null,null,null,null,null,null,null,"Sp Jermin Jäst","kg",0,3.4986000000000003E-2,0,null,null,null,null,null,null,null,null,null,null,null,"JH 198 Ungnöt Edel","kg",2.7561599999999999E-2,5.9160000000000003E-3,8.6999999999999994E-3,124,0.88,4,null,"kraftfoder, spannmål etc.",null,"KLF Complett 9223 ","kg",6.6879999999999995E-2,7.0089999999999996E-3,1.7812000000000001E-2,124,0.88,4,null,null,"inköpt",null,"JH 445 FUFO EDEL","kg",6.3367999999999994E-2,7.3870000000000003E-3,1.3528E-2,124,0.88,5,null,"kraftfoder, spannmål etc."]
[null,"NPK 5-6-17 Mikro","kg",0.05,0.06,0.17,null,null,null,null,null,null,null,null,null,null,"Sp Jermin Kalciumrik","kg",0,9.9959999999999997E-3,0,null,null,null,null,null,null,null,null,null,null,null,"JH 200 Vega EDEL","kg",2.784E-2,5.2199999999999998E-3,8.9610000000000002E-3,125,0.88,4,null,"kraftfoder, spannmål etc.",null,"KLF Complett 9237 ","kg",5.5070000000000001E-2,7.3540000000000003E-3,1.2234999999999999E-2,125,0.88,4,null,null,"inköpt",null,"JH Alex Topp Eko EDEL","kg",5.6247999999999999E-2,5.8739999999999999E-3,1.7354999999999999E-2,125,0.88,5,null,"kraftfoder, spannmål etc."]
[null,"NPK 8-5-19 mikro","kg",0.08,0.05,0.19,null,null,null,null,null,null,null,null,null,null,"Sp Jermin Kött","kg",0,2.9988000000000001E-2,0,null,null,null,null,null,null,null,null,null,null,null,"JH 205 Nova EDEL","kg",2.8535999999999999E-2,4.9589999999999999E-3,9.5700000000000004E-3,126,0.88,4,null,"kraftfoder, spannmål etc.",null,"KLF Complett 9323 ","kg",5.3030000000000001E-2,1.1924000000000001E-2,1.2668E-2,126,0.88,4,null,null,"inköpt",null,"JH Balans Topp EDEL","kg",3.5481600000000002E-2,5.5440000000000003E-3,1.3991999999999999E-2,126,0.88,5,null,"kraftfoder, spannmål etc."]
[null,"NPK 8-5-19 Mikro","kg",0.08,0.05,0.19,null,null,null,null,null,null,null,null,null,null,"Sp Jermin Magnesiumrik","kg",0,3.4986000000000003E-2,0,null,null,null,null,null,null,null,null,null,null,null,"JH 210 Vega EDEL","kg",2.9232000000000001E-2,5.568E-3,7.9170000000000004E-3,127,0.88,4,null,"kraftfoder, spannmål etc.",null,"KLF Complett 9600 ","kg",5.4519999999999999E-2,9.0659999999999994E-3,1.3037E-2,127,0.88,4,null,null,"inköpt",null,"JH Bete Nova EDEL","kg",2.3385599999999999E-2,4.3499999999999997E-3,9.4830000000000001E-3,127,0.88,5,null,"kraftfoder, spannmål etc."]
[null,"NPK 8-6-17 Mikro","kg",0.08,0.06,0.17,null,null,null,null,null,null,null,null,null,null,"Sp Jermin med CRINA","kg",8.5120000000000005E-3,3.705E-2,0,null,null,null,null,null,null,null,null,null,null,null,"JH 215 KHV FUFO EDEL","kg",3.0272E-2,5.5440000000000003E-3,1.0120000000000001E-2,128,0.88,4,null,"kraftfoder, spannmål etc.",null,"KLF Friska 2095 ","kg",2.4109999999999999E-2,5.5120000000000004E-3,5.672E-3,128,0.88,4,null,null,"inköpt",null,"JH Buttle kofoder 14","kg",2.2411199999999999E-2,4.2630000000000003E-3,6.7860000000000004E-3,128,0.88,5,null,"kraftfoder, spannmål etc."]
[null,"NPK 8-7-16 Mikro","kg",0.08,7.0000000000000007E-2,0.16,null,null,null,null,null,null,null,null,null,null,"Sp Jermin Normal","kg",0,3.4986000000000003E-2,0,null,null,null,null,null,null,null,null,null,null,null,"JH 215 Nova Edel","kg",2.9928E-2,4.9589999999999999E-3,9.2219999999999993E-3,{"$f":"AL133+1","v":129},0.88,4,null,"kraftfoder, spannmål etc.",null,"KLF Friska 2095 2,5 Zn","kg",2.3869999999999999E-2,5.4190000000000002E-3,5.1180000000000002E-3,{"$f":"AW133+1","v":129},0.88,4,null,null,"inköpt",null,"JH Buttle kofoder 16","kg",2.5612800000000002E-2,4.6109999999999996E-3,7.5690000000000002E-3,{"$f":"BI133+1","v":129},0.88,5,null,"kraftfoder, spannmål etc."]
[null,"ProBeta NPK","kg",0.15,3.5999999999999997E-2,0.08,null,null,null,null,null,null,null,null,null,null,"Sp Jermin Sau Får Mineral","kg",0,6.9580000000000003E-2,0,null,null,null,null,null,null,null,null,null,null,null,"JH 220 KHV FUFO EDEL","kg",3.0976E-2,5.5440000000000003E-3,1.0120000000000001E-2,130,0.88,4,null,"kraftfoder, spannmål etc.",null,"KLF Friska 2095 3,0  Zn","kg",2.3869999999999999E-2,5.4140000000000004E-3,5.1060000000000003E-3,130,0.88,4,null,null,"inköpt",null,"JH Buttle kofoder 18","kg",2.88144E-2,5.0460000000000001E-3,8.4390000000000003E-3,130,0.88,5,null,"kraftfoder, spannmål etc."]
[null,"Yara Mila Höst 8-10,5-20 Mn","kg",0.08,0.105,0.19900000000000001,null,null,null,null,null,null,null,null,null,null,"Sp Jermin Sau Får Mineral Cu","kg",0,6.9580000000000003E-2,0,null,null,null,null,null,null,null,null,null,null,null,"JH 220 Nova EDEL","kg",3.0623999999999998E-2,5.2199999999999998E-3,9.1350000000000008E-3,131,0.88,4,null,"kraftfoder, spannmål etc.",null,"KLF Friska 2098 ","kg",2.3310000000000001E-2,5.3169999999999997E-3,5.3870000000000003E-3,131,0.88,4,null,null,"inköpt",null,"JH Buttle Ungnöt","kg",2.1019199999999998E-2,4.5240000000000002E-3,6.5250000000000004E-3,131,0.88,5,null,"kraftfoder, spannmål etc."]
[null,"YaraMila ProBeta NPK","kg",0.15,3.5999999999999997E-2,0.08,null,null,null,null,null,null,null,null,null,null,"Sp Jermin Sin","kg",0,8.0850000000000005E-2,0,null,null,null,null,null,null,null,null,null,null,null,"JH 220 Vega EDEL","kg",3.0623999999999998E-2,5.568E-3,9.5700000000000004E-3,132,0.88,4,null,"kraftfoder, spannmål etc.",null,"KLF Friska 2098 2,5 Zn","kg",2.359E-2,5.287E-3,5.3959999999999998E-3,132,0.88,4,null,null,"inköpt",null,"JH Ella Eko Ung EDEL","kg",2.2411199999999999E-2,4.6109999999999996E-3,7.8300000000000002E-3,132,0.88,5,null,"kraftfoder, spannmål etc."]
[null,"YaraMila ProMagna 11-5-18","kg",0.11,4.5999999999999999E-2,0.17599999999999999,null,null,null,null,null,null,null,null,null,null,"Sp Jermin Slikk Får Cu mineralbalja","kg",0,4.3119999999999999E-2,0,null,null,null,null,null,null,null,null,null,null,null,"JH 225 Nova EDEL","kg",3.1320000000000001E-2,5.2199999999999998E-3,8.9610000000000002E-3,133,0.88,4,null,"kraftfoder, spannmål etc.",null,"KLF Friska 2100 ","kg",2.4580000000000001E-2,5.5539999999999999E-3,5.8659999999999997E-3,133,0.88,4,null,null,"inköpt",null,"JH Elton Topp Eko EDEL","kg",4.1535999999999997E-2,6.1599999999999997E-3,1.0999999999999999E-2,133,0.88,5,null,"kraftfoder, spannmål etc."]
[null,"YaraMila ProMagna 8-5-19","kg",0.08,0.05,0.19,null,null,null,null,null,null,null,null,null,null,"Sp Jermin Slikk Får kopparfri mineralbalja","kg",0,6.5659999999999996E-2,0,null,null,null,null,null,null,null,null,null,null,null,"JH 225 Pärla Nova Edel","kg",3.1320000000000001E-2,5.6550000000000003E-3,7.8300000000000002E-3,134,0.88,4,null,"kraftfoder, spannmål etc.",null,"KLF Friska 2102 ","kg",2.7869999999999999E-2,5.7070000000000003E-3,6.3850000000000001E-3,134,0.88,4,null,null,"inköpt",null,"JH Eminent Topp EDEL","kg",3.7311999999999998E-2,5.5440000000000003E-3,1.3024000000000001E-2,134,0.88,5,null,"kraftfoder, spannmål etc."]
[null,"YaraMila Raps","kg",0.17,4.5999999999999999E-2,0.1,null,null,null,null,null,null,null,null,null,null,"Sp Jermin Slikk Nöt/Får mineralbalja","kg",0,6.5659999999999996E-2,0,null,null,null,null,null,null,null,null,null,null,null,"JH 230 KHV FUFO EDEL","kg",3.2384000000000003E-2,5.5440000000000003E-3,1.0647999999999999E-2,135,0.88,4,null,"kraftfoder, spannmål etc.",null,"KLF Friska 2102 2,5 Zn","kg",2.7619999999999999E-2,6.1970000000000003E-3,6.594E-3,135,0.88,4,null,null,"inköpt",null,"JH Emmi Eko EDEL","kg",2.58912E-2,4.176E-3,7.8300000000000002E-3,135,0.88,5,null,"kraftfoder, spannmål etc."]
[null,"Kaliumfosfat","kg",0,0.23,0.28999999999999998,null,null,null,null,null,null,null,null,null,null,"Sp Megalix Quattro Mg","kg",0,9.7999999999999997E-3,0,null,null,null,null,null,null,null,null,null,null,null,"JH 230 Vega EDEL","kg",3.2016000000000003E-2,5.4809999999999998E-3,1.0962E-2,136,0.88,4,null,"kraftfoder, spannmål etc.",null,"KLF Friska 2102 3,0  Zn","kg",2.7619999999999999E-2,6.1869999999999998E-3,6.5820000000000002E-3,136,0.88,4,null,null,"inköpt",null,"JH Fiber Topp EDEL","kg",4.5055999999999999E-2,7.4799999999999997E-3,1.2408000000000001E-2,136,0.88,5,null,"kraftfoder, spannmål etc."]
[null,"PK 11-21","kg",0,0.11,0.21,null,null,null,null,null,null,null,null,null,null,"Sp Megalix Sheep Fårmineral","kg",0,2.9399999999999999E-2,0,null,null,null,null,null,null,null,null,null,null,null,"JH 240 Nova EDEL","kg",3.3408E-2,6.0899999999999999E-3,9.9179999999999997E-3,137,0.88,4,null,"kraftfoder, spannmål etc.",null,"KLF Friska 2106 2,5 zink","kg",2.4029999999999999E-2,5.3179999999999998E-3,6.1789999999999996E-3,137,0.88,4,null,null,"inköpt",null,"JH Får EDEL","kg",2.5055999999999998E-2,4.6979999999999999E-3,8.2649999999999998E-3,137,0.88,5,null,"kraftfoder, spannmål etc."]
[null,"PK 13-13","kg",0,0.13,0.13,null,null,null,null,null,null,null,null,null,null,"Sp Teknomin Balans Hög","kg",0,6.9579999999999998E-3,0,null,null,null,null,null,null,null,null,null,null,null,"JH 270 Komet EDEL","kg",3.8016000000000001E-2,6.8640000000000003E-3,1.1967999999999999E-2,138,0.88,4,null,"kraftfoder, spannmål etc.",null,"KLF Friska Elf","kg",2.7619999999999999E-2,5.5690000000000002E-3,6.1199999999999996E-3,138,0.88,4,null,null,"inköpt",null,"JH Johan Eko EDEL","kg",3.9424000000000001E-2,6.7759999999999999E-3,1.1440000000000001E-2,138,0.88,5,null,"kraftfoder, spannmål etc."]
[null,"PK 4-21 Mg","kg",0,0.04,0.20799999999999999,null,null,null,null,null,null,null,null,null,null,"Sp Teknomin Balans Normal","kg",0,3.4986000000000003E-2,0,null,null,null,null,null,null,null,null,null,null,null,"JH 280 Vega EDEL","kg",3.9424000000000001E-2,7.744E-3,1.1440000000000001E-2,139,0.88,4,null,"kraftfoder, spannmål etc.",null,"KLF Friska Elf 3,0 Zn","kg",2.751E-2,5.4669999999999996E-3,6.8479999999999999E-3,139,0.88,4,null,null,"inköpt",null,"JH Kalv 100+","kg",2.5055999999999998E-2,6.96E-3,1.0527E-2,139,0.88,5,null,"kraftfoder, spannmål etc."]
[null,"PK 5-17","kg",0,6.0999999999999999E-2,0.18,null,null,null,null,null,null,null,null,null,null,"Sp Teknomin Bete","kg",0,3.4986000000000003E-2,0,null,null,null,null,null,null,null,null,null,null,null,"JH 290 Komet EDEL","kg",4.0832E-2,6.8640000000000003E-3,1.2319999999999999E-2,140,0.88,4,null,"kraftfoder, spannmål etc.",null,"KLF Friska Flink  ","kg",2.435E-2,5.6769999999999998E-3,5.4739999999999997E-3,140,0.88,4,null,null,"inköpt",null,"JH Kalvstart Edel","kg",2.784E-2,6.96E-3,1.0527E-2,140,0.88,5,null,"kraftfoder, spannmål etc."]
[null,"PK 5-25","kg",0,0.05,0.26,null,null,null,null,null,null,null,null,null,null,"Sp Teknomin Cell","kg",0,3.9983999999999999E-2,0,null,null,null,null,null,null,null,null,null,null,null,"JH 290 Vega EDEL","kg",4.0832E-2,6.6880000000000004E-3,1.1967999999999999E-2,141,0.88,4,null,"kraftfoder, spannmål etc.",null,"KLF Friska Flink 1,5 Zn","kg",2.3820000000000001E-2,5.5979999999999997E-3,5.3049999999999998E-3,141,0.88,4,null,null,"inköpt",null,"JH Kalvstart Vega EDEL","kg",2.6447999999999999E-2,6.0899999999999999E-3,8.5260000000000006E-3,141,0.88,5,null,"kraftfoder, spannmål etc."]
[null,"PK 6-13","kg",0,6.2E-2,0.13,null,null,null,null,null,null,null,null,null,null,"Sp Teknomin Diko","kg",0,6.0564E-2,0,null,null,null,null,null,null,null,null,null,null,null,"JH 305 Vega EDEL","kg",4.2944000000000003E-2,8.2719999999999998E-3,1.1792E-2,142,0.88,4,null,"kraftfoder, spannmål etc.",null,"KLF Friska Flink 2,5 Zn","kg",2.3800000000000002E-2,5.6030000000000003E-3,5.3070000000000001E-3,142,0.88,4,null,null,"inköpt",null,"JH Malte Topp Eko EDEL","kg",5.1263999999999997E-2,7.1199999999999996E-3,1.3350000000000001E-2,142,0.88,5,null,"kraftfoder, spannmål etc."]
[null,"PK 7-13","kg",0,7.0000000000000007E-2,0.13,null,null,null,null,null,null,null,null,null,null,"Sp Teknomin Elit","kg",1.13344E-2,7.3600000000000002E-3,0,null,null,null,null,null,null,null,null,null,null,null,"JH 315 Vega EDEL","kg",4.4352000000000003E-2,8.2719999999999998E-3,1.1264E-2,143,0.88,4,null,"kraftfoder, spannmål etc.",null,"KLF Friska Fox ","kg",2.5649999999999999E-2,6.1510000000000002E-3,5.8690000000000001E-3,143,0.88,4,null,null,"inköpt",null,"JH Nelli Eko EDEL","kg",2.9232000000000001E-2,4.5240000000000002E-3,8.2649999999999998E-3,143,0.88,5,null,"kraftfoder, spannmål etc."]
[null,"PK 7-25","kg",0,7.0000000000000007E-2,0.25,null,null,null,null,null,null,null,null,null,null,"Sp Teknomin Fosforrik","kg",0,9.9959999999999993E-2,0,null,null,null,null,null,null,null,null,null,null,null,"JH 335 FUFO EDEL","kg",4.7704000000000003E-2,6.6750000000000004E-3,1.4239999999999999E-2,144,0.88,4,null,"kraftfoder, spannmål etc.",null,"KLF Friska Gry","kg",2.5159999999999998E-2,5.6600000000000001E-3,6.0239999999999998E-3,144,0.88,4,null,null,"inköpt",null,"JH NY Eminent Topp EDEL","kg",3.7734400000000001E-2,5.5440000000000003E-3,1.056E-2,144,0.88,5,null,"kraftfoder, spannmål etc."]
[null,"PK 8-26","kg",0,0.08,0.26,null,null,null,null,null,null,null,null,null,null,"Sp Teknomin Fårmineral","kg",0,6.9580000000000003E-2,0,null,null,null,null,null,null,null,null,null,null,null,"JH 340 Komet EDEL","kg",4.7871999999999998E-2,7.0400000000000003E-3,1.2496E-2,145,0.88,4,null,"kraftfoder, spannmål etc.",null,"KLF Friska Len","kg",2.3810000000000001E-2,5.4869999999999997E-3,6.7260000000000002E-3,145,0.88,4,null,null,"inköpt",null,"JH OS Nova Edel","kg",2.53344E-2,4.8719999999999996E-3,7.9170000000000004E-3,145,0.88,5,null,"kraftfoder, spannmål etc."]
[null,null,null,null,null,null,null,null,null,null,null,null,null,null,null,null,"Sp Teknomin Fårmineral Cu","kg",0,6.9580000000000003E-2,0,null,null,null,null,null,null,null,null,null,null,null,"JH 360 FUFO EDEL","kg",5.1263999999999997E-2,7.1199999999999996E-3,1.3884000000000001E-2,146,0.88,4,null,"kraftfoder, spannmål etc.",null,"KLF Friska Len 2,5 Zn","kg",2.3910000000000001E-2,5.45E-3,6.6569999999999997E-3,146,0.88,4,null,null,"inköpt",null,"JH PBV Topp EDEL","kg",4.1817600000000003E-2,5.9839999999999997E-3,1.2671999999999999E-2,146,0.88,5,null,"kraftfoder, spannmål etc."]
[null,null,null,null,null,null,null,null,null,null,null,null,null,null,null,null,"Sp Teknomin Kalciumrik","kg",0,9.9959999999999997E-3,0,null,null,null,null,null,null,null,null,null,null,null,"JH 397 Vega EDEL","kg",5.6532800000000001E-2,8.2769999999999996E-3,1.1481E-2,147,0.88,4,null,"kraftfoder, spannmål etc.",null,"KLF Friska Smågris ","kg",2.6159999999999999E-2,4.0509999999999999E-3,6.1330000000000004E-3,147,0.88,4,null,null,"inköpt",null,"JH Protein Ungnöt Edel ","kg",5.2403199999999997E-2,7.9209999999999992E-3,9.7009999999999996E-3,147,0.88,5,null,"kraftfoder, spannmål etc."]
[null,null,null,null,null,null,null,null,null,null,null,null,null,null,null,null,"Sp Teknomin Kött","kg",0,2.9988000000000001E-2,0,null,null,null,null,null,null,null,null,null,null,null,"JH 400 FUFO EDEL","kg",5.6959999999999997E-2,6.6750000000000004E-3,1.4062E-2,148,0.88,4,null,"kraftfoder, spannmål etc.",null,"KLF Friska Zon 2,5 Zn","kg",2.631E-2,5.6750000000000004E-3,6.4739999999999997E-3,148,0.88,4,null,null,"inköpt",null,"JH Pärla FUFO EDEL","kg",6.1943999999999999E-2,7.1199999999999996E-3,1.2905E-2,148,0.88,5,null,"kraftfoder, spannmål etc."]
[null,null,null,null,null,null,null,null,null,null,null,null,null,null,null,null,"Sp Teknomin Magnesiumrik","kg",0,3.4986000000000003E-2,0,null,null,null,null,null,null,null,null,null,null,null,"JH 425 Vega EDEL","kg",6.0519999999999997E-2,8.8999999999999999E-3,7.0309999999999999E-3,149,0.88,4,null,"kraftfoder, spannmål etc.",null,"KLF Friska Zon 3,0 Zn","kg",2.6120000000000001E-2,5.6750000000000004E-3,6.3660000000000001E-3,149,0.88,4,null,null,"inköpt",null,"JH Pärla Nova EDEL","kg",2.9232000000000001E-2,4.6979999999999999E-3,9.2219999999999993E-3,149,0.88,5,null,"kraftfoder, spannmål etc."]
[null,null,null,null,null,null,null,null,null,null,null,null,null,null,null,null,"Sp Teknomin Normal","kg",0,3.4986000000000003E-2,0,null,null,null,null,null,null,null,null,null,null,null,"JH 445 FUFO EDEL","kg",6.3367999999999994E-2,7.3870000000000003E-3,1.3528E-2,150,0.88,4,null,"kraftfoder, spannmål etc.",null,"KLF KRAV Di","kg",2.6859999999999998E-2,4.8459999999999996E-3,7.8600000000000007E-3,150,0.88,4,null,null,"inköpt",null,"JH Pärla Topp EDEL","kg",4.1817600000000003E-2,5.6319999999999999E-3,1.1351999999999999E-2,150,0.88,5,null,"kraftfoder, spannmål etc."]
[null,null,null,null,null,null,null,null,null,null,null,null,null,null,null,null,"Sp Teknomin Sin","kg",0,8.0850000000000005E-2,0,null,null,null,null,null,null,null,null,null,null,null,"JH Alex Topp Eko EDEL","kg",5.6247999999999999E-2,5.8739999999999999E-3,1.7354999999999999E-2,151,0.88,4,null,"kraftfoder, spannmål etc.",null,"KLF KRAV Koncentrat Slakt","kg",5.9979999999999999E-2,7.8969999999999995E-3,1.8748999999999998E-2,151,0.88,4,null,null,"inköpt",null,"JH Singel Topp EDEL","kg",4.0832E-2,5.5440000000000003E-3,1.3024000000000001E-2,151,0.88,5,null,"kraftfoder, spannmål etc."]
[null,null,null,null,null,null,null,null,null,null,null,null,null,null,null,null,"Sp Vommex Hög pellets","kg",5.0159999999999996E-3,7.0299999999999998E-3,0,null,null,null,null,null,null,null,null,null,null,null,"JH Balans Topp EDEL","kg",3.5481600000000002E-2,5.5440000000000003E-3,1.3991999999999999E-2,152,0.88,4,null,"kraftfoder, spannmål etc.",null,"KLF KRAV Koncentrat Sugg","kg",5.4480000000000001E-2,1.0052999999999999E-2,1.6747000000000001E-2,152,0.88,4,null,null,"inköpt",null,"JH Standard Topp EDEL","kg",4.02688E-2,5.6319999999999999E-3,1.2496E-2,152,0.88,5,null,"kraftfoder, spannmål etc."]
[null,null,null,null,null,null,null,null,null,null,null,null,null,null,null,null,"Sp Vommex Låg pellets","kg",5.9280000000000001E-3,7.7045000000000002E-2,0,null,null,null,null,null,null,null,null,null,null,null,"JH Bete Nova EDEL","kg",2.3385599999999999E-2,4.3499999999999997E-3,9.4830000000000001E-3,153,0.88,4,null,"kraftfoder, spannmål etc.",null,"KLF KRAV Koncentrat Tillväxt","kg",5.4100000000000002E-2,5.2900000000000004E-3,1.7486999999999999E-2,153,0.88,4,null,null,"inköpt",null,"JH Ungnötskoncentrat EDEL","kg",4.224E-2,7.4799999999999997E-3,1.1440000000000001E-2,153,0.88,5,null,"kraftfoder, spannmål etc."]
[null,null,null,null,null,null,null,null,null,null,null,null,null,null,null,null,"Sp Vommex Normal pellets","kg",5.7759999999999999E-3,2.6980000000000001E-2,0,null,null,null,null,null,null,null,null,null,null,null,"JH Buttle kofoder 14","kg",2.2411199999999999E-2,4.2630000000000003E-3,6.7860000000000004E-3,154,0.88,4,null,"kraftfoder, spannmål etc.",null,"KLF KRAV Sin","kg",2.2460000000000001E-2,4.738E-3,6.992E-3,154,0.88,4,null,null,"inköpt",null,"JH Vall 1 Nova Edel","kg",2.436E-2,4.7850000000000002E-3,6.96E-3,154,0.88,5,null,"kraftfoder, spannmål etc."]
[null,null,null,null,null,null,null,null,null,null,null,null,null,null,null,null,"SwA Bm 46","kg",0,4.0000000000000001E-3,0,null,null,null,null,null,null,null,null,null,null,null,"JH Buttle kofoder 16","kg",2.5612800000000002E-2,4.6109999999999996E-3,7.5690000000000002E-3,155,0.88,4,null,"kraftfoder, spannmål etc.",null,"KLF KRAV Slaktgris","kg",2.75E-2,4.4060000000000002E-3,7.4970000000000002E-3,155,0.88,4,null,null,"inköpt",null,"JH Vall 2","kg",2.63088E-2,4.8719999999999996E-3,6.6119999999999998E-3,155,0.88,5,null,"kraftfoder, spannmål etc."]
[null,null,null,null,null,null,null,null,null,null,null,null,null,null,null,null,"SwA Bm Kalcium","kg",0,1E-3,0,null,null,null,null,null,null,null,null,null,null,null,"JH Buttle kofoder 18","kg",2.88144E-2,5.0460000000000001E-3,8.4390000000000003E-3,156,0.88,4,null,"kraftfoder, spannmål etc.",null,"KLF KRAV Tillväxt","kg",2.955E-2,6.2610000000000001E-3,7.561E-3,156,0.88,4,null,null,"inköpt",null,"JH Vega test","kg",4.6564800000000003E-2,8.0099999999999998E-3,1.157E-2,156,0.88,5,null,"kraftfoder, spannmål etc."]
[null,null,null,null,null,null,null,null,null,null,null,null,null,null,null,null,"SwA Mineral BM 20","kg",0,8.0000000000000002E-3,0,null,null,null,null,null,null,null,null,null,null,null,"JH Buttle Ungnöt","kg",2.1019199999999998E-2,4.5240000000000002E-3,6.5250000000000004E-3,157,0.88,4,null,"kraftfoder, spannmål etc.",null,"KLF KRAV Tillväxt Zink","kg",2.7470000000000001E-2,6.019E-3,6.2729999999999999E-3,157,0.88,4,null,null,"inköpt",null,"JH Vega test_2","kg",3.7593599999999998E-2,7.744E-3,6.9519999999999998E-3,157,0.88,5,null,"kraftfoder, spannmål etc."]
[null,null,null,null,null,null,null,null,null,null,null,null,null,null,null,null,"SwA Mineral BM 3,7 ","kg",0,0.04,0,null,null,null,null,null,null,null,null,null,null,null,"JH Ella Eko Ung EDEL","kg",2.2411199999999999E-2,4.6109999999999996E-3,7.8300000000000002E-3,158,0.88,4,null,"kraftfoder, spannmål etc.",null,"KLF Rex 1000 ","kg",6.726E-2,1.2683E-2,1.2699E-2,158,0.88,4,null,null,"inköpt",null,"JH Vega test_3","kg",3.5763200000000002E-2,7.744E-3,9.6799999999999994E-3,158,0.88,5,null,"kraftfoder, spannmål etc."]
[null,null,null,null,null,null,null,null,null,null,null,null,null,null,null,null,"SwA Mineral BM Amko","kg",0,0.04,0,null,null,null,null,null,null,null,null,null,null,null,"JH Elton Topp Eko EDEL","kg",4.1535999999999997E-2,6.1599999999999997E-3,1.0999999999999999E-2,159,0.88,4,null,"kraftfoder, spannmål etc.",null,"KLF Sol 1001","kg",5.2819999999999999E-2,1.3499000000000001E-2,1.2647E-2,159,0.88,4,null,null,"inköpt",null,"JH Vega Ungnöt EDEL","kg",2.0879999999999999E-2,5.0460000000000001E-3,7.9170000000000004E-3,159,0.88,5,null,"kraftfoder, spannmål etc."]
[null,null,null,null,null,null,null,null,null,null,null,null,null,null,null,null,"SwA Mineral BM Magnesium","kg",0,1.2E-2,0,null,null,null,null,null,null,null,null,null,null,null,"JH Eminent Topp EDEL","kg",3.7311999999999998E-2,5.5440000000000003E-3,1.3024000000000001E-2,160,0.88,4,null,"kraftfoder, spannmål etc.",null,"KLF Suggkoncentrat Hög ","kg",5.8290000000000002E-2,1.0038999999999999E-2,1.5956000000000001E-2,160,0.88,4,null,null,"inköpt",null,"JH Wille Eko Edel","kg",4.7988799999999998E-2,6.4079999999999996E-3,1.4239999999999999E-2,160,0.88,5,null,"kraftfoder, spannmål etc."]
[null,null,null,null,null,null,null,null,null,null,null,null,null,null,null,null,"SwA Mineral BM Sin","kg",0,0.08,1.4E-3,null,null,null,null,null,null,null,null,null,null,null,"JH Emmi Eko EDEL","kg",2.58912E-2,4.176E-3,7.8300000000000002E-3,161,0.88,4,null,"kraftfoder, spannmål etc.",null,"L Annelöv FT  ","kg",2.8602333333333299E-2,5.1093333333333303E-3,6.1353333333333303E-3,161,0.88,4,null,null,"inköpt",null,"KLF Alert","kg",2.3664000000000001E-2,6.0029999999999997E-3,7.6559999999999996E-3,161,0.88,5,null,"kraftfoder, spannmål etc."]
[null,null,null,null,null,null,null,null,null,null,null,null,null,null,null,null,"SwA Mineral K.Laktation","kg",0,5.0000000000000001E-3,0,null,null,null,null,null,null,null,null,null,null,null,"JH Fiber Topp EDEL","kg",4.5055999999999999E-2,7.4799999999999997E-3,1.2408000000000001E-2,162,0.88,4,null,"kraftfoder, spannmål etc.",null,"L Avel 110","kg",2.3208333000000001E-2,4.9123329999999996E-3,5.6223330000000002E-3,162,0.88,4,null,null,"inköpt",null,"KLF Balans","kg",1.8374399999999999E-2,3.045E-3,6.0029999999999997E-3,162,0.88,5,null,"kraftfoder, spannmål etc."]
[null,null,null,null,null,null,null,null,null,null,null,null,null,null,null,null,"SwA Mineral VM 17","kg",0,0.01,0,null,null,null,null,null,null,null,null,null,null,null,"JH Får EDEL","kg",2.5055999999999998E-2,4.6979999999999999E-3,8.2649999999999998E-3,163,0.88,4,null,"kraftfoder, spannmål etc.",null,"L Avel 111","kg",2.5048667E-2,6.045333E-3,6.3039999999999997E-3,163,0.88,4,null,null,"inköpt",null,"KLF Final","kg",1.5311999999999999E-2,3.48E-3,6.96E-3,163,0.88,5,null,"kraftfoder, spannmål etc."]
[null,null,null,null,null,null,null,null,null,null,null,null,null,null,null,null,"SwA Mineral VM 3","kg",0,4.4999999999999998E-2,0,null,null,null,null,null,null,null,null,null,null,null,"JH Johan Eko EDEL","kg",3.9424000000000001E-2,6.7759999999999999E-3,1.1440000000000001E-2,164,0.88,4,null,"kraftfoder, spannmål etc.",null,"L Avel 113","kg",2.3983999999999998E-2,5.2529999999999999E-3,6.293E-3,164,0.88,4,null,null,"inköpt",null,"KLF Harmoni Högplus","kg",4.752E-2,4.9500000000000004E-3,1.7100000000000001E-2,164,0.88,5,null,"kraftfoder, spannmål etc."]
[null,null,null,null,null,null,null,null,null,null,null,null,null,null,null,null,"SwA Mineral VM Mg Pluss","kg",0,1.2999999999999999E-2,0,null,null,null,null,null,null,null,null,null,null,null,"JH Kalv 100+","kg",2.5055999999999998E-2,6.96E-3,1.0527E-2,165,0.88,4,null,"kraftfoder, spannmål etc.",null,"L Avel 113+200 Selevitan  ","kg",2.2516333333333301E-2,4.9456666666666703E-3,6.2300000000000003E-3,165,0.88,4,null,null,"inköpt",null,"KLF Harmoni Nöt","kg",2.2950399999999999E-3,5.8960000000000002E-4,7.7439999999999996E-4,165,0.88,5,null,"kraftfoder, spannmål etc."]
[null,null,null,null,null,null,null,null,null,null,null,null,null,null,null,null,"SwA Mineral VM Sin","kg",0,0.09,4.0000000000000002E-4,null,null,null,null,null,null,null,null,null,null,null,"JH Kalvstart Edel","kg",2.784E-2,6.96E-3,1.0527E-2,166,0.88,4,null,"kraftfoder, spannmål etc.",null,"L Avel 115","kg",2.5201999999999999E-2,6.0899999999999999E-3,5.6470000000000001E-3,166,0.88,4,null,null,"inköpt",null,"KLF Harmoni Stjärna","kg",2.8160000000000001E-2,3.96E-3,8.9759999999999996E-3,166,0.88,5,null,"kraftfoder, spannmål etc."]
[null,null,null,null,null,null,null,null,null,null,null,null,null,null,null,null,"Vilomix BM 1,7","kg",0,7.0000000000000007E-2,0,null,null,null,null,null,null,null,null,null,null,null,"JH Kalvstart Vega EDEL","kg",2.6447999999999999E-2,6.0899999999999999E-3,8.5260000000000006E-3,167,0.88,4,null,"kraftfoder, spannmål etc.",null,"L Avel 115+200 Selevitan  ","kg",2.47493333333333E-2,5.8906666666666699E-3,5.6490000000000004E-3,167,0.88,4,null,null,"inköpt",null,"KLF Harmoni Stjärna Bas","kg",2.5625599999999998E-2,3.96E-3,8.8000000000000005E-3,167,0.88,5,null,"kraftfoder, spannmål etc."]
[null,null,null,null,null,null,null,null,null,null,null,null,null,null,null,null,"Vilomix BM 3,7","kg",0,0.04,0,null,null,null,null,null,null,null,null,null,null,null,"JH Malte Topp Eko EDEL","kg",5.1263999999999997E-2,7.1199999999999996E-3,1.3350000000000001E-2,168,0.88,4,null,"kraftfoder, spannmål etc.",null,"L Blenda 246","kg",4.82256E-2,1.2393667000000001E-2,1.0879267E-2,168,0.88,4,null,null,"inköpt",null,"KLF Hurtig","kg",2.6447999999999999E-2,6.0029999999999997E-3,7.6559999999999996E-3,168,0.88,5,null,"kraftfoder, spannmål etc."]
[null,null,null,null,null,null,null,null,null,null,null,null,null,null,null,null,"Vilomix BM 46","kg",0,4.0000000000000001E-3,0,null,null,null,null,null,null,null,null,null,null,null,"JH Nelli Eko EDEL","kg",2.9232000000000001E-2,4.5240000000000002E-3,8.2649999999999998E-3,169,0.88,4,null,"kraftfoder, spannmål etc.",null,"L Blenda 280","kg",5.3777555999999997E-2,8.8271110000000003E-3,1.2839556E-2,169,0.88,4,null,null,"inköpt",null,"KLF Högplus 235","kg",3.8016000000000001E-2,4.4879999999999998E-3,1.056E-2,169,0.88,5,null,"kraftfoder, spannmål etc."]
[null,null,null,null,null,null,null,null,null,null,null,null,null,null,null,null,"Vilomix BM Får","kg",0,0.05,0,null,null,null,null,null,null,null,null,null,null,null,"JH NY Eminent Topp EDEL","kg",3.7734400000000001E-2,5.5440000000000003E-3,1.056E-2,170,0.88,4,null,"kraftfoder, spannmål etc.",null,"L Blendex 201 ","kg",4.2465133000000002E-2,7.9022669999999993E-3,1.1114267000000001E-2,170,0.88,4,null,null,"inköpt",null,"KLF Högplus 245","kg",3.9424000000000001E-2,4.4879999999999998E-3,1.1088000000000001E-2,170,0.88,5,null,"kraftfoder, spannmål etc."]
[null,null,null,null,null,null,null,null,null,null,null,null,null,null,null,null,"Vilomix BM Kalcium","kg",0,1E-3,0,null,null,null,null,null,null,null,null,null,null,null,"JH OS Nova Edel","kg",2.53344E-2,4.8719999999999996E-3,7.9170000000000004E-3,171,0.88,4,null,"kraftfoder, spannmål etc.",null,"L Blendex 205 ","kg",4.0712499999999999E-2,8.5211669999999996E-3,1.1057167E-2,171,0.88,4,null,null,"inköpt",null,"KLF Högplus 255","kg",4.0832E-2,4.4879999999999998E-3,1.2496E-2,171,0.88,5,null,"kraftfoder, spannmål etc."]
[null,null,null,null,null,null,null,null,null,null,null,null,null,null,null,null,"Vilomix BM Magnesium","kg",0,1.2E-2,0,null,null,null,null,null,null,null,null,null,null,null,"JH PBV Topp EDEL","kg",4.1817600000000003E-2,5.9839999999999997E-3,1.2671999999999999E-2,172,0.88,4,null,"kraftfoder, spannmål etc.",null,"L Blendex Di 200 ","kg",5.4198166999999998E-2,1.0234833E-2,1.2140167E-2,172,0.88,4,null,null,"inköpt",null,"KLF Högplus 270","kg",4.3647999999999999E-2,4.4879999999999998E-3,1.0999999999999999E-2,172,0.88,5,null,"kraftfoder, spannmål etc."]
[null,null,null,null,null,null,null,null,null,null,null,null,null,null,null,null,"Vilomix BM Sin","kg",0,0.08,0,null,null,null,null,null,null,null,null,null,null,null,"JH Protein Ungnöt Edel ","kg",5.2403199999999997E-2,7.9209999999999992E-3,9.7009999999999996E-3,173,0.88,4,null,"kraftfoder, spannmål etc.",null,"L Blendex Di 210 ","kg",4.7911333E-2,9.5036670000000004E-3,1.1326332999999999E-2,173,0.88,4,null,null,"inköpt",null,"KLF Högplus 280","kg",4.5567999999999997E-2,5.0730000000000003E-3,1.0769000000000001E-2,173,0.88,5,null,"kraftfoder, spannmål etc."]
[null,null,null,null,null,null,null,null,null,null,null,null,null,null,null,null,"Vilomix OM Fosfor","kg",0,7.0000000000000007E-2,0,null,null,null,null,null,null,null,null,null,null,null,"JH Pärla FUFO EDEL","kg",6.1943999999999999E-2,7.1199999999999996E-3,1.2905E-2,174,0.88,4,null,"kraftfoder, spannmål etc.",null,"L Blendex Di 211  ","kg",4.6309999999999997E-2,9.1606666666666694E-3,1.09636666666667E-2,174,0.88,4,null,null,"inköpt",null,"KLF Högplus 290","kg",4.7097600000000003E-2,5.0844000000000002E-3,1.21312E-2,174,0.88,5,null,"kraftfoder, spannmål etc."]
[null,null,null,null,null,null,null,null,null,null,null,null,null,null,null,null,"Vilomix OM Kalcium","kg",0,4.0000000000000001E-3,0,null,null,null,null,null,null,null,null,null,null,null,"JH Pärla Nova EDEL","kg",2.9232000000000001E-2,4.6979999999999999E-3,9.2219999999999993E-3,175,0.88,4,null,"kraftfoder, spannmål etc.",null,"L Blendex Di 220 ","kg",4.6202667000000003E-2,8.0303330000000006E-3,1.1793333E-2,175,0.88,4,null,null,"inköpt",null,"KLF Högplus Majs Fett","kg",4.0599999999999997E-2,4.9874999999999997E-3,1.155E-2,175,0.88,5,null,"kraftfoder, spannmål etc."]
[null,null,null,null,null,null,null,null,null,null,null,null,null,null,null,null,"Vilomix OM Magnesium","kg",0,1.2999999999999999E-2,0,null,null,null,null,null,null,null,null,null,null,null,"JH Pärla Topp EDEL","kg",4.1817600000000003E-2,5.6319999999999999E-3,1.1351999999999999E-2,176,0.88,4,null,"kraftfoder, spannmål etc.",null,"L Delta F1101 ","kg",2.5433556E-2,4.4574439999999996E-3,6.2588890000000001E-3,176,0.88,4,null,null,"inköpt",null,"KLF Högplus Robot","kg",3.8975999999999997E-2,4.437E-3,1.044E-2,176,0.88,5,null,"kraftfoder, spannmål etc."]
[null,null,null,null,null,null,null,null,null,null,null,null,null,null,null,null,"Vilomix OM Mix Ca","kg",0,6.0000000000000001E-3,0,null,null,null,null,null,null,null,null,null,null,null,"JH Singel Topp EDEL","kg",4.0832E-2,5.5440000000000003E-3,1.3024000000000001E-2,177,0.88,4,null,"kraftfoder, spannmål etc.",null,"L Delta F1102","kg",2.5209133000000002E-2,4.4215330000000001E-3,6.0990000000000003E-3,177,0.88,4,null,null,"inköpt",null,"KLF Högplus Vall Fett","kg",3.78E-2,4.725E-3,1.0149999999999999E-2,177,0.88,5,null,"kraftfoder, spannmål etc."]
[null,null,null,null,null,null,null,null,null,null,null,null,null,null,null,null,"Vilomix OM Mix Mg","kg",0,1.2E-2,0,null,null,null,null,null,null,null,null,null,null,null,"JH Standard Topp EDEL","kg",4.02688E-2,5.6319999999999999E-3,1.2496E-2,178,0.88,4,null,"kraftfoder, spannmål etc.",null,"L Delta F1346 ","kg",2.3241499999999998E-2,4.163E-3,5.7306670000000001E-3,178,0.88,4,null,null,"inköpt",null,"KLF Kalvstart","kg",2.6447999999999999E-2,6.96E-3,9.1350000000000008E-3,178,0.88,5,null,"kraftfoder, spannmål etc."]
[null,null,null,null,null,null,null,null,null,null,null,null,null,null,null,null,"Vilomix OM Mix P","kg",0,0.09,0,null,null,null,null,null,null,null,null,null,null,null,"JH Ungnötskoncentrat EDEL","kg",4.224E-2,7.4799999999999997E-3,1.1440000000000001E-2,179,0.88,4,null,"kraftfoder, spannmål etc.",null,"L Delta F1347  ","kg",2.4482750000000001E-2,3.9984166666666701E-3,5.8477499999999996E-3,179,0.88,4,null,null,"inköpt",null,"KLF Komet","kg",2.6447999999999999E-2,6.0029999999999997E-3,8.7869999999999997E-3,179,0.88,5,null,"kraftfoder, spannmål etc."]
[null,null,null,null,null,null,null,null,null,null,null,null,null,null,null,null,"Vilomix OM Normal","kg",0,3.5000000000000003E-2,0,null,null,null,null,null,null,null,null,null,null,null,"JH Vall 1 Nova Edel","kg",2.436E-2,4.7850000000000002E-3,6.96E-3,180,0.88,4,null,"kraftfoder, spannmål etc.",null,"L Delta F2103 ","kg",2.4090250000000001E-2,4.3559169999999999E-3,6.0955829999999999E-3,180,0.88,4,null,null,"inköpt",null,"KLF Mix 410 mer fett","kg",6.3923199999999999E-2,5.9839999999999997E-3,1.6455999999999998E-2,180,0.88,5,null,"kraftfoder, spannmål etc."]
[null,null,null,null,null,null,null,null,null,null,null,null,null,null,null,null,"Vilomix Pellvimin 0,6","kg",0,6.08E-2,4.9399999999999999E-3,null,null,null,null,null,null,null,null,null,null,null,"JH Vall 2","kg",2.63088E-2,4.8719999999999996E-3,6.6119999999999998E-3,181,0.88,4,null,"kraftfoder, spannmål etc.",null,"L Delta F2140  ","kg",1.9639E-2,3.7126666666666701E-3,5.0889999999999998E-3,181,0.88,4,null,null,"inköpt",null,"KLF Mix Majs ","kg",6.3367999999999994E-2,5.5180000000000003E-3,1.6910000000000001E-2,181,0.88,5,null,"kraftfoder, spannmål etc."]
[null,null,null,null,null,null,null,null,null,null,null,null,null,null,null,null,"Vilomix Pellvimin 3","kg",0,2.6409999999999999E-2,4.9399999999999999E-3,null,null,null,null,null,null,null,null,null,null,null,"JH Vega test","kg",4.6564800000000003E-2,8.0099999999999998E-3,1.157E-2,182,0.88,4,null,"kraftfoder, spannmål etc.",null,"L Delta F2151  ","kg",2.60253333333333E-2,4.3196666666666696E-3,6.0373333333333303E-3,182,0.88,4,null,null,{"$f":"inköpt","v":"inköpt"},null,"KLF Mix Protein ","kg",5.5536000000000002E-2,8.633E-3,1.1481E-2,182,0.88,5,null,"kraftfoder, spannmål etc."]
[null,null,null,null,null,null,null,null,null,null,null,null,null,null,null,null,"Vilomix Pellvimin 80","kg",0,1.33E-3,4.9399999999999999E-3,null,null,null,null,null,null,null,null,null,null,null,"JH Vega test_2","kg",3.7593599999999998E-2,7.744E-3,6.9519999999999998E-3,183,0.88,4,null,"kraftfoder, spannmål etc.",null,"L Delta F2303 ","kg",2.4561666999999999E-2,4.194667E-3,6.0426669999999998E-3,183,0.88,4,null,null,"inköpt",null,"KLF Mix UREA","kg",6.4792000000000002E-2,6.2300000000000003E-3,1.4418E-2,183,0.88,5,null,"kraftfoder, spannmål etc."]
[null,null,null,null,null,null,null,null,null,null,null,null,null,null,null,null,"Vilomix VM 1","kg",0,0.09,0,null,null,null,null,null,null,null,null,null,null,null,"JH Vega test_3","kg",3.5763200000000002E-2,7.744E-3,9.6799999999999994E-3,184,0.88,4,null,"kraftfoder, spannmål etc.",null,"L Delta F2340 ","kg",2.0168917000000001E-2,3.662083E-3,5.0799169999999998E-3,184,0.88,4,null,null,"inköpt",null,"KLF Mix Vall ","kg",6.0544000000000001E-2,5.8960000000000002E-3,1.6455999999999998E-2,184,0.88,5,null,"kraftfoder, spannmål etc."]
[null,null,null,null,null,null,null,null,null,null,null,null,null,null,null,null,"Vilomix VM 17","kg",0,0.01,0,null,null,null,null,null,null,null,null,null,null,null,"JH Vega Ungnöt EDEL","kg",2.0879999999999999E-2,5.0460000000000001E-3,7.9170000000000004E-3,185,0.88,4,null,"kraftfoder, spannmål etc.",null,"L Delta F2345","kg",2.134525E-2,3.8440000000000002E-3,5.3383329999999998E-3,185,0.88,4,null,null,"inköpt",null,"KLF O171067 Stjärna Egen","kg",2.15512E-2,3.2152999999999999E-3,0,185,0.88,5,null,"kraftfoder, spannmål etc."]
[null,null,null,null,null,null,null,null,null,null,null,null,null,null,null,null,"Vilomix VM 2,5","kg",0,6.5000000000000002E-2,0,null,null,null,null,null,null,null,null,null,null,null,"JH Wille Eko Edel","kg",4.7988799999999998E-2,6.4079999999999996E-3,1.4239999999999999E-2,186,0.88,4,null,"kraftfoder, spannmål etc.",null,"L Delta F2347","kg",2.4948749999999999E-2,4.1922499999999998E-3,5.9450830000000003E-3,186,0.88,4,null,null,"inköpt",null,"KLF R109934 Stjärna Egen","kg",3.3792000000000003E-2,4.9280000000000001E-3,0,186,0.88,5,null,"kraftfoder, spannmål etc."]
[null,null,null,null,null,null,null,null,null,null,null,null,null,null,null,null,"Vilomix VM 3","kg",0,4.4999999999999998E-2,0,null,null,null,null,null,null,null,null,null,null,null,"KLF Alert","kg",2.3664000000000001E-2,6.0029999999999997E-3,7.6559999999999996E-3,187,0.88,4,null,"kraftfoder, spannmål etc.",null,"L Delta F3104 ","kg",2.2510067000000002E-2,4.3456670000000001E-3,5.9064670000000003E-3,187,0.88,4,null,null,"inköpt",null,"KLF Salut","kg",2.0879999999999999E-2,6.0029999999999997E-3,7.5690000000000002E-3,187,0.88,5,null,"kraftfoder, spannmål etc."]
[null,null,null,null,null,null,null,null,null,null,null,null,null,null,null,null,"Vilomix VM Bete","kg",0,0.09,0,null,null,null,null,null,null,null,null,null,null,null,"KLF Balans","kg",1.8374399999999999E-2,3.045E-3,6.0029999999999997E-3,188,0.88,4,null,"kraftfoder, spannmål etc.",null,"L Delta F3105 ","kg",2.2159999999999999E-2,4.5196669999999998E-3,5.9020000000000001E-3,188,0.88,4,null,null,"inköpt",null,"KLF Stjärna 160 ","kg",2.3800000000000002E-2,4.9874999999999997E-3,7.0000000000000001E-3,188,0.88,5,null,"kraftfoder, spannmål etc."]
[null,null,null,null,null,null,null,null,null,null,null,null,null,null,null,null,"Vilomix VM Diko","kg",0,0.08,0,null,null,null,null,null,null,null,null,null,null,null,"KLF Final","kg",1.5311999999999999E-2,3.48E-3,6.96E-3,189,0.88,4,null,"kraftfoder, spannmål etc.",null,"L Delta F3108  ","kg",2.2665333333333301E-2,4.5593333333333302E-3,5.8609999999999999E-3,189,0.88,4,null,null,"inköpt",null,"KLF Stjärna 165","kg",2.6599999999999999E-2,4.5500000000000002E-3,8.0499999999999999E-3,189,0.88,5,null,"kraftfoder, spannmål etc."]
[null,null,null,null,null,null,null,null,null,null,null,null,null,null,null,null,"Vilomix VM Fullfoder Ca","kg",0,6.0000000000000001E-3,0,null,null,null,null,null,null,null,null,null,null,null,"KLF Harmoni Högplus","kg",4.752E-2,4.9500000000000004E-3,1.7100000000000001E-2,190,0.88,4,null,"kraftfoder, spannmål etc.",null,"L Delta F3141  ","kg",2.112E-2,4.3429999999999996E-3,5.8753333333333296E-3,190,0.88,4,null,null,"inköpt",null,"KLF Stjärna 175","kg",2.8000000000000001E-2,5.5125E-3,8.1375000000000006E-3,190,0.88,5,null,"kraftfoder, spannmål etc."]
[null,null,null,null,null,null,null,null,null,null,null,null,null,null,null,null,"Vilomix VM Fullfoder Mg","kg",0,1.2E-2,0,null,null,null,null,null,null,null,null,null,null,null,"KLF Harmoni Nöt","kg",2.2950399999999999E-3,5.8960000000000002E-4,7.7439999999999996E-4,191,0.88,4,null,"kraftfoder, spannmål etc.",null,"L Delta F3144  ","kg",2.2436333333333301E-2,4.1019999999999997E-3,5.80633333333333E-3,191,0.88,4,null,null,"inköpt",null,"KLF Stjärna 190","kg",3.15E-2,4.5500000000000002E-3,7.5249999999999996E-3,191,0.88,5,null,"kraftfoder, spannmål etc."]
[null,null,null,null,null,null,null,null,null,null,null,null,null,null,null,null,"Vilomix VM Fullfoder P","kg",0,0.09,0,null,null,null,null,null,null,null,null,null,null,null,"KLF Harmoni Stjärna","kg",2.8160000000000001E-2,3.96E-3,8.9759999999999996E-3,192,0.88,4,null,"kraftfoder, spannmål etc.",null,"L Delta F3149  ","kg",2.2178666666666701E-2,4.3256666666666704E-3,5.8719999999999996E-3,192,0.88,4,null,null,"inköpt",null,"KLF Stjärna 210","kg",3.3984E-2,5.3984999999999997E-3,1.0177500000000001E-2,192,0.88,5,null,"kraftfoder, spannmål etc."]
[null,null,null,null,null,null,null,null,null,null,null,null,null,null,null,null,"Vilomix VM Får Fullfoder","kg",0,7.0000000000000007E-2,0,null,null,null,null,null,null,null,null,null,null,null,"KLF Harmoni Stjärna Bas","kg",2.5625599999999998E-2,3.96E-3,8.8000000000000005E-3,{"$f":"AL197+1","v":193},0.88,4,null,"kraftfoder, spannmål etc.",null,"L Delta F3150  ","kg",2.1180000000000001E-2,3.9240000000000004E-3,5.3410000000000003E-3,{"$f":"AW197+1","v":193},0.88,4,null,null,"inköpt",null,"KLF Stjärna 95","kg",2.3800000000000002E-2,4.6375000000000001E-3,7.0000000000000001E-3,{"$f":"BI197+1","v":193},0.88,5,null,"kraftfoder, spannmål etc."]
[null,null,null,null,null,null,null,null,null,null,null,null,null,null,null,null,"Vilomix VM Köttfår","kg",0,7.4999999999999997E-2,0,null,null,null,null,null,null,null,null,null,null,null,"KLF Hurtig","kg",2.6447999999999999E-2,6.0029999999999997E-3,7.6559999999999996E-3,194,0.88,4,null,"kraftfoder, spannmål etc.",null,"L Delta F3152  ","kg",2.3301200000000001E-2,4.1152000000000003E-3,5.5761999999999999E-3,194,0.88,4,null,null,"inköpt",null,"KLF Stjärna Bas Fett ","kg",2.784E-2,4.5240000000000002E-3,8.4390000000000003E-3,194,0.88,5,null,"kraftfoder, spannmål etc."]
[null,null,null,null,null,null,null,null,null,null,null,null,null,null,null,null,"Vilomix VM Magnesium","kg",0,1.4E-2,0,null,null,null,null,null,null,null,null,null,null,null,"KLF Högplus 235","kg",3.8016000000000001E-2,4.4879999999999998E-3,1.056E-2,195,0.88,4,null,"kraftfoder, spannmål etc.",null,"L Delta F3204 ","kg",2.2517667000000002E-2,4.446111E-3,5.751E-3,195,0.88,4,null,null,"inköpt",null,"KLF Stjärna Enhet Fett","kg",3.0623999999999998E-2,4.5240000000000002E-3,7.4819999999999999E-3,195,0.88,5,null,"kraftfoder, spannmål etc."]
[null,null,null,null,null,null,null,null,null,null,null,null,null,null,null,null,"Vilomix VM Sin","kg",0,0.09,0,null,null,null,null,null,null,null,null,null,null,null,"KLF Högplus 245","kg",3.9424000000000001E-2,4.4879999999999998E-3,1.1088000000000001E-2,196,0.88,4,null,"kraftfoder, spannmål etc.",null,"L Delta F3304 ","kg",2.2200917000000001E-2,4.1956670000000001E-3,5.9133329999999998E-3,196,0.88,4,null,null,"inköpt",null,"KLF Stjärna Grund","kg",2.1000000000000001E-2,4.4625000000000003E-3,7.0000000000000001E-3,196,0.88,5,null,"kraftfoder, spannmål etc."]
[null,null,null,null,null,null,null,null,null,null,null,null,null,null,null,null,"Vitafor Balans-mineral","kg",0,8.0000000000000002E-3,0,null,null,null,null,null,null,null,null,null,null,null,"KLF Högplus 255","kg",4.0832E-2,4.4879999999999998E-3,1.2496E-2,197,0.88,4,null,"kraftfoder, spannmål etc.",null,"L Delta F3341 ","kg",2.1099666999999999E-2,3.9154999999999997E-3,5.542333E-3,197,0.88,4,null,null,"inköpt",null,"KLF Stjärna Grön -18","kg",2.4780799999999999E-2,5.4559999999999999E-3,0,197,0.88,5,null,"kraftfoder, spannmål etc."]
[null,null,null,null,null,null,null,null,null,null,null,null,null,null,null,null,"Vitafor Balans-mineral","kg",0,8.0000000000000002E-3,0,null,null,null,null,null,null,null,null,null,null,null,"KLF Högplus 270","kg",4.3647999999999999E-2,4.4879999999999998E-3,1.0999999999999999E-2,198,0.88,4,null,"kraftfoder, spannmål etc.",null,"L Delta F3344 ","kg",2.2416499999999999E-2,4.1665000000000001E-3,5.8350829999999996E-3,198,0.88,4,null,null,"inköpt",null,"KLF Stjärna Robot","kg",2.2272E-2,4.5240000000000002E-3,8.0040000000000007E-3,198,0.88,5,null,"kraftfoder, spannmål etc."]
[null,null,null,null,null,null,null,null,null,null,null,null,null,null,null,null,"Vitafor Power","kg",0,1.4999999999999999E-2,0,null,null,null,null,null,null,null,null,null,null,null,"KLF Högplus 280","kg",4.5567999999999997E-2,5.0730000000000003E-3,1.0769000000000001E-2,199,0.88,4,null,"kraftfoder, spannmål etc.",null,"L Delta F3348","kg",2.2336000000000002E-2,4.1571669999999998E-3,5.8001670000000002E-3,199,0.88,4,null,null,"inköpt",null,"KLF Stjärna Special","kg",2.8019200000000001E-2,5.0159999999999996E-3,9.4160000000000008E-3,199,0.88,5,null,"kraftfoder, spannmål etc."]
[null,null,null,null,null,null,null,null,null,null,null,null,null,null,null,null,"Vitafor Power","kg",0,1.4999999999999999E-2,0,null,null,null,null,null,null,null,null,null,null,null,"KLF Högplus 290","kg",4.7097600000000003E-2,5.0844000000000002E-3,1.21312E-2,200,0.88,4,null,"kraftfoder, spannmål etc.",null,"L Delta F3349  ","kg",2.2422333333333301E-2,4.1551666666666699E-3,5.7794999999999999E-3,200,0.88,4,null,null,"inköpt",null,"KLF Svea 330","kg",6.2815999999999997E-2,8.6999999999999994E-3,1.52E-2,200,0.88,5,null,"kraftfoder, spannmål etc."]
[null,null,null,null,null,null,null,null,null,null,null,null,null,null,null,null,"Vitafor Protein-mineral","kg",0,1.0999999999999999E-2,0,null,null,null,null,null,null,null,null,null,null,null,"KLF Högplus Majs Fett","kg",4.0599999999999997E-2,4.9874999999999997E-3,1.155E-2,201,0.88,4,null,"kraftfoder, spannmål etc.",null,"L Delta F4106","kg",2.1692889E-2,4.3489999999999996E-3,6.0017220000000001E-3,201,0.88,4,null,null,"inköpt",null,"KLF Test","kg",2.6447999999999999E-2,6.96E-3,9.1350000000000008E-3,201,0.88,5,null,"kraftfoder, spannmål etc."]
[null,null,null,null,null,null,null,null,null,null,null,null,null,null,null,null,"Vitafor Protein-mineral","kg",0,1.0999999999999999E-2,0,null,null,null,null,null,null,null,null,null,null,null,"KLF Högplus Robot","kg",3.8975999999999997E-2,4.437E-3,1.044E-2,202,0.88,4,null,"kraftfoder, spannmål etc.",null,"L Delta F4107 ","kg",2.1392667000000001E-2,4.2496670000000004E-3,5.849333E-3,202,0.88,4,null,null,"inköpt",null,"KLF Ungnöt","kg",2.3664000000000001E-2,6.0029999999999997E-3,7.6559999999999996E-3,202,0.88,5,null,"kraftfoder, spannmål etc."]
[null,null,null,null,null,null,null,null,null,null,null,null,null,null,null,null,"Vitafor Solid","kg",0,0.02,0,null,null,null,null,null,null,null,null,null,null,null,"KLF Högplus Vall Fett","kg",3.78E-2,4.725E-3,1.0149999999999999E-2,203,0.88,4,null,"kraftfoder, spannmål etc.",null,"L Delta F4306 ","kg",2.1661333000000001E-2,4.2525000000000002E-3,6.0175000000000003E-3,203,0.88,4,null,null,"inköpt",null,"KLF Ungnötskoncentrat","kg",4.8023999999999997E-2,8.9610000000000002E-3,1.4703000000000001E-2,203,0.88,5,null,"kraftfoder, spannmål etc."]
[null,null,null,null,null,null,null,null,null,null,null,null,null,null,null,null,"Vitafor Solid","kg",0,0.02,0,null,null,null,null,null,null,null,null,null,null,null,"KLF Kalvstart","kg",2.6447999999999999E-2,6.96E-3,9.1350000000000008E-3,204,0.88,4,null,"kraftfoder, spannmål etc.",null,"L Delta F4342 ","kg",2.0476000000000001E-2,4.042833E-3,5.6202500000000002E-3,204,0.88,4,null,null,"inköpt",null,"KLF Växa","kg",2.3664000000000001E-2,6.0029999999999997E-3,7.6559999999999996E-3,204,0.88,5,null,"kraftfoder, spannmål etc."]
[null,null,null,null,null,null,null,null,null,null,null,null,null,null,null,null,"Vitafor Strong","kg",0,3.4000000000000002E-2,0,null,null,null,null,null,null,null,null,null,null,null,"KLF Komet","kg",2.6447999999999999E-2,6.0029999999999997E-3,8.7869999999999997E-3,205,0.88,4,null,"kraftfoder, spannmål etc.",null,"L Delta F5107 ","kg",2.0907833000000001E-2,4.3404999999999997E-3,5.9205000000000004E-3,205,0.88,4,null,null,"inköpt",null,"L Addera Bas 350","kg",5.1868999999999998E-2,9.0130000000000002E-3,1.0846E-2,205,0.88,5,null,"kraftfoder, spannmål etc."]
[null,null,null,null,null,null,null,null,null,null,null,null,null,null,null,null,"Vitafor Strong","kg",0,3.4000000000000002E-2,0,null,null,null,null,null,null,null,null,null,null,null,"KLF Mix 410 mer fett","kg",6.3923199999999999E-2,5.9839999999999997E-3,1.6455999999999998E-2,206,0.88,4,null,"kraftfoder, spannmål etc.",null,"L Delta F5307 ","kg",2.0122332999999999E-2,4.2635829999999996E-3,5.8180829999999999E-3,206,0.88,4,null,null,"inköpt",null,"L Addera Mega 440","kg",6.1090999999999999E-2,6.3049999999999998E-3,1.5613E-2,206,0.88,5,null,"kraftfoder, spannmål etc."]
[null,null,null,null,null,null,null,null,null,null,null,null,null,null,null,null,"VL GM Vallberga 19","kg",0,8.0359999999999997E-3,0,null,null,null,null,null,null,null,null,null,null,null,"KLF Mix Majs ","kg",6.3367999999999994E-2,5.5180000000000003E-3,1.6910000000000001E-2,207,0.88,4,null,"kraftfoder, spannmål etc.",null,"L DeltaMix P6000  ","kg",2.8738E-2,9.3199999999999999E-4,2.2786666666666702E-3,207,0.88,4,null,null,"inköpt",null,"L Addera Mix 405","kg",5.8014999999999997E-2,6.6759999999999996E-3,1.5344999999999999E-2,207,0.88,5,null,"kraftfoder, spannmål etc."]
[null,null,null,null,null,null,null,null,null,null,null,null,null,null,null,null,"VL GM Vallberga 4,5","kg",0,3.9983999999999999E-2,0,null,null,null,null,null,null,null,null,null,null,null,"KLF Mix Protein ","kg",5.5536000000000002E-2,8.633E-3,1.1481E-2,208,0.88,4,null,"kraftfoder, spannmål etc.",null,"L DeltaMix P6001  ","kg",2.8697666666666701E-2,9.1799999999999998E-4,2.2623333333333302E-3,208,0.88,4,null,null,"inköpt",null,"L Addera N 405","kg",5.7119999999999997E-2,7.7120000000000001E-3,1.4055E-2,208,0.88,5,null,"kraftfoder, spannmål etc."]
[null,null,null,null,null,null,null,null,null,null,null,null,null,null,null,null,"VL GM Vallberga Alfa","kg",0,1.9012000000000001E-2,0,null,null,null,null,null,null,null,null,null,null,null,"KLF Mix UREA","kg",6.4792000000000002E-2,6.2300000000000003E-3,1.4418E-2,209,0.88,4,null,"kraftfoder, spannmål etc.",null,"L DeltaMix P6002  ","kg",2.7390999999999999E-2,4.89666666666667E-4,1.7816666666666699E-3,209,0.88,4,null,null,"inköpt",null,"L Addera N 440","kg",6.1920000000000003E-2,6.2259999999999998E-3,1.5993E-2,209,0.88,5,null,"kraftfoder, spannmål etc."]
[null,null,null,null,null,null,null,null,null,null,null,null,null,null,null,null,"VL GM Vallberga Fullfoder","kg",0,7.4969999999999995E-2,0,null,null,null,null,null,null,null,null,null,null,null,"KLF Mix Vall ","kg",6.0544000000000001E-2,5.8960000000000002E-3,1.6455999999999998E-2,210,0.88,4,null,"kraftfoder, spannmål etc.",null,"L DeltaMix P6003 Orca","kg",2.8195999999999999E-2,7.2566666666666699E-4,1.8646666666666701E-3,210,0.88,4,null,null,"inköpt",null,"L Addera Nära 410","kg",5.7599999999999998E-2,8.9910000000000007E-3,1.0251E-2,210,0.88,5,null,"kraftfoder, spannmål etc."]
[null,null,null,null,null,null,null,null,null,null,null,null,null,null,null,null,"VL GM Vallberga hög","kg",0,2.4989999999999998E-2,0,null,null,null,null,null,null,null,null,null,null,null,"KLF O171067 Stjärna Egen","kg",2.15512E-2,3.2152999999999999E-3,0,211,0.88,4,null,"kraftfoder, spannmål etc.",null,"L DeltaMix P6005  ","kg",2.8875000000000001E-2,9.9500000000000001E-4,2.33E-3,211,0.88,4,null,null,"inköpt",null,"L Elegant","kg",3.3599999999999998E-2,4.6969999999999998E-3,8.6990000000000001E-3,211,0.88,5,null,"kraftfoder, spannmål etc."]
[null,null,null,null,null,null,null,null,null,null,null,null,null,null,null,null,"VL GM Vallberga Låg","kg",0,9.7019999999999995E-2,0,null,null,null,null,null,null,null,null,null,null,null,"KLF R109934 Stjärna Egen","kg",3.3792000000000003E-2,4.9280000000000001E-3,0,212,0.88,4,null,"kraftfoder, spannmål etc.",null,"L DeltaMix P6011  ","kg",2.8677333333333301E-2,9.1100000000000003E-4,2.2536666666666699E-3,212,0.88,4,null,null,"inköpt",null,"L Flex 175","kg",3.1539200000000003E-2,5.7200000000000003E-3,7.0400000000000003E-3,212,0.88,5,null,"kraftfoder, spannmål etc."]
[null,null,null,null,null,null,null,null,null,null,null,null,null,null,null,null,"VL GM Vallberga Mg","kg",0,5.2920000000000002E-2,0,null,null,null,null,null,null,null,null,null,null,null,"KLF Salut","kg",2.0879999999999999E-2,6.0029999999999997E-3,7.5690000000000002E-3,213,0.88,4,null,"kraftfoder, spannmål etc.",null,"L DeltaMix P6012   ","kg",2.3796999999999999E-2,7.3033333333333305E-4,1.6196666666666701E-3,213,0.88,4,null,null,"inköpt",null,"L Flex 36","kg",5.7672000000000001E-2,5.9630000000000004E-3,1.4239999999999999E-2,213,0.88,5,null,"kraftfoder, spannmål etc."]
[null,null,null,null,null,null,null,null,null,null,null,null,null,null,null,null,"VL GM Vallberga normal","kg",0,5.2920000000000002E-2,0,null,null,null,null,null,null,null,null,null,null,null,"KLF Stjärna 160 ","kg",2.3800000000000002E-2,4.9874999999999997E-3,7.0000000000000001E-3,214,0.88,4,null,"kraftfoder, spannmål etc.",null,"L DeltaMix P6022  ","kg",2.73466666666667E-2,4.8366666666666702E-4,1.7719999999999999E-3,214,0.88,4,null,null,"inköpt",null,"L Flex 52 Fett","kg",4.1295999999999999E-2,5.3400000000000001E-3,1.157E-2,214,0.88,5,null,"kraftfoder, spannmål etc."]
[null,null,null,null,null,null,null,null,null,null,null,null,null,null,null,null,"VL GM Vallberga Sin","kg",0,8.6043999999999995E-2,0,null,null,null,null,null,null,null,null,null,null,null,"KLF Stjärna 165","kg",2.6599999999999999E-2,4.5500000000000002E-3,8.0499999999999999E-3,215,0.88,4,null,"kraftfoder, spannmål etc.",null,"L DeltaMix P6200  ","kg",2.7379333333333301E-2,1.0009999999999999E-3,2.3633333333333301E-3,215,0.88,4,null,null,"inköpt",null,"L Flex Robot","kg",2.5343999999999998E-2,7.0400000000000003E-3,7.4799999999999997E-3,215,0.88,5,null,"kraftfoder, spannmål etc."]
[null,null,null,null,null,null,null,null,null,null,null,null,null,null,null,null,"VL GM Vallberga Sin Extra Mg","kg",0,6.3014000000000001E-2,0,null,null,null,null,null,null,null,null,null,null,null,"KLF Stjärna 175","kg",2.8000000000000001E-2,5.5125E-3,8.1375000000000006E-3,216,0.88,4,null,"kraftfoder, spannmål etc.",null,"L DeltaMix P6201  ","kg",2.758E-2,1.0820000000000001E-3,2.4359999999999998E-3,216,0.88,4,null,null,"inköpt",null,"L Flex Vallen","kg",4.1723200000000002E-2,7.1199999999999996E-3,1.068E-2,216,0.88,5,null,"kraftfoder, spannmål etc."]
[null,null,null,null,null,null,null,null,null,null,null,null,null,null,null,null,"VL GM Vallberga Sin Sejäst","kg",0,8.4966E-2,0,null,null,null,null,null,null,null,null,null,null,null,"KLF Stjärna 190","kg",3.15E-2,4.5500000000000002E-3,7.5249999999999996E-3,217,0.88,4,null,"kraftfoder, spannmål etc.",null,"L DeltaMix P6202  ","kg",2.6151666666666702E-2,6.0300000000000002E-4,1.9136666666666701E-3,217,0.88,4,null,null,"inköpt",null,"L Galant Grov","kg",2.4299999999999999E-2,5.1000000000000004E-3,7.7999999999999996E-3,217,0.88,5,null,"kraftfoder, spannmål etc."]
[null,null,null,null,null,null,null,null,null,null,null,null,null,null,null,null,"VL GM Vallberga Tjur","kg",0,6.9579999999999998E-3,0,null,null,null,null,null,null,null,null,null,null,null,"KLF Stjärna 210","kg",3.3984E-2,5.3984999999999997E-3,1.0177500000000001E-2,218,0.88,4,null,"kraftfoder, spannmål etc.",null,"L DeltaMix P6203  ","kg",2.6606333333333301E-2,2.9886666666666699E-3,1.87366666666667E-3,218,0.88,4,null,null,"inköpt",null,"L Galant N","kg",2.4E-2,5.2769999999999996E-3,7.9839999999999998E-3,218,0.88,5,null,"kraftfoder, spannmål etc."]
[null,null,null,null,null,null,null,null,null,null,null,null,null,null,null,null,"VL GM Vallberga Ungdjur","kg",0,3.9983999999999999E-2,0,null,null,null,null,null,null,null,null,null,null,null,"KLF Stjärna 95","kg",2.3800000000000002E-2,4.6375000000000001E-3,7.0000000000000001E-3,219,0.88,4,null,"kraftfoder, spannmål etc.",null,"L DeltaMix P6204  ","kg",2.7327666666666701E-2,9.8299999999999993E-4,2.3416666666666698E-3,219,0.88,4,null,null,"inköpt",null,"L Galant Nära","kg",2.4027E-2,5.372E-3,7.9039999999999996E-3,219,0.88,5,null,"kraftfoder, spannmål etc."]
[null,null,null,null,null,null,null,null,null,null,null,null,null,null,null,null,"VM Får Fullfoder","kg",0,7.0000000000000007E-2,0,null,null,null,null,null,null,null,null,null,null,null,"KLF Stjärna Bas Fett ","kg",2.784E-2,4.5240000000000002E-3,8.4390000000000003E-3,220,0.88,4,null,"kraftfoder, spannmål etc.",null,"L DeltaMix P6208  ","kg",2.6516000000000001E-2,2.3355333333333301E-2,2.0279999999999999E-3,220,0.88,4,null,null,"inköpt",null,"L Galant Ordinär","kg",2.4025999999999999E-2,5.1960000000000001E-3,7.7429999999999999E-3,220,0.88,5,null,"kraftfoder, spannmål etc."]
[null,null,null,null,null,null,null,null,null,null,null,null,null,null,null,null,"VM Köttfår","kg",0,7.4999999999999997E-2,0,null,null,null,null,null,null,null,null,null,null,null,"KLF Stjärna Enhet Fett","kg",3.0623999999999998E-2,4.5240000000000002E-3,7.4819999999999999E-3,221,0.88,4,null,"kraftfoder, spannmål etc.",null,"L DeltaMix P6209  ","kg",1.96213333333333E-2,1.68743333333333E-2,3.2716666666666701E-3,221,0.88,4,null,null,"inköpt",null,"L Galant Snabb","kg",2.7151999999999999E-2,5.8349999999999999E-3,7.9340000000000001E-3,221,0.88,5,null,"kraftfoder, spannmål etc."]
[null,null,null,null,null,null,null,null,null,null,null,null,null,null,null,null,"VM Pälsfår","kg",0,0.1,0,null,null,null,null,null,null,null,null,null,null,null,"KLF Stjärna Grund","kg",2.1000000000000001E-2,4.4625000000000003E-3,7.0000000000000001E-3,222,0.88,4,null,"kraftfoder, spannmål etc.",null,"L DeltaMix P6212  ","kg",2.6133E-2,5.96666666666667E-4,1.9056666666666701E-3,222,0.88,4,null,null,"inköpt",null,"L Galant Stabil","kg",2.2387199999999999E-2,4.4879999999999998E-3,7.0400000000000003E-3,222,0.88,5,null,"kraftfoder, spannmål etc."]
[null,null,null,null,null,null,null,null,null,null,null,null,null,null,null,null,"W Wn Ekomin Hög","kg",0,9.7999999999999997E-3,0,null,null,null,null,null,null,null,null,null,null,null,"KLF Stjärna Grön -18","kg",2.4780799999999999E-2,5.4559999999999999E-3,0,223,0.88,4,null,"kraftfoder, spannmål etc.",null,"L DeltaMix P6222  ","kg",2.7185999999999998E-2,5.6300000000000002E-4,1.86433333333333E-3,223,0.88,4,null,null,"inköpt",null,"L Galax Utmärkt","kg",4.0800000000000003E-2,7.6470000000000002E-3,1.0536E-2,223,0.88,5,null,"kraftfoder, spannmål etc."]
[null,null,null,null,null,null,null,null,null,null,null,null,null,null,null,null,"W Wn Ekomin Kött","kg",0,3.4299999999999997E-2,0,null,null,null,null,null,null,null,null,null,null,null,"KLF Stjärna Robot","kg",2.2272E-2,4.5240000000000002E-3,8.0040000000000007E-3,224,0.88,4,null,"kraftfoder, spannmål etc.",null,"L DeltaMix P6232  ","kg",2.6137666666666701E-2,5.9800000000000001E-4,1.908E-3,224,0.88,4,null,null,"inköpt",null,"L Ideal","kg",2.4E-2,5.4000000000000003E-3,7.9000000000000008E-3,224,0.88,5,null,"kraftfoder, spannmål etc."]
[null,null,null,null,null,null,null,null,null,null,null,null,null,null,null,null,"W Wn Ekomin Normal","kg",0,4.2139999999999997E-2,0,null,null,null,null,null,null,null,null,null,null,null,"KLF Stjärna Special","kg",2.8019200000000001E-2,5.0159999999999996E-3,9.4160000000000008E-3,225,0.88,4,null,"kraftfoder, spannmål etc.",null,"L DeltaMix P6242  ","kg",2.5735000000000001E-2,4.6200000000000001E-4,1.7403333333333301E-3,225,0.88,4,null,null,"inköpt",null,"L Idex","kg",4.1547000000000001E-2,8.4060000000000003E-3,1.0435E-2,225,0.88,5,null,"kraftfoder, spannmål etc."]
[null,null,null,null,null,null,null,null,null,null,null,null,null,null,null,null,"W Wn Ekomin Sin","kg",0,8.8200000000000001E-2,0,null,null,null,null,null,null,null,null,null,null,null,"KLF Svea 330","kg",6.2815999999999997E-2,8.6999999999999994E-3,1.52E-2,226,0.88,4,null,"kraftfoder, spannmål etc.",null,"L DeltaMix P6400  ","kg",3.5670333333333297E-2,1.121E-3,2.4680000000000001E-3,226,0.88,4,null,null,"inköpt",null,"L Idissla","kg",2.6700000000000002E-2,5.5999999999999999E-3,8.2559999999999995E-3,226,0.88,5,null,"kraftfoder, spannmål etc."]
[null,null,null,null,null,null,null,null,null,null,null,null,null,null,null,null,"W Wn oPtimal Låg","kg",0,7.3499999999999996E-2,9.8000000000000004E-2,null,null,null,null,null,null,null,null,null,null,null,"KLF Test","kg",2.6447999999999999E-2,6.96E-3,9.1350000000000008E-3,227,0.88,4,null,"kraftfoder, spannmål etc.",null,"L DeltaMix P6402  ","kg",3.4447333333333302E-2,7.2599999999999997E-4,2.0316666666666699E-3,227,0.88,4,null,null,"inköpt",null,"L Idol","kg",2.7754000000000001E-2,4.9789999999999999E-3,8.5830000000000004E-3,227,0.88,5,null,"kraftfoder, spannmål etc."]
[null,null,null,null,null,null,null,null,null,null,null,null,null,null,null,null,"W Wn oPtimal Mg","kg",0,1.9599999999999999E-2,9.7999999999999997E-4,null,null,null,null,null,null,null,null,null,null,null,"KLF Ungnöt","kg",2.3664000000000001E-2,6.0029999999999997E-3,7.6559999999999996E-3,228,0.88,4,null,"kraftfoder, spannmål etc.",null,"L DeltaMix P6406  ","kg",2.6987666666666701E-2,4.7699999999999999E-4,2.2453333333333301E-3,228,0.88,4,null,null,"inköpt",null,"L Komplett Amin 220","kg",3.1423E-2,6.2979999999999998E-3,8.8170000000000002E-3,228,0.88,5,null,"kraftfoder, spannmål etc."]
[null,null,null,null,null,null,null,null,null,null,null,null,null,null,null,null,"W Wn oPtimal Normal","kg",0,1.9599999999999999E-2,9.7999999999999997E-5,null,null,null,null,null,null,null,null,null,null,null,"KLF Ungnötskoncentrat","kg",4.8023999999999997E-2,8.9610000000000002E-3,1.4703000000000001E-2,229,0.88,4,null,"kraftfoder, spannmål etc.",null,"L DeltaMix P6600  ","kg",2.8334666666666699E-2,9.2500000000000004E-4,2.2583333333333301E-3,229,0.88,4,null,null,"inköpt",null,"L Komplett Fiber 170","kg",2.401E-2,5.5420000000000001E-3,7.535E-3,229,0.88,5,null,"kraftfoder, spannmål etc."]
[null,null,null,null,null,null,null,null,null,null,null,null,null,null,null,null,"W Wn oPtimal Sin","kg",0,7.3499999999999996E-2,0,null,null,null,null,null,null,null,null,null,null,null,"KLF Växa","kg",2.3664000000000001E-2,6.0029999999999997E-3,7.6559999999999996E-3,230,0.88,4,null,"kraftfoder, spannmål etc.",null,"L DeltaMix P6602  ","kg",2.7824333333333302E-2,7.6866666666666696E-4,2.1096666666666698E-3,230,0.88,4,null,null,"inköpt",null,"L Komplett Grov","kg",2.6665000000000001E-2,5.189E-3,8.2089999999999993E-3,230,0.88,5,null,"kraftfoder, spannmål etc."]
[null,null,null,null,null,null,null,null,null,null,null,null,null,null,null,null,"W Wn Wiromineral Beef","kg",0,7.3499999999999996E-2,9.7999999999999997E-4,null,null,null,null,null,null,null,null,null,null,null,"L Addera Bas 350","kg",5.1868999999999998E-2,9.0130000000000002E-3,1.0846E-2,231,0.88,4,null,"kraftfoder, spannmål etc.",null,"L DeltaMix P6610  ","kg",2.9405333333333301E-2,2.8933333333333298E-3,4.4866666666666701E-3,231,0.88,4,null,null,"inköpt",null,"L Komplett Maxa 175","kg",2.6238999999999998E-2,5.5999999999999999E-3,7.1659999999999996E-3,231,0.88,5,null,"kraftfoder, spannmål etc."]
[null,null,null,null,null,null,null,null,null,null,null,null,null,null,null,null,"W Wn Wiromineral Bete","kg",0,3.5999999999999997E-2,0,null,null,null,null,null,null,null,null,null,null,null,"L Addera Mega 440","kg",6.1090999999999999E-2,6.3049999999999998E-3,1.5613E-2,232,0.88,4,null,"kraftfoder, spannmål etc.",null,"L DeltaMix P6611  ","kg",2.5672E-2,9.6943333333333308E-3,4.5329999999999997E-3,232,0.88,4,null,null,"inköpt",null,"L Komplett Mega 190","kg",2.6721000000000002E-2,5.6210000000000001E-3,7.7320000000000002E-3,232,0.88,5,null,"kraftfoder, spannmål etc."]
[null,null,null,null,null,null,null,null,null,null,null,null,null,null,null,null,"W Wn Wiromineral Hög","kg",0,3.6260000000000001E-2,0,null,null,null,null,null,null,null,null,null,null,null,"L Addera Mix 405","kg",5.8014999999999997E-2,6.6759999999999996E-3,1.5344999999999999E-2,233,0.88,4,null,"kraftfoder, spannmål etc.",null,"L DeltaMix P6909  ","kg",2.6955E-2,1.4726E-2,2.3213333333333302E-3,233,0.88,4,null,null,"inköpt",null,"L Komplett Mega 200","kg",2.7983999999999998E-2,5.1809999999999998E-3,8.5939999999999992E-3,233,0.88,5,null,"kraftfoder, spannmål etc."]
[null,null,null,null,null,null,null,null,null,null,null,null,null,null,null,null,"W Wn Wiromineral Köttras","kg",0,3.6260000000000001E-2,0,null,null,null,null,null,null,null,null,null,null,null,"L Addera N 405","kg",5.7119999999999997E-2,7.7120000000000001E-3,1.4055E-2,234,0.88,4,null,"kraftfoder, spannmål etc.",null,"L Deltamix P7000  ","kg",4.2763333333333299E-2,5.8686666666666696E-3,5.9081666666666701E-3,234,0.88,4,null,null,"inköpt",null,"L Komplett N 195","kg",2.7300999999999999E-2,5.9560000000000004E-3,8.2559999999999995E-3,234,0.88,5,null,"kraftfoder, spannmål etc."]
[null,null,null,null,null,null,null,null,null,null,null,null,null,null,null,null,"W Wn Wiromineral Låg","kg",0,0.12446,9.7999999999999997E-4,null,null,null,null,null,null,null,null,null,null,null,"L Addera N 440","kg",6.1920000000000003E-2,6.2259999999999998E-3,1.5993E-2,235,0.88,4,null,"kraftfoder, spannmål etc.",null,"L Deltamix P7003 Orca  ","kg",4.1732833333333302E-2,5.7173333333333303E-3,5.5778333333333296E-3,235,0.88,4,null,null,"inköpt",null,"L Komplett N 240","kg",3.3524999999999999E-2,4.5510000000000004E-3,1.0146000000000001E-2,235,0.88,5,null,"kraftfoder, spannmål etc."]
[null,null,null,null,null,null,null,null,null,null,null,null,null,null,null,null,"W Wn Wiromineral Medium","kg",0,7.8399999999999997E-2,0,null,null,null,null,null,null,null,null,null,null,null,"L Addera Nära 410","kg",5.7599999999999998E-2,8.9910000000000007E-3,1.0251E-2,236,0.88,4,null,"kraftfoder, spannmål etc.",null,"L Deltamix P7200  ","kg",4.2103166666666698E-2,5.3410000000000003E-3,5.9356666666666698E-3,236,0.88,4,null,null,"inköpt",null,"L Komplett Norm 180","kg",2.5645999999999999E-2,5.9639999999999997E-3,7.9039999999999996E-3,236,0.88,5,null,"kraftfoder, spannmål etc."]
[null,null,null,null,null,null,null,null,null,null,null,null,null,null,null,null,"W Wn Wiromineral Mg","kg",0,6.1740000000000003E-2,0,null,null,null,null,null,null,null,null,null,null,null,"L Elegant","kg",3.3599999999999998E-2,4.6969999999999998E-3,8.6990000000000001E-3,237,0.88,4,null,"kraftfoder, spannmål etc.",null,"L Deltamix P7400  ","kg",4.5105166666666703E-2,3.9659999999999999E-3,7.4679999999999998E-3,237,0.88,4,null,null,"inköpt",null,"L Komplett Nära Amin 230","kg",3.2805000000000001E-2,6.3299999999999997E-3,8.2570000000000005E-3,237,0.88,5,null,"kraftfoder, spannmål etc."]
[null,null,null,null,null,null,null,null,null,null,null,null,null,null,null,null,"W Wn Wiromineral Mg plus","kg",0,5.3900000000000003E-2,0,null,null,null,null,null,null,null,null,null,null,null,"L Flex 175","kg",3.1539200000000003E-2,5.7200000000000003E-3,7.0400000000000003E-3,238,0.88,4,null,"kraftfoder, spannmål etc.",null,"L Deltex K1376 ","kg",5.4329333E-2,7.6338329999999996E-3,1.2491833000000001E-2,238,0.88,4,null,null,"inköpt",null,"L Komplett Nära Norm 190","kg",2.6752000000000001E-2,5.28E-3,7.3039999999999997E-3,238,0.88,5,null,"kraftfoder, spannmål etc."]
[null,null,null,null,null,null,null,null,null,null,null,null,null,null,null,null,"W Wn Wiromineral Normal","kg",0,6.762E-2,9.7999999999999997E-4,null,null,null,null,null,null,null,null,null,null,null,"L Flex 36","kg",5.7672000000000001E-2,5.9630000000000004E-3,1.4239999999999999E-2,239,0.88,4,null,"kraftfoder, spannmål etc.",null,"L Deltex K2170 ","kg",5.9518778000000001E-2,6.5300000000000002E-3,1.3157556000000001E-2,239,0.88,4,null,null,"inköpt",null,"L Komplett Nära Norm 190","kg",2.6703999999999999E-2,5.5700000000000003E-3,7.2150000000000001E-3,239,0.88,5,null,"kraftfoder, spannmål etc."]
[null,null,null,null,null,null,null,null,null,null,null,null,null,null,null,null,"W Wn wiromineral Pellets Hög","kg",0,2.5999999999999999E-2,1E-3,null,null,null,null,null,null,null,null,null,null,null,"L Flex 52 Fett","kg",4.1295999999999999E-2,5.3400000000000001E-3,1.157E-2,240,0.88,4,null,"kraftfoder, spannmål etc.",null,"L Deltex K2175 ","kg",4.8201000000000001E-2,6.9290000000000003E-3,1.1159333E-2,240,0.88,4,null,null,"inköpt",null,"L Komplett Nära Xtra 210","kg",2.988E-2,5.9950000000000003E-3,7.6680000000000003E-3,240,0.88,5,null,"kraftfoder, spannmål etc."]
[null,null,null,null,null,null,null,null,null,null,null,null,null,null,null,null,"W Wn Wiromineral Pellets Mg","kg",0,0.04,1E-3,null,null,null,null,null,null,null,null,null,null,null,"L Flex Robot","kg",2.5343999999999998E-2,7.0400000000000003E-3,7.4799999999999997E-3,241,0.88,4,null,"kraftfoder, spannmål etc.",null,"L Deltex K2370 ","kg",5.9193916999999999E-2,6.8799170000000002E-3,1.2647083E-2,241,0.88,4,null,null,"inköpt",null,"L Komplett Pektin 200","kg",2.8639999999999999E-2,4.9569999999999996E-3,6.8580000000000004E-3,241,0.88,5,null,"kraftfoder, spannmål etc."]
[null,null,null,null,null,null,null,null,null,null,null,null,null,null,null,null,"W Wn Wiromineral Pellets Normal","kg",0,4.5999999999999999E-2,3.0000000000000001E-3,null,null,null,null,null,null,null,null,null,null,null,"L Flex Vallen","kg",4.1723200000000002E-2,7.1199999999999996E-3,1.068E-2,242,0.88,4,null,"kraftfoder, spannmål etc.",null,"L Deltex K2375 ","kg",4.8330583000000003E-2,7.3431670000000003E-3,1.095925E-2,242,0.88,4,null,null,"inköpt",null,"L Komplett Profi","kg",3.0789E-2,5.2030000000000002E-3,9.1610000000000007E-3,242,0.88,5,null,"kraftfoder, spannmål etc."]
[null,null,null,null,null,null,null,null,null,null,null,null,null,null,null,null,"W Wn Wiromineral Sin","kg",0,9.0160000000000004E-2,0,null,null,null,null,null,null,null,null,null,null,null,"L Galant Grov","kg",2.4299999999999999E-2,5.1000000000000004E-3,7.7999999999999996E-3,243,0.88,4,null,"kraftfoder, spannmål etc.",null,"L Deltex K2385  ","kg",4.7754333333333301E-2,7.0813333333333301E-3,1.1176999999999999E-2,243,0.88,4,null,null,"inköpt",null,"L Komplett Xtra 205","kg",2.879E-2,5.9880000000000003E-3,8.3730000000000002E-3,243,0.88,5,null,"kraftfoder, spannmål etc."]
[null,null,null,null,null,null,null,null,null,null,null,null,null,null,null,null,"W Wn Wiromineral Wirocell","kg",0,6.3700000000000007E-2,0,null,null,null,null,null,null,null,null,null,null,null,"L Galant N","kg",2.4E-2,5.2769999999999996E-3,7.9839999999999998E-3,244,0.88,4,null,"kraftfoder, spannmål etc.",null,"L Deltex K3171","kg",5.8047333E-2,6.3366669999999998E-3,1.244E-2,244,0.88,4,null,null,"inköpt",null,"L Konkret Amin 33","kg",4.7039999999999998E-2,7.1110000000000001E-3,1.2512000000000001E-2,244,0.88,5,null,"kraftfoder, spannmål etc."]
[null,null,null,null,null,null,null,null,null,null,null,null,null,null,null,null,"W Wn WM Mix 1","kg",0,7.0999999999999994E-2,0,null,null,null,null,null,null,null,null,null,null,null,"L Galant Nära","kg",2.4027E-2,5.372E-3,7.9039999999999996E-3,245,0.88,4,null,"kraftfoder, spannmål etc.",null,"L Deltex K3173  ","kg",5.0727000000000001E-2,9.2756666666666699E-3,1.00103333333333E-2,245,0.88,4,null,null,"inköpt",null,"L Konkret Fiber 25","kg",3.6395999999999998E-2,7.5919999999999998E-3,9.7789999999999995E-3,245,0.88,5,null,"kraftfoder, spannmål etc."]
[null,null,null,null,null,null,null,null,null,null,null,null,null,null,null,null,"W Wn WM Mix 2","kg",0,0.13400000000000001,0,null,null,null,null,null,null,null,null,null,null,null,"L Galant Ordinär","kg",2.4025999999999999E-2,5.1960000000000001E-3,7.7429999999999999E-3,246,0.88,4,null,"kraftfoder, spannmål etc.",null,"L Deltex K3183  ","kg",5.0002666666666702E-2,6.1780000000000003E-3,1.0488333333333299E-2,246,0.88,4,null,null,{"$f":"inköpt","v":"inköpt"},null,"L Konkret Gotland 99","kg",4.8416000000000001E-2,6.2300000000000003E-3,1.157E-2,246,0.88,5,null,"kraftfoder, spannmål etc."]
[null,null,null,null,null,null,null,null,null,null,null,null,null,null,null,null,"W Wn WM Mix 3","kg",0,3.4000000000000002E-2,0,null,null,null,null,null,null,null,null,null,null,null,"L Galant Snabb","kg",2.7151999999999999E-2,5.8349999999999999E-3,7.9340000000000001E-3,247,0.88,4,null,"kraftfoder, spannmål etc.",null,"L Deltex K3190  ","kg",3.2296583333333302E-2,4.8565833333333299E-3,7.33216666666667E-3,247,0.88,4,null,null,"inköpt",null,"L Konkret Gute 24","kg",3.4745600000000001E-2,7.0309999999999999E-3,9.7900000000000001E-3,247,0.88,5,null,"kraftfoder, spannmål etc."]
[null,null,null,null,null,null,null,null,null,null,null,null,null,null,null,null,"W Wn WM Mix 4","kg",0,0.06,0,null,null,null,null,null,null,null,null,null,null,null,"L Galant Stabil","kg",2.2387199999999999E-2,4.4879999999999998E-3,7.0400000000000003E-3,248,0.88,4,null,"kraftfoder, spannmål etc.",null,"L Deltex K3271 ","kg",5.6709000000000002E-2,6.11E-3,1.1823667E-2,248,0.88,4,null,null,"inköpt",null,"L Konkret Maxa 24","kg",3.4221000000000001E-2,6.326E-3,9.2669999999999992E-3,248,0.88,5,null,"kraftfoder, spannmål etc."]
[null,null,null,null,null,null,null,null,null,null,null,null,null,null,null,null,"W Wn WM Mix 5","kg",0,1.4999999999999999E-2,0,null,null,null,null,null,null,null,null,null,null,null,"L Galax Utmärkt","kg",4.0800000000000003E-2,7.6470000000000002E-3,1.0536E-2,249,0.88,4,null,"kraftfoder, spannmål etc.",null,"L Deltex K3371","kg",5.8229749999999997E-2,6.9398330000000003E-3,1.2126E-2,249,0.88,4,null,null,"inköpt",null,"L Konkret Mega 28","kg",3.984E-2,5.666E-3,1.1351999999999999E-2,249,0.88,5,null,"kraftfoder, spannmål etc."]
[null,null,null,null,null,null,null,null,null,null,null,null,null,null,null,null,"Yara BOLIFOR Mag33","kg",0,2.6433000000000002E-2,0,null,null,null,null,null,null,null,null,null,null,null,"L Ideal","kg",2.4E-2,5.4000000000000003E-3,7.9000000000000008E-3,250,0.88,4,null,"kraftfoder, spannmål etc.",null,"L Deltex K3373","kg",5.0581750000000002E-2,9.3161670000000002E-3,1.037225E-2,250,0.88,4,null,null,"inköpt",null,"L Konkret N 32","kg",4.512E-2,8.5000000000000006E-3,9.9679999999999994E-3,250,0.88,5,null,"kraftfoder, spannmål etc."]
[null,null,null,null,null,null,null,null,null,null,null,null,null,null,null,null,"Yara BOLIFOR MCP-F","kg",0,0.22245300000000001,0,null,null,null,null,null,null,null,null,null,null,null,"L Idex","kg",4.1547000000000001E-2,8.4060000000000003E-3,1.0435E-2,251,0.88,4,null,"kraftfoder, spannmål etc.",null,"L Deltex K3374 ","kg",5.0658916999999998E-2,7.3297500000000003E-3,1.1646E-2,251,0.88,4,null,null,"inköpt",null,"L Konkret Norm 27","kg",3.8699999999999998E-2,7.633E-3,1.0323000000000001E-2,251,0.88,5,null,"kraftfoder, spannmål etc."]
[null,null,null,null,null,null,null,null,null,null,null,null,null,null,null,null,"Yara BOLIFOR MCP-N","kg",0,0.22245300000000001,0,null,null,null,null,null,null,null,null,null,null,null,"L Idissla","kg",2.6700000000000002E-2,5.5999999999999999E-3,8.2559999999999995E-3,252,0.88,4,null,"kraftfoder, spannmål etc.",null,"L Deltex K3377 ","kg",4.1866332999999999E-2,7.688833E-3,9.2460000000000007E-3,252,0.88,4,null,null,"inköpt",null,"L Konkret Nära Fiber 27","kg",3.8399999999999997E-2,8.0000000000000002E-3,1.0078999999999999E-2,252,0.88,5,null,"kraftfoder, spannmål etc."]
[null,null,null,null,null,null,null,null,null,null,null,null,null,null,null,null,"Yara BOLIFOR MGP+","kg",0,0.16807,0,null,null,null,null,null,null,null,null,null,null,null,"L Idol","kg",2.7754000000000001E-2,4.9789999999999999E-3,8.5830000000000004E-3,253,0.88,4,null,"kraftfoder, spannmål etc.",null,"L Deltex K3378  ","kg",5.8190666666666703E-2,6.3810000000000004E-3,1.3065999999999999E-2,253,0.88,4,null,null,"inköpt",null,"L Konkret Nära Norm 29","kg",4.1547000000000001E-2,8.4060000000000003E-3,1.0435E-2,253,0.88,5,null,"kraftfoder, spannmål etc."]
[null,null,null,null,null,null,null,null,null,null,null,null,null,null,null,null,"Yara BOLIFOR MSP","kg",0,0.23522399999999999,0,null,null,null,null,null,null,null,null,null,null,null,"L Komplett Amin 220","kg",3.1423E-2,6.2979999999999998E-3,8.8170000000000002E-3,254,0.88,4,null,"kraftfoder, spannmål etc.",null,"L Deltex K3380 ","kg",3.5517332999999998E-2,5.5268330000000001E-3,6.5651670000000002E-3,254,0.88,4,null,null,"inköpt",null,"L Konkret Nära Xtra 31","kg",4.4122000000000001E-2,8.0370000000000007E-3,1.0023000000000001E-2,254,0.88,5,null,"kraftfoder, spannmål etc."]
[null,null,null,null,null,null,null,null,null,null,null,null,null,null,null,null,null,null,null,null,null,null,null,null,null,null,null,null,null,null,null,null,"L Komplett Fiber 170","kg",2.401E-2,5.5420000000000001E-3,7.535E-3,255,0.88,4,null,"kraftfoder, spannmål etc.",null,"L Deltex K3381  ","kg",4.9355916666666701E-2,8.6687499999999994E-3,1.1228666666666699E-2,255,0.88,4,null,null,"inköpt",null,"L Konkret Xtra 32","kg",4.5679999999999998E-2,7.4879999999999999E-3,1.0758999999999999E-2,255,0.88,5,null,"kraftfoder, spannmål etc."]
[null,null,null,null,null,null,null,null,null,null,null,null,null,null,null,null,null,null,null,null,null,null,null,null,null,null,null,null,null,null,null,null,"L Komplett Grov","kg",2.6665000000000001E-2,5.189E-3,8.2089999999999993E-3,256,0.88,4,null,"kraftfoder, spannmål etc.",null,"L Deltex K3382  ","kg",5.0216833333333301E-2,9.0277499999999993E-3,1.09055E-2,256,0.88,4,null,null,"inköpt",null,"L Nötfor Bas","kg",1.8304000000000001E-2,4.4000000000000003E-3,7.0400000000000003E-3,256,0.88,5,null,"kraftfoder, spannmål etc."]
[null,null,null,null,null,null,null,null,null,null,null,null,null,null,null,null,null,null,null,null,null,null,null,null,null,null,null,null,null,null,null,null,"L Komplett Maxa 175","kg",2.6238999999999998E-2,5.5999999999999999E-3,7.1659999999999996E-3,{"$f":"AL261+1","v":257},0.88,4,null,"kraftfoder, spannmål etc.",null,"L Deltex K3384  ","kg",3.60821666666667E-2,1.20706666666667E-2,6.5821666666666702E-3,{"$f":"AW261+1","v":257},0.88,4,null,null,"inköpt",null,"L Protect Power","kg",3.3036799999999998E-2,0,0,{"$f":"BI261+1","v":257},0.88,5,null,"kraftfoder, spannmål etc."]
[null,null,null,null,null,null,null,null,null,null,null,null,null,null,null,null,null,null,null,null,null,null,null,null,null,null,null,null,null,null,null,null,"L Komplett Mega 190","kg",2.6721000000000002E-2,5.6210000000000001E-3,7.7320000000000002E-3,258,0.88,4,null,"kraftfoder, spannmål etc.",null,"L Deltex K4172 ","kg",5.1559417000000003E-2,7.056583E-3,1.0099917E-2,258,0.88,4,null,null,"inköpt",null,"L Protect Strong","kg",1.4607999999999999E-2,0,0,258,0.88,5,null,"kraftfoder, spannmål etc."]
[null,null,null,null,null,null,null,null,null,null,null,null,null,null,null,null,null,null,null,null,null,null,null,null,null,null,null,null,null,null,null,null,"L Komplett Mega 200","kg",2.7983999999999998E-2,5.1809999999999998E-3,8.5939999999999992E-3,259,0.88,4,null,"kraftfoder, spannmål etc.",null,"L Deltex K4372","kg",5.2364500000000001E-2,7.2973329999999996E-3,1.0051083000000001E-2,259,0.88,4,null,null,"inköpt",null,"L Proteinmix","kg",5.3398399999999999E-2,7.2160000000000002E-3,9.0200000000000002E-3,259,0.88,5,null,"kraftfoder, spannmål etc."]
[null,null,null,null,null,null,null,null,null,null,null,null,null,null,null,null,null,null,null,null,null,null,null,null,null,null,null,null,null,null,null,null,"L Komplett N 195","kg",2.7300999999999999E-2,5.9560000000000004E-3,8.2559999999999995E-3,260,0.88,4,null,"kraftfoder, spannmål etc.",null,"L Diva 100","kg",2.5600000000000001E-2,5.3564169999999996E-3,6.8504999999999998E-3,260,0.88,4,null,null,"inköpt",null,"L Raps 60%/drank 40%","kg",5.1406399999999998E-2,9.7900000000000001E-3,1.4596E-2,260,0.88,5,null,"kraftfoder, spannmål etc."]
[null,null,null,null,null,null,null,null,null,null,null,null,null,null,null,null,null,null,null,null,null,null,null,null,null,null,null,null,null,null,null,null,"L Komplett N 240","kg",3.3524999999999999E-2,4.5510000000000004E-3,1.0146000000000001E-2,261,0.88,4,null,"kraftfoder, spannmål etc.",null,"L Donna 190 ","kg",2.5038000000000001E-2,5.3143330000000001E-3,6.618667E-3,261,0.88,4,null,null,"inköpt",null,"L SL 3010","kg",6.4507200000000001E-2,7.1199999999999996E-3,1.5129999999999999E-2,261,0.88,5,null,"kraftfoder, spannmål etc."]
[null,null,null,null,null,null,null,null,null,null,null,null,null,null,null,null,null,null,null,null,null,null,null,null,null,null,null,null,null,null,null,null,"L Komplett Norm 180","kg",2.5645999999999999E-2,5.9639999999999997E-3,7.9039999999999996E-3,262,0.88,4,null,"kraftfoder, spannmål etc.",null,"L Donna 195 Plus","kg",2.7100167000000001E-2,5.2081669999999997E-3,7.2498329999999998E-3,262,0.88,4,null,null,"inköpt",null,"L SLU Bipr u aa","kg",2.08384E-2,3.6960000000000001E-3,7.0400000000000003E-3,262,0.88,5,null,"kraftfoder, spannmål etc."]
[null,null,null,null,null,null,null,null,null,null,null,null,null,null,null,null,null,null,null,null,null,null,null,null,null,null,null,null,null,null,null,null,"L Komplett Nära Amin 230","kg",3.2805000000000001E-2,6.3299999999999997E-3,8.2570000000000005E-3,263,0.88,4,null,"kraftfoder, spannmål etc.",null,"L Effekt Addera","kg",2.7126670000000002E-3,0.179601333,2.6913330000000002E-3,263,0.88,4,null,null,"inköpt",null,"L Sund 7 konc","kg",4.6991999999999999E-2,4.8060000000000004E-3,1.6910000000000001E-2,263,0.88,5,null,"kraftfoder, spannmål etc."]
[null,null,null,null,null,null,null,null,null,null,null,null,null,null,null,null,null,null,null,null,null,null,null,null,null,null,null,null,null,null,null,null,"L Komplett Nära Norm 190","kg",2.6752000000000001E-2,5.28E-3,7.3039999999999997E-3,264,0.88,4,null,"kraftfoder, spannmål etc.",null,"L Fortius 322 ","kg",2.9083999999999999E-2,5.6893330000000004E-3,6.3020000000000003E-3,264,0.88,4,null,null,"inköpt",null,"L Sund Akleja Nära","kg",4.5504000000000003E-2,4.4999999999999997E-3,1.7999999999999999E-2,264,0.88,5,null,"kraftfoder, spannmål etc."]
[null,null,null,null,null,null,null,null,null,null,null,null,null,null,null,null,null,null,null,null,null,null,null,null,null,null,null,null,null,null,null,null,"L Komplett Nära Norm 190","kg",2.6703999999999999E-2,5.5700000000000003E-3,7.2150000000000001E-3,265,0.88,4,null,"kraftfoder, spannmål etc.",null,"L Freja 170 ","kg",2.1587933E-2,4.5600670000000001E-3,6.7125329999999997E-3,265,0.88,4,null,null,"inköpt",null,"L Sund Blåsippa","kg",2.5203199999999999E-2,3.5200000000000001E-3,9.6799999999999994E-3,265,0.88,5,null,"kraftfoder, spannmål etc."]
[null,null,null,null,null,null,null,null,null,null,null,null,null,null,null,null,null,null,null,null,null,null,null,null,null,null,null,null,null,null,null,null,"L Komplett Nära Xtra 210","kg",2.988E-2,5.9950000000000003E-3,7.6680000000000003E-3,266,0.88,4,null,"kraftfoder, spannmål etc.",null,"L Freja 175 Plus  ","kg",2.2035833000000001E-2,5.1213329999999996E-3,7.1511669999999999E-3,266,0.88,4,null,null,"inköpt",null,"L Sund Friskus","kg",2.9093999999999998E-2,6.9849999999999999E-3,8.9680000000000003E-3,266,0.88,5,null,"kraftfoder, spannmål etc."]
[null,null,null,null,null,null,null,null,null,null,null,null,null,null,null,null,null,null,null,null,null,null,null,null,null,null,null,null,null,null,null,null,"L Komplett Pektin 200","kg",2.8639999999999999E-2,4.9569999999999996E-3,6.8580000000000004E-3,267,0.88,4,null,"kraftfoder, spannmål etc.",null,"L Freja Plus 2kg Mycofix  ","kg",2.21186666666667E-2,5.2753333333333298E-3,7.2946666666666698E-3,267,0.88,4,null,null,"inköpt",null,"L Sund Gullviva","kg",4.5280000000000001E-2,5.6820000000000004E-3,1.4612E-2,267,0.88,5,null,"kraftfoder, spannmål etc."]
[null,null,null,null,null,null,null,null,null,null,null,null,null,null,null,null,null,null,null,null,null,null,null,null,null,null,null,null,null,null,null,null,"L Komplett Profi","kg",3.0789E-2,5.2030000000000002E-3,9.1610000000000007E-3,268,0.88,4,null,"kraftfoder, spannmål etc.",null,"L Försök SLU Slakt 3  ","kg",2.4032332999999999E-2,4.1720000000000004E-3,6.215E-3,268,0.88,4,null,null,"inköpt",null,"L Sund Koppla Amin","kg",4.8800000000000003E-2,4.8269999999999997E-3,1.9515000000000001E-2,268,0.88,5,null,"kraftfoder, spannmål etc."]
[null,null,null,null,null,null,null,null,null,null,null,null,null,null,null,null,null,null,null,null,null,null,null,null,null,null,null,null,null,null,null,null,"L Komplett Xtra 205","kg",2.879E-2,5.9880000000000003E-3,8.3730000000000002E-3,269,0.88,4,null,"kraftfoder, spannmål etc.",null,"L Försök SLU Slakt 4  ","kg",2.1593000000000001E-2,4.3116669999999999E-3,6.0686669999999998E-3,269,0.88,4,null,null,"inköpt",null,"L Sund Koppla Fiber","kg",4.3520000000000003E-2,5.4520000000000002E-3,1.5443999999999999E-2,269,0.88,5,null,"kraftfoder, spannmål etc."]
[null,null,null,null,null,null,null,null,null,null,null,null,null,null,null,null,null,null,null,null,null,null,null,null,null,null,null,null,null,null,null,null,"L Konkret Amin 33","kg",4.7039999999999998E-2,7.1110000000000001E-3,1.2512000000000001E-2,270,0.88,4,null,"kraftfoder, spannmål etc.",null,"L Gottfrid 370 ","kg",2.3678000000000001E-2,5.1953329999999999E-3,7.4771669999999998E-3,270,0.88,4,null,null,"inköpt",null,"L Sund Koppla Norm","kg",4.7717000000000002E-2,4.8479999999999999E-3,1.8988999999999999E-2,270,0.88,5,null,"kraftfoder, spannmål etc."]
[null,null,null,null,null,null,null,null,null,null,null,null,null,null,null,null,null,null,null,null,null,null,null,null,null,null,null,null,null,null,null,null,"L Konkret Fiber 25","kg",3.6395999999999998E-2,7.5919999999999998E-3,9.7789999999999995E-3,271,0.88,4,null,"kraftfoder, spannmål etc.",null,"L Gårds Prx vit + spår sugg","kg",3.6080000000000001E-3,1.0460000000000001E-3,1.7459999999999999E-3,271,0.88,4,null,null,"inköpt",null,"L Sund Merax","kg",4.5280000000000001E-2,5.6230000000000004E-3,1.6645E-2,271,0.88,5,null,"kraftfoder, spannmål etc."]
[null,null,null,null,null,null,null,null,null,null,null,null,null,null,null,null,null,null,null,null,null,null,null,null,null,null,null,null,null,null,null,null,"L Konkret Gotland 99","kg",4.8416000000000001E-2,6.2300000000000003E-3,1.157E-2,272,0.88,4,null,"kraftfoder, spannmål etc.",null,"L Gårdspremix Vit + Spårämne Slakt  ","kg",4.8129999999999996E-3,1.5399999999999999E-3,2.11733333333333E-3,272,0.88,4,null,null,"inköpt",null,"L Sund Mjölkeko","kg",1.9199999999999998E-2,3.2049999999999999E-3,4.1669999999999997E-3,272,0.88,5,null,"kraftfoder, spannmål etc."]
[null,null,null,null,null,null,null,null,null,null,null,null,null,null,null,null,null,null,null,null,null,null,null,null,null,null,null,null,null,null,null,null,"L Konkret Gute 24","kg",3.4745600000000001E-2,7.0309999999999999E-3,9.7900000000000001E-3,273,0.88,4,null,"kraftfoder, spannmål etc.",null,"L Hullda 155","kg",1.9068999999999999E-2,4.1773330000000001E-3,5.8079999999999998E-3,273,0.88,4,null,null,"inköpt",null,"L Sund Rejäl","kg",2.7112000000000001E-2,4.7089999999999996E-3,7.2350000000000001E-3,273,0.88,5,null,"kraftfoder, spannmål etc."]
[null,null,null,null,null,null,null,null,null,null,null,null,null,null,null,null,null,null,null,null,null,null,null,null,null,null,null,null,null,null,null,null,"L Konkret Maxa 24","kg",3.4221000000000001E-2,6.326E-3,9.2669999999999992E-3,274,0.88,4,null,"kraftfoder, spannmål etc.",null,"L Intro Plus ","kg",2.8223167E-2,6.5123330000000004E-3,7.4580000000000002E-3,274,0.88,4,null,null,"inköpt",null,"L Sund Smörboll test","kg",4.8959999999999997E-2,5.4000000000000003E-3,1.7999999999999999E-2,274,0.88,5,null,"kraftfoder, spannmål etc."]
[null,null,null,null,null,null,null,null,null,null,null,null,null,null,null,null,null,null,null,null,null,null,null,null,null,null,null,null,null,null,null,null,"L Konkret Mega 28","kg",3.984E-2,5.666E-3,1.1351999999999999E-2,275,0.88,4,null,"kraftfoder, spannmål etc.",null,"L Kanalj 340   ","kg",2.5808221999999999E-2,5.2300000000000003E-3,6.6288889999999998E-3,275,0.88,4,null,null,"inköpt",null,"L Sund Total Amin","kg",3.2800000000000003E-2,3.5669999999999999E-3,1.0638E-2,275,0.88,5,null,"kraftfoder, spannmål etc."]
[null,null,null,null,null,null,null,null,null,null,null,null,null,null,null,null,null,null,null,null,null,null,null,null,null,null,null,null,null,null,null,null,"L Konkret N 32","kg",4.512E-2,8.5000000000000006E-3,9.9679999999999994E-3,276,0.88,4,null,"kraftfoder, spannmål etc.",null,"L Kanalj 344   ","kg",2.8358332999999999E-2,4.6903329999999997E-3,7.0873330000000003E-3,276,0.88,4,null,null,"inköpt",null,"L Sund Total Fiber","kg",2.4559000000000001E-2,3.3219999999999999E-3,8.9619999999999995E-3,276,0.88,5,null,"kraftfoder, spannmål etc."]
[null,null,null,null,null,null,null,null,null,null,null,null,null,null,null,null,null,null,null,null,null,null,null,null,null,null,null,null,null,null,null,null,"L Konkret Norm 27","kg",3.8699999999999998E-2,7.633E-3,1.0323000000000001E-2,277,0.88,4,null,"kraftfoder, spannmål etc.",null,"L Kax 420 ","kg",5.9998833000000001E-2,1.1275500000000001E-2,1.4430500000000001E-2,277,0.88,4,null,null,"inköpt",null,"L Sund Total Norm","kg",2.7119999999999998E-2,3.5790000000000001E-3,8.6289999999999995E-3,277,0.88,5,null,"kraftfoder, spannmål etc."]
[null,null,null,null,null,null,null,null,null,null,null,null,null,null,null,null,null,null,null,null,null,null,null,null,null,null,null,null,null,null,null,null,"L Konkret Nära Fiber 27","kg",3.8399999999999997E-2,8.0000000000000002E-3,1.0078999999999999E-2,278,0.88,4,null,"kraftfoder, spannmål etc.",null,"L Kax 430  ","kg",6.3794000000000003E-2,1.03326666666667E-2,1.23313333333333E-2,278,0.88,4,null,null,"inköpt",null,"L Sund Viol Nära","kg",2.6752000000000001E-2,3.5200000000000001E-3,9.6799999999999994E-3,278,0.88,5,null,"kraftfoder, spannmål etc."]
[null,null,null,null,null,null,null,null,null,null,null,null,null,null,null,null,null,null,null,null,null,null,null,null,null,null,null,null,null,null,null,null,"L Konkret Nära Norm 29","kg",4.1547000000000001E-2,8.4060000000000003E-3,1.0435E-2,279,0.88,4,null,"kraftfoder, spannmål etc.",null,"L Kax 440 ","kg",5.8511500000000001E-2,1.4092500000000001E-2,1.2298666999999999E-2,279,0.88,4,null,null,"inköpt",null,"L Sund Vässa Mix","kg",5.6000000000000001E-2,5.6090000000000003E-3,1.9899E-2,279,0.88,5,null,"kraftfoder, spannmål etc."]
[null,null,null,null,null,null,null,null,null,null,null,null,null,null,null,null,null,null,null,null,null,null,null,null,null,null,null,null,null,null,null,null,"L Konkret Nära Xtra 31","kg",4.4122000000000001E-2,8.0370000000000007E-3,1.0023000000000001E-2,280,0.88,4,null,"kraftfoder, spannmål etc.",null,"L Kax 450 ","kg",6.5194332999999993E-2,1.1575E-2,8.1596670000000007E-3,280,0.88,4,null,null,"inköpt",null,"La Energibalans","kg",0,0,0,280,0.88,5,null,"kraftfoder, spannmål etc."]
[null,null,null,null,null,null,null,null,null,null,null,null,null,null,null,null,null,null,null,null,null,null,null,null,null,null,null,null,null,null,null,null,"L Konkret Xtra 32","kg",4.5679999999999998E-2,7.4879999999999999E-3,1.0758999999999999E-2,281,0.88,4,null,"kraftfoder, spannmål etc.",null,"L Kax 470 ","kg",3.9850999999999998E-2,9.509333E-3,9.4006669999999997E-3,281,0.88,4,null,null,"inköpt",null,"La Kalv 1","kg",3.2099999999999997E-2,7.7000000000000002E-3,1.5E-3,281,0.88,5,null,"kraftfoder, spannmål etc."]
[null,null,null,null,null,null,null,null,null,null,null,null,null,null,null,null,null,null,null,null,null,null,null,null,null,null,null,null,null,null,null,null,"L Nötfor Bas","kg",1.8304000000000001E-2,4.4000000000000003E-3,7.0400000000000003E-3,282,0.88,4,null,"kraftfoder, spannmål etc.",null,"L Kompakt 2527","kg",2.9593330000000002E-3,5.7176333000000003E-2,2.3613330000000002E-3,282,0.88,4,null,null,"inköpt",null,"La Kalvolact","kg",3.3799999999999997E-2,7.7000000000000002E-3,1.1999999999999999E-3,282,0.88,5,null,"kraftfoder, spannmål etc."]
[null,null,null,null,null,null,null,null,null,null,null,null,null,null,null,null,null,null,null,null,null,null,null,null,null,null,null,null,null,null,null,null,"L Protect Power","kg",3.3036799999999998E-2,0,0,283,0.88,4,null,"kraftfoder, spannmål etc.",null,"L Kompakt 2531","kg",1.8990333000000002E-2,2.0017E-2,3.4246670000000002E-3,283,0.88,4,null,null,"inköpt",null,"La Kalvolact Extra","kg",3.4099999999999998E-2,6.7000000000000002E-3,1.1999999999999999E-3,283,0.88,5,null,"kraftfoder, spannmål etc."]
[null,null,null,null,null,null,null,null,null,null,null,null,null,null,null,null,null,null,null,null,null,null,null,null,null,null,null,null,null,null,null,null,"L Protect Strong","kg",1.4607999999999999E-2,0,0,284,0.88,4,null,"kraftfoder, spannmål etc.",null,"L Kompakt 2532 + Biotin","kg",1.153E-2,2.2512332999999999E-2,3.7273330000000002E-3,284,0.88,4,null,null,"inköpt",null,"La Strong Protect","kg",2.07E-2,5.0000000000000001E-3,2.0000000000000001E-4,284,0.88,5,null,"kraftfoder, spannmål etc."]
[null,null,null,null,null,null,null,null,null,null,null,null,null,null,null,null,null,null,null,null,null,null,null,null,null,null,null,null,null,null,null,null,"L Proteinmix","kg",5.3398399999999999E-2,7.2160000000000002E-3,9.0200000000000002E-3,285,0.88,4,null,"kraftfoder, spannmål etc.",null,"L Kompakt 2533","kg",6.6376669999999999E-3,1.7340999999999999E-2,2.8523329999999999E-3,285,0.88,4,null,null,"inköpt",null,"Lactamat","kg",3.5999999999999997E-2,8.9999999999999993E-3,1.7000000000000001E-2,285,0.88,5,null,"kraftfoder, spannmål etc."]
[null,null,null,null,null,null,null,null,null,null,null,null,null,null,null,null,null,null,null,null,null,null,null,null,null,null,null,null,null,null,null,null,"L Raps 60%/drank 40%","kg",5.1406399999999998E-2,9.7900000000000001E-3,1.4596E-2,286,0.88,4,null,"kraftfoder, spannmål etc.",null,"L Kompakt 2534","kg",9.4420000000000007E-3,2.3951666999999999E-2,2.788333E-3,286,0.88,4,null,null,"inköpt",null,"LysiGEM","kg",8.8704000000000005E-2,0,0,286,0.88,5,null,"kraftfoder, spannmål etc."]
[null,null,null,null,null,null,null,null,null,null,null,null,null,null,null,null,null,null,null,null,null,null,null,null,null,null,null,null,null,null,null,null,"L SL 3010","kg",6.4507200000000001E-2,7.1199999999999996E-3,1.5129999999999999E-2,287,0.88,4,null,"kraftfoder, spannmål etc.",null,"L Kompakt 2535","kg",1.0426E-2,2.1910333000000001E-2,2.3410000000000002E-3,287,0.88,4,null,null,"inköpt",null,"LysiPEARL(TM)","kg",6.368E-2,0,0,287,0.88,5,null,"kraftfoder, spannmål etc."]
[null,null,null,null,null,null,null,null,null,null,null,null,null,null,null,null,null,null,null,null,null,null,null,null,null,null,null,null,null,null,null,null,"L SLU Bipr u aa","kg",2.08384E-2,3.6960000000000001E-3,7.0400000000000003E-3,288,0.88,4,null,"kraftfoder, spannmål etc.",null,"L Kompakt 2536","kg",1.7211667E-2,2.1443332999999998E-2,3.934E-3,288,0.88,4,null,null,"inköpt",null,"Mepron","kg",0.13600000000000001,0,0,288,0.88,5,null,"kraftfoder, spannmål etc."]
[null,null,null,null,null,null,null,null,null,null,null,null,null,null,null,null,null,null,null,null,null,null,null,null,null,null,null,null,null,null,null,null,"L Sund 7 konc","kg",4.6991999999999999E-2,4.8060000000000004E-3,1.6910000000000001E-2,289,0.88,4,null,"kraftfoder, spannmål etc.",null,"L Kompakt 2537 ","kg",1.8847666999999999E-2,1.9961333000000001E-2,3.3576669999999999E-3,289,0.88,4,null,null,"inköpt",null,"MetaSmart(R) Dry","kg",7.0963200000000004E-2,0,0,289,0.88,5,null,"kraftfoder, spannmål etc."]
[null,null,null,null,null,null,null,null,null,null,null,null,null,null,null,null,null,null,null,null,null,null,null,null,null,null,null,null,null,null,null,null,"L Sund Akleja Nära","kg",4.5504000000000003E-2,4.4999999999999997E-3,1.7999999999999999E-2,290,0.88,4,null,"kraftfoder, spannmål etc.",null,"L Kompakt 2538  ","kg",1.7971000000000001E-2,2.6276999999999998E-2,2.4589999999999998E-3,290,0.88,4,null,null,"inköpt",null,"MetaSmart(R) Liquid","kg",0.1184448,0,0,290,0.88,5,null,"kraftfoder, spannmål etc."]
[null,null,null,null,null,null,null,null,null,null,null,null,null,null,null,null,null,null,null,null,null,null,null,null,null,null,null,null,null,null,null,null,"L Sund Blåsippa","kg",2.5203199999999999E-2,3.5200000000000001E-3,9.6799999999999994E-3,291,0.88,4,null,"kraftfoder, spannmål etc.",null,"L Kompakt 2541 Selen  ","kg",9.7146669999999997E-3,2.4140000000000002E-2,2.0866669999999999E-3,291,0.88,4,null,null,"inköpt",null,"Nitrat","kg",0.2214016,0,0,291,0.88,5,null,"kraftfoder, spannmål etc."]
[null,null,null,null,null,null,null,null,null,null,null,null,null,null,null,null,null,null,null,null,null,null,null,null,null,null,null,null,null,null,null,null,"L Sund Friskus","kg",2.9093999999999998E-2,6.9849999999999999E-3,8.9680000000000003E-3,292,0.88,4,null,"kraftfoder, spannmål etc.",null,"L Kompakt 2544","kg",4.8300000000000001E-3,2.7551666999999998E-2,1.622E-3,292,0.88,4,null,null,"inköpt",null,"SA Bäst 100","kg",2.784E-2,6.5250000000000004E-3,0,292,0.88,5,null,"kraftfoder, spannmål etc."]
[null,null,null,null,null,null,null,null,null,null,null,null,null,null,null,null,null,null,null,null,null,null,null,null,null,null,null,null,null,null,null,null,"L Sund Gullviva","kg",4.5280000000000001E-2,5.6820000000000004E-3,1.4612E-2,293,0.88,4,null,"kraftfoder, spannmål etc.",null,"L Kompakt 2545 ","kg",9.2833329999999995E-3,2.6251666999999999E-2,2.8123330000000002E-3,293,0.88,4,null,null,"inköpt",null,"SA Bäst 105","kg",3.1320000000000001E-2,6.5250000000000004E-3,0,293,0.88,5,null,"kraftfoder, spannmål etc."]
[null,null,null,null,null,null,null,null,null,null,null,null,null,null,null,null,null,null,null,null,null,null,null,null,null,null,null,null,null,null,null,null,"L Sund Koppla Amin","kg",4.8800000000000003E-2,4.8269999999999997E-3,1.9515000000000001E-2,294,0.88,4,null,"kraftfoder, spannmål etc.",null,"L Kompakt 2548 Selen MED  ","kg",5.0686666666666701E-3,2.3113000000000002E-2,1.7179999999999999E-3,294,0.88,4,null,null,"inköpt",null,"SA Bäst 115","kg",3.4104000000000002E-2,6.5250000000000004E-3,0,294,0.88,5,null,"kraftfoder, spannmål etc."]
[null,null,null,null,null,null,null,null,null,null,null,null,null,null,null,null,null,null,null,null,null,null,null,null,null,null,null,null,null,null,null,null,"L Sund Koppla Fiber","kg",4.3520000000000003E-2,5.4520000000000002E-3,1.5443999999999999E-2,295,0.88,4,null,"kraftfoder, spannmål etc.",null,"L Kompakt 2549  ","kg",1.0278333333333301E-2,2.4114666666666701E-2,2.2756666666666702E-3,295,0.88,4,null,null,"inköpt",null,"SA Bäst 2018","kg",3.9671999999999999E-2,6.0899999999999999E-3,8.5260000000000006E-3,295,0.88,5,null,"kraftfoder, spannmål etc."]
[null,null,null,null,null,null,null,null,null,null,null,null,null,null,null,null,null,null,null,null,null,null,null,null,null,null,null,null,null,null,null,null,"L Sund Koppla Norm","kg",4.7717000000000002E-2,4.8479999999999999E-3,1.8988999999999999E-2,296,0.88,4,null,"kraftfoder, spannmål etc.",null,"L Kompakt 2550 MED  ","kg",6.6759999999999996E-3,1.5077666666666699E-2,2.8543333333333298E-3,296,0.88,4,null,null,"inköpt",null,"SA Bäst 250 ","kg",3.8975999999999997E-2,7.8300000000000002E-3,0,296,0.88,5,null,"kraftfoder, spannmål etc."]
[null,null,null,null,null,null,null,null,null,null,null,null,null,null,null,null,null,null,null,null,null,null,null,null,null,null,null,null,null,null,null,null,"L Sund Merax","kg",4.5280000000000001E-2,5.6230000000000004E-3,1.6645E-2,297,0.88,4,null,"kraftfoder, spannmål etc.",null,"L Kompakt 2551","kg",6.6323329999999998E-3,1.7340000000000001E-2,2.8513330000000002E-3,297,0.88,4,null,null,"inköpt",null,"SA Bäst 250 Gräddig","kg",3.8975999999999997E-2,8.2649999999999998E-3,0,297,0.88,5,null,"kraftfoder, spannmål etc."]
[null,null,null,null,null,null,null,null,null,null,null,null,null,null,null,null,null,null,null,null,null,null,null,null,null,null,null,null,null,null,null,null,"L Sund Mjölkeko","kg",1.9199999999999998E-2,3.2049999999999999E-3,4.1669999999999997E-3,298,0.88,4,null,"kraftfoder, spannmål etc.",null,"L Kompakt 2552  ","kg",8.9153333333333307E-3,1.7378666666666698E-2,3.5116666666666699E-3,298,0.88,4,null,null,"inköpt",null,"SA Bäst 305 ","kg",4.2456000000000001E-2,7.8300000000000002E-3,0,298,0.88,5,null,"kraftfoder, spannmål etc."]
[null,null,null,null,null,null,null,null,null,null,null,null,null,null,null,null,null,null,null,null,null,null,null,null,null,null,null,null,null,null,null,null,"L Sund Rejäl","kg",2.7112000000000001E-2,4.7089999999999996E-3,7.2350000000000001E-3,299,0.88,4,null,"kraftfoder, spannmål etc.",null,"L Kompakt 2553  ","kg",1.043E-2,2.1184666666666699E-2,1.86233333333333E-3,299,0.88,4,null,null,"inköpt",null,"SA Bäst Dubbel Gräddig ","kg",4.2456000000000001E-2,8.2649999999999998E-3,0,299,0.88,5,null,"kraftfoder, spannmål etc."]
[null,null,null,null,null,null,null,null,null,null,null,null,null,null,null,null,null,null,null,null,null,null,null,null,null,null,null,null,null,null,null,null,"L Sund Smörboll test","kg",4.8959999999999997E-2,5.4000000000000003E-3,1.7999999999999999E-2,300,0.88,4,null,"kraftfoder, spannmål etc.",null,"L Kompakt 2554  ","kg",1.54596666666667E-2,2.0718666666666701E-2,3.4353333333333302E-3,300,0.88,4,null,null,"inköpt",null,"SA Bäst Extra ","kg",4.224E-2,7.4799999999999997E-3,1.1440000000000001E-2,300,0.88,5,null,"kraftfoder, spannmål etc."]
[null,null,null,null,null,null,null,null,null,null,null,null,null,null,null,null,null,null,null,null,null,null,null,null,null,null,null,null,null,null,null,null,"L Sund Total Amin","kg",3.2800000000000003E-2,3.5669999999999999E-3,1.0638E-2,301,0.88,4,null,"kraftfoder, spannmål etc.",null,"L Kompakt 2555  ","kg",8.0166666666666702E-3,1.7141666666666701E-2,3.2260000000000001E-3,301,0.88,4,null,null,"inköpt",null,"SA Bäst Grovfoderkomplement ","kg",1.9487999999999998E-2,4.8719999999999996E-3,7.4819999999999999E-3,301,0.88,5,null,"kraftfoder, spannmål etc."]
[null,null,null,null,null,null,null,null,null,null,null,null,null,null,null,null,null,null,null,null,null,null,null,null,null,null,null,null,null,null,null,null,"L Sund Total Fiber","kg",2.4559000000000001E-2,3.3219999999999999E-3,8.9619999999999995E-3,302,0.88,4,null,"kraftfoder, spannmål etc.",null,"L Kompakt 2556  ","kg",5.7029999999999997E-3,1.7079666666666701E-2,2.5413333333333299E-3,302,0.88,4,null,null,"inköpt",null,"SA Bäst Grund ","kg",1.9487999999999998E-2,4.8719999999999996E-3,7.4819999999999999E-3,302,0.88,5,null,"kraftfoder, spannmål etc."]
[null,null,null,null,null,null,null,null,null,null,null,null,null,null,null,null,null,null,null,null,null,null,null,null,null,null,null,null,null,null,null,null,"L Sund Total Norm","kg",2.7119999999999998E-2,3.5790000000000001E-3,8.6289999999999995E-3,303,0.88,4,null,"kraftfoder, spannmål etc.",null,"L Kompakt 2563  ","kg",1.0574E-2,2.1199333333333299E-2,1.9266666666666701E-3,303,0.88,4,null,null,"inköpt",null,"SA Bäst KalviLin ","kg",2.5055999999999998E-2,6.7860000000000004E-3,8.352E-3,303,0.88,5,null,"kraftfoder, spannmål etc."]
[null,null,null,null,null,null,null,null,null,null,null,null,null,null,null,null,null,null,null,null,null,null,null,null,null,null,null,null,null,null,null,null,"L Sund Viol Nära","kg",2.6752000000000001E-2,3.5200000000000001E-3,9.6799999999999994E-3,304,0.88,4,null,"kraftfoder, spannmål etc.",null,"L Kompakt 2564  ","kg",1.56006666666667E-2,2.07493333333333E-2,3.4953333333333299E-3,304,0.88,4,null,null,"inköpt",null,"SA Bäst Lite Gräddig ","kg",2.784E-2,6.96E-3,0,304,0.88,5,null,"kraftfoder, spannmål etc."]
[null,null,null,null,null,null,null,null,null,null,null,null,null,null,null,null,null,null,null,null,null,null,null,null,null,null,null,null,null,null,null,null,"L Sund Vässa Mix","kg",5.6000000000000001E-2,5.6090000000000003E-3,1.9899E-2,305,0.88,4,null,"kraftfoder, spannmål etc.",null,"L Kompakt 2600 ","kg",7.9070000000000008E-3,2.3874666999999999E-2,2.5276669999999999E-3,305,0.88,4,null,null,"inköpt",null,"SA Bäst Mer Gräddig ","kg",3.1320000000000001E-2,7.3949999999999997E-3,0,305,0.88,5,null,"kraftfoder, spannmål etc."]
[null,null,null,null,null,null,null,null,null,null,null,null,null,null,null,null,null,null,null,null,null,null,null,null,null,null,null,null,null,null,null,null,"La Energibalans","kg",0,0,0,306,0.88,4,null,"kraftfoder, spannmål etc.",null,"L Kompakt 4552","kg",2.3965E-2,3.5769000000000002E-2,3.2520000000000001E-3,306,0.88,4,null,null,"inköpt",null,"SA Bäst Mixer","kg",4.7328000000000002E-2,8.7000000000000001E-4,0,306,0.88,5,null,"kraftfoder, spannmål etc."]
[null,null,null,null,null,null,null,null,null,null,null,null,null,null,null,null,null,null,null,null,null,null,null,null,null,null,null,null,null,null,null,null,"La Kalv 1","kg",3.2099999999999997E-2,7.7000000000000002E-3,1.5E-3,307,0.88,4,null,"kraftfoder, spannmål etc.",null,"L Kompakt 4600","kg",4.3012000000000002E-2,9.435667E-3,4.5226670000000002E-3,307,0.88,4,null,null,"inköpt",null,"SA Bäst Mäktig","kg",2.2272E-2,4.5240000000000002E-3,7.4819999999999999E-3,307,0.88,5,null,"kraftfoder, spannmål etc."]
[null,null,null,null,null,null,null,null,null,null,null,null,null,null,null,null,null,null,null,null,null,null,null,null,null,null,null,null,null,null,null,null,"La Kalvolact","kg",3.3799999999999997E-2,7.7000000000000002E-3,1.1999999999999999E-3,308,0.88,4,null,"kraftfoder, spannmål etc.",null,"L Kompakt 4602  ","kg",4.3768000000000001E-2,1.0760333333333301E-2,4.3969999999999999E-3,308,0.88,4,null,null,"inköpt",null,"SA Bäst Prima","kg",3.6887999999999997E-2,6.96E-3,0,308,0.88,5,null,"kraftfoder, spannmål etc."]
[null,null,null,null,null,null,null,null,null,null,null,null,null,null,null,null,null,null,null,null,null,null,null,null,null,null,null,null,null,null,null,null,"La Kalvolact Extra","kg",3.4099999999999998E-2,6.7000000000000002E-3,1.1999999999999999E-3,309,0.88,4,null,"kraftfoder, spannmål etc.",null,"L Kompakt 4630  ","kg",4.2588000000000001E-2,1.7963E-2,3.5346666666666699E-3,309,0.88,4,null,null,"inköpt",null,"SA Bäst Sommar ","kg",2.436E-2,5.2199999999999998E-3,0,309,0.88,5,null,"kraftfoder, spannmål etc."]
[null,null,null,null,null,null,null,null,null,null,null,null,null,null,null,null,null,null,null,null,null,null,null,null,null,null,null,null,null,null,null,null,"La Strong Protect","kg",2.07E-2,5.0000000000000001E-3,2.0000000000000001E-4,310,0.88,4,null,"kraftfoder, spannmål etc.",null,"L Kompakt 8010","kg",3.0995000000000002E-2,3.831667E-3,4.8985000000000001E-3,310,0.88,4,null,null,{"$f":"inköpt","v":"inköpt"},null,"SA Bäst Sparsam Vinter ","kg",2.2272E-2,4.5240000000000002E-3,7.4819999999999999E-3,310,0.88,5,null,"kraftfoder, spannmål etc."]
[null,null,null,null,null,null,null,null,null,null,null,null,null,null,null,null,null,null,null,null,null,null,null,null,null,null,null,null,null,null,null,null,"Lactamat","kg",3.5999999999999997E-2,8.9999999999999993E-3,1.7000000000000001E-2,311,0.88,4,null,"kraftfoder, spannmål etc.",null,"L Kompakt 8011","kg",3.6371332999999999E-2,4.8560000000000001E-3,5.4673329999999996E-3,311,0.88,4,null,null,"inköpt",null,"SA Bäst Topp 3:an ","kg",3.6887999999999997E-2,5.6550000000000003E-3,0,311,0.88,5,null,"kraftfoder, spannmål etc."]
[null,null,null,null,null,null,null,null,null,null,null,null,null,null,null,null,null,null,null,null,null,null,null,null,null,null,null,null,null,null,null,null,"LysiGEM","kg",8.8704000000000005E-2,0,0,312,0.88,4,null,"kraftfoder, spannmål etc.",null,"L Kompakt 8014","kg",5.2212500000000002E-2,4.5960000000000003E-3,9.0404999999999999E-3,312,0.88,4,null,null,"inköpt",null,"SA Harmoni 60 ","kg",3.8016000000000001E-2,5.28E-3,0,312,0.88,5,null,"kraftfoder, spannmål etc."]
[null,null,null,null,null,null,null,null,null,null,null,null,null,null,null,null,null,null,null,null,null,null,null,null,null,null,null,null,null,null,null,null,"LysiPEARL(TM)","kg",6.368E-2,0,0,313,0.88,4,null,"kraftfoder, spannmål etc.",null,"L Kompakt 8509","kg",2.571E-2,1.1240999999999999E-2,2.9323330000000001E-3,313,0.88,4,null,null,"inköpt",null,"SA Harmoni 70","kg",4.7168000000000002E-2,6.1599999999999997E-3,0,313,0.88,5,null,"kraftfoder, spannmål etc."]
[null,null,null,null,null,null,null,null,null,null,null,null,null,null,null,null,null,null,null,null,null,null,null,null,null,null,null,null,null,null,null,null,"Mepron","kg",0.13600000000000001,0,0,314,0.88,4,null,"kraftfoder, spannmål etc.",null,"L Kompakt 8562","kg",1.6827999999999999E-2,1.3382E-2,2.3526670000000001E-3,314,0.88,4,null,null,"inköpt",null,"SA Harmoni 75","kg",5.0552E-2,5.3400000000000001E-3,0,314,0.88,5,null,"kraftfoder, spannmål etc."]
[null,null,null,null,null,null,null,null,null,null,null,null,null,null,null,null,null,null,null,null,null,null,null,null,null,null,null,null,null,null,null,null,"MetaSmart(R) Dry","kg",7.0963200000000004E-2,0,0,315,0.88,4,null,"kraftfoder, spannmål etc.",null,"L Kompakt 8571 MED  ","kg",1.9369000000000001E-2,1.9030666666666699E-2,3.065E-3,315,0.88,4,null,null,"inköpt",null,"SA Harmoni Fyran ","kg",3.3200800000000003E-2,4.4149999999999997E-3,0,315,0.88,5,null,"kraftfoder, spannmål etc."]
[null,null,null,null,null,null,null,null,null,null,null,null,null,null,null,null,null,null,null,null,null,null,null,null,null,null,null,null,null,null,null,null,"MetaSmart(R) Liquid","kg",0.1184448,0,0,316,0.88,4,null,"kraftfoder, spannmål etc.",null,"L Kompakt 8576  ","kg",1.78036666666667E-2,1.33403333333333E-2,2.2439999999999999E-3,316,0.88,4,null,null,"inköpt",null,"SA Harmoni Grov","kg",5.0552E-2,5.3400000000000001E-3,0,316,0.88,5,null,"kraftfoder, spannmål etc."]
[null,null,null,null,null,null,null,null,null,null,null,null,null,null,null,null,null,null,null,null,null,null,null,null,null,null,null,null,null,null,null,null,"Nitrat","kg",0.2214016,0,0,317,0.88,4,null,"kraftfoder, spannmål etc.",null,"L Kompakt 8579","kg",2.3009000000000002E-2,1.8223E-2,2.1549999999999998E-3,317,0.88,4,null,null,"inköpt",null,"SA Harmoni Kalv","kg",2.5055999999999998E-2,5.6550000000000003E-3,0,317,0.88,5,null,"kraftfoder, spannmål etc."]
[null,null,null,null,null,null,null,null,null,null,null,null,null,null,null,null,null,null,null,null,null,null,null,null,null,null,null,null,null,null,null,null,"SA Bäst 100","kg",2.784E-2,6.5250000000000004E-3,0,318,0.88,4,null,"kraftfoder, spannmål etc.",null,"L Kompakt 8580 ","kg",2.2780667000000001E-2,1.8337333000000001E-2,2.2799999999999999E-3,318,0.88,4,null,null,"inköpt",null,"SA Harmoni Kraftig","kg",3.1876799999999997E-2,4.3499999999999997E-3,0,318,0.88,5,null,"kraftfoder, spannmål etc."]
[null,null,null,null,null,null,null,null,null,null,null,null,null,null,null,null,null,null,null,null,null,null,null,null,null,null,null,null,null,null,null,null,"SA Bäst 105","kg",3.1320000000000001E-2,6.5250000000000004E-3,0,319,0.88,4,null,"kraftfoder, spannmål etc.",null,"L Kompakt 8581 ","kg",2.1705667000000001E-2,1.8020667000000001E-2,1.934E-3,319,0.88,4,null,null,"inköpt",null,"SA Harmoni Lagom ","kg",2.63088E-2,4.3499999999999997E-3,0,319,0.88,5,null,"kraftfoder, spannmål etc."]
[null,null,null,null,null,null,null,null,null,null,null,null,null,null,null,null,null,null,null,null,null,null,null,null,null,null,null,null,null,null,null,null,"SA Bäst 115","kg",3.4104000000000002E-2,6.5250000000000004E-3,0,320,0.88,4,null,"kraftfoder, spannmål etc.",null,"L Kompakt 8582 MED  ","kg",2.1705666666666699E-2,1.8020666666666699E-2,1.934E-3,320,0.88,4,null,null,"inköpt",null,"SA Harmoni Rejäl","kg",4.2720000000000001E-2,5.3400000000000001E-3,0,320,0.88,5,null,"kraftfoder, spannmål etc."]
[null,null,null,null,null,null,null,null,null,null,null,null,null,null,null,null,null,null,null,null,null,null,null,null,null,null,null,null,null,null,null,null,"SA Bäst 2018","kg",3.9671999999999999E-2,6.0899999999999999E-3,8.5260000000000006E-3,{"$f":"AL325+1","v":321},0.88,4,null,"kraftfoder, spannmål etc.",null,"L Kompakt 8587","kg",2.3564999999999999E-2,1.5002E-2,2.3673330000000001E-3,{"$f":"AW325+1","v":321},0.88,4,null,null,"inköpt",null,"SA Harmoni Tre","kg",2.9928E-2,5.2199999999999998E-3,0,{"$f":"BI325+1","v":321},0.88,5,null,"kraftfoder, spannmål etc."]
[null,null,null,null,null,null,null,null,null,null,null,null,null,null,null,null,null,null,null,null,null,null,null,null,null,null,null,null,null,null,null,null,"SA Bäst 250 ","kg",3.8975999999999997E-2,7.8300000000000002E-3,0,322,0.88,4,null,"kraftfoder, spannmål etc.",null,"L Kompakt 8592","kg",2.1281000000000001E-2,1.9973000000000001E-2,2.0530000000000001E-3,322,0.88,4,null,null,"inköpt",null,"SA Harmoni Två","kg",2.436E-2,4.7850000000000002E-3,0,322,0.88,5,null,"kraftfoder, spannmål etc."]
[null,null,null,null,null,null,null,null,null,null,null,null,null,null,null,null,null,null,null,null,null,null,null,null,null,null,null,null,null,null,null,null,"SA Bäst 250 Gräddig","kg",3.8975999999999997E-2,8.2649999999999998E-3,0,323,0.88,4,null,"kraftfoder, spannmål etc.",null,"L Kompakt 8593 ","kg",2.4279667000000001E-2,1.5387333E-2,1.8743329999999999E-3,323,0.88,4,null,null,"inköpt",null,"SA HARMONI U4 Får","kg",2.6447999999999999E-2,4.0889999999999998E-3,7.8300000000000002E-3,323,0.88,5,null,"kraftfoder, spannmål etc."]
[null,null,null,null,null,null,null,null,null,null,null,null,null,null,null,null,null,null,null,null,null,null,null,null,null,null,null,null,null,null,null,null,"SA Bäst 305 ","kg",4.2456000000000001E-2,7.8300000000000002E-3,0,324,0.88,4,null,"kraftfoder, spannmål etc.",null,"L Kompakt 8613","kg",2.4185999999999999E-2,1.2003E-2,3.5803330000000002E-3,324,0.88,4,null,null,"inköpt",null,"SA Kalvados","kg",0,9.7999999999999997E-3,0,324,0.88,5,null,"kraftfoder, spannmål etc."]
[null,null,null,null,null,null,null,null,null,null,null,null,null,null,null,null,null,null,null,null,null,null,null,null,null,null,null,null,null,null,null,null,"SA Bäst Dubbel Gräddig ","kg",4.2456000000000001E-2,8.2649999999999998E-3,0,325,0.88,4,null,"kraftfoder, spannmål etc.",null,"L Kompakt 8623","kg",1.5821667000000001E-2,1.425667E-3,2.1429999999999999E-3,325,0.88,4,null,null,"inköpt",null,"SA Kalvamma","kg",0,9.7999999999999997E-3,0,325,0.88,5,null,"kraftfoder, spannmål etc."]
[null,null,null,null,null,null,null,null,null,null,null,null,null,null,null,null,null,null,null,null,null,null,null,null,null,null,null,null,null,null,null,null,"SA Bäst Extra ","kg",4.224E-2,7.4799999999999997E-3,1.1440000000000001E-2,326,0.88,4,null,"kraftfoder, spannmål etc.",null,"L Kompakt 8625","kg",2.3765000000000001E-2,6.881E-3,2.712E-3,326,0.88,4,null,null,"inköpt",null,"SA Kalvextra","kg",0,9.7999999999999997E-3,0,326,0.88,5,null,"kraftfoder, spannmål etc."]
[null,null,null,null,null,null,null,null,null,null,null,null,null,null,null,null,null,null,null,null,null,null,null,null,null,null,null,null,null,null,null,null,"SA Bäst Grovfoderkomplement ","kg",1.9487999999999998E-2,4.8719999999999996E-3,7.4819999999999999E-3,327,0.88,4,null,"kraftfoder, spannmål etc.",null,"L Kompakt 8714 ","kg",2.7067999999999998E-2,9.1126669999999996E-3,3.0616670000000001E-3,327,0.88,4,null,null,"inköpt",null,"SA T Olssons Böna","kg",3.7308800000000003E-2,5.3400000000000001E-3,1.3617000000000001E-2,327,0.88,5,null,"kraftfoder, spannmål etc."]
[null,null,null,null,null,null,null,null,null,null,null,null,null,null,null,null,null,null,null,null,null,null,null,null,null,null,null,null,null,null,null,null,"SA Bäst Grund ","kg",1.9487999999999998E-2,4.8719999999999996E-3,7.4819999999999999E-3,328,0.88,4,null,"kraftfoder, spannmål etc.",null,"L Kompakt 8715","kg",2.9579667E-2,9.6199999999999996E-4,2.2786669999999998E-3,328,0.88,4,null,null,"inköpt",null,"SA WG Klassisk","kg",4.0832E-2,6.1599999999999997E-3,1.1440000000000001E-2,328,0.88,5,null,"kraftfoder, spannmål etc."]
[null,null,null,null,null,null,null,null,null,null,null,null,null,null,null,null,null,null,null,null,null,null,null,null,null,null,null,null,null,null,null,null,"SA Bäst KalviLin ","kg",2.5055999999999998E-2,6.7860000000000004E-3,8.352E-3,329,0.88,4,null,"kraftfoder, spannmål etc.",null,"L Kompakt 8719","kg",2.6123667E-2,1.3723000000000001E-2,2.4889999999999999E-3,329,0.88,4,null,null,"inköpt",null,"SA WG Klassisk Nära","kg",4.0832E-2,6.1599999999999997E-3,1.1440000000000001E-2,329,0.88,5,null,"kraftfoder, spannmål etc."]
[null,null,null,null,null,null,null,null,null,null,null,null,null,null,null,null,null,null,null,null,null,null,null,null,null,null,null,null,null,null,null,null,"SA Bäst Lite Gräddig ","kg",2.784E-2,6.96E-3,0,330,0.88,4,null,"kraftfoder, spannmål etc.",null,"L Kompakt 8721 ","kg",2.1354999999999999E-2,1.3119333E-2,1.703333E-3,330,0.88,4,null,null,"inköpt",null,"SA WG Original","kg",2.784E-2,4.3499999999999997E-3,8.2649999999999998E-3,330,0.88,5,null,"kraftfoder, spannmål etc."]
[null,null,null,null,null,null,null,null,null,null,null,null,null,null,null,null,null,null,null,null,null,null,null,null,null,null,null,null,null,null,null,null,"SA Bäst Mer Gräddig ","kg",3.1320000000000001E-2,7.3949999999999997E-3,0,331,0.88,4,null,"kraftfoder, spannmål etc.",null,"L Kompakt Norr Sugg   ","kg",9.3026666666666692E-3,2.2196666666666701E-2,2.6706666666666701E-3,331,0.88,4,null,null,"inköpt",null,"SA WG Original Gräddig ","kg",2.784E-2,5.2199999999999998E-3,8.6999999999999994E-3,331,0.88,5,null,"kraftfoder, spannmål etc."]
[null,null,null,null,null,null,null,null,null,null,null,null,null,null,null,null,null,null,null,null,null,null,null,null,null,null,null,null,null,null,null,null,"SA Bäst Mixer","kg",4.7328000000000002E-2,8.7000000000000001E-4,0,332,0.88,4,null,"kraftfoder, spannmål etc.",null,"L Kurant 328 ","kg",2.6971667000000001E-2,5.0406670000000004E-3,5.6220000000000003E-3,332,0.88,4,null,null,"inköpt",null,"SA WG Original Gräddig Nära","kg",2.784E-2,5.2199999999999998E-3,8.6999999999999994E-3,332,0.88,5,null,"kraftfoder, spannmål etc."]
[null,null,null,null,null,null,null,null,null,null,null,null,null,null,null,null,null,null,null,null,null,null,null,null,null,null,null,null,null,null,null,null,"SA Bäst Mäktig","kg",2.2272E-2,4.5240000000000002E-3,7.4819999999999999E-3,333,0.88,4,null,"kraftfoder, spannmål etc.",null,"L Kurant 329 ","kg",2.7050000000000001E-2,5.019333E-3,5.7403330000000002E-3,333,0.88,4,null,null,"inköpt",null,"SA WG Original Nära ","kg",2.784E-2,5.6550000000000003E-3,8.2649999999999998E-3,333,0.88,5,null,"kraftfoder, spannmål etc."]
[null,null,null,null,null,null,null,null,null,null,null,null,null,null,null,null,null,null,null,null,null,null,null,null,null,null,null,null,null,null,null,null,"SA Bäst Prima","kg",3.6887999999999997E-2,6.96E-3,0,334,0.88,4,null,"kraftfoder, spannmål etc.",null,"L Magda 120 ","kg",2.4010500000000001E-2,5.4865000000000001E-3,6.1033889999999999E-3,334,0.88,4,null,null,"inköpt",null,"SA WG Premium","kg",3.8297600000000001E-2,6.1599999999999997E-3,1.0999999999999999E-2,334,0.88,5,null,"kraftfoder, spannmål etc."]
[null,null,null,null,null,null,null,null,null,null,null,null,null,null,null,null,null,null,null,null,null,null,null,null,null,null,null,null,null,null,null,null,"SA Bäst Sommar ","kg",2.436E-2,5.2199999999999998E-3,0,335,0.88,4,null,"kraftfoder, spannmål etc.",null,"L Magda 121 ","kg",2.3330333000000002E-2,5.4710000000000002E-3,6.3119999999999999E-3,335,0.88,4,null,null,"inköpt",null,"SF Amino Topp","kg",4.1295999999999999E-2,5.7850000000000002E-3,1.157E-2,335,0.88,5,null,"kraftfoder, spannmål etc."]
[null,null,null,null,null,null,null,null,null,null,null,null,null,null,null,null,null,null,null,null,null,null,null,null,null,null,null,null,null,null,null,null,"SA Bäst Sparsam Vinter ","kg",2.2272E-2,4.5240000000000002E-3,7.4819999999999999E-3,336,0.88,4,null,"kraftfoder, spannmål etc.",null,"L Medly 352   ","kg",2.6262832999999999E-2,5.1686670000000001E-3,5.6033330000000003E-3,336,0.88,4,null,null,"inköpt",null,"SF Energi Balans","kg",2.8160000000000001E-2,4.6639999999999997E-3,8.8000000000000005E-3,336,0.88,5,null,"kraftfoder, spannmål etc."]
[null,null,null,null,null,null,null,null,null,null,null,null,null,null,null,null,null,null,null,null,null,null,null,null,null,null,null,null,null,null,null,null,"SA Bäst Topp 3:an ","kg",3.6887999999999997E-2,5.6550000000000003E-3,0,337,0.88,4,null,"kraftfoder, spannmål etc.",null,"L Medly 354   ","kg",2.6275832999999998E-2,5.1611670000000004E-3,5.6141669999999998E-3,337,0.88,4,null,null,"inköpt",null,"SF Energi Topp","kg",3.7735999999999999E-2,5.7850000000000002E-3,1.157E-2,337,0.88,5,null,"kraftfoder, spannmål etc."]
[null,null,null,null,null,null,null,null,null,null,null,null,null,null,null,null,null,null,null,null,null,null,null,null,null,null,null,null,null,null,null,null,"SA Harmoni 60 ","kg",3.8016000000000001E-2,5.28E-3,0,338,0.88,4,null,"kraftfoder, spannmål etc.",null,"L Meny 433  (Palett 491)  ","kg",6.5164E-2,1.1504E-2,8.0260000000000001E-3,338,0.88,4,null,null,"inköpt",null,"SF Fett Topp","kg",3.8448000000000003E-2,5.7850000000000002E-3,1.157E-2,338,0.88,5,null,"kraftfoder, spannmål etc."]
[null,null,null,null,null,null,null,null,null,null,null,null,null,null,null,null,null,null,null,null,null,null,null,null,null,null,null,null,null,null,null,null,"SA Harmoni 70","kg",4.7168000000000002E-2,6.1599999999999997E-3,0,339,0.88,4,null,"kraftfoder, spannmål etc.",null,"L Milla Avel 020","kg",5.0349832999999997E-2,1.1234333000000001E-2,1.0485667000000001E-2,339,0.88,4,null,null,"inköpt",null,"SF Grund Balans","kg",6.2371200000000002E-2,8.8999999999999999E-3,1.068E-2,339,0.88,5,null,"kraftfoder, spannmål etc."]
[null,null,null,null,null,null,null,null,null,null,null,null,null,null,null,null,null,null,null,null,null,null,null,null,null,null,null,null,null,null,null,null,"SA Harmoni 75","kg",5.0552E-2,5.3400000000000001E-3,0,340,0.88,4,null,"kraftfoder, spannmål etc.",null,"L Milla Di 046","kg",5.3643250000000003E-2,1.0960083000000001E-2,1.1712667E-2,340,0.88,4,null,null,"inköpt",null,"SF Grädd Topp","kg",4.2007999999999997E-2,5.7850000000000002E-3,1.157E-2,340,0.88,5,null,"kraftfoder, spannmål etc."]
[null,null,null,null,null,null,null,null,null,null,null,null,null,null,null,null,null,null,null,null,null,null,null,null,null,null,null,null,null,null,null,null,"SA Harmoni Fyran ","kg",3.3200800000000003E-2,4.4149999999999997E-3,0,341,0.88,4,null,"kraftfoder, spannmål etc.",null,"L Milla Di 060","kg",5.3648833E-2,8.9665000000000005E-3,1.2761583E-2,341,0.88,4,null,null,"inköpt",null,"SF Inga 215 ","kg",3.0272E-2,6.1599999999999997E-3,8.8000000000000005E-3,341,0.88,5,null,"kraftfoder, spannmål etc."]
[null,null,null,null,null,null,null,null,null,null,null,null,null,null,null,null,null,null,null,null,null,null,null,null,null,null,null,null,null,null,null,null,"SA Harmoni Grov","kg",5.0552E-2,5.3400000000000001E-3,0,342,0.88,4,null,"kraftfoder, spannmål etc.",null,"L Milla enh 042","kg",4.9055583E-2,1.2798583000000001E-2,1.0233917E-2,342,0.88,4,null,null,"inköpt",null,"SF Inga 230 ","kg",3.2384000000000003E-2,5.28E-3,8.8000000000000005E-3,342,0.88,5,null,"kraftfoder, spannmål etc."]
[null,null,null,null,null,null,null,null,null,null,null,null,null,null,null,null,null,null,null,null,null,null,null,null,null,null,null,null,null,null,null,null,"SA Harmoni Kalv","kg",2.5055999999999998E-2,5.6550000000000003E-3,0,343,0.88,4,null,"kraftfoder, spannmål etc.",null,"L Millex Di 210  ","kg",4.7911333333333299E-2,9.5036666666666707E-3,1.1326333333333299E-2,343,0.88,4,null,null,"inköpt",null,"SF Inga 290 ","kg",4.1295999999999999E-2,6.6750000000000004E-3,8.8999999999999999E-3,343,0.88,5,null,"kraftfoder, spannmål etc."]
[null,null,null,null,null,null,null,null,null,null,null,null,null,null,null,null,null,null,null,null,null,null,null,null,null,null,null,null,null,null,null,null,"SA Harmoni Kraftig","kg",3.1876799999999997E-2,4.3499999999999997E-3,0,344,0.88,4,null,"kraftfoder, spannmål etc.",null,"L Millex Di 250  ","kg",5.4004166999999999E-2,1.0468999999999999E-2,1.1712833000000001E-2,344,0.88,4,null,null,"inköpt",null,"SF Inga 310 ","kg",4.4144000000000003E-2,6.6750000000000004E-3,8.8999999999999999E-3,344,0.88,5,null,"kraftfoder, spannmål etc."]
[null,null,null,null,null,null,null,null,null,null,null,null,null,null,null,null,null,null,null,null,null,null,null,null,null,null,null,null,null,null,null,null,"SA Harmoni Lagom ","kg",2.63088E-2,4.3499999999999997E-3,0,345,0.88,4,null,"kraftfoder, spannmål etc.",null,"L Nautilus 324 ","kg",2.8350832999999999E-2,5.3449999999999999E-3,6.6033330000000003E-3,345,0.88,4,null,null,"inköpt",null,"SF Kombo Balans","kg",6.2371200000000002E-2,8.4550000000000007E-3,1.068E-2,345,0.88,5,null,"kraftfoder, spannmål etc."]
[null,null,null,null,null,null,null,null,null,null,null,null,null,null,null,null,null,null,null,null,null,null,null,null,null,null,null,null,null,null,null,null,"SA Harmoni Rejäl","kg",4.2720000000000001E-2,5.3400000000000001E-3,0,346,0.88,4,null,"kraftfoder, spannmål etc.",null,"L Nautilus 327 ","kg",2.8590999999999998E-2,7.0996669999999996E-3,7.5393329999999996E-3,346,0.88,4,null,null,"inköpt",null,"SF Mix Inga ","kg",6.0519999999999997E-2,8.8999999999999999E-3,8.8999999999999999E-3,346,0.88,5,null,"kraftfoder, spannmål etc."]
[null,null,null,null,null,null,null,null,null,null,null,null,null,null,null,null,null,null,null,null,null,null,null,null,null,null,null,null,null,null,null,null,"SA Harmoni Tre","kg",2.9928E-2,5.2199999999999998E-3,0,347,0.88,4,null,"kraftfoder, spannmål etc.",null,"L Piggex  ","kg",4.8469222222222198E-2,6.9428888888888899E-3,9.4597777777777805E-3,347,0.88,4,null,null,"inköpt",null,"SF Nora 29","kg",4.1295999999999999E-2,6.6750000000000004E-3,1.2460000000000001E-2,347,0.88,5,null,"kraftfoder, spannmål etc."]
[null,null,null,null,null,null,null,null,null,null,null,null,null,null,null,null,null,null,null,null,null,null,null,null,null,null,null,null,null,null,null,null,"SA Harmoni Två","kg",2.436E-2,4.7850000000000002E-3,0,348,0.88,4,null,"kraftfoder, spannmål etc.",null,"L Rakel 160   ","kg",1.9826111E-2,4.3725559999999997E-3,6.1722219999999998E-3,348,0.88,4,null,null,"inköpt",null,"SF Nora 32","kg",4.4856E-2,6.6750000000000004E-3,1.2460000000000001E-2,348,0.88,5,null,"kraftfoder, spannmål etc."]
[null,null,null,null,null,null,null,null,null,null,null,null,null,null,null,null,null,null,null,null,null,null,null,null,null,null,null,null,null,null,null,null,"SA HARMONI U4 Får","kg",2.6447999999999999E-2,4.0889999999999998E-3,7.8300000000000002E-3,349,0.88,4,null,"kraftfoder, spannmål etc.",null,"L Rakel 165   ","kg",1.9059E-2,3.454333E-3,4.999E-3,349,0.88,4,null,null,"inköpt",null,"SF Nora 35","kg",4.94128E-2,6.6750000000000004E-3,1.2460000000000001E-2,349,0.88,5,null,"kraftfoder, spannmål etc."]
[null,null,null,null,null,null,null,null,null,null,null,null,null,null,null,null,null,null,null,null,null,null,null,null,null,null,null,null,null,null,null,null,"SA Kalvados","kg",0,9.7999999999999997E-3,0,350,0.88,4,null,"kraftfoder, spannmål etc.",null,"L Rappid 320  ","kg",2.9736333333333299E-2,5.6218333333333302E-3,6.5526666666666702E-3,350,0.88,4,null,null,"inköpt",null,"SF Nora Plus","kg",4.4856E-2,6.6750000000000004E-3,1.2460000000000001E-2,350,0.88,5,null,"kraftfoder, spannmål etc."]
[null,null,null,null,null,null,null,null,null,null,null,null,null,null,null,null,null,null,null,null,null,null,null,null,null,null,null,null,null,null,null,null,"SA Kalvamma","kg",0,9.7999999999999997E-3,0,351,0.88,4,null,"kraftfoder, spannmål etc.",null,"L Rappid 321  ","kg",2.9736333333333299E-2,5.6218333333333302E-3,6.5526666666666702E-3,351,0.88,4,null,null,"inköpt",null,"SF PBV Topp","kg",4.5567999999999997E-2,5.7850000000000002E-3,1.157E-2,351,0.88,5,null,"kraftfoder, spannmål etc."]
[null,null,null,null,null,null,null,null,null,null,null,null,null,null,null,null,null,null,null,null,null,null,null,null,null,null,null,null,null,null,null,null,"SA Kalvextra","kg",0,9.7999999999999997E-3,0,352,0.88,4,null,"kraftfoder, spannmål etc.",null,"L Saga A125  ","kg",2.08423333333333E-2,4.7036666666666702E-3,5.4169999999999999E-3,352,0.88,4,null,null,"inköpt",null,"SF Primo Eko Kry","kg",2.7456000000000001E-2,3.784E-3,7.92E-3,352,0.88,5,null,"kraftfoder, spannmål etc."]
[null,null,null,null,null,null,null,null,null,null,null,null,null,null,null,null,null,null,null,null,null,null,null,null,null,null,null,null,null,null,null,null,"SA T Olssons Böna","kg",3.7308800000000003E-2,5.3400000000000001E-3,1.3617000000000001E-2,353,0.88,4,null,"kraftfoder, spannmål etc.",null,"L Saxa ","kg",5.2245E-2,6.7953333333333303E-3,1.05373333333333E-2,353,0.88,4,null,null,"inköpt",null,"SF Primo Intensiv","kg",2.8300800000000001E-2,5.104E-3,8.8000000000000005E-3,353,0.88,5,null,"kraftfoder, spannmål etc."]
[null,null,null,null,null,null,null,null,null,null,null,null,null,null,null,null,null,null,null,null,null,null,null,null,null,null,null,null,null,null,null,null,"SA WG Klassisk","kg",4.0832E-2,6.1599999999999997E-3,1.1440000000000001E-2,354,0.88,4,null,"kraftfoder, spannmål etc.",null,"L Smågris FF  ","kg",2.3746E-2,5.3299999999999997E-3,7.7770000000000001E-3,354,0.88,4,null,null,"inköpt",null,"SF Primo K","kg",4.37168E-2,7.1199999999999996E-3,9.7900000000000001E-3,354,0.88,5,null,"kraftfoder, spannmål etc."]
[null,null,null,null,null,null,null,null,null,null,null,null,null,null,null,null,null,null,null,null,null,null,null,null,null,null,null,null,null,null,null,null,"SA WG Klassisk Nära","kg",4.0832E-2,6.1599999999999997E-3,1.1440000000000001E-2,355,0.88,4,null,"kraftfoder, spannmål etc.",null,"L Sonja  L196 Plus  ","kg",2.6578833333333302E-2,5.63666666666667E-3,6.86816666666667E-3,355,0.88,4,null,null,"inköpt",null,"SF Primo Kalv Start","kg",2.8864000000000001E-2,5.0159999999999996E-3,9.6799999999999994E-3,355,0.88,5,null,"kraftfoder, spannmål etc."]
[null,null,null,null,null,null,null,null,null,null,null,null,null,null,null,null,null,null,null,null,null,null,null,null,null,null,null,null,null,null,null,null,"SA WG Original","kg",2.784E-2,4.3499999999999997E-3,8.2649999999999998E-3,356,0.88,4,null,"kraftfoder, spannmål etc.",null,"L Sonja  L197 Plus  ","kg",2.6610833333333299E-2,5.62E-3,6.8960000000000002E-3,356,0.88,4,null,null,"inköpt",null,"SF Primo Kviga","kg",2.5343999999999998E-2,5.8960000000000002E-3,1.056E-2,356,0.88,5,null,"kraftfoder, spannmål etc."]
[null,null,null,null,null,null,null,null,null,null,null,null,null,null,null,null,null,null,null,null,null,null,null,null,null,null,null,null,null,null,null,null,"SA WG Original Gräddig ","kg",2.784E-2,5.2199999999999998E-3,8.6999999999999994E-3,357,0.88,4,null,"kraftfoder, spannmål etc.",null,"L Sonja L191  ","kg",2.5708000000000002E-2,5.6816666666666699E-3,6.7823333333333303E-3,357,0.88,4,null,null,"inköpt",null,"SF Primo Müsli","kg",3.168E-2,3.6080000000000001E-3,9.6799999999999994E-3,357,0.88,5,null,"kraftfoder, spannmål etc."]
[null,null,null,null,null,null,null,null,null,null,null,null,null,null,null,null,null,null,null,null,null,null,null,null,null,null,null,null,null,null,null,null,"SA WG Original Gräddig Nära","kg",2.784E-2,5.2199999999999998E-3,8.6999999999999994E-3,358,0.88,4,null,"kraftfoder, spannmål etc.",null,"L Sonja Plus 1,5 kg Mycofix  ","kg",2.6532E-2,5.6930000000000001E-3,6.9923333333333296E-3,358,0.88,4,null,null,"inköpt",null,"SF Primo Pektin","kg",2.3513599999999999E-2,5.104E-3,1.056E-2,358,0.88,5,null,"kraftfoder, spannmål etc."]
[null,null,null,null,null,null,null,null,null,null,null,null,null,null,null,null,null,null,null,null,null,null,null,null,null,null,null,null,null,null,null,null,"SA WG Original Nära ","kg",2.784E-2,5.6550000000000003E-3,8.2649999999999998E-3,359,0.88,4,null,"kraftfoder, spannmål etc.",null,"L Spetsa 20","kg",4.4725666999999997E-2,7.5938330000000004E-3,9.4055000000000007E-3,359,0.88,4,null,null,"inköpt",null,"SF Primo Progress","kg",2.6892800000000001E-2,5.104E-3,7.92E-3,359,0.88,5,null,"kraftfoder, spannmål etc."]
[null,null,null,null,null,null,null,null,null,null,null,null,null,null,null,null,null,null,null,null,null,null,null,null,null,null,null,null,null,null,null,null,"SA WG Premium","kg",3.8297600000000001E-2,6.1599999999999997E-3,1.0999999999999999E-2,360,0.88,4,null,"kraftfoder, spannmål etc.",null,"L Stina 180 ","kg",2.2572556000000001E-2,4.9683330000000001E-3,5.2414439999999996E-3,360,0.88,4,null,null,"inköpt",null,"SF ProtiSpar Balans","kg",5.8383999999999998E-2,9.3449999999999991E-3,1.157E-2,360,0.88,5,null,"kraftfoder, spannmål etc."]
[null,null,null,null,null,null,null,null,null,null,null,null,null,null,null,null,null,null,null,null,null,null,null,null,null,null,null,null,null,null,null,null,"SF Amino Topp","kg",4.1295999999999999E-2,5.7850000000000002E-3,1.157E-2,361,0.88,4,null,"kraftfoder, spannmål etc.",null,"L Stina 181 ","kg",2.592825E-2,5.3496669999999998E-3,6.4943329999999997E-3,361,0.88,4,null,null,"inköpt",null,"SF Raps Balans","kg",5.9808E-2,9.1669999999999998E-3,1.068E-2,361,0.88,5,null,"kraftfoder, spannmål etc."]
[null,null,null,null,null,null,null,null,null,null,null,null,null,null,null,null,null,null,null,null,null,null,null,null,null,null,null,null,null,null,null,null,"SF Energi Balans","kg",2.8160000000000001E-2,4.6639999999999997E-3,8.8000000000000005E-3,362,0.88,4,null,"kraftfoder, spannmål etc.",null,"L SUND Grymt ","kg",2.7931444E-2,4.9606670000000002E-3,7.6909999999999999E-3,362,0.88,4,null,null,"inköpt",null,"SF Rosa 126","kg",3.19616E-2,4.8399999999999997E-3,8.8000000000000005E-3,362,0.88,5,null,"kraftfoder, spannmål etc."]
[null,null,null,null,null,null,null,null,null,null,null,null,null,null,null,null,null,null,null,null,null,null,null,null,null,null,null,null,null,null,null,null,"SF Energi Topp","kg",3.7735999999999999E-2,5.7850000000000002E-3,1.157E-2,363,0.88,4,null,"kraftfoder, spannmål etc.",null,"L SUND Grymtex ","kg",6.6185222000000002E-2,1.0193000000000001E-2,1.4906000000000001E-2,363,0.88,4,null,null,"inköpt",null,"SF Rosa 129","kg",3.5481600000000002E-2,4.8399999999999997E-3,1.0120000000000001E-2,363,0.88,5,null,"kraftfoder, spannmål etc."]
[null,null,null,null,null,null,null,null,null,null,null,null,null,null,null,null,null,null,null,null,null,null,null,null,null,null,null,null,null,null,null,null,"SF Fett Topp","kg",3.8448000000000003E-2,5.7850000000000002E-3,1.157E-2,364,0.88,4,null,"kraftfoder, spannmål etc.",null,"L SUND Kultex ","kg",6.8767333E-2,1.5025E-2,1.3738333E-2,364,0.88,4,null,null,"inköpt",null,"SF Rosa Eko Bas","kg",2.5343999999999998E-2,3.96E-3,7.92E-3,364,0.88,5,null,"kraftfoder, spannmål etc."]
[null,null,null,null,null,null,null,null,null,null,null,null,null,null,null,null,null,null,null,null,null,null,null,null,null,null,null,null,null,null,null,null,"SF Grund Balans","kg",6.2371200000000002E-2,8.8999999999999999E-3,1.068E-2,365,0.88,4,null,"kraftfoder, spannmål etc.",null,"L SUND Kulting ","kg",2.8775333E-2,5.8193330000000003E-3,6.3243329999999997E-3,365,0.88,4,null,null,"inköpt",null,"SF Rosa Eko Kapital","kg",3.3792000000000003E-2,3.96E-3,8.8000000000000005E-3,365,0.88,5,null,"kraftfoder, spannmål etc."]
[null,null,null,null,null,null,null,null,null,null,null,null,null,null,null,null,null,null,null,null,null,null,null,null,null,null,null,null,null,null,null,null,"SF Grädd Topp","kg",4.2007999999999997E-2,5.7850000000000002E-3,1.157E-2,366,0.88,4,null,"kraftfoder, spannmål etc.",null,"L SUND Soex ","kg",5.1491110999999999E-2,1.4066E-2,1.7289777999999999E-2,366,0.88,4,null,null,"inköpt",null,"SF Rosa Eko Klöver","kg",2.7174400000000001E-2,3.96E-3,7.4799999999999997E-3,366,0.88,5,null,"kraftfoder, spannmål etc."]
[null,null,null,null,null,null,null,null,null,null,null,null,null,null,null,null,null,null,null,null,null,null,null,null,null,null,null,null,null,null,null,null,"SF Inga 215 ","kg",3.0272E-2,6.1599999999999997E-3,8.8000000000000005E-3,367,0.88,4,null,"kraftfoder, spannmål etc.",null,"L SUND Sofina ","kg",2.5455999999999999E-2,6.1196669999999996E-3,7.6887780000000003E-3,367,0.88,4,null,null,"inköpt",null,"SF Rosa Energi","kg",2.9568000000000001E-2,4.8399999999999997E-3,8.8000000000000005E-3,367,0.88,5,null,"kraftfoder, spannmål etc."]
[null,null,null,null,null,null,null,null,null,null,null,null,null,null,null,null,null,null,null,null,null,null,null,null,null,null,null,null,null,null,null,null,"SF Inga 230 ","kg",3.2384000000000003E-2,5.28E-3,8.8000000000000005E-3,368,0.88,4,null,"kraftfoder, spannmål etc.",null,"L Växtill Med 5 kg Tylan/ton  ","kg",2.7733166666666701E-2,6.8209999999999998E-3,6.5748333333333301E-3,368,0.88,4,null,null,"inköpt",null,"SF Rosa Fett","kg",2.9145600000000001E-2,4.8399999999999997E-3,1.1440000000000001E-2,368,0.88,5,null,"kraftfoder, spannmål etc."]
[null,null,null,null,null,null,null,null,null,null,null,null,null,null,null,null,null,null,null,null,null,null,null,null,null,null,null,null,null,null,null,null,"SF Inga 290 ","kg",4.1295999999999999E-2,6.6750000000000004E-3,8.8999999999999999E-3,369,0.88,4,null,"kraftfoder, spannmål etc.",null,"L Zigge Max 2,5kg Vetzin Med","kg",2.5249166666666701E-2,6.7850000000000002E-3,6.4555000000000003E-3,369,0.88,4,null,null,"inköpt",null,"SF Rosa Grädde","kg",3.168E-2,4.8399999999999997E-3,9.6799999999999994E-3,369,0.88,5,null,"kraftfoder, spannmål etc."]
[null,null,null,null,null,null,null,null,null,null,null,null,null,null,null,null,null,null,null,null,null,null,null,null,null,null,null,null,null,null,null,null,"SF Inga 310 ","kg",4.4144000000000003E-2,6.6750000000000004E-3,8.8999999999999999E-3,370,0.88,4,null,"kraftfoder, spannmål etc.",null,"L Zigge Max 3,0kg Vetzin Med","kg",2.3939333333333299E-2,6.5758333333333302E-3,7.0468333333333303E-3,370,0.88,4,null,null,"inköpt",null,"SF Rosa Norr","kg",2.9145600000000001E-2,5.9839999999999997E-3,8.8000000000000005E-3,370,0.88,5,null,"kraftfoder, spannmål etc."]
[null,null,null,null,null,null,null,null,null,null,null,null,null,null,null,null,null,null,null,null,null,null,null,null,null,null,null,null,null,null,null,null,"SF Kombo Balans","kg",6.2371200000000002E-2,8.4550000000000007E-3,1.068E-2,371,0.88,4,null,"kraftfoder, spannmål etc.",null,"L Zigge Naut 3,0 kg Vetzin Med  ","kg",2.7980499999999998E-2,5.2826666666666699E-3,6.8060000000000004E-3,371,0.88,4,null,null,"inköpt",null,"SF Rosa Rikta","kg",2.5343999999999998E-2,4.8399999999999997E-3,8.8000000000000005E-3,371,0.88,5,null,"kraftfoder, spannmål etc."]
[null,null,null,null,null,null,null,null,null,null,null,null,null,null,null,null,null,null,null,null,null,null,null,null,null,null,null,null,null,null,null,null,"SF Mix Inga ","kg",6.0519999999999997E-2,8.8999999999999999E-3,8.8999999999999999E-3,372,0.88,4,null,"kraftfoder, spannmål etc.",null,"L Zigge Start 3kg Vetzin Med  ","kg",2.92035E-2,6.39116666666667E-3,8.2199999999999999E-3,372,0.88,4,null,null,"inköpt",null,"SF Rosa Smör","kg",3.5200000000000002E-2,4.8399999999999997E-3,9.6799999999999994E-3,372,0.88,5,null,"kraftfoder, spannmål etc."]
[null,null,null,null,null,null,null,null,null,null,null,null,null,null,null,null,null,null,null,null,null,null,null,null,null,null,null,null,null,null,null,null,"SF Nora 29","kg",4.1295999999999999E-2,6.6750000000000004E-3,1.2460000000000001E-2,373,0.88,4,null,"kraftfoder, spannmål etc.",null,"L Ziggex 410","kg",6.6326833000000002E-2,1.8653333000000001E-2,8.5093329999999991E-3,373,0.88,4,null,null,"inköpt",null,"SF Rosa Standard","kg",2.6048000000000002E-2,4.8399999999999997E-3,1.1440000000000001E-2,373,0.88,5,null,"kraftfoder, spannmål etc."]
[null,null,null,null,null,null,null,null,null,null,null,null,null,null,null,null,null,null,null,null,null,null,null,null,null,null,null,null,null,null,null,null,"SF Nora 32","kg",4.4856E-2,6.6750000000000004E-3,1.2460000000000001E-2,374,0.88,4,null,"kraftfoder, spannmål etc.",null,"L Ziggex 415 Vetzin Med","kg",7.5988E-2,1.7631999999999998E-2,7.5329999999999998E-3,374,0.88,4,null,null,{"$f":"inköpt","v":"inköpt"},null,"SF SF 300","kg",4.2720000000000001E-2,6.6750000000000004E-3,9.7900000000000001E-3,374,0.88,5,null,"kraftfoder, spannmål etc."]
[null,null,null,null,null,null,null,null,null,null,null,null,null,null,null,null,null,null,null,null,null,null,null,null,null,null,null,null,null,null,null,null,"SF Nora 35","kg",4.94128E-2,6.6750000000000004E-3,1.2460000000000001E-2,375,0.88,4,null,"kraftfoder, spannmål etc.",null,"L Ziggex Max 3,7kg Vetzin Med","kg",2.9294000000000001E-2,5.76066666666667E-3,6.9610000000000002E-3,375,0.88,4,null,null,"inköpt",null,"SF SmörTopp","kg",4.6991999999999999E-2,5.7850000000000002E-3,1.157E-2,375,0.88,5,null,"kraftfoder, spannmål etc."]
[null,null,null,null,null,null,null,null,null,null,null,null,null,null,null,null,null,null,null,null,null,null,null,null,null,null,null,null,null,null,null,null,"SF Nora Plus","kg",4.4856E-2,6.6750000000000004E-3,1.2460000000000001E-2,376,0.88,4,null,"kraftfoder, spannmål etc.",null,"SF Nutri LPR Smågris T","kg",5.9200000000000003E-2,1.15E-2,1.2E-2,376,0.88,4,null,null,"inköpt",null,"SF Soja Balans","kg",6.2656000000000003E-2,7.1199999999999996E-3,1.3350000000000001E-2,376,0.88,5,null,"kraftfoder, spannmål etc."]
[null,null,null,null,null,null,null,null,null,null,null,null,null,null,null,null,null,null,null,null,null,null,null,null,null,null,null,null,null,null,null,null,"SF PBV Topp","kg",4.5567999999999997E-2,5.7850000000000002E-3,1.157E-2,377,0.88,4,null,"kraftfoder, spannmål etc.",null,"SF Nutri Smågris T","kg",5.9200000000000003E-2,9.0299999999999998E-3,1.1379999999999999E-2,377,0.88,4,null,null,"inköpt",null,"SF Stella 185","kg",2.6048000000000002E-2,5.28E-3,8.8000000000000005E-3,377,0.88,5,null,"kraftfoder, spannmål etc."]
[null,null,null,null,null,null,null,null,null,null,null,null,null,null,null,null,null,null,null,null,null,null,null,null,null,null,null,null,null,null,null,null,"SF Primo Eko Kry","kg",2.7456000000000001E-2,3.784E-3,7.92E-3,378,0.88,4,null,"kraftfoder, spannmål etc.",null,"SF Nya Opti Drank","kg",2.2048000000000002E-2,3.7100000000000002E-3,6.5700000000000003E-3,378,0.88,4,null,null,"inköpt",null,"SF Stella 210 ","kg",2.9568000000000001E-2,5.28E-3,8.8000000000000005E-3,378,0.88,5,null,"kraftfoder, spannmål etc."]
[null,null,null,null,null,null,null,null,null,null,null,null,null,null,null,null,null,null,null,null,null,null,null,null,null,null,null,null,null,null,null,null,"SF Primo Intensiv","kg",2.8300800000000001E-2,5.104E-3,8.8000000000000005E-3,379,0.88,4,null,"kraftfoder, spannmål etc.",null,"SF Opti Basic","kg",2.2384000000000001E-2,4.3800000000000002E-3,7.2899999999999996E-3,379,0.88,4,null,null,"inköpt",null,"SF Stella 235 ","kg",3.3087999999999999E-2,5.28E-3,8.8000000000000005E-3,379,0.88,5,null,"kraftfoder, spannmål etc."]
[null,null,null,null,null,null,null,null,null,null,null,null,null,null,null,null,null,null,null,null,null,null,null,null,null,null,null,null,null,null,null,null,"SF Primo K","kg",4.37168E-2,7.1199999999999996E-3,9.7900000000000001E-3,380,0.88,4,null,"kraftfoder, spannmål etc.",null,"SF Opti Bonus","kg",2.3744000000000001E-2,4.3699999999999998E-3,7.6400000000000001E-3,380,0.88,4,null,null,"inköpt",null,"SF Stråla 245","kg",3.3510400000000003E-2,4.8399999999999997E-3,8.8000000000000005E-3,380,0.88,5,null,"kraftfoder, spannmål etc."]
[null,null,null,null,null,null,null,null,null,null,null,null,null,null,null,null,null,null,null,null,null,null,null,null,null,null,null,null,null,null,null,null,"SF Primo Kalv Start","kg",2.8864000000000001E-2,5.0159999999999996E-3,9.6799999999999994E-3,381,0.88,4,null,"kraftfoder, spannmål etc.",null,"SF Opti Grön KRAV PK","kg",2.7199999999999998E-2,6.4999999999999997E-3,6.4149999999999997E-3,381,0.88,4,null,null,"inköpt",null,"SF Tip Topp","kg",3.7166400000000002E-2,5.3400000000000001E-3,1.157E-2,381,0.88,5,null,"kraftfoder, spannmål etc."]
[null,null,null,null,null,null,null,null,null,null,null,null,null,null,null,null,null,null,null,null,null,null,null,null,null,null,null,null,null,null,null,null,"SF Primo Kviga","kg",2.5343999999999998E-2,5.8960000000000002E-3,1.056E-2,382,0.88,4,null,"kraftfoder, spannmål etc.",null,"SF Opti Maxi drank","kg",1.9696000000000002E-2,3.5799999999999998E-3,5.6699999999999997E-3,382,0.88,4,null,null,"inköpt",null,"SF Topp Eko Balans","kg",5.4823999999999998E-2,4.895E-3,1.3795E-2,382,0.88,5,null,"kraftfoder, spannmål etc."]
[null,null,null,null,null,null,null,null,null,null,null,null,null,null,null,null,null,null,null,null,null,null,null,null,null,null,null,null,null,null,null,null,"SF Primo Müsli","kg",3.168E-2,3.6080000000000001E-3,9.6799999999999994E-3,383,0.88,4,null,"kraftfoder, spannmål etc.",null,"SF Opti Start","kg",2.5264000000000002E-2,4.1200000000000004E-3,7.9100000000000004E-3,383,0.88,4,null,null,"inköpt",null,"SF Topp Eko Böna","kg",4.6707199999999997E-2,5.9630000000000004E-3,1.5129999999999999E-2,383,0.88,5,null,"kraftfoder, spannmål etc."]
[null,null,null,null,null,null,null,null,null,null,null,null,null,null,null,null,null,null,null,null,null,null,null,null,null,null,null,null,null,null,null,null,"SF Primo Pektin","kg",2.3513599999999999E-2,5.104E-3,1.056E-2,384,0.88,4,null,"kraftfoder, spannmål etc.",null,"SF Premix 301 Slakt","kg",4.3520000000000003E-2,6.9199999999999999E-3,8.7600000000000004E-3,384,0.88,4,null,null,"inköpt",null,"SF Topp Eko Pingla","kg",4.2720000000000001E-2,6.2300000000000003E-3,1.3795E-2,384,0.88,5,null,"kraftfoder, spannmål etc."]
[null,null,null,null,null,null,null,null,null,null,null,null,null,null,null,null,null,null,null,null,null,null,null,null,null,null,null,null,null,null,null,null,"SF Primo Progress","kg",2.6892800000000001E-2,5.104E-3,7.92E-3,{"$f":"AL389+1","v":385},0.88,4,null,"kraftfoder, spannmål etc.",null,"SF Premix 302 Slakt","kg",4.3408000000000002E-2,5.9100000000000003E-3,8.3400000000000002E-3,{"$f":"AW389+1","v":385},0.88,4,null,null,"inköpt",null,"SF Tuva 27","kg",3.7735999999999999E-2,6.6750000000000004E-3,1.2460000000000001E-2,{"$f":"BI389+1","v":385},0.88,5,null,"kraftfoder, spannmål etc."]
[null,null,null,null,null,null,null,null,null,null,null,null,null,null,null,null,null,null,null,null,null,null,null,null,null,null,null,null,null,null,null,null,"SF ProtiSpar Balans","kg",5.8383999999999998E-2,9.3449999999999991E-3,1.157E-2,386,0.88,4,null,"kraftfoder, spannmål etc.",null,"SF Premix 303 Slakt","kg",4.3520000000000003E-2,4.3600000000000002E-3,1.095E-2,386,0.88,4,null,null,"inköpt",null,"SF Tuva Eko Grov20","kg",2.6752000000000001E-2,3.96E-3,7.4799999999999997E-3,386,0.88,5,null,"kraftfoder, spannmål etc."]
[null,null,null,null,null,null,null,null,null,null,null,null,null,null,null,null,null,null,null,null,null,null,null,null,null,null,null,null,null,null,null,null,"SF Raps Balans","kg",5.9808E-2,9.1669999999999998E-3,1.068E-2,387,0.88,4,null,"kraftfoder, spannmål etc.",null,"SF Premix 304 Knorr","kg",4.3520000000000003E-2,4.9899999999999996E-3,9.75E-3,387,0.88,4,null,null,"inköpt",null,"SF Tuva Fiber","kg",2.4639999999999999E-2,4.8399999999999997E-3,8.8000000000000005E-3,387,0.88,5,null,"kraftfoder, spannmål etc."]
[null,null,null,null,null,null,null,null,null,null,null,null,null,null,null,null,null,null,null,null,null,null,null,null,null,null,null,null,null,null,null,null,"SF Rosa 126","kg",3.19616E-2,4.8399999999999997E-3,8.8000000000000005E-3,388,0.88,4,null,"kraftfoder, spannmål etc.",null,"SF Premix 305 Slakt","kg",4.3520000000000003E-2,6.9100000000000003E-3,8.9700000000000005E-3,388,0.88,4,null,null,"inköpt",null,"SF Tuva Grov","kg",2.0416E-2,4.8399999999999997E-3,8.8000000000000005E-3,388,0.88,5,null,"kraftfoder, spannmål etc."]
[null,null,null,null,null,null,null,null,null,null,null,null,null,null,null,null,null,null,null,null,null,null,null,null,null,null,null,null,null,null,null,null,"SF Rosa 129","kg",3.5481600000000002E-2,4.8399999999999997E-3,1.0120000000000001E-2,389,0.88,4,null,"kraftfoder, spannmål etc.",null,"SF Premix 401 Sugg","kg",3.5184E-2,6.77E-3,8.7500000000000008E-3,389,0.88,4,null,null,"inköpt",null,"SF Tuva Snabb","kg",2.7456000000000001E-2,4.4000000000000003E-3,8.8000000000000005E-3,389,0.88,5,null,"kraftfoder, spannmål etc."]
[null,null,null,null,null,null,null,null,null,null,null,null,null,null,null,null,null,null,null,null,null,null,null,null,null,null,null,null,null,null,null,null,"SF Rosa Eko Bas","kg",2.5343999999999998E-2,3.96E-3,7.92E-3,390,0.88,4,null,"kraftfoder, spannmål etc.",null,"SF Premix 410 Sugg","kg",3.5200000000000002E-2,5.8599999999999998E-3,8.4899999999999993E-3,390,0.88,4,null,null,"inköpt",null,"Smartamine M","kg",0.12322080000000001,0,0,390,0.88,5,null,"kraftfoder, spannmål etc."]
[null,null,null,null,null,null,null,null,null,null,null,null,null,null,null,null,null,null,null,null,null,null,null,null,null,null,null,null,null,null,null,null,"SF Rosa Eko Kapital","kg",3.3792000000000003E-2,3.96E-3,8.8000000000000005E-3,391,0.88,4,null,"kraftfoder, spannmål etc.",null,"SF Premix Grön KRAV PK","kg",7.0412799999999998E-2,1.9E-2,1.1348E-2,391,0.88,4,null,null,"inköpt",null,"Sp 190 Nova EDEL","kg",2.6447999999999999E-2,4.6979999999999999E-3,9.2219999999999993E-3,391,0.88,5,null,"kraftfoder, spannmål etc."]
[null,null,null,null,null,null,null,null,null,null,null,null,null,null,null,null,null,null,null,null,null,null,null,null,null,null,null,null,null,null,null,null,"SF Rosa Eko Klöver","kg",2.7174400000000001E-2,3.96E-3,7.4799999999999997E-3,392,0.88,4,null,"kraftfoder, spannmål etc.",null,"SF Slakt Bravo","kg",4.7872000000000001E-3,8.0000000000000002E-3,1.2999999999999999E-2,392,0.88,4,null,null,"inköpt",null,"Sp Crystalyx Booster","kg",1.8815999999999999E-2,3.0380000000000001E-2,0,392,0.88,5,null,"kraftfoder, spannmål etc."]
[null,null,null,null,null,null,null,null,null,null,null,null,null,null,null,null,null,null,null,null,null,null,null,null,null,null,null,null,null,null,null,null,"SF Rosa Energi","kg",2.9568000000000001E-2,4.8399999999999997E-3,8.8000000000000005E-3,393,0.88,4,null,"kraftfoder, spannmål etc.",null,"SF Slakt Bravo PK","kg",5.4399999999999997E-2,7.9000000000000008E-3,1.37E-2,393,0.88,4,null,null,"inköpt",null,"Sp Crystalyx Energy","kg",9.4079999999999997E-3,9.9959999999999997E-3,0,393,0.88,5,null,"kraftfoder, spannmål etc."]
[null,null,null,null,null,null,null,null,null,null,null,null,null,null,null,null,null,null,null,null,null,null,null,null,null,null,null,null,null,null,null,null,"SF Rosa Fett","kg",2.9145600000000001E-2,4.8399999999999997E-3,1.1440000000000001E-2,394,0.88,4,null,"kraftfoder, spannmål etc.",null,"SF Slakt Drank","kg",4.8000000000000001E-2,6.3699999999999998E-3,1.2529999999999999E-2,394,0.88,4,null,null,"inköpt",null,"Sp Crystalyx Garlyx","kg",1.8815999999999999E-2,3.0380000000000001E-2,0,394,0.88,5,null,"kraftfoder, spannmål etc."]
[null,null,null,null,null,null,null,null,null,null,null,null,null,null,null,null,null,null,null,null,null,null,null,null,null,null,null,null,null,null,null,null,"SF Rosa Grädde","kg",3.168E-2,4.8399999999999997E-3,9.6799999999999994E-3,395,0.88,4,null,"kraftfoder, spannmål etc.",null,"SF Slakt Maxi","kg",5.6000000000000001E-2,8.4200000000000004E-3,1.3440000000000001E-2,395,0.88,4,null,null,"inköpt",null,"Sp Crystalyx High Mag","kg",1.7247999999999999E-2,1.4994E-2,0,395,0.88,5,null,"kraftfoder, spannmål etc."]
[null,null,null,null,null,null,null,null,null,null,null,null,null,null,null,null,null,null,null,null,null,null,null,null,null,null,null,null,null,null,null,null,"SF Rosa Norr","kg",2.9145600000000001E-2,5.9839999999999997E-3,8.8000000000000005E-3,396,0.88,4,null,"kraftfoder, spannmål etc.",null,"SF Slakt Ärt","kg",5.6800000000000003E-2,7.8100000000000001E-3,1.4189999999999999E-2,396,0.88,4,null,null,"inköpt",null,"Sp Crystalyx Organyx (KRAV)","kg",3.1359999999999999E-3,3.9983999999999999E-2,0,396,0.88,5,null,"kraftfoder, spannmål etc."]
[null,null,null,null,null,null,null,null,null,null,null,null,null,null,null,null,null,null,null,null,null,null,null,null,null,null,null,null,null,null,null,null,"SF Rosa Rikta","kg",2.5343999999999998E-2,4.8399999999999997E-3,8.8000000000000005E-3,397,0.88,4,null,"kraftfoder, spannmål etc.",null,"SF Slaktmix Grön KRAV PK","kg",6.2889600000000004E-2,1.0748000000000001E-2,1.3736999999999999E-2,397,0.88,4,null,null,"inköpt",null,"Sp EDEL Kalv Start","kg",2.6447999999999999E-2,6.96E-3,1.044E-2,397,0.88,5,null,"kraftfoder, spannmål etc."]
[null,null,null,null,null,null,null,null,null,null,null,null,null,null,null,null,null,null,null,null,null,null,null,null,null,null,null,null,null,null,null,null,"SF Rosa Smör","kg",3.5200000000000002E-2,4.8399999999999997E-3,9.6799999999999994E-3,398,0.88,4,null,"kraftfoder, spannmål etc.",null,"SF Smågris Alert T","kg",2.5440000000000001E-2,5.2700000000000004E-3,5.8799999999999998E-3,398,0.88,4,null,null,"inköpt",null,"Sp EDEL Komet 290 (155)","kg",4.0832E-2,6.8640000000000003E-3,1.2319999999999999E-2,398,0.88,5,13.3,"kraftfoder, spannmål etc."]
[null,null,null,null,null,null,null,null,null,null,null,null,null,null,null,null,null,null,null,null,null,null,null,null,null,null,null,null,null,null,null,null,"SF Rosa Standard","kg",2.6048000000000002E-2,4.8399999999999997E-3,1.1440000000000001E-2,399,0.88,4,null,"kraftfoder, spannmål etc.",null,"SF Smågris Grön KRAV P","kg",2.7948799999999999E-2,6.7419999999999997E-3,6.8279999999999999E-3,399,0.88,4,null,null,"inköpt",null,"Sp EDEL Ungnöt 140 (13)","kg",1.9487999999999998E-2,4.8719999999999996E-3,7.4819999999999999E-3,399,0.88,5,null,"kraftfoder, spannmål etc."]
[null,null,null,null,null,null,null,null,null,null,null,null,null,null,null,null,null,null,null,null,null,null,null,null,null,null,null,null,null,null,null,null,"SF SF 300","kg",4.2720000000000001E-2,6.6750000000000004E-3,9.7900000000000001E-3,400,0.88,4,null,"kraftfoder, spannmål etc.",null,"SF Smågris Start T","kg",2.8000000000000001E-2,5.6800000000000002E-3,5.8100000000000001E-3,400,0.88,4,null,null,"inköpt",null,"Sp EDEL Ungnötskoncentrat","kg",4.0832E-2,7.4799999999999997E-3,1.1440000000000001E-2,400,0.88,5,null,"kraftfoder, spannmål etc."]
[null,null,null,null,null,null,null,null,null,null,null,null,null,null,null,null,null,null,null,null,null,null,null,null,null,null,null,null,null,null,null,null,"SF SmörTopp","kg",4.6991999999999999E-2,5.7850000000000002E-3,1.157E-2,401,0.88,4,null,"kraftfoder, spannmål etc.",null,"SF Smågris Syra Express","kg",2.7824000000000002E-2,5.5999999999999999E-3,5.6899999999999997E-3,401,0.88,4,null,null,"inköpt",null,"Sp HARMONI K60","kg",3.8016000000000001E-2,5.4559999999999999E-3,1.0824E-2,401,0.88,5,null,"kraftfoder, spannmål etc."]
[null,null,null,null,null,null,null,null,null,null,null,null,null,null,null,null,null,null,null,null,null,null,null,null,null,null,null,null,null,null,null,null,"SF Soja Balans","kg",6.2656000000000003E-2,7.1199999999999996E-3,1.3350000000000001E-2,402,0.88,4,null,"kraftfoder, spannmål etc.",null,"SF Smågris Triumf","kg",2.5092799999999998E-2,5.1599999999999997E-3,5.1799999999999997E-3,402,0.88,4,null,null,"inköpt",null,"Sp K2 HARMONI","kg",2.4638400000000001E-2,4.9589999999999999E-3,7.4819999999999999E-3,402,0.88,5,null,"kraftfoder, spannmål etc."]
[null,null,null,null,null,null,null,null,null,null,null,null,null,null,null,null,null,null,null,null,null,null,null,null,null,null,null,null,null,null,null,null,"SF Stella 185","kg",2.6048000000000002E-2,5.28E-3,8.8000000000000005E-3,403,0.88,4,null,"kraftfoder, spannmål etc.",null,"SF Småmix Grön KRAV PK","kg",7.1739200000000003E-2,2.0792999999999999E-2,1.1671000000000001E-2,403,0.88,4,null,null,"inköpt",null,"Sp Kalv Start 100+","kg",2.5055999999999998E-2,6.7860000000000004E-3,9.5700000000000004E-3,403,0.88,5,null,"kraftfoder, spannmål etc."]
[null,null,null,null,null,null,null,null,null,null,null,null,null,null,null,null,null,null,null,null,null,null,null,null,null,null,null,null,null,null,null,null,"SF Stella 210 ","kg",2.9568000000000001E-2,5.28E-3,8.8000000000000005E-3,404,0.88,4,null,"kraftfoder, spannmål etc.",null,"SF Sugg Omega 70 PK","kg",4.3839999999999997E-2,5.5199999999999997E-3,1.354E-2,404,0.88,4,null,null,"inköpt",null,"Sp Kalvados","kg",3.3591999999999997E-2,9.025E-3,0,404,0.88,5,null,"kraftfoder, spannmål etc."]
[null,null,null,null,null,null,null,null,null,null,null,null,null,null,null,null,null,null,null,null,null,null,null,null,null,null,null,null,null,null,null,null,"SF Stella 235 ","kg",3.3087999999999999E-2,5.28E-3,8.8000000000000005E-3,405,0.88,4,null,"kraftfoder, spannmål etc.",null,"SF Suggfoder Classic","kg",2.1392000000000001E-2,4.8999999999999998E-3,7.6299999999999996E-3,405,0.88,4,null,null,"inköpt",null,"Sp Kalvamma","kg",3.2072000000000003E-2,6.9350000000000002E-3,0,405,0.88,5,null,"kraftfoder, spannmål etc."]
[null,null,null,null,null,null,null,null,null,null,null,null,null,null,null,null,null,null,null,null,null,null,null,null,null,null,null,null,null,null,null,null,"SF Stråla 245","kg",3.3510400000000003E-2,4.8399999999999997E-3,8.8000000000000005E-3,406,0.88,4,null,"kraftfoder, spannmål etc.",null,"SF Suggfoder Extra PK","kg",2.7424E-2,5.0099999999999997E-3,7.0800000000000004E-3,406,0.88,4,null,null,"inköpt",null,"Sp Kalvextra","kg",3.6783999999999997E-2,8.0750000000000006E-3,0,406,0.88,5,null,"kraftfoder, spannmål etc."]
[null,null,null,null,null,null,null,null,null,null,null,null,null,null,null,null,null,null,null,null,null,null,null,null,null,null,null,null,null,null,null,null,"SF Tip Topp","kg",3.7166400000000002E-2,5.3400000000000001E-3,1.157E-2,407,0.88,4,null,"kraftfoder, spannmål etc.",null,"SF Suggfoder Grön KRAV PK","kg",2.5264000000000002E-2,5.7809999999999997E-3,7.1999999999999998E-3,407,0.88,4,null,null,"inköpt",null,"Sp Ketona Energy","kg",1.4080000000000001E-2,3.0799999999999998E-3,7.0400000000000003E-3,407,0.88,5,null,"kraftfoder, spannmål etc."]
[null,null,null,null,null,null,null,null,null,null,null,null,null,null,null,null,null,null,null,null,null,null,null,null,null,null,null,null,null,null,null,null,"SF Topp Eko Balans","kg",5.4823999999999998E-2,4.895E-3,1.3795E-2,408,0.88,4,null,"kraftfoder, spannmål etc.",null,"SF Suggfoder Intens 70","kg",2.7136E-2,5.1799999999999997E-3,7.7000000000000002E-3,408,0.88,4,null,null,"inköpt",null,"Sp Spanntopp","kg",3.3591999999999997E-2,7.9799999999999992E-3,0,408,0.88,5,null,"kraftfoder, spannmål etc."]
[null,null,null,null,null,null,null,null,null,null,null,null,null,null,null,null,null,null,null,null,null,null,null,null,null,null,null,null,null,null,null,null,"SF Topp Eko Böna","kg",4.6707199999999997E-2,5.9630000000000004E-3,1.5129999999999999E-2,409,0.88,4,null,"kraftfoder, spannmål etc.",null,"SF Suggfoder Laktal PK","kg",2.4799999999999999E-2,4.8999999999999998E-3,8.0000000000000002E-3,409,0.88,4,null,null,"inköpt",null,"Sp Vallberga FosforLåg","kg",0,3.5279999999999999E-2,0,409,0.88,5,null,"kraftfoder, spannmål etc."]
[null,null,null,null,null,null,null,null,null,null,null,null,null,null,null,null,null,null,null,null,null,null,null,null,null,null,null,null,null,null,null,null,"SF Topp Eko Pingla","kg",4.2720000000000001E-2,6.2300000000000003E-3,1.3795E-2,410,0.88,4,null,"kraftfoder, spannmål etc.",null,"SF Suggfoder Total","kg",2.3184E-2,5.0400000000000002E-3,7.7099999999999998E-3,410,0.88,4,null,null,"inköpt",null,"SwA Forma 16 pkr","kg",2.3040000000000001E-2,3.4199999999999999E-3,1.593E-2,410,0.88,5,null,"kraftfoder, spannmål etc."]
[null,null,null,null,null,null,null,null,null,null,null,null,null,null,null,null,null,null,null,null,null,null,null,null,null,null,null,null,null,null,null,null,"SF Tuva 27","kg",3.7735999999999999E-2,6.6750000000000004E-3,1.2460000000000001E-2,411,0.88,4,null,"kraftfoder, spannmål etc.",null,"SF Suggfoder Vital 70","kg",2.3088000000000001E-2,5.2500000000000003E-3,8.6700000000000006E-3,411,0.88,4,null,null,"inköpt",null,"SwA Forma 19 vbm","kg",2.7359999999999999E-2,3.5999999999999999E-3,1.26E-2,411,0.88,5,null,"kraftfoder, spannmål etc."]
[null,null,null,null,null,null,null,null,null,null,null,null,null,null,null,null,null,null,null,null,null,null,null,null,null,null,null,null,null,null,null,null,"SF Tuva Eko Grov20","kg",2.6752000000000001E-2,3.96E-3,7.4799999999999997E-3,412,0.88,4,null,"kraftfoder, spannmål etc.",null,"SF Suggmix Grön KRAV PK","kg",6.08E-2,1.6250000000000001E-2,1.2125E-2,412,0.88,4,null,null,"inköpt",null,"SwA Forma 25 vbm","kg",3.6144000000000003E-2,5.13E-3,1.8630000000000001E-2,412,0.88,5,null,"kraftfoder, spannmål etc."]
[null,null,null,null,null,null,null,null,null,null,null,null,null,null,null,null,null,null,null,null,null,null,null,null,null,null,null,null,null,null,null,null,"SF Tuva Fiber","kg",2.4639999999999999E-2,4.8399999999999997E-3,8.8000000000000005E-3,413,0.88,4,null,"kraftfoder, spannmål etc.",null,"SwA Swedish Basis 83 Pkr","kg",1.8800000000000001E-2,4.2100000000000002E-3,5.2599999999999999E-3,413,0.88,4,null,null,"inköpt",null,"SwA Forma 39 U","kg",5.5316799999999999E-2,9.3392000000000006E-3,1.17638E-2,413,0.88,5,null,"kraftfoder, spannmål etc."]
[null,null,null,null,null,null,null,null,null,null,null,null,null,null,null,null,null,null,null,null,null,null,null,null,null,null,null,null,null,null,null,null,"SF Tuva Grov","kg",2.0416E-2,4.8399999999999997E-3,8.8000000000000005E-3,414,0.88,4,null,"kraftfoder, spannmål etc.",null,"SwA Swedish Basis 831 Vbm","kg",2.2100000000000002E-2,3.8300000000000001E-3,5.2199999999999998E-3,414,0.88,4,null,null,"inköpt",null,"SwA Forma 41 U","kg",5.86688E-2,8.633E-3,1.1748E-2,414,0.88,5,null,"kraftfoder, spannmål etc."]
[null,null,null,null,null,null,null,null,null,null,null,null,null,null,null,null,null,null,null,null,null,null,null,null,null,null,null,null,null,null,null,null,"SF Tuva Snabb","kg",2.7456000000000001E-2,4.4000000000000003E-3,8.8000000000000005E-3,415,0.88,4,null,"kraftfoder, spannmål etc.",null,"SwA Swedish Basis 831+7 Vbm","kg",2.1000000000000001E-2,6.8900000000000003E-3,5.3899999999999998E-3,415,0.88,4,null,null,"inköpt",null,"SwA Forma 43","kg",6.1516800000000003E-2,8.8109999999999994E-3,1.5753E-2,415,0.88,5,null,"kraftfoder, spannmål etc."]
[null,null,null,null,null,null,null,null,null,null,null,null,null,null,null,null,null,null,null,null,null,null,null,null,null,null,null,null,null,null,null,null,"Smartamine M","kg",0.12322080000000001,0,0,416,0.88,4,null,"kraftfoder, spannmål etc.",null,"SwA Swedish Basis 832 Vbm ","kg",2.0400000000000001E-2,3.0300000000000001E-3,3.96E-3,416,0.88,4,null,null,"inköpt",null,"SwA Forma Betformix","kg",3.2039999999999999E-2,5.607E-3,7.7429999999999999E-3,416,0.88,5,null,"kraftfoder, spannmål etc."]
[null,null,null,null,null,null,null,null,null,null,null,null,null,null,null,null,null,null,null,null,null,null,null,null,null,null,null,null,null,null,null,null,"Sp 190 Nova EDEL","kg",2.6447999999999999E-2,4.6979999999999999E-3,9.2219999999999993E-3,417,0.88,4,null,"kraftfoder, spannmål etc.",null,"SwA Swedish Basis 84 Pkr","kg",1.89E-2,4.5500000000000002E-3,6.2700000000000004E-3,417,0.88,4,null,null,"inköpt",null,"SwA Forma Expromix","kg",5.2545599999999998E-2,1.0858E-2,1.2193000000000001E-2,417,0.88,5,null,"kraftfoder, spannmål etc."]
[null,null,null,null,null,null,null,null,null,null,null,null,null,null,null,null,null,null,null,null,null,null,null,null,null,null,null,null,null,null,null,null,"Sp Crystalyx Booster","kg",1.8815999999999999E-2,3.0380000000000001E-2,0,418,0.88,4,null,"kraftfoder, spannmål etc.",null,"SwA Swedish Basis 84 Vbm","kg",1.9E-2,4.3099999999999996E-3,5.8599999999999998E-3,418,0.88,4,null,null,"inköpt",null,"SwA Forma Mega 40","kg",5.6959999999999997E-2,7.5649999999999997E-3,1.4862999999999999E-2,418,0.88,5,null,"kraftfoder, spannmål etc."]
[null,null,null,null,null,null,null,null,null,null,null,null,null,null,null,null,null,null,null,null,null,null,null,null,null,null,null,null,null,null,null,null,"Sp Crystalyx Energy","kg",9.4079999999999997E-3,9.9959999999999997E-3,0,419,0.88,4,null,"kraftfoder, spannmål etc.",null,"SwA Swedish Classic 611 H Pkr","kg",5.04E-2,1.137E-2,1.1639999999999999E-2,419,0.88,4,null,null,"inköpt",null,"SwA Forma Mega 42","kg",5.9875200000000003E-2,8.1972E-3,1.5503400000000001E-2,419,0.88,5,null,"kraftfoder, spannmål etc."]
[null,null,null,null,null,null,null,null,null,null,null,null,null,null,null,null,null,null,null,null,null,null,null,null,null,null,null,null,null,null,null,null,"Sp Crystalyx Garlyx","kg",1.8815999999999999E-2,3.0380000000000001E-2,0,420,0.88,4,null,"kraftfoder, spannmål etc.",null,"SwA Swedish Classic 611 H Vbm","kg",4.58E-2,1.093E-2,1.0019999999999999E-2,420,0.88,4,null,null,"inköpt",null,"SwA Forma Näramix vbm","kg",5.3827199999999999E-2,1.068E-2,1.2371E-2,420,0.88,5,null,"kraftfoder, spannmål etc."]
[null,null,null,null,null,null,null,null,null,null,null,null,null,null,null,null,null,null,null,null,null,null,null,null,null,null,null,null,null,null,null,null,"Sp Crystalyx High Mag","kg",1.7247999999999999E-2,1.4994E-2,0,421,0.88,4,null,"kraftfoder, spannmål etc.",null,"SwA Swedish Classic 62 Pell","kg",4.1300000000000003E-2,4.1799999999999997E-3,9.3100000000000006E-3,421,0.88,4,null,null,"inköpt",null,"SwA Forma Rapsmix Vbm","kg",5.3422079999999997E-2,8.5248000000000008E-3,1.4208E-2,421,0.88,5,null,"kraftfoder, spannmål etc."]
[null,null,null,null,null,null,null,null,null,null,null,null,null,null,null,null,null,null,null,null,null,null,null,null,null,null,null,null,null,null,null,null,"Sp Crystalyx Organyx (KRAV)","kg",3.1359999999999999E-3,3.9983999999999999E-2,0,422,0.88,4,null,"kraftfoder, spannmål etc.",null,"SwA Swedish Classic 63 Pkr","kg",2.5100000000000001E-2,5.0099999999999997E-3,5.96E-3,422,0.88,4,null,null,"inköpt",null,"SwA Glänsa Atlet","kg",2.7315200000000001E-2,6.2480000000000001E-3,8.5360000000000002E-3,422,0.88,5,null,"kraftfoder, spannmål etc."]
[null,null,null,null,null,null,null,null,null,null,null,null,null,null,null,null,null,null,null,null,null,null,null,null,null,null,null,null,null,null,null,null,"Sp EDEL Kalv Start","kg",2.6447999999999999E-2,6.96E-3,1.044E-2,423,0.88,4,null,"kraftfoder, spannmål etc.",null,"SwA Swedish Classic 63 Vbm","kg",2.5100000000000001E-2,5.0099999999999997E-3,5.96E-3,423,0.88,4,null,null,"inköpt",null,"SwA Glänsa Kompax ","kg",4.2007999999999997E-2,7.1199999999999996E-3,1.068E-2,423,0.88,5,null,"kraftfoder, spannmål etc."]
[null,null,null,null,null,null,null,null,null,null,null,null,null,null,null,null,null,null,null,null,null,null,null,null,null,null,null,null,null,null,null,null,"Sp EDEL Komet 290 (155)","kg",4.0832E-2,6.8640000000000003E-3,1.2319999999999999E-2,424,0.88,4,null,"kraftfoder, spannmål etc.",null,"SwA Swedish Classic 631 Vbm","kg",4.7699999999999999E-2,1.1509999999999999E-2,1.193E-2,424,0.88,4,null,null,"inköpt",null,"SwA Glänsa Kviga","kg",2.4579839999999999E-2,5.2392000000000003E-3,8.2584000000000008E-3,424,0.88,5,null,"kraftfoder, spannmål etc."]
[null,null,null,null,null,null,null,null,null,null,null,null,null,null,null,null,null,null,null,null,null,null,null,null,null,null,null,null,null,null,null,null,"Sp EDEL Ungnöt 140 (13)","kg",1.9487999999999998E-2,4.8719999999999996E-3,7.4819999999999999E-3,425,0.88,4,null,"kraftfoder, spannmål etc.",null,"SwA Swedish Classic 632 Vbm  ","kg",3.4000000000000002E-2,4.7200000000000002E-3,7.6400000000000001E-3,425,0.88,4,null,null,"inköpt",null,"SwA Glänsa Muskel ","kg",2.7596800000000001E-2,5.5440000000000003E-3,8.3599999999999994E-3,425,0.88,5,null,"kraftfoder, spannmål etc."]
[null,null,null,null,null,null,null,null,null,null,null,null,null,null,null,null,null,null,null,null,null,null,null,null,null,null,null,null,null,null,null,null,"Sp EDEL Ungnötskoncentrat","kg",4.0832E-2,7.4799999999999997E-3,1.1440000000000001E-2,426,0.88,4,null,"kraftfoder, spannmål etc.",null,"SwA Swedish Classic 64  Pkr","kg",2.2700000000000001E-2,4.3099999999999996E-3,5.4599999999999996E-3,426,0.88,4,null,null,"inköpt",null,"SwA Glänsa NDF","kg",2.6188800000000002E-2,6.1599999999999997E-3,7.8320000000000004E-3,426,0.88,5,null,"kraftfoder, spannmål etc."]
[null,null,null,null,null,null,null,null,null,null,null,null,null,null,null,null,null,null,null,null,null,null,null,null,null,null,null,null,null,null,null,null,"Sp HARMONI K60","kg",3.8016000000000001E-2,5.4559999999999999E-3,1.0824E-2,427,0.88,4,null,"kraftfoder, spannmål etc.",null,"SwA Swedish Classic 64  Vbm","kg",2.2700000000000001E-2,4.3800000000000002E-3,5.4599999999999996E-3,427,0.88,4,null,null,"inköpt",null,"SwA Grunda 170","kg",2.4921599999999999E-2,6.0720000000000001E-3,7.6559999999999996E-3,427,0.88,5,null,"kraftfoder, spannmål etc."]
[null,null,null,null,null,null,null,null,null,null,null,null,null,null,null,null,null,null,null,null,null,null,null,null,null,null,null,null,null,null,null,null,"Sp K2 HARMONI","kg",2.4638400000000001E-2,4.9589999999999999E-3,7.4819999999999999E-3,428,0.88,4,null,"kraftfoder, spannmål etc.",null,"SwA Swedish Classic 64 Pell","kg",2.2599999999999999E-2,4.3800000000000002E-3,5.47E-3,428,0.88,4,null,null,"inköpt",null,"SwA Grunda 190","kg",2.7315200000000001E-2,6.0720000000000001E-3,8.0960000000000008E-3,428,0.88,5,null,"kraftfoder, spannmål etc."]
[null,null,null,null,null,null,null,null,null,null,null,null,null,null,null,null,null,null,null,null,null,null,null,null,null,null,null,null,null,null,null,null,"Sp Kalv Start 100+","kg",2.5055999999999998E-2,6.7860000000000004E-3,9.5700000000000004E-3,429,0.88,4,null,"kraftfoder, spannmål etc.",null,"SwA Swedish Grow 21  G + Zn","kg",2.4899999999999999E-2,6.8500000000000002E-3,6.5199999999999998E-3,429,0.88,4,null,null,"inköpt",null,"SwA Grunda 191","kg",2.6892800000000001E-2,4.7520000000000001E-3,7.92E-3,429,0.88,5,null,"kraftfoder, spannmål etc."]
[null,null,null,null,null,null,null,null,null,null,null,null,null,null,null,null,null,null,null,null,null,null,null,null,null,null,null,null,null,null,null,null,"Sp Kalvados","kg",3.3591999999999997E-2,9.025E-3,0,430,0.88,4,null,"kraftfoder, spannmål etc.",null,"SwA Swedish Grow 21  G + Zn","kg",2.4899999999999999E-2,6.8599999999999998E-3,6.5300000000000002E-3,430,0.88,4,null,null,"inköpt",null,"SwA Grunda 192","kg",2.7033600000000001E-2,5.6319999999999999E-3,8.8880000000000001E-3,430,0.88,5,null,"kraftfoder, spannmål etc."]
[null,null,null,null,null,null,null,null,null,null,null,null,null,null,null,null,null,null,null,null,null,null,null,null,null,null,null,null,null,null,null,null,"Sp Kalvamma","kg",3.2072000000000003E-2,6.9350000000000002E-3,0,431,0.88,4,null,"kraftfoder, spannmål etc.",null,"SwA Swedish Grow 21 Zink Pell","kg",2.4199999999999999E-2,6.8100000000000001E-3,6.3099999999999996E-3,431,0.88,4,null,null,"inköpt",null,"SwA Grunda 210","kg",2.99904E-2,5.8960000000000002E-3,8.4480000000000006E-3,431,0.88,5,null,"kraftfoder, spannmål etc."]
[null,null,null,null,null,null,null,null,null,null,null,null,null,null,null,null,null,null,null,null,null,null,null,null,null,null,null,null,null,null,null,null,"Sp Kalvextra","kg",3.6783999999999997E-2,8.0750000000000006E-3,0,432,0.88,4,null,"kraftfoder, spannmål etc.",null,"SwA Swedish Grow 22 Pell","kg",2.4199999999999999E-2,6.8300000000000001E-3,6.3400000000000001E-3,432,0.88,4,null,null,"inköpt",null,"SwA Grunda 220","kg",3.0976E-2,5.0159999999999996E-3,8.0079999999999995E-3,432,0.88,5,null,"kraftfoder, spannmål etc."]
[null,null,null,null,null,null,null,null,null,null,null,null,null,null,null,null,null,null,null,null,null,null,null,null,null,null,null,null,null,null,null,null,"Sp Ketona Energy","kg",1.4080000000000001E-2,3.0799999999999998E-3,7.0400000000000003E-3,433,0.88,4,null,"kraftfoder, spannmål etc.",null,"SwA Swedish Grow 30 +9 Vbm","kg",2.6599999999999999E-2,5.0099999999999997E-3,5.9100000000000003E-3,433,0.88,4,null,null,"inköpt",null,"SwA Grunda 221","kg",3.19616E-2,6.5120000000000004E-3,9.7680000000000006E-3,433,0.88,5,null,"kraftfoder, spannmål etc."]
[null,null,null,null,null,null,null,null,null,null,null,null,null,null,null,null,null,null,null,null,null,null,null,null,null,null,null,null,null,null,null,null,"Sp Spanntopp","kg",3.3591999999999997E-2,7.9799999999999992E-3,0,434,0.88,4,null,"kraftfoder, spannmål etc.",null,"SwA Swedish Grow 30 Pell","kg",2.6499999999999999E-2,5.0099999999999997E-3,5.9100000000000003E-3,434,0.88,4,null,null,"inköpt",null,"SwA Grunda 240","kg",3.3792000000000003E-2,6.6E-3,8.9759999999999996E-3,434,0.88,5,null,"kraftfoder, spannmål etc."]
[null,null,null,null,null,null,null,null,null,null,null,null,null,null,null,null,null,null,null,null,null,null,null,null,null,null,null,null,null,null,null,null,"Sp Vallberga FosforLåg","kg",0,3.5279999999999999E-2,0,435,0.88,4,null,"kraftfoder, spannmål etc.",null,"SwA Swedish Grow 30 Spec Pell","kg",2.47E-2,4.4000000000000003E-3,5.5900000000000004E-3,435,0.88,4,null,null,"inköpt",null,"SwA Grunda 245 Fiber U* ","kg",3.505424E-2,6.2976999999999998E-3,8.3377999999999994E-3,435,0.88,5,null,"kraftfoder, spannmål etc."]
[null,null,null,null,null,null,null,null,null,null,null,null,null,null,null,null,null,null,null,null,null,null,null,null,null,null,null,null,null,null,null,null,"SwA Forma 16 pkr","kg",2.3040000000000001E-2,3.4199999999999999E-3,1.593E-2,436,0.88,4,null,"kraftfoder, spannmål etc.",null,"SwA Swedish Grow 30+9 Pell","kg",2.6599999999999999E-2,5.0099999999999997E-3,5.9100000000000003E-3,436,0.88,4,null,null,"inköpt",null,"SwA Grunda 250 U","kg",3.5520000000000003E-2,6.0384000000000002E-3,7.548E-3,436,0.88,5,null,"kraftfoder, spannmål etc."]
[null,null,null,null,null,null,null,null,null,null,null,null,null,null,null,null,null,null,null,null,null,null,null,null,null,null,null,null,null,null,null,null,"SwA Forma 19 vbm","kg",2.7359999999999999E-2,3.5999999999999999E-3,1.26E-2,437,0.88,4,null,"kraftfoder, spannmål etc.",null,"SwA Swedish Grow 30+9 PKR","kg",2.6599999999999999E-2,5.0099999999999997E-3,5.9100000000000003E-3,437,0.88,4,null,null,"inköpt",null,"SwA Grunda Adda 195","kg",2.7456000000000001E-2,5.4559999999999999E-3,6.9519999999999998E-3,437,0.88,5,null,"kraftfoder, spannmål etc."]
[null,null,null,null,null,null,null,null,null,null,null,null,null,null,null,null,null,null,null,null,null,null,null,null,null,null,null,null,null,null,null,null,"SwA Forma 25 vbm","kg",3.6144000000000003E-2,5.13E-3,1.8630000000000001E-2,438,0.88,4,null,"kraftfoder, spannmål etc.",null,"SwA Swedish Grow 31 Pell","kg",2.46E-2,4.1999999999999997E-3,5.4200000000000003E-3,438,0.88,4,null,null,{"$f":"inköpt","v":"inköpt"},null,"SwA Grunda Ess 222","kg",3.2102400000000003E-2,5.7200000000000003E-3,8.7119999999999993E-3,438,0.88,5,null,"kraftfoder, spannmål etc."]
[null,null,null,null,null,null,null,null,null,null,null,null,null,null,null,null,null,null,null,null,null,null,null,null,null,null,null,null,null,null,null,null,"SwA Forma 39 U","kg",5.5316799999999999E-2,9.3392000000000006E-3,1.17638E-2,439,0.88,4,null,"kraftfoder, spannmål etc.",null,"SwA Swedish Grow 33 +9 Pell","kg",2.63E-2,5.0699999999999999E-3,5.8199999999999997E-3,439,0.88,4,null,null,"inköpt",null,"SwA Grunda Fiber","kg",2.7315200000000001E-2,6.1599999999999997E-3,8.2719999999999998E-3,439,0.88,5,null,"kraftfoder, spannmål etc."]
[null,null,null,null,null,null,null,null,null,null,null,null,null,null,null,null,null,null,null,null,null,null,null,null,null,null,null,null,null,null,null,null,"SwA Forma 41 U","kg",5.86688E-2,8.633E-3,1.1748E-2,440,0.88,4,null,"kraftfoder, spannmål etc.",null,"SwA Swedish Grow 33 +9 Vbm","kg",2.63E-2,5.0899999999999999E-3,5.6100000000000004E-3,440,0.88,4,null,null,"inköpt",null,"SwA Grunda Kalmar","kg",2.7315200000000001E-2,5.0159999999999996E-3,8.6239999999999997E-3,440,0.88,5,null,"kraftfoder, spannmål etc."]
[null,null,null,null,null,null,null,null,null,null,null,null,null,null,null,null,null,null,null,null,null,null,null,null,null,null,null,null,null,null,null,null,"SwA Forma 43","kg",6.1516800000000003E-2,8.8109999999999994E-3,1.5753E-2,441,0.88,4,null,"kraftfoder, spannmål etc.",null,"SwA Swedish Grow 33 Vbm","kg",2.63E-2,5.1000000000000004E-3,5.8700000000000002E-3,441,0.88,4,null,null,"inköpt",null,"SwA Grunda Mega 180","kg",2.5484799999999998E-2,5.104E-3,7.1279999999999998E-3,441,0.88,5,null,"kraftfoder, spannmål etc."]
[null,null,null,null,null,null,null,null,null,null,null,null,null,null,null,null,null,null,null,null,null,null,null,null,null,null,null,null,null,null,null,null,"SwA Forma Betformix","kg",3.2039999999999999E-2,5.607E-3,7.7429999999999999E-3,442,0.88,4,null,"kraftfoder, spannmål etc.",null,"SwA Swedish Grow 330 PKR","kg",4.8599999999999997E-2,5.5199999999999997E-3,9.6600000000000002E-3,442,0.88,4,null,null,"inköpt",null,"SwA Grunda Mega 211","kg",3.06944E-2,6.8640000000000003E-3,9.2399999999999999E-3,442,0.88,5,null,"kraftfoder, spannmål etc."]
[null,null,null,null,null,null,null,null,null,null,null,null,null,null,null,null,null,null,null,null,null,null,null,null,null,null,null,null,null,null,null,null,"SwA Forma Expromix","kg",5.2545599999999998E-2,1.0858E-2,1.2193000000000001E-2,443,0.88,4,null,"kraftfoder, spannmål etc.",null,"SwA Swedish Grow 330 Vbm","kg",4.5400000000000003E-2,1.089E-2,8.3999999999999995E-3,443,0.88,4,null,null,"inköpt",null,"SwA Grunda Mega 220","kg",3.13984E-2,5.5440000000000003E-3,8.7119999999999993E-3,443,0.88,5,null,"kraftfoder, spannmål etc."]
[null,null,null,null,null,null,null,null,null,null,null,null,null,null,null,null,null,null,null,null,null,null,null,null,null,null,null,null,null,null,null,null,"SwA Forma Mega 40","kg",5.6959999999999997E-2,7.5649999999999997E-3,1.4862999999999999E-2,444,0.88,4,null,"kraftfoder, spannmål etc.",null,"SwA Swedish Grow 43 Pell","kg",2.5100000000000001E-2,5.5999999999999999E-3,5.8599999999999998E-3,444,0.88,4,null,null,"inköpt",null,"SwA Kalmar Maxifett","kg",3.9871999999999998E-2,6.4970000000000002E-3,1.1124999999999999E-2,444,0.88,5,null,"kraftfoder, spannmål etc."]
[null,null,null,null,null,null,null,null,null,null,null,null,null,null,null,null,null,null,null,null,null,null,null,null,null,null,null,null,null,null,null,null,"SwA Forma Mega 42","kg",5.9875200000000003E-2,8.1972E-3,1.5503400000000001E-2,445,0.88,4,null,"kraftfoder, spannmål etc.",null,"SwA Swedish Grow 43 Vbm","kg",2.5100000000000001E-2,5.5999999999999999E-3,5.8599999999999998E-3,445,0.88,4,null,null,"inköpt",null,"SwA Toppa 26 ","kg",3.8875199999999999E-2,8.4550000000000007E-3,1.1214E-2,445,0.88,5,null,"kraftfoder, spannmål etc."]
[null,null,null,null,null,null,null,null,null,null,null,null,null,null,null,null,null,null,null,null,null,null,null,null,null,null,null,null,null,null,null,null,"SwA Forma Näramix vbm","kg",5.3827199999999999E-2,1.068E-2,1.2371E-2,446,0.88,4,null,"kraftfoder, spannmål etc.",null,"SwA Swedish Grow 43+9 Vbm","kg",2.6100000000000002E-2,5.5799999999999999E-3,6.1999999999999998E-3,446,0.88,4,null,null,"inköpt",null,"SwA Toppa 27","kg",3.8016000000000001E-2,8.1840000000000003E-3,1.1351999999999999E-2,446,0.88,5,null,"kraftfoder, spannmål etc."]
[null,null,null,null,null,null,null,null,null,null,null,null,null,null,null,null,null,null,null,null,null,null,null,null,null,null,null,null,null,null,null,null,"SwA Forma Rapsmix Vbm","kg",5.3422079999999997E-2,8.5248000000000008E-3,1.4208E-2,447,0.88,4,null,"kraftfoder, spannmål etc.",null,"SwA Swedish Grow 44 Pkr","kg",2.4899999999999999E-2,5.5900000000000004E-3,5.9100000000000003E-3,447,0.88,4,null,null,"inköpt",null,"SwA Toppa 28 ","kg",4.0441600000000001E-2,7.2090000000000001E-3,1.0769000000000001E-2,447,0.88,5,null,"kraftfoder, spannmål etc."]
[null,null,null,null,null,null,null,null,null,null,null,null,null,null,null,null,null,null,null,null,null,null,null,null,null,null,null,null,null,null,null,null,"SwA Glänsa Atlet","kg",2.7315200000000001E-2,6.2480000000000001E-3,8.5360000000000002E-3,448,0.88,4,null,"kraftfoder, spannmål etc.",null,"SwA Swedish Grow 44 Vbm","kg",2.4899999999999999E-2,5.5900000000000004E-3,5.9100000000000003E-3,448,0.88,4,null,null,"inköpt",null,"SwA Toppa 29","kg",4.0584000000000002E-2,7.7429999999999999E-3,1.0413E-2,448,0.88,5,null,"kraftfoder, spannmål etc."]
[null,null,null,null,null,null,null,null,null,null,null,null,null,null,null,null,null,null,null,null,null,null,null,null,null,null,null,null,null,null,null,null,"SwA Glänsa Kompax ","kg",4.2007999999999997E-2,7.1199999999999996E-3,1.068E-2,{"$f":"AL453+1","v":449},0.88,4,null,"kraftfoder, spannmål etc.",null,"SwA Swedish Grow 53 Pell","kg",2.5000000000000001E-2,4.4600000000000004E-3,5.9500000000000004E-3,{"$f":"AW453+1","v":449},0.88,4,null,null,"inköpt",null,"SwA Toppa 30","kg",4.2720000000000001E-2,7.6540000000000002E-3,1.1214E-2,{"$f":"BI453+1","v":449},0.88,5,null,"kraftfoder, spannmål etc."]
[null,null,null,null,null,null,null,null,null,null,null,null,null,null,null,null,null,null,null,null,null,null,null,null,null,null,null,null,null,null,null,null,"SwA Glänsa Kviga","kg",2.4579839999999999E-2,5.2392000000000003E-3,8.2584000000000008E-3,450,0.88,4,null,"kraftfoder, spannmål etc.",null,"SwA Swedish Grow 54 Pkr","kg",2.5100000000000001E-2,4.47E-3,6.0400000000000002E-3,450,0.88,4,null,null,"inköpt",null,"SwA Toppa 32 ","kg",4.5196800000000002E-2,7.4799999999999997E-3,1.1967999999999999E-2,450,0.88,5,null,"kraftfoder, spannmål etc."]
[null,null,null,null,null,null,null,null,null,null,null,null,null,null,null,null,null,null,null,null,null,null,null,null,null,null,null,null,null,null,null,null,"SwA Glänsa Muskel ","kg",2.7596800000000001E-2,5.5440000000000003E-3,8.3599999999999994E-3,451,0.88,4,null,"kraftfoder, spannmål etc.",null,"SwA Swedish New 10 Pell","kg",2.9000000000000001E-2,4.7299999999999998E-3,4.15E-3,451,0.88,4,null,null,"inköpt",null,"SwA Toppa 34 U","kg",4.6463999999999998E-2,8.1840000000000003E-3,9.9439999999999997E-3,451,0.88,5,null,"kraftfoder, spannmål etc."]
[null,null,null,null,null,null,null,null,null,null,null,null,null,null,null,null,null,null,null,null,null,null,null,null,null,null,null,null,null,null,null,null,"SwA Glänsa NDF","kg",2.6188800000000002E-2,6.1599999999999997E-3,7.8320000000000004E-3,452,0.88,4,null,"kraftfoder, spannmål etc.",null,"SwA Swedish Top 10 Permiat Vbm","kg",2.69E-2,4.7299999999999998E-3,6.5100000000000002E-3,452,0.88,4,null,null,"inköpt",null,"SwA Toppa Adda 24","kg",3.5742400000000001E-2,6.8529999999999997E-3,9.0779999999999993E-3,452,0.88,5,null,"kraftfoder, spannmål etc."]
[null,null,null,null,null,null,null,null,null,null,null,null,null,null,null,null,null,null,null,null,null,null,null,null,null,null,null,null,null,null,null,null,"SwA Grunda 170","kg",2.4921599999999999E-2,6.0720000000000001E-3,7.6559999999999996E-3,453,0.88,4,null,"kraftfoder, spannmål etc.",null,"SwA Swedish Top 65  Vbm","kg",0.02,4.0699999999999998E-3,5.7099999999999998E-3,453,0.88,4,null,null,"inköpt",null,"SwA Toppa Ess 35","kg",4.8416000000000001E-2,6.4970000000000002E-3,1.3528E-2,453,0.88,5,null,"kraftfoder, spannmål etc."]
[null,null,null,null,null,null,null,null,null,null,null,null,null,null,null,null,null,null,null,null,null,null,null,null,null,null,null,null,null,null,null,null,"SwA Grunda 190","kg",2.7315200000000001E-2,6.0720000000000001E-3,8.0960000000000008E-3,454,0.88,4,null,"kraftfoder, spannmål etc.",null,"SwA Swedish Top 700 Vbm","kg",4.1300000000000003E-2,6.2399999999999999E-3,8.1399999999999997E-3,454,0.88,4,null,null,"inköpt",null,"SwA Toppa Mega 28","kg",4.0441600000000001E-2,7.1199999999999996E-3,1.0501999999999999E-2,454,0.88,5,null,"kraftfoder, spannmål etc."]
[null,null,null,null,null,null,null,null,null,null,null,null,null,null,null,null,null,null,null,null,null,null,null,null,null,null,null,null,null,null,null,null,"SwA Grunda 191","kg",2.6892800000000001E-2,4.7520000000000001E-3,7.92E-3,455,0.88,4,null,"kraftfoder, spannmål etc.",null,"SwA Swedish Top 82 Drank Vbm ","kg",2.0899999999999998E-2,3.4199999999999999E-3,5.2399999999999999E-3,455,0.88,4,null,null,"inköpt",null,"SwA Toppa Mega 31","kg",4.4856E-2,4.9839999999999997E-3,1.157E-2,455,0.88,5,null,"kraftfoder, spannmål etc."]
[null,null,null,null,null,null,null,null,null,null,null,null,null,null,null,null,null,null,null,null,null,null,null,null,null,null,null,null,null,null,null,null,"SwA Grunda 192","kg",2.7033600000000001E-2,5.6319999999999999E-3,8.8880000000000001E-3,456,0.88,4,null,"kraftfoder, spannmål etc.",null,"SwA Swedish Top 82 Pell","kg",2.2200000000000001E-2,4.0400000000000002E-3,5.5700000000000003E-3,456,0.88,4,null,null,"inköpt",null,"Swa Viltfoder Pell","kg",1.6299999999999999E-2,4.3699999999999998E-3,4.6800000000000001E-3,456,0.88,5,null,"kraftfoder, spannmål etc."]
[null,null,null,null,null,null,null,null,null,null,null,null,null,null,null,null,null,null,null,null,null,null,null,null,null,null,null,null,null,null,null,null,"SwA Grunda 210","kg",2.99904E-2,5.8960000000000002E-3,8.4480000000000006E-3,457,0.88,4,null,"kraftfoder, spannmål etc.",null,"SwA Swedish Top 82 Vbm","kg",2.1999999999999999E-2,4.0499999999999998E-3,5.6699999999999997E-3,457,0.88,4,null,null,"inköpt",null,"T Kalvados","kg",3.11168E-2,9.4999999999999998E-3,0,457,0.88,5,null,"kraftfoder, spannmål etc."]
[null,null,null,null,null,null,null,null,null,null,null,null,null,null,null,null,null,null,null,null,null,null,null,null,null,null,null,null,null,null,null,null,"SwA Grunda 220","kg",3.0976E-2,5.0159999999999996E-3,8.0079999999999995E-3,458,0.88,4,null,"kraftfoder, spannmål etc.",null,"SwA Swedish Top 83 Pkr","kg",2.1899999999999999E-2,4.2500000000000003E-3,5.8700000000000002E-3,458,0.88,4,null,null,"inköpt",null,"T Kalvamma","kg",2.97088E-2,7.3000000000000001E-3,0,458,0.88,5,null,"kraftfoder, spannmål etc."]
[null,null,null,null,null,null,null,null,null,null,null,null,null,null,null,null,null,null,null,null,null,null,null,null,null,null,null,null,null,null,null,null,"SwA Grunda 221","kg",3.19616E-2,6.5120000000000004E-3,9.7680000000000006E-3,459,0.88,4,null,"kraftfoder, spannmål etc.",null,"SwA Swedish Top 83 Vbm","kg",2.1999999999999999E-2,4.1700000000000001E-3,5.7999999999999996E-3,459,0.88,4,null,null,"inköpt",null,"VF 138 Ungnöt Edel","kg",1.92096E-2,4.8719999999999996E-3,8.0040000000000007E-3,459,0.88,5,null,"kraftfoder, spannmål etc."]
[null,null,null,null,null,null,null,null,null,null,null,null,null,null,null,null,null,null,null,null,null,null,null,null,null,null,null,null,null,null,null,null,"SwA Grunda 240","kg",3.3792000000000003E-2,6.6E-3,8.9759999999999996E-3,460,0.88,4,null,"kraftfoder, spannmål etc.",null,"SwA Swedish Top 830 Permiat","kg",5.2400000000000002E-2,6.8599999999999998E-3,1.119E-2,460,0.88,4,null,null,"inköpt",null,"VF 140 Ungnöt EDEL","kg",1.9487999999999998E-2,4.8719999999999996E-3,7.4819999999999999E-3,460,0.88,5,null,"kraftfoder, spannmål etc."]
[null,null,null,null,null,null,null,null,null,null,null,null,null,null,null,null,null,null,null,null,null,null,null,null,null,null,null,null,null,null,null,null,"SwA Grunda 245 Fiber U* ","kg",3.505424E-2,6.2976999999999998E-3,8.3377999999999994E-3,461,0.88,4,null,"kraftfoder, spannmål etc.",null,"SwA Swedish Top 830 Pkr","kg",4.5199999999999997E-2,6.9199999999999999E-3,9.7099999999999999E-3,461,0.88,4,null,null,"inköpt",null,"VF 156 Ungnöt Edel","kg",2.17152E-2,5.2199999999999998E-3,6.96E-3,461,0.88,5,null,"kraftfoder, spannmål etc."]
[null,null,null,null,null,null,null,null,null,null,null,null,null,null,null,null,null,null,null,null,null,null,null,null,null,null,null,null,null,null,null,null,"SwA Grunda 250 U","kg",3.5520000000000003E-2,6.0384000000000002E-3,7.548E-3,462,0.88,4,null,"kraftfoder, spannmål etc.",null,"SwA Swedish Top 830 Vbm","kg",4.5199999999999997E-2,6.9199999999999999E-3,9.7099999999999999E-3,462,0.88,4,null,null,"inköpt",null,"VF 160 Ungnöt EDEL","kg",2.2272E-2,4.5240000000000002E-3,7.4819999999999999E-3,462,0.88,5,null,"kraftfoder, spannmål etc."]
[null,null,null,null,null,null,null,null,null,null,null,null,null,null,null,null,null,null,null,null,null,null,null,null,null,null,null,null,null,null,null,null,"SwA Grunda Adda 195","kg",2.7456000000000001E-2,5.4559999999999999E-3,6.9519999999999998E-3,463,0.88,4,null,"kraftfoder, spannmål etc.",null,"SwA Swedish Top 830 Ärt Vbm","kg",5.2999999999999999E-2,7.1599999999999997E-3,1.172E-2,463,0.88,4,null,null,"inköpt",null,"VF 176 Ungnöt Edel","kg",2.4499199999999999E-2,5.3940000000000004E-3,7.0470000000000003E-3,463,0.88,5,null,"kraftfoder, spannmål etc."]
[null,null,null,null,null,null,null,null,null,null,null,null,null,null,null,null,null,null,null,null,null,null,null,null,null,null,null,null,null,null,null,null,"SwA Grunda Ess 222","kg",3.2102400000000003E-2,5.7200000000000003E-3,8.7119999999999993E-3,464,0.88,4,null,"kraftfoder, spannmål etc.",null,"SwA Swedish Top 832  Ärt Vbm","kg",4.2500000000000003E-2,5.11E-3,9.2700000000000005E-3,464,0.88,4,null,null,"inköpt",null,"VF 180 Vega EDEL","kg",2.5055999999999998E-2,5.2199999999999998E-3,7.8300000000000002E-3,464,0.88,5,null,"kraftfoder, spannmål etc."]
[null,null,null,null,null,null,null,null,null,null,null,null,null,null,null,null,null,null,null,null,null,null,null,null,null,null,null,null,null,null,null,null,"SwA Grunda Fiber","kg",2.7315200000000001E-2,6.1599999999999997E-3,8.2719999999999998E-3,465,0.88,4,null,"kraftfoder, spannmål etc.",null,"SwA Swedish Top 890 Vbm","kg",5.7500000000000002E-2,7.3800000000000003E-3,1.299E-2,465,0.88,4,null,null,"inköpt",null,"VF 185 Nova EDEL","kg",2.5752000000000001E-2,4.6979999999999999E-3,8.0909999999999992E-3,465,0.88,5,null,"kraftfoder, spannmål etc."]
[null,null,null,null,null,null,null,null,null,null,null,null,null,null,null,null,null,null,null,null,null,null,null,null,null,null,null,null,null,null,null,null,"SwA Grunda Kalmar","kg",2.7315200000000001E-2,5.0159999999999996E-3,8.6239999999999997E-3,466,0.88,4,null,"kraftfoder, spannmål etc.",null,"VL Avel","kg",2.1999999999999999E-2,6.8999999999999999E-3,6.4000000000000003E-3,466,0.88,4,null,null,"inköpt",null,"VF 190 Nova EDEL","kg",2.6447999999999999E-2,4.6979999999999999E-3,9.2219999999999993E-3,466,0.88,5,null,"kraftfoder, spannmål etc."]
[null,null,null,null,null,null,null,null,null,null,null,null,null,null,null,null,null,null,null,null,null,null,null,null,null,null,null,null,null,null,null,null,"SwA Grunda Mega 180","kg",2.5484799999999998E-2,5.104E-3,7.1279999999999998E-3,467,0.88,4,null,"kraftfoder, spannmål etc.",null,"VL Slaktex Hög Vallberga","kg",5.3600000000000002E-2,1.6E-2,1.7000000000000001E-2,467,0.88,4,null,null,"inköpt",null,"VF 193 Nova EDEL","kg",2.68656E-2,4.9589999999999999E-3,9.5700000000000004E-3,467,0.88,5,null,"kraftfoder, spannmål etc."]
[null,null,null,null,null,null,null,null,null,null,null,null,null,null,null,null,null,null,null,null,null,null,null,null,null,null,null,null,null,null,null,null,"SwA Grunda Mega 211","kg",3.06944E-2,6.8640000000000003E-3,9.2399999999999999E-3,468,0.88,4,null,"kraftfoder, spannmål etc.",null,"VL Slaktex Vallberga","kg",5.2900000000000003E-2,1.6E-2,1.7000000000000001E-2,468,0.88,4,null,null,"inköpt",null,"VF 198 Ungnöt Edel","kg",2.7561599999999999E-2,5.9160000000000003E-3,8.6999999999999994E-3,468,0.88,5,null,"kraftfoder, spannmål etc."]
[null,null,null,null,null,null,null,null,null,null,null,null,null,null,null,null,null,null,null,null,null,null,null,null,null,null,null,null,null,null,null,null,"SwA Grunda Mega 220","kg",3.13984E-2,5.5440000000000003E-3,8.7119999999999993E-3,469,0.88,4,null,"kraftfoder, spannmål etc.",null,"VL Slaktfor 1","kg",2.1299999999999999E-2,5.7000000000000002E-3,6.4000000000000003E-3,469,0.88,4,null,null,"inköpt",null,"VF 200 Vega EDEL","kg",2.784E-2,5.2199999999999998E-3,8.9610000000000002E-3,469,0.88,5,null,"kraftfoder, spannmål etc."]
[null,null,null,null,null,null,null,null,null,null,null,null,null,null,null,null,null,null,null,null,null,null,null,null,null,null,null,null,null,null,null,null,"SwA Kalmar Maxifett","kg",3.9871999999999998E-2,6.4970000000000002E-3,1.1124999999999999E-2,470,0.88,4,null,"kraftfoder, spannmål etc.",null,"VL Slaktfor 1 Vassle","kg",2.06E-2,5.7000000000000002E-3,6.4000000000000003E-3,470,0.88,4,null,null,"inköpt",null,"VF 205 Nova EDEL","kg",2.8535999999999999E-2,4.9589999999999999E-3,9.5700000000000004E-3,470,0.88,5,null,"kraftfoder, spannmål etc."]
[null,null,null,null,null,null,null,null,null,null,null,null,null,null,null,null,null,null,null,null,null,null,null,null,null,null,null,null,null,null,null,null,"SwA Toppa 26 ","kg",3.8875199999999999E-2,8.4550000000000007E-3,1.1214E-2,471,0.88,4,null,"kraftfoder, spannmål etc.",null,"VL Slaktfor 2","kg",2.0500000000000001E-2,5.7000000000000002E-3,6.4000000000000003E-3,471,0.88,4,null,null,"inköpt",null,"VF 210 Vega EDEL","kg",2.9232000000000001E-2,5.568E-3,7.9170000000000004E-3,471,0.88,5,null,"kraftfoder, spannmål etc."]
[null,null,null,null,null,null,null,null,null,null,null,null,null,null,null,null,null,null,null,null,null,null,null,null,null,null,null,null,null,null,null,null,"SwA Toppa 27","kg",3.8016000000000001E-2,8.1840000000000003E-3,1.1351999999999999E-2,472,0.88,4,null,"kraftfoder, spannmål etc.",null,"VL Smågris","kg",1.72E-2,6.0000000000000001E-3,6.4000000000000003E-3,472,0.88,4,null,null,"inköpt",null,"VF 215 Nova EDEL","kg",2.9928E-2,5.1330000000000004E-3,1.044E-2,472,0.88,5,null,"kraftfoder, spannmål etc."]
[null,null,null,null,null,null,null,null,null,null,null,null,null,null,null,null,null,null,null,null,null,null,null,null,null,null,null,null,null,null,null,null,"SwA Toppa 28 ","kg",4.0441600000000001E-2,7.2090000000000001E-3,1.0769000000000001E-2,473,0.88,4,null,"kraftfoder, spannmål etc.",null,"VL Smågris Hög","kg",1.72E-2,6.0000000000000001E-3,6.4000000000000003E-3,473,0.88,4,null,null,"inköpt",null,"VF 220 Fett Fiber Nova EDEL","kg",3.0623999999999998E-2,5.2199999999999998E-3,9.1350000000000008E-3,473,0.88,5,null,"kraftfoder, spannmål etc."]
[null,null,null,null,null,null,null,null,null,null,null,null,null,null,null,null,null,null,null,null,null,null,null,null,null,null,null,null,null,null,null,null,"SwA Toppa 29","kg",4.0584000000000002E-2,7.7429999999999999E-3,1.0413E-2,474,0.88,4,null,"kraftfoder, spannmål etc.",null,"VL Smågris Säker","kg",1.8499999999999999E-2,5.4999999999999997E-3,6.4000000000000003E-3,474,0.88,4,null,null,"inköpt",null,"VF 220 fett Nova EDEL","kg",3.0623999999999998E-2,5.2199999999999998E-3,9.1350000000000008E-3,474,0.88,5,null,"kraftfoder, spannmål etc."]
[null,null,null,null,null,null,null,null,null,null,null,null,null,null,null,null,null,null,null,null,null,null,null,null,null,null,null,null,null,null,null,null,"SwA Toppa 30","kg",4.2720000000000001E-2,7.6540000000000002E-3,1.1214E-2,475,0.88,4,null,"kraftfoder, spannmål etc.",null,"VL Startfor Slakt","kg",1.9199999999999998E-2,5.7000000000000002E-3,6.4000000000000003E-3,475,0.88,4,null,null,"inköpt",null,"VF 220 fett protein Nova EDEL","kg",3.2016000000000003E-2,5.2199999999999998E-3,9.1350000000000008E-3,475,0.88,5,null,"kraftfoder, spannmål etc."]
[null,null,null,null,null,null,null,null,null,null,null,null,null,null,null,null,null,null,null,null,null,null,null,null,null,null,null,null,null,null,null,null,"SwA Toppa 32 ","kg",4.5196800000000002E-2,7.4799999999999997E-3,1.1967999999999999E-2,476,0.88,4,null,"kraftfoder, spannmål etc.",null,"VL Suggfor","kg",1.67E-2,6.0000000000000001E-3,6.4000000000000003E-3,476,0.88,4,null,null,"inköpt",null,"VF 220 Nova EDEL","kg",3.0623999999999998E-2,5.2199999999999998E-3,9.1350000000000008E-3,476,0.88,5,null,"kraftfoder, spannmål etc."]
[null,null,null,null,null,null,null,null,null,null,null,null,null,null,null,null,null,null,null,null,null,null,null,null,null,null,null,null,null,null,null,null,"SwA Toppa 34 U","kg",4.6463999999999998E-2,8.1840000000000003E-3,9.9439999999999997E-3,477,0.88,4,null,"kraftfoder, spannmål etc.",null,"VL Suggfor Max","kg",1.7299999999999999E-2,6.0000000000000001E-3,6.4000000000000003E-3,477,0.88,4,null,null,"inköpt",null,"VF 220 Vega EDEL","kg",3.0623999999999998E-2,5.568E-3,9.5700000000000004E-3,477,0.88,5,null,"kraftfoder, spannmål etc."]
[null,null,null,null,null,null,null,null,null,null,null,null,null,null,null,null,null,null,null,null,null,null,null,null,null,null,null,null,null,null,null,null,"SwA Toppa Adda 24","kg",3.5742400000000001E-2,6.8529999999999997E-3,9.0779999999999993E-3,478,0.88,4,null,"kraftfoder, spannmål etc.",null,"VL Suggfor Sin","kg",1.72E-2,6.0000000000000001E-3,6.4000000000000003E-3,478,0.88,4,null,null,"inköpt",null,"VF 225 Nova EDEL","kg",3.1320000000000001E-2,5.2199999999999998E-3,8.9610000000000002E-3,478,0.88,5,null,"kraftfoder, spannmål etc."]
[null,null,null,null,null,null,null,null,null,null,null,null,null,null,null,null,null,null,null,null,null,null,null,null,null,null,null,null,null,null,null,null,"SwA Toppa Ess 35","kg",4.8416000000000001E-2,6.4970000000000002E-3,1.3528E-2,479,0.88,4,null,"kraftfoder, spannmål etc.",null,"VL Suggkonc","kg",4.9500000000000002E-2,2.9000000000000001E-2,0.03,479,0.88,4,null,null,"inköpt",null,"VF 230 Vega EDEL","kg",3.2016000000000003E-2,5.4809999999999998E-3,7.6559999999999996E-3,479,0.88,5,null,"kraftfoder, spannmål etc."]
[null,null,null,null,null,null,null,null,null,null,null,null,null,null,null,null,null,null,null,null,null,null,null,null,null,null,null,null,null,null,null,null,"SwA Toppa Mega 28","kg",4.0441600000000001E-2,7.1199999999999996E-3,1.0501999999999999E-2,480,0.88,4,null,"kraftfoder, spannmål etc.",null,"Bomullsexpeller - frö","kg",6.4768000000000006E-2,1.0947999999999999E-2,1.6559999999999998E-2,480,0.92,7,null,null,"inköpt",null,"VF 235 Nova EDEL","kg",3.2711999999999998E-2,6.0899999999999999E-3,8.7869999999999997E-3,480,0.88,5,null,"kraftfoder, spannmål etc."]
[null,null,null,null,null,null,null,null,null,null,null,null,null,null,null,null,null,null,null,null,null,null,null,null,null,null,null,null,null,null,null,null,"SwA Toppa Mega 31","kg",4.4856E-2,4.9839999999999997E-3,1.157E-2,481,0.88,4,null,"kraftfoder, spannmål etc.",null,"RaPass mjöl","kg",4.8384000000000003E-2,1.1610000000000001E-2,1.35E-2,481,0.9,7,null,null,"inköpt",null,"VF 240 Nova EDEL","kg",3.3408E-2,6.0899999999999999E-3,9.9179999999999997E-3,481,0.88,5,null,"kraftfoder, spannmål etc."]
[null,null,null,null,null,null,null,null,null,null,null,null,null,null,null,null,null,null,null,null,null,null,null,null,null,null,null,null,null,null,null,null,"Swa Viltfoder Pell","kg",1.6299999999999999E-2,4.3699999999999998E-3,4.6800000000000001E-3,482,0.88,4,null,"kraftfoder, spannmål etc.",null,null,null,null,null,null,482,null,null,null,null,null,null,"VF 280 Vega Topp EDEL","kg",3.9424000000000001E-2,7.744E-3,1.1440000000000001E-2,482,0.88,5,null,"kraftfoder, spannmål etc."]
[null,null,null,null,null,null,null,null,null,null,null,null,null,null,null,null,null,null,null,null,null,null,null,null,null,null,null,null,null,null,null,null,"T Kalvados","kg",3.11168E-2,9.4999999999999998E-3,0,483,0.88,4,null,"kraftfoder, spannmål etc.",null,null,null,null,null,null,483,null,null,null,null,null,null,"VF 290 Vega Topp EDEL","kg",4.0832E-2,6.6880000000000004E-3,1.1967999999999999E-2,483,0.88,5,null,"kraftfoder, spannmål etc."]
[null,null,null,null,null,null,null,null,null,null,null,null,null,null,null,null,null,null,null,null,null,null,null,null,null,null,null,null,null,null,null,null,"T Kalvamma","kg",2.97088E-2,7.3000000000000001E-3,0,484,0.88,4,null,"kraftfoder, spannmål etc.",null,null,null,null,null,null,484,null,null,null,null,null,null,"VF 305 Vega Topp EDEL","kg",4.2944000000000003E-2,7.744E-3,1.1440000000000001E-2,484,0.88,5,null,"kraftfoder, spannmål etc."]
[null,null,null,null,null,null,null,null,null,null,null,null,null,null,null,null,null,null,null,null,null,null,null,null,null,null,null,null,null,null,null,null,"VF 138 Ungnöt Edel","kg",1.92096E-2,4.8719999999999996E-3,8.0040000000000007E-3,485,0.88,4,null,"kraftfoder, spannmål etc.",null,null,null,null,null,null,485,null,null,null,null,null,null,"VF 315 Vega Topp EDEL","kg",4.4352000000000003E-2,8.2719999999999998E-3,1.1264E-2,485,0.88,5,null,"kraftfoder, spannmål etc."]
[null,null,null,null,null,null,null,null,null,null,null,null,null,null,null,null,null,null,null,null,null,null,null,null,null,null,null,null,null,null,null,null,"VF 140 Ungnöt EDEL","kg",1.9487999999999998E-2,4.8719999999999996E-3,7.4819999999999999E-3,486,0.88,4,null,"kraftfoder, spannmål etc.",null,null,null,null,null,null,486,null,null,null,null,null,null,"VF 340 Komet EDEL","kg",4.7871999999999998E-2,7.0400000000000003E-3,1.2496E-2,486,0.88,5,null,"kraftfoder, spannmål etc."]
[null,null,null,null,null,null,null,null,null,null,null,null,null,null,null,null,null,null,null,null,null,null,null,null,null,null,null,null,null,null,null,null,"VF 156 Ungnöt Edel","kg",2.17152E-2,5.2199999999999998E-3,6.96E-3,487,0.88,4,null,"kraftfoder, spannmål etc.",null,null,null,null,null,null,487,null,null,null,null,null,null,"VF 397 Vega Topp EDEL","kg",5.6532800000000001E-2,8.2769999999999996E-3,1.1481E-2,487,0.88,5,null,"kraftfoder, spannmål etc."]
[null,null,null,null,null,null,null,null,null,null,null,null,null,null,null,null,null,null,null,null,null,null,null,null,null,null,null,null,null,null,null,null,"VF 160 Ungnöt EDEL","kg",2.2272E-2,4.5240000000000002E-3,7.4819999999999999E-3,488,0.88,4,null,"kraftfoder, spannmål etc.",null,null,null,null,null,null,488,null,null,null,null,null,null,"VF 425 Vega Topp EDEL","kg",6.0519999999999997E-2,8.8999999999999999E-3,7.1199999999999996E-3,488,0.88,5,null,"kraftfoder, spannmål etc."]
[null,null,null,null,null,null,null,null,null,null,null,null,null,null,null,null,null,null,null,null,null,null,null,null,null,null,null,null,null,null,null,null,"VF 176 Ungnöt Edel","kg",2.4499199999999999E-2,5.3940000000000004E-3,7.0470000000000003E-3,489,0.88,4,null,"kraftfoder, spannmål etc.",null,null,null,null,null,null,489,null,null,null,null,null,null,"VF 445 Topp FUFO EDEL","kg",6.3367999999999994E-2,7.3870000000000003E-3,1.3528E-2,489,0.88,5,null,"kraftfoder, spannmål etc."]
[null,null,null,null,null,null,null,null,null,null,null,null,null,null,null,null,null,null,null,null,null,null,null,null,null,null,null,null,null,null,null,null,"VF 180 Vega EDEL","kg",2.5055999999999998E-2,5.2199999999999998E-3,7.8300000000000002E-3,490,0.88,4,null,"kraftfoder, spannmål etc.",null,null,null,null,null,null,490,null,null,null,null,null,null,"VF Alex Topp Eko EDEL","kg",5.6247999999999999E-2,5.8739999999999999E-3,1.7354999999999999E-2,490,0.88,5,null,"kraftfoder, spannmål etc."]
[null,null,null,null,null,null,null,null,null,null,null,null,null,null,null,null,null,null,null,null,null,null,null,null,null,null,null,null,null,null,null,null,"VF 185 Nova EDEL","kg",2.5752000000000001E-2,4.6979999999999999E-3,8.0909999999999992E-3,491,0.88,4,null,"kraftfoder, spannmål etc.",null,null,null,null,null,null,491,null,null,null,null,null,null,"VF Alice Eko EDEL","kg",3.2851199999999997E-2,4.3499999999999997E-3,1.0005E-2,491,0.88,5,null,"kraftfoder, spannmål etc."]
[null,null,null,null,null,null,null,null,null,null,null,null,null,null,null,null,null,null,null,null,null,null,null,null,null,null,null,null,null,null,null,null,"VF 190 Nova EDEL","kg",2.6447999999999999E-2,4.6979999999999999E-3,9.2219999999999993E-3,492,0.88,4,null,"kraftfoder, spannmål etc.",null,null,null,null,null,null,492,null,null,null,null,null,null,"VF Balans Topp EDEL","kg",3.5481600000000002E-2,5.5440000000000003E-3,1.3991999999999999E-2,492,0.88,5,null,"kraftfoder, spannmål etc."]
[null,null,null,null,null,null,null,null,null,null,null,null,null,null,null,null,null,null,null,null,null,null,null,null,null,null,null,null,null,null,null,null,"VF 193 Nova EDEL","kg",2.68656E-2,4.9589999999999999E-3,9.5700000000000004E-3,493,0.88,4,null,"kraftfoder, spannmål etc.",null,null,null,null,null,null,493,null,null,null,null,null,null,"VF Bete Nova EDEL","kg",2.3385599999999999E-2,4.3499999999999997E-3,9.4830000000000001E-3,493,0.88,5,null,"kraftfoder, spannmål etc."]
[null,null,null,null,null,null,null,null,null,null,null,null,null,null,null,null,null,null,null,null,null,null,null,null,null,null,null,null,null,null,null,null,"VF 198 Ungnöt Edel","kg",2.7561599999999999E-2,5.9160000000000003E-3,8.6999999999999994E-3,494,0.88,4,null,"kraftfoder, spannmål etc.",null,null,null,null,null,null,494,null,null,null,null,null,null,"VF Ella Eko Ung EDEL","kg",2.2411199999999999E-2,4.6109999999999996E-3,7.8300000000000002E-3,494,0.88,5,null,"kraftfoder, spannmål etc."]
[null,null,null,null,null,null,null,null,null,null,null,null,null,null,null,null,null,null,null,null,null,null,null,null,null,null,null,null,null,null,null,null,"VF 200 Vega EDEL","kg",2.784E-2,5.2199999999999998E-3,8.9610000000000002E-3,495,0.88,4,null,"kraftfoder, spannmål etc.",null,null,null,null,null,null,495,null,null,null,null,null,null,"VF Elton Topp Eko EDEL","kg",4.1535999999999997E-2,6.1599999999999997E-3,1.1088000000000001E-2,495,0.88,5,null,"kraftfoder, spannmål etc."]
[null,null,null,null,null,null,null,null,null,null,null,null,null,null,null,null,null,null,null,null,null,null,null,null,null,null,null,null,null,null,null,null,"VF 205 Nova EDEL","kg",2.8535999999999999E-2,4.9589999999999999E-3,9.5700000000000004E-3,496,0.88,4,null,"kraftfoder, spannmål etc.",null,null,null,null,null,null,496,null,null,null,null,null,null,"VF Emmi Eko EDEL","kg",2.58912E-2,4.176E-3,7.8300000000000002E-3,496,0.88,5,null,"kraftfoder, spannmål etc."]
[null,null,null,null,null,null,null,null,null,null,null,null,null,null,null,null,null,null,null,null,null,null,null,null,null,null,null,null,null,null,null,null,"VF 210 Vega EDEL","kg",2.9232000000000001E-2,5.568E-3,7.9170000000000004E-3,497,0.88,4,null,"kraftfoder, spannmål etc.",null,null,null,null,null,null,497,null,null,null,null,null,null,"VF Freja Topp EDEL","kg",4.2380800000000003E-2,7.4799999999999997E-3,1.0999999999999999E-2,497,0.88,5,null,"kraftfoder, spannmål etc."]
[null,null,null,null,null,null,null,null,null,null,null,null,null,null,null,null,null,null,null,null,null,null,null,null,null,null,null,null,null,null,null,null,"VF 215 Nova EDEL","kg",2.9928E-2,5.1330000000000004E-3,1.044E-2,498,0.88,4,null,"kraftfoder, spannmål etc.",null,null,null,null,null,null,498,null,null,null,null,null,null,"VF Johan Topp Eko EDEL","kg",3.8438399999999998E-2,6.7759999999999999E-3,1.1440000000000001E-2,498,0.88,5,null,"kraftfoder, spannmål etc."]
[null,null,null,null,null,null,null,null,null,null,null,null,null,null,null,null,null,null,null,null,null,null,null,null,null,null,null,null,null,null,null,null,"VF 220 Fett Fiber Nova EDEL","kg",3.0623999999999998E-2,5.2199999999999998E-3,9.1350000000000008E-3,499,0.88,4,null,"kraftfoder, spannmål etc.",null,null,null,null,null,null,499,null,null,null,null,null,null,"VF Kalv 100+","kg",2.5055999999999998E-2,6.96E-3,1.0527E-2,499,0.88,5,null,"kraftfoder, spannmål etc."]
[null,null,null,null,null,null,null,null,null,null,null,null,null,null,null,null,null,null,null,null,null,null,null,null,null,null,null,null,null,null,null,null,"VF 220 fett Nova EDEL","kg",3.0623999999999998E-2,5.2199999999999998E-3,9.1350000000000008E-3,500,0.88,4,null,"kraftfoder, spannmål etc.",null,null,null,null,null,null,500,null,null,null,null,null,null,"VF Kalvstart EDEL","kg",2.784E-2,6.96E-3,1.0527E-2,500,0.88,5,null,"kraftfoder, spannmål etc."]
[null,null,null,null,null,null,null,null,null,null,null,null,null,null,null,null,null,null,null,null,null,null,null,null,null,null,null,null,null,null,null,null,"VF 220 fett protein Nova EDEL","kg",3.2016000000000003E-2,5.2199999999999998E-3,9.1350000000000008E-3,501,0.88,4,null,"kraftfoder, spannmål etc.",null,null,null,null,null,null,501,null,null,null,null,null,null,"VF Kalvstart Vega EDEL","kg",2.6447999999999999E-2,6.0899999999999999E-3,8.8739999999999999E-3,501,0.88,5,null,"kraftfoder, spannmål etc."]
[null,null,null,null,null,null,null,null,null,null,null,null,null,null,null,null,null,null,null,null,null,null,null,null,null,null,null,null,null,null,null,null,"VF 220 Nova EDEL","kg",3.0623999999999998E-2,5.2199999999999998E-3,9.1350000000000008E-3,502,0.88,4,null,"kraftfoder, spannmål etc.",null,null,null,null,null,null,502,null,null,null,null,null,null,"VF Malte Topp Eko EDEL","kg",5.1263999999999997E-2,7.1199999999999996E-3,1.3439E-2,502,0.88,5,null,"kraftfoder, spannmål etc."]
[null,null,null,null,null,null,null,null,null,null,null,null,null,null,null,null,null,null,null,null,null,null,null,null,null,null,null,null,null,null,null,null,"VF 220 Vega EDEL","kg",3.0623999999999998E-2,5.568E-3,9.5700000000000004E-3,503,0.88,4,null,"kraftfoder, spannmål etc.",null,null,null,null,null,null,503,null,null,null,null,null,null,"VF Miljö Pro Topp EDEL","kg",3.19616E-2,5.0159999999999996E-3,1.1440000000000001E-2,503,0.88,5,null,"kraftfoder, spannmål etc."]
[null,null,null,null,null,null,null,null,null,null,null,null,null,null,null,null,null,null,null,null,null,null,null,null,null,null,null,null,null,null,null,null,"VF 225 Nova EDEL","kg",3.1320000000000001E-2,5.2199999999999998E-3,8.9610000000000002E-3,504,0.88,4,null,"kraftfoder, spannmål etc.",null,null,null,null,null,null,504,null,null,null,null,null,null,"VF Nelli Eko EDEL","kg",2.9232000000000001E-2,4.5240000000000002E-3,8.2649999999999998E-3,504,0.88,5,null,"kraftfoder, spannmål etc."]
[null,null,null,null,null,null,null,null,null,null,null,null,null,null,null,null,null,null,null,null,null,null,null,null,null,null,null,null,null,null,null,null,"VF 230 Vega EDEL","kg",3.2016000000000003E-2,5.4809999999999998E-3,7.6559999999999996E-3,505,0.88,4,null,"kraftfoder, spannmål etc.",null,null,null,null,null,null,505,null,null,null,null,null,null,"VF Norr Komet EDEL","kg",3.9424000000000001E-2,6.1599999999999997E-3,1.056E-2,505,0.88,5,null,"kraftfoder, spannmål etc."]
[null,null,null,null,null,null,null,null,null,null,null,null,null,null,null,null,null,null,null,null,null,null,null,null,null,null,null,null,null,null,null,null,"VF 235 Nova EDEL","kg",3.2711999999999998E-2,6.0899999999999999E-3,8.7869999999999997E-3,506,0.88,4,null,"kraftfoder, spannmål etc.",null,null,null,null,null,null,506,null,null,null,null,null,null,"VF Näsland Komet EDEL","kg",3.6185599999999998E-2,6.1599999999999997E-3,8.8880000000000001E-3,506,0.88,5,null,"kraftfoder, spannmål etc."]
[null,null,null,null,null,null,null,null,null,null,null,null,null,null,null,null,null,null,null,null,null,null,null,null,null,null,null,null,null,null,null,null,"VF 240 Nova EDEL","kg",3.3408E-2,6.0899999999999999E-3,9.9179999999999997E-3,507,0.88,4,null,"kraftfoder, spannmål etc.",null,"*","*","*","*","*",null,null,null,null,null,null,null,"VF PBV Fett Topp EDEL","kg",4.1817600000000003E-2,5.6319999999999999E-3,1.2496E-2,507,0.88,5,null,"kraftfoder, spannmål etc."]
[null,null,null,null,null,null,null,null,null,null,null,null,null,null,null,null,null,null,null,null,null,null,null,null,null,null,null,null,null,null,null,null,"VF 280 Vega Topp EDEL","kg",3.9424000000000001E-2,7.744E-3,1.1440000000000001E-2,508,0.88,4,null,"kraftfoder, spannmål etc.",null,null,null,null,null,null,null,null,null,null,null,null,null,"VF PBV Topp EDEL","kg",4.1817600000000003E-2,5.9839999999999997E-3,1.2496E-2,508,0.88,5,null,"kraftfoder, spannmål etc."]
[null,null,null,null,null,null,null,null,null,null,null,null,null,null,null,null,null,null,null,null,null,null,null,null,null,null,null,null,null,null,null,null,"VF 290 Vega Topp EDEL","kg",4.0832E-2,6.6880000000000004E-3,1.1967999999999999E-2,509,0.88,4,null,"kraftfoder, spannmål etc.",null,null,null,null,null,null,null,null,null,null,null,null,null,"VF Pro Topp EDEL","kg",3.8438399999999998E-2,5.0159999999999996E-3,1.1528E-2,509,0.88,5,null,"kraftfoder, spannmål etc."]
[null,null,null,null,null,null,null,null,null,null,null,null,null,null,null,null,null,null,null,null,null,null,null,null,null,null,null,null,null,null,null,null,"VF 305 Vega Topp EDEL","kg",4.2944000000000003E-2,7.744E-3,1.1440000000000001E-2,510,0.88,4,null,"kraftfoder, spannmål etc.",null,null,null,null,null,null,null,null,null,null,null,null,null,"VF Pärla FUFO EDEL","kg",6.1943999999999999E-2,7.1199999999999996E-3,1.2905E-2,510,0.88,5,null,"kraftfoder, spannmål etc."]
[null,null,null,null,null,null,null,null,null,null,null,null,null,null,null,null,null,null,null,null,null,null,null,null,null,null,null,null,null,null,null,null,"VF 315 Vega Topp EDEL","kg",4.4352000000000003E-2,8.2719999999999998E-3,1.1264E-2,511,0.88,4,null,"kraftfoder, spannmål etc.",null,null,null,null,null,null,null,null,null,null,null,null,null,"VF Pärla Nova EDEL","kg",2.9232000000000001E-2,4.6979999999999999E-3,9.2219999999999993E-3,511,0.88,5,null,"kraftfoder, spannmål etc."]
[null,null,null,null,null,null,null,null,null,null,null,null,null,null,null,null,null,null,null,null,null,null,null,null,null,null,null,null,null,null,null,null,"VF 340 Komet EDEL","kg",4.7871999999999998E-2,7.0400000000000003E-3,1.2496E-2,512,0.88,4,null,"kraftfoder, spannmål etc.",null,null,null,null,null,null,null,null,null,null,null,null,null,"VF Pärla Topp EDEL","kg",4.1817600000000003E-2,5.6319999999999999E-3,1.1440000000000001E-2,512,0.88,5,null,"kraftfoder, spannmål etc."]
[null,null,null,null,null,null,null,null,null,null,null,null,null,null,null,null,null,null,null,null,null,null,null,null,null,null,null,null,null,null,null,null,"VF 397 Vega Topp EDEL","kg",5.6532800000000001E-2,8.2769999999999996E-3,1.1481E-2,{"$f":"AL517+1","v":513},0.88,4,null,"kraftfoder, spannmål etc.",null,null,null,null,null,null,null,null,null,null,null,null,null,"VF Robot Nova EDEL","kg",2.8535999999999999E-2,4.6979999999999999E-3,1.0005E-2,{"$f":"BI517+1","v":513},0.88,5,null,"kraftfoder, spannmål etc."]
[null,null,null,null,null,null,null,null,null,null,null,null,null,null,null,null,null,null,null,null,null,null,null,null,null,null,null,null,null,null,null,null,"VF 425 Vega Topp EDEL","kg",6.0519999999999997E-2,8.8999999999999999E-3,7.1199999999999996E-3,514,0.88,4,null,"kraftfoder, spannmål etc.",null,null,null,null,null,null,null,null,null,null,null,null,null,"VF Robot Topp EDEL","kg",3.9142400000000001E-2,5.28E-3,1.188E-2,514,0.88,5,null,"kraftfoder, spannmål etc."]
[null,null,null,null,null,null,null,null,null,null,null,null,null,null,null,null,null,null,null,null,null,null,null,null,null,null,null,null,null,null,null,null,"VF 445 Topp FUFO EDEL","kg",6.3367999999999994E-2,7.3870000000000003E-3,1.3528E-2,515,0.88,4,null,"kraftfoder, spannmål etc.",null,null,null,null,null,null,null,null,null,null,null,null,null,"VF Singel Topp EDEL","kg",4.0832E-2,5.5440000000000003E-3,1.3024000000000001E-2,515,0.88,5,null,"kraftfoder, spannmål etc."]
[null,null,null,null,null,null,null,null,null,null,null,null,null,null,null,null,null,null,null,null,null,null,null,null,null,null,null,null,null,null,null,null,"VF Alex Topp Eko EDEL","kg",5.6247999999999999E-2,5.8739999999999999E-3,1.7354999999999999E-2,516,0.88,4,null,"kraftfoder, spannmål etc.",null,null,null,null,null,null,null,null,null,null,null,null,null,"VF Standard Topp EDEL","kg",4.02688E-2,5.6319999999999999E-3,1.2496E-2,516,0.88,5,null,"kraftfoder, spannmål etc."]
[null,null,null,null,null,null,null,null,null,null,null,null,null,null,null,null,null,null,null,null,null,null,null,null,null,null,null,null,null,null,null,null,"VF Alice Eko EDEL","kg",3.2851199999999997E-2,4.3499999999999997E-3,1.0005E-2,517,0.88,4,null,"kraftfoder, spannmål etc.",null,null,null,null,null,null,null,null,null,null,null,null,null,"VF Tuva Eko Edel","kg",2.5612800000000002E-2,5.6550000000000003E-3,8.6999999999999994E-3,517,0.88,5,null,"kraftfoder, spannmål etc."]
[null,null,null,null,null,null,null,null,null,null,null,null,null,null,null,null,null,null,null,null,null,null,null,null,null,null,null,null,null,null,null,null,"VF Balans Topp EDEL","kg",3.5481600000000002E-2,5.5440000000000003E-3,1.3991999999999999E-2,518,0.88,4,null,"kraftfoder, spannmål etc.",null,null,null,null,null,null,null,null,null,null,null,null,null,"VF Ungnötskoncentrat EDEL","kg",4.224E-2,7.4799999999999997E-3,1.1440000000000001E-2,518,0.88,5,null,"kraftfoder, spannmål etc."]
[null,null,null,null,null,null,null,null,null,null,null,null,null,null,null,null,null,null,null,null,null,null,null,null,null,null,null,null,null,null,null,null,"VF Bete Nova EDEL","kg",2.3385599999999999E-2,4.3499999999999997E-3,9.4830000000000001E-3,519,0.88,4,null,"kraftfoder, spannmål etc.",null,null,null,null,null,null,null,null,null,null,null,null,null,"VF Vega Ungnöt EDEL","kg",2.0879999999999999E-2,5.0460000000000001E-3,7.9170000000000004E-3,519,0.88,5,null,"kraftfoder, spannmål etc."]
[null,null,null,null,null,null,null,null,null,null,null,null,null,null,null,null,null,null,null,null,null,null,null,null,null,null,null,null,null,null,null,null,"VF Ella Eko Ung EDEL","kg",2.2411199999999999E-2,4.6109999999999996E-3,7.8300000000000002E-3,520,0.88,4,null,"kraftfoder, spannmål etc.",null,null,null,null,null,null,null,null,null,null,null,null,null,"VL 20 TOP V PELLETS BK","kg",4.3647999999999999E-2,8.0079999999999995E-3,1.2056000000000001E-2,520,0.88,5,null,"kraftfoder, spannmål etc."]
[null,null,null,null,null,null,null,null,null,null,null,null,null,null,null,null,null,null,null,null,null,null,null,null,null,null,null,null,null,null,null,null,"VF Elton Topp Eko EDEL","kg",4.1535999999999997E-2,6.1599999999999997E-3,1.1088000000000001E-2,521,0.88,4,null,"kraftfoder, spannmål etc.",null,null,null,null,null,null,null,null,null,null,null,null,null,"VL Eko Basfoder","kg",2.6752000000000001E-2,4.1359999999999999E-3,9.2399999999999999E-3,521,0.88,5,null,"kraftfoder, spannmål etc."]
[null,null,null,null,null,null,null,null,null,null,null,null,null,null,null,null,null,null,null,null,null,null,null,null,null,null,null,null,null,null,null,null,"VF Emmi Eko EDEL","kg",2.58912E-2,4.176E-3,7.8300000000000002E-3,522,0.88,4,null,"kraftfoder, spannmål etc.",null,null,null,null,null,null,null,null,null,null,null,null,null,"VL Eko Koncentrat","kg",4.3631999999999997E-2,5.0400000000000002E-3,1.494E-2,522,0.88,5,null,"kraftfoder, spannmål etc."]
[null,null,null,null,null,null,null,null,null,null,null,null,null,null,null,null,null,null,null,null,null,null,null,null,null,null,null,null,null,null,null,null,"VF Freja Topp EDEL","kg",4.2380800000000003E-2,7.4799999999999997E-3,1.0999999999999999E-2,523,0.88,4,null,"kraftfoder, spannmål etc.",null,null,null,null,null,null,null,null,null,null,null,null,null,"VL Eko Proteinmix","kg",5.6784000000000001E-2,5.5510000000000004E-3,1.8200000000000001E-2,523,0.88,5,null,"kraftfoder, spannmål etc."]
[null,null,null,null,null,null,null,null,null,null,null,null,null,null,null,null,null,null,null,null,null,null,null,null,null,null,null,null,null,null,null,null,"VF Johan Topp Eko EDEL","kg",3.8438399999999998E-2,6.7759999999999999E-3,1.1440000000000001E-2,524,0.88,4,null,"kraftfoder, spannmål etc.",null,null,null,null,null,null,null,null,null,null,null,null,null,"VL ERIKBERG KROSS DRANKBL.","kg",2.639712E-2,4.7010999999999997E-3,7.6281999999999999E-3,524,0.88,5,null,"kraftfoder, spannmål etc."]
[null,null,null,null,null,null,null,null,null,null,null,null,null,null,null,null,null,null,null,null,null,null,null,null,null,null,null,null,null,null,null,null,"VF Kalv 100+","kg",2.5055999999999998E-2,6.96E-3,1.0527E-2,525,0.88,4,null,"kraftfoder, spannmål etc.",null,null,null,null,null,null,null,null,null,null,null,null,null,"VL Fiber Pellets","kg",1.99136E-2,4.5339000000000004E-3,7.9121E-3,525,0.88,5,null,"kraftfoder, spannmål etc."]
[null,null,null,null,null,null,null,null,null,null,null,null,null,null,null,null,null,null,null,null,null,null,null,null,null,null,null,null,null,null,null,null,"VF Kalvstart EDEL","kg",2.784E-2,6.96E-3,1.0527E-2,526,0.88,4,null,"kraftfoder, spannmål etc.",null,null,null,null,null,null,null,null,null,null,null,null,null,"VL HÖG TOP FETT PELLETS BK","kg",3.8016000000000001E-2,7.744E-3,1.0296E-2,526,0.88,5,null,"kraftfoder, spannmål etc."]
[null,null,null,null,null,null,null,null,null,null,null,null,null,null,null,null,null,null,null,null,null,null,null,null,null,null,null,null,null,null,null,null,"VF Kalvstart Vega EDEL","kg",2.6447999999999999E-2,6.0899999999999999E-3,8.8739999999999999E-3,527,0.88,4,null,"kraftfoder, spannmål etc.",null,null,null,null,null,null,null,null,null,null,null,null,null,"VL HÖG TOP PELLETS BK","kg",3.8515199999999999E-2,7.9649999999999999E-3,1.0796999999999999E-2,527,0.88,5,null,"kraftfoder, spannmål etc."]
[null,null,null,null,null,null,null,null,null,null,null,null,null,null,null,null,null,null,null,null,null,null,null,null,null,null,null,null,null,null,null,null,"VF Malte Topp Eko EDEL","kg",5.1263999999999997E-2,7.1199999999999996E-3,1.3439E-2,528,0.88,4,null,"kraftfoder, spannmål etc.",null,null,null,null,null,null,null,null,null,null,null,null,null,"VL KALV START PELLETS BK","kg",2.6752000000000001E-2,5.9839999999999997E-3,8.9759999999999996E-3,528,0.88,5,null,"kraftfoder, spannmål etc."]
[null,null,null,null,null,null,null,null,null,null,null,null,null,null,null,null,null,null,null,null,null,null,null,null,null,null,null,null,null,null,null,null,"VF Miljö Pro Topp EDEL","kg",3.19616E-2,5.0159999999999996E-3,1.1440000000000001E-2,529,0.88,4,null,"kraftfoder, spannmål etc.",null,null,null,null,null,null,null,null,null,null,null,null,null,"VL KO 100 FETT PELLETS BK","kg",2.954E-2,5.7749999999999998E-3,8.6625000000000001E-3,529,0.88,5,null,"kraftfoder, spannmål etc."]
[null,null,null,null,null,null,null,null,null,null,null,null,null,null,null,null,null,null,null,null,null,null,null,null,null,null,null,null,null,null,null,null,"VF Nelli Eko EDEL","kg",2.9232000000000001E-2,4.5240000000000002E-3,8.2649999999999998E-3,530,0.88,4,null,"kraftfoder, spannmål etc.",null,null,null,null,null,null,null,null,null,null,null,null,null,"VL KO 117 PELLETS BK","kg",3.2303039999999998E-2,5.9432E-3,9.4392E-3,530,0.88,5,null,"kraftfoder, spannmål etc."]
[null,null,null,null,null,null,null,null,null,null,null,null,null,null,null,null,null,null,null,null,null,null,null,null,null,null,null,null,null,null,null,null,"VF Norr Komet EDEL","kg",3.9424000000000001E-2,6.1599999999999997E-3,1.056E-2,531,0.88,4,null,"kraftfoder, spannmål etc.",null,null,null,null,null,null,null,null,null,null,null,null,null,"VL KO 122 PELLETS BK","kg",3.4540479999999998E-2,5.9432E-3,9.7014000000000006E-3,531,0.88,5,null,"kraftfoder, spannmål etc."]
[null,null,null,null,null,null,null,null,null,null,null,null,null,null,null,null,null,null,null,null,null,null,null,null,null,null,null,null,null,null,null,null,"VF Näsland Komet EDEL","kg",3.6185599999999998E-2,6.1599999999999997E-3,8.8880000000000001E-3,532,0.88,4,null,"kraftfoder, spannmål etc.",null,null,null,null,null,null,null,null,null,null,null,null,null,"VL KO 82 PELLETS BK","kg",2.2967999999999999E-2,4.9589999999999999E-3,7.4819999999999999E-3,532,0.88,5,null,"kraftfoder, spannmål etc."]
[null,null,null,null,null,null,null,null,null,null,null,null,null,null,null,null,null,null,null,null,null,null,null,null,null,null,null,null,null,null,null,null,"VF PBV Fett Topp EDEL","kg",4.1817600000000003E-2,5.6319999999999999E-3,1.2496E-2,533,0.88,4,null,"kraftfoder, spannmål etc.",null,null,null,null,null,null,null,null,null,null,null,null,null,"VL KO 97 PELLETS BK","kg",2.8535999999999999E-2,5.3070000000000001E-3,8.5260000000000006E-3,533,0.88,5,null,"kraftfoder, spannmål etc."]
[null,null,null,null,null,null,null,null,null,null,null,null,null,null,null,null,null,null,null,null,null,null,null,null,null,null,null,null,null,null,null,null,"VF PBV Topp EDEL","kg",4.1817600000000003E-2,5.9839999999999997E-3,1.2496E-2,534,0.88,4,null,"kraftfoder, spannmål etc.",null,null,null,null,null,null,null,null,null,null,null,null,null,"VL KO BAS 2015","kg",2.7390879999999999E-2,5.0401999999999999E-3,8.0817000000000007E-3,534,0.88,5,null,"kraftfoder, spannmål etc."]
[null,null,null,null,null,null,null,null,null,null,null,null,null,null,null,null,null,null,null,null,null,null,null,null,null,null,null,null,null,null,null,null,"VF Pro Topp EDEL","kg",3.8438399999999998E-2,5.0159999999999996E-3,1.1528E-2,535,0.88,4,null,"kraftfoder, spannmål etc.",null,null,null,null,null,null,null,null,null,null,null,null,null,"VL Ko Energi Bas Pellets","kg",2.642976E-2,4.8069999999999996E-3,7.7786000000000001E-3,535,0.88,5,null,"kraftfoder, spannmål etc."]
[null,null,null,null,null,null,null,null,null,null,null,null,null,null,null,null,null,null,null,null,null,null,null,null,null,null,null,null,null,null,null,null,"VF Pärla FUFO EDEL","kg",6.1943999999999999E-2,7.1199999999999996E-3,1.2905E-2,536,0.88,4,null,"kraftfoder, spannmål etc.",null,null,null,null,null,null,null,null,null,null,null,null,null,"VL Ko Energi Hög Top Pellets","kg",3.7024000000000001E-2,7.0309999999999999E-3,1.1214E-2,536,0.88,5,null,"kraftfoder, spannmål etc."]
[null,null,null,null,null,null,null,null,null,null,null,null,null,null,null,null,null,null,null,null,null,null,null,null,null,null,null,null,null,null,null,null,"VF Pärla Nova EDEL","kg",2.9232000000000001E-2,4.6979999999999999E-3,9.2219999999999993E-3,537,0.88,4,null,"kraftfoder, spannmål etc.",null,null,null,null,null,null,null,null,null,null,null,null,null,"VL Ko Energi Medium Pellets","kg",2.9059359999999999E-2,5.4746999999999999E-3,8.2555000000000007E-3,537,0.88,5,null,"kraftfoder, spannmål etc."]
[null,null,null,null,null,null,null,null,null,null,null,null,null,null,null,null,null,null,null,null,null,null,null,null,null,null,null,null,null,null,null,null,"VF Pärla Topp EDEL","kg",4.1817600000000003E-2,5.6319999999999999E-3,1.1440000000000001E-2,538,0.88,4,null,"kraftfoder, spannmål etc.",null,null,null,null,null,null,null,null,null,null,null,null,null,"VL Ko Energi Nyhem Pellets","kg",3.8117600000000001E-2,7.3718000000000004E-3,1.01587E-2,538,0.88,5,null,"kraftfoder, spannmål etc."]
[null,null,null,null,null,null,null,null,null,null,null,null,null,null,null,null,null,null,null,null,null,null,null,null,null,null,null,null,null,null,null,null,"VF Robot Nova EDEL","kg",2.8535999999999999E-2,4.6979999999999999E-3,1.0005E-2,539,0.88,4,null,"kraftfoder, spannmål etc.",null,null,null,null,null,null,null,null,null,null,null,null,null,"VL Ko Energi Top Pellets","kg",3.8359999999999998E-2,7.9625000000000008E-3,1.0500000000000001E-2,539,0.88,5,null,"kraftfoder, spannmål etc."]
[null,null,null,null,null,null,null,null,null,null,null,null,null,null,null,null,null,null,null,null,null,null,null,null,null,null,null,null,null,null,null,null,"VF Robot Topp EDEL","kg",3.9142400000000001E-2,5.28E-3,1.188E-2,540,0.88,4,null,"kraftfoder, spannmål etc.",null,null,null,null,null,null,null,null,null,null,null,null,null,"VL Ko Fiber 190 Pellets","kg",2.70864E-2,5.6132999999999999E-3,8.8208999999999996E-3,540,0.88,5,null,"kraftfoder, spannmål etc."]
[null,null,null,null,null,null,null,null,null,null,null,null,null,null,null,null,null,null,null,null,null,null,null,null,null,null,null,null,null,null,null,null,"VF Singel Topp EDEL","kg",4.0832E-2,5.5440000000000003E-3,1.3024000000000001E-2,541,0.88,4,null,"kraftfoder, spannmål etc.",null,null,null,null,null,null,null,null,null,null,null,null,null,"VL Ko Fiber Bas Pellets","kg",2.4976000000000002E-2,5.2627999999999998E-3,8.5632E-3,541,0.88,5,null,"kraftfoder, spannmål etc."]
[null,null,null,null,null,null,null,null,null,null,null,null,null,null,null,null,null,null,null,null,null,null,null,null,null,null,null,null,null,null,null,null,"VF Standard Topp EDEL","kg",4.02688E-2,5.6319999999999999E-3,1.2496E-2,542,0.88,4,null,"kraftfoder, spannmål etc.",null,null,null,null,null,null,null,null,null,null,null,null,null,"VL Ko Fiber Grund Mjöl","kg",2.3091199999999999E-2,4.9610000000000001E-3,1.1365200000000001E-2,542,0.88,5,null,"kraftfoder, spannmål etc."]
[null,null,null,null,null,null,null,null,null,null,null,null,null,null,null,null,null,null,null,null,null,null,null,null,null,null,null,null,null,null,null,null,"VF Tuva Eko Edel","kg",2.5612800000000002E-2,5.6550000000000003E-3,8.6999999999999994E-3,543,0.88,4,null,"kraftfoder, spannmål etc.",null,null,null,null,null,null,null,null,null,null,null,null,null,"VL KO ROBOT BAS","kg",2.433024E-2,5.0112000000000004E-3,7.6032000000000001E-3,543,0.88,5,null,"kraftfoder, spannmål etc."]
[null,null,null,null,null,null,null,null,null,null,null,null,null,null,null,null,null,null,null,null,null,null,null,null,null,null,null,null,null,null,null,null,"VF Ungnötskoncentrat EDEL","kg",4.224E-2,7.4799999999999997E-3,1.1440000000000001E-2,544,0.88,4,null,"kraftfoder, spannmål etc.",null,null,null,null,null,null,null,null,null,null,null,null,null,"VL Ko Robot bas Plus Pellets","kg",2.6107200000000001E-2,5.0273999999999996E-3,7.8498000000000005E-3,544,0.88,5,null,"kraftfoder, spannmål etc."]
[null,null,null,null,null,null,null,null,null,null,null,null,null,null,null,null,null,null,null,null,null,null,null,null,null,null,null,null,null,null,null,null,"VF Vega Ungnöt EDEL","kg",2.0879999999999999E-2,5.0460000000000001E-3,7.9170000000000004E-3,545,0.88,4,null,"kraftfoder, spannmål etc.",null,null,null,null,null,null,null,null,null,null,null,null,null,"VL KO ROBOT MEDIUM PELLETS","kg",3.0866879999999999E-2,5.0401999999999999E-3,9.4721000000000007E-3,545,0.88,5,null,"kraftfoder, spannmål etc."]
[null,null,null,null,null,null,null,null,null,null,null,null,null,null,null,null,null,null,null,null,null,null,null,null,null,null,null,null,null,null,null,null,"VL 20 TOP V PELLETS BK","kg",4.3647999999999999E-2,8.0079999999999995E-3,1.2056000000000001E-2,546,0.88,4,null,"kraftfoder, spannmål etc.",null,null,null,null,null,null,null,null,null,null,null,null,null,"VL Ko Robot Medium Småland","kg",2.737728E-2,5.1155999999999997E-3,8.6435999999999995E-3,546,0.88,5,null,"kraftfoder, spannmål etc."]
[null,null,null,null,null,null,null,null,null,null,null,null,null,null,null,null,null,null,null,null,null,null,null,null,null,null,null,null,null,null,null,null,"VL Eko Basfoder","kg",2.6752000000000001E-2,4.1359999999999999E-3,9.2399999999999999E-3,547,0.88,4,null,"kraftfoder, spannmål etc.",null,null,null,null,null,null,null,null,null,null,null,null,null,"VL KO ROBOT TOP","kg",4.271792E-2,7.0073000000000002E-3,1.18858E-2,547,0.88,5,null,"kraftfoder, spannmål etc."]
[null,null,null,null,null,null,null,null,null,null,null,null,null,null,null,null,null,null,null,null,null,null,null,null,null,null,null,null,null,null,null,null,"VL Eko Koncentrat","kg",4.3631999999999997E-2,5.0400000000000002E-3,1.494E-2,548,0.88,4,null,"kraftfoder, spannmål etc.",null,null,null,null,null,null,null,null,null,null,null,null,null,"VL KO TOP PLUS PELLETS BK","kg",4.2091839999999998E-2,6.7298000000000002E-3,1.15368E-2,548,0.88,5,null,"kraftfoder, spannmål etc."]
[null,null,null,null,null,null,null,null,null,null,null,null,null,null,null,null,null,null,null,null,null,null,null,null,null,null,null,null,null,null,null,null,"VL Eko Proteinmix","kg",5.6784000000000001E-2,5.5510000000000004E-3,1.8200000000000001E-2,549,0.88,4,null,"kraftfoder, spannmål etc.",null,null,null,null,null,null,null,null,null,null,null,null,null,"VL KO TOP SPANNMÅL PELLETS BK","kg",4.2000000000000003E-2,7.9625000000000008E-3,1.1375E-2,549,0.88,5,null,"kraftfoder, spannmål etc."]
[null,null,null,null,null,null,null,null,null,null,null,null,null,null,null,null,null,null,null,null,null,null,null,null,null,null,null,null,null,null,null,null,"VL ERIKBERG KROSS DRANKBL.","kg",2.639712E-2,4.7010999999999997E-3,7.6281999999999999E-3,550,0.88,4,null,"kraftfoder, spannmål etc.",null,null,null,null,null,null,null,null,null,null,null,null,null,"VL MEGA TOP PELLETS BK","kg",4.1300000000000003E-2,8.3125000000000004E-3,1.1112500000000001E-2,550,0.88,5,null,"kraftfoder, spannmål etc."]
[null,null,null,null,null,null,null,null,null,null,null,null,null,null,null,null,null,null,null,null,null,null,null,null,null,null,null,null,null,null,null,null,"VL Fiber Pellets","kg",1.99136E-2,4.5339000000000004E-3,7.9121E-3,551,0.88,4,null,"kraftfoder, spannmål etc.",null,null,null,null,null,null,null,null,null,null,null,null,null,"VL Mix 35 Mjöl","kg",5.0751360000000002E-2,9.6228000000000008E-3,1.30086E-2,551,0.88,5,null,"kraftfoder, spannmål etc."]
[null,null,null,null,null,null,null,null,null,null,null,null,null,null,null,null,null,null,null,null,null,null,null,null,null,null,null,null,null,null,null,null,"VL HÖG TOP FETT PELLETS BK","kg",3.8016000000000001E-2,7.744E-3,1.0296E-2,552,0.88,4,null,"kraftfoder, spannmål etc.",null,null,null,null,null,null,null,null,null,null,null,null,null,"VL MIX 37 MJÖL BK","kg",5.8799999999999998E-2,7.9625000000000008E-3,1.61875E-2,552,0.88,5,null,"kraftfoder, spannmål etc."]
[null,null,null,null,null,null,null,null,null,null,null,null,null,null,null,null,null,null,null,null,null,null,null,null,null,null,null,null,null,null,null,null,"VL HÖG TOP PELLETS BK","kg",3.8515199999999999E-2,7.9649999999999999E-3,1.0796999999999999E-2,553,0.88,4,null,"kraftfoder, spannmål etc.",null,null,null,null,null,null,null,null,null,null,null,null,null,"VL MIX 40 MJÖL BK","kg",6.5174399999999993E-2,7.5335999999999997E-3,1.29648E-2,553,0.88,5,null,"kraftfoder, spannmål etc."]
[null,null,null,null,null,null,null,null,null,null,null,null,null,null,null,null,null,null,null,null,null,null,null,null,null,null,null,null,null,null,null,null,"VL KALV START PELLETS BK","kg",2.6752000000000001E-2,5.9839999999999997E-3,8.9759999999999996E-3,554,0.88,4,null,"kraftfoder, spannmål etc.",null,null,null,null,null,null,null,null,null,null,null,null,null,"VL MIX 45 MJÖL BK","kg",7.1400000000000005E-2,7.0875E-3,1.6712500000000002E-2,554,0.88,5,null,"kraftfoder, spannmål etc."]
[null,null,null,null,null,null,null,null,null,null,null,null,null,null,null,null,null,null,null,null,null,null,null,null,null,null,null,null,null,null,null,null,"VL KO 100 FETT PELLETS BK","kg",2.954E-2,5.7749999999999998E-3,8.6625000000000001E-3,555,0.88,4,null,"kraftfoder, spannmål etc.",null,null,null,null,null,null,null,null,null,null,null,null,null,"VL PROTEIN TOP PELLETS BK","kg",4.4940000000000001E-2,8.4875000000000003E-3,1.1900000000000001E-2,555,0.88,5,null,"kraftfoder, spannmål etc."]
[null,null,null,null,null,null,null,null,null,null,null,null,null,null,null,null,null,null,null,null,null,null,null,null,null,null,null,null,null,null,null,null,"VL KO 117 PELLETS BK","kg",3.2303039999999998E-2,5.9432E-3,9.4392E-3,556,0.88,4,null,"kraftfoder, spannmål etc.",null,null,null,null,null,null,null,null,null,null,null,null,null,"VL Protein Top Urea Pellets BK","kg",4.5465600000000002E-2,7.9920000000000008E-3,1.11E-2,556,0.88,5,null,"kraftfoder, spannmål etc."]
[null,null,null,null,null,null,null,null,null,null,null,null,null,null,null,null,null,null,null,null,null,null,null,null,null,null,null,null,null,null,null,null,"VL KO 122 PELLETS BK","kg",3.4540479999999998E-2,5.9432E-3,9.7014000000000006E-3,557,0.88,4,null,"kraftfoder, spannmål etc.",null,null,null,null,null,null,null,null,null,null,null,null,null,"VL Proteinblandning Änganäs","kg",3.2126399999999999E-2,6.6347999999999997E-3,8.2062000000000003E-3,557,0.88,5,null,"kraftfoder, spannmål etc."]
[null,null,null,null,null,null,null,null,null,null,null,null,null,null,null,null,null,null,null,null,null,null,null,null,null,null,null,null,null,null,null,null,"VL KO 82 PELLETS BK","kg",2.2967999999999999E-2,4.9589999999999999E-3,7.4819999999999999E-3,558,0.88,4,null,"kraftfoder, spannmål etc.",null,null,null,null,null,null,null,null,null,null,null,null,null,"VL ROLF JÖNSSON KROSSBL","kg",2.2527999999999999E-2,7.0400000000000003E-3,8.5360000000000002E-3,558,0.88,5,null,"kraftfoder, spannmål etc."]
[null,null,null,null,null,null,null,null,null,null,null,null,null,null,null,null,null,null,null,null,null,null,null,null,null,null,null,null,null,null,null,null,"VL KO 97 PELLETS BK","kg",2.8535999999999999E-2,5.3070000000000001E-3,8.5260000000000006E-3,559,0.88,4,null,"kraftfoder, spannmål etc.",null,null,null,null,null,null,null,null,null,null,null,null,null,"VL SKOTTORP 122","kg",3.3012800000000002E-2,6.5849999999999997E-3,1.0360400000000001E-2,559,0.88,5,null,"kraftfoder, spannmål etc."]
[null,null,null,null,null,null,null,null,null,null,null,null,null,null,null,null,null,null,null,null,null,null,null,null,null,null,null,null,null,null,null,null,"VL KO BAS 2015","kg",2.7390879999999999E-2,5.0401999999999999E-3,8.0817000000000007E-3,560,0.88,4,null,"kraftfoder, spannmål etc.",null,null,null,null,null,null,null,null,null,null,null,null,null,"VL UNG 1 PELLETS BK","kg",2.5055999999999998E-2,5.9160000000000003E-3,8.2649999999999998E-3,560,0.88,5,null,"kraftfoder, spannmål etc."]
[null,null,null,null,null,null,null,null,null,null,null,null,null,null,null,null,null,null,null,null,null,null,null,null,null,null,null,null,null,null,null,null,"VL Ko Energi Bas Pellets","kg",2.642976E-2,4.8069999999999996E-3,7.7786000000000001E-3,561,0.88,4,null,"kraftfoder, spannmål etc.",null,null,null,null,null,null,null,null,null,null,null,null,null,"VL UNG 2 PELLETS BK","kg",2.2272E-2,5.3070000000000001E-3,7.221E-3,561,0.88,5,null,"kraftfoder, spannmål etc."]
[null,null,null,null,null,null,null,null,null,null,null,null,null,null,null,null,null,null,null,null,null,null,null,null,null,null,null,null,null,null,null,null,"VL Ko Energi Hög Top Pellets","kg",3.7024000000000001E-2,7.0309999999999999E-3,1.1214E-2,562,0.88,4,null,"kraftfoder, spannmål etc.",null,null,null,null,null,null,null,null,null,null,null,null,null,"VL Ung Energi Pellets","kg",2.8000000000000001E-2,5.7749999999999998E-3,8.9250000000000006E-3,562,0.88,5,null,"kraftfoder, spannmål etc."]
[null,null,null,null,null,null,null,null,null,null,null,null,null,null,null,null,null,null,null,null,null,null,null,null,null,null,null,null,null,null,null,null,"VL Ko Energi Medium Pellets","kg",2.9059359999999999E-2,5.4746999999999999E-3,8.2555000000000007E-3,563,0.88,4,null,"kraftfoder, spannmål etc.",null,null,null,null,null,null,null,null,null,null,null,null,null,"VL UNGNÖTSKONC PELLETS BK","kg",4.3041599999999999E-2,9.5256000000000004E-3,1.11132E-2,563,0.88,5,null,"kraftfoder, spannmål etc."]
[null,null,null,null,null,null,null,null,null,null,null,null,null,null,null,null,null,null,null,null,null,null,null,null,null,null,null,null,null,null,null,null,"VL Ko Energi Nyhem Pellets","kg",3.8117600000000001E-2,7.3718000000000004E-3,1.01587E-2,564,0.88,4,null,"kraftfoder, spannmål etc.",null,null,null,null,null,null,null,null,null,null,null,null,null,"VL Vallerstad Ko Robot Top","kg",3.7583999999999999E-2,6.8399999999999997E-3,1.0529999999999999E-2,564,0.88,5,"*","kraftfoder, spannmål etc."]
[null,null,null,null,null,null,null,null,null,null,null,null,null,null,null,null,null,null,null,null,null,null,null,null,null,null,null,null,null,null,null,null,"VL Ko Energi Top Pellets","kg",3.8359999999999998E-2,7.9625000000000008E-3,1.0500000000000001E-2,565,0.88,4,null,"kraftfoder, spannmål etc."]
[null,null,null,null,null,null,null,null,null,null,null,null,null,null,null,null,null,null,null,null,null,null,null,null,null,null,null,null,null,null,null,null,"VL Ko Fiber 190 Pellets","kg",2.70864E-2,5.6132999999999999E-3,8.8208999999999996E-3,566,0.88,4,null,"kraftfoder, spannmål etc."]
[null,null,null,null,null,null,null,null,null,null,null,null,null,null,null,null,null,null,null,null,null,null,null,null,null,null,null,null,null,null,null,null,"VL Ko Fiber Bas Pellets","kg",2.4976000000000002E-2,5.2627999999999998E-3,8.5632E-3,567,0.88,4,null,"kraftfoder, spannmål etc."]
[null,null,null,null,null,null,null,null,null,null,null,null,null,null,null,null,null,null,null,null,null,null,null,null,null,null,null,null,null,null,null,null,"VL Ko Fiber Grund Mjöl","kg",2.3091199999999999E-2,4.9610000000000001E-3,1.1365200000000001E-2,568,0.88,4,null,"kraftfoder, spannmål etc."]
[null,null,null,null,null,null,null,null,null,null,null,null,null,null,null,null,null,null,null,null,null,null,null,null,null,null,null,null,null,null,null,null,"VL KO ROBOT BAS","kg",2.433024E-2,5.0112000000000004E-3,7.6032000000000001E-3,569,0.88,4,null,"kraftfoder, spannmål etc."]
[null,null,null,null,null,null,null,null,null,null,null,null,null,null,null,null,null,null,null,null,null,null,null,null,null,null,null,null,null,null,null,null,"VL Ko Robot bas Plus Pellets","kg",2.6107200000000001E-2,5.0273999999999996E-3,7.8498000000000005E-3,570,0.88,4,null,"kraftfoder, spannmål etc."]
[null,null,null,null,null,null,null,null,null,null,null,null,null,null,null,null,null,null,null,null,null,null,null,null,null,null,null,null,null,null,null,null,"VL KO ROBOT MEDIUM PELLETS","kg",3.0866879999999999E-2,5.0401999999999999E-3,9.4721000000000007E-3,571,0.88,4,null,"kraftfoder, spannmål etc."]
[null,null,null,null,null,null,null,null,null,null,null,null,null,null,null,null,null,null,null,null,null,null,null,null,null,null,null,null,null,null,null,null,"VL Ko Robot Medium Småland","kg",2.737728E-2,5.1155999999999997E-3,8.6435999999999995E-3,572,0.88,4,null,"kraftfoder, spannmål etc."]
[null,null,null,null,null,null,null,null,null,null,null,null,null,null,null,null,null,null,null,null,null,null,null,null,null,null,null,null,null,null,null,null,"VL KO ROBOT TOP","kg",4.271792E-2,7.0073000000000002E-3,1.18858E-2,573,0.88,4,null,"kraftfoder, spannmål etc."]
[null,null,null,null,null,null,null,null,null,null,null,null,null,null,null,null,null,null,null,null,null,null,null,null,null,null,null,null,null,null,null,null,"VL KO TOP PLUS PELLETS BK","kg",4.2091839999999998E-2,6.7298000000000002E-3,1.15368E-2,574,0.88,4,null,"kraftfoder, spannmål etc."]
[null,null,null,null,null,null,null,null,null,null,null,null,null,null,null,null,null,null,null,null,null,null,null,null,null,null,null,null,null,null,null,null,"VL KO TOP SPANNMÅL PELLETS BK","kg",4.2000000000000003E-2,7.9625000000000008E-3,1.1375E-2,575,0.88,4,null,"kraftfoder, spannmål etc."]
[null,null,null,null,null,null,null,null,null,null,null,null,null,null,null,null,null,null,null,null,null,null,null,null,null,null,null,null,null,null,null,null,"VL MEGA TOP PELLETS BK","kg",4.1300000000000003E-2,8.3125000000000004E-3,1.1112500000000001E-2,576,0.88,4,null,"kraftfoder, spannmål etc."]
[null,null,null,null,null,null,null,null,null,null,null,null,null,null,null,null,null,null,null,null,null,null,null,null,null,null,null,null,null,null,null,null,"VL Mix 35 Mjöl","kg",5.0751360000000002E-2,9.6228000000000008E-3,1.30086E-2,{"$f":"AL581+1","v":577},0.88,4,null,"kraftfoder, spannmål etc."]
[null,null,null,null,null,null,null,null,null,null,null,null,null,null,null,null,null,null,null,null,null,null,null,null,null,null,null,null,null,null,null,null,"VL MIX 37 MJÖL BK","kg",5.8799999999999998E-2,7.9625000000000008E-3,1.61875E-2,578,0.88,4,null,"kraftfoder, spannmål etc."]
[null,null,null,null,null,null,null,null,null,null,null,null,null,null,null,null,null,null,null,null,null,null,null,null,null,null,null,null,null,null,null,null,"VL MIX 40 MJÖL BK","kg",6.5174399999999993E-2,7.5335999999999997E-3,1.29648E-2,579,0.88,4,null,"kraftfoder, spannmål etc."]
[null,null,null,null,null,null,null,null,null,null,null,null,null,null,null,null,null,null,null,null,null,null,null,null,null,null,null,null,null,null,null,null,"VL MIX 45 MJÖL BK","kg",7.1400000000000005E-2,7.0875E-3,1.6712500000000002E-2,580,0.88,4,null,"kraftfoder, spannmål etc."]
[null,null,null,null,null,null,null,null,null,null,null,null,null,null,null,null,null,null,null,null,null,null,null,null,null,null,null,null,null,null,null,null,"VL PROTEIN TOP PELLETS BK","kg",4.4940000000000001E-2,8.4875000000000003E-3,1.1900000000000001E-2,581,0.88,4,null,"kraftfoder, spannmål etc."]
[null,null,null,null,null,null,null,null,null,null,null,null,null,null,null,null,null,null,null,null,null,null,null,null,null,null,null,null,null,null,null,null,"VL Protein Top Urea Pellets BK","kg",4.5465600000000002E-2,7.9920000000000008E-3,1.11E-2,582,0.88,4,null,"kraftfoder, spannmål etc."]
[null,null,null,null,null,null,null,null,null,null,null,null,null,null,null,null,null,null,null,null,null,null,null,null,null,null,null,null,null,null,null,null,"VL Proteinblandning Änganäs","kg",3.2126399999999999E-2,6.6347999999999997E-3,8.2062000000000003E-3,583,0.88,4,null,"kraftfoder, spannmål etc."]
[null,null,null,null,null,null,null,null,null,null,null,null,null,null,null,null,null,null,null,null,null,null,null,null,null,null,null,null,null,null,null,null,"VL ROLF JÖNSSON KROSSBL","kg",2.2527999999999999E-2,7.0400000000000003E-3,8.5360000000000002E-3,584,0.88,4,null,"kraftfoder, spannmål etc."]
[null,null,null,null,null,null,null,null,null,null,null,null,null,null,null,null,null,null,null,null,null,null,null,null,null,null,null,null,null,null,null,null,"VL SKOTTORP 122","kg",3.3012800000000002E-2,6.5849999999999997E-3,1.0360400000000001E-2,585,0.88,4,null,"kraftfoder, spannmål etc."]
[null,null,null,null,null,null,null,null,null,null,null,null,null,null,null,null,null,null,null,null,null,null,null,null,null,null,null,null,null,null,null,null,"VL UNG 1 PELLETS BK","kg",2.5055999999999998E-2,5.9160000000000003E-3,8.2649999999999998E-3,586,0.88,4,null,"kraftfoder, spannmål etc."]
[null,null,null,null,null,null,null,null,null,null,null,null,null,null,null,null,null,null,null,null,null,null,null,null,null,null,null,null,null,null,null,null,"VL UNG 2 PELLETS BK","kg",2.2272E-2,5.3070000000000001E-3,7.221E-3,587,0.88,4,null,"kraftfoder, spannmål etc."]
[null,null,null,null,null,null,null,null,null,null,null,null,null,null,null,null,null,null,null,null,null,null,null,null,null,null,null,null,null,null,null,null,"VL Ung Energi Pellets","kg",2.8000000000000001E-2,5.7749999999999998E-3,8.9250000000000006E-3,588,0.88,4,null,"kraftfoder, spannmål etc."]
[null,null,null,null,null,null,null,null,null,null,null,null,null,null,null,null,null,null,null,null,null,null,null,null,null,null,null,null,null,null,null,null,"VL UNGNÖTSKONC PELLETS BK","kg",4.3041599999999999E-2,9.5256000000000004E-3,1.11132E-2,589,0.88,4,null,"kraftfoder, spannmål etc."]
[null,null,null,null,null,null,null,null,null,null,null,null,null,null,null,null,null,null,null,null,null,null,null,null,null,null,null,null,null,null,null,null,"VL Vallerstad Ko Robot Top","kg",3.7583999999999999E-2,6.8399999999999997E-3,1.0529999999999999E-2,590,0.88,4,null,"kraftfoder, spannmål etc."]
[null,null,null,null,null,null,null,null,null,null,null,null,null,null,null,null,null,null,null,null,null,null,null,null,null,null,null,null,null,null,null,null,"Klövergräs pellets, Genevad","kg",3.6358399999999999E-2,2.5760000000000002E-3,2.2079999999999999E-2,591,1,7,null,"kraftfoder, spannmål etc."]
[null,null,null,null,null,null,null,null,null,null,null,null,null,null,null,null,null,null,null,null,null,null,null,null,null,null,null,null,null,null,null,null,"Melassmix","kg",6.7999999999999996E-3,2.0000000000000001E-4,3.2000000000000001E-2,592,0.75,7,null,"kraftfoder, spannmål etc."]
[null,null,null,null,null,null,null,null,null,null,null,null,null,null,null,null,null,null,null,null,null,null,null,null,null,null,null,null,null,null,null,null,"RaPass mjöl","kg",4.8384000000000003E-2,1.1610000000000001E-2,1.35E-2,593,0.9,7,null,"kraftfoder, spannmål etc."]
[null,null,null,null,null,null,null,null,null,null,null,null,null,null,null,null,null,null,null,null,null,null,null,null,null,null,null,null,null,null,null,null,"Rapskaka","kg",4.7399999999999998E-2,1.03E-2,4.7000000000000002E-3,594,0.94,7,null,"kraftfoder, spannmål etc."]
[null,null,null,null,null,null,null,null,null,null,null,null,null,null,null,null,null,null,null,null,null,null,null,null,null,null,null,null,null,null,null,null,"Sojabönexpeller","kg",6.8966559999999996E-2,6.4609999999999997E-3,1.9936800000000001E-2,595,0.87,7,null,"kraftfoder, spannmål etc."]
[null,null,null,null,null,null,null,null,null,null,null,null,null,null,null,null,null,null,null,null,null,null,null,null,null,null,null,null,null,null,null,null,"Soy Pass","kg",6.9678080000000003E-2,5.3558E-3,1.95794E-2,596,0.87,7,null,"kraftfoder, spannmål etc."]
[null,null,null,null,null,null,null,null,null,null,null,null,null,null,null,null,null,null,null,null,null,null,null,null,null,null,null,null,null,null,null,null,"Bomullsexpeller - frö","kg",6.4768000000000006E-2,1.0947999999999999E-2,1.6559999999999998E-2,597,0.92,7,null,"kraftfoder, spannmål etc."]
[null,null,null,null,null,null,null,null,null,null,null,null,null,null,null,null,null,null,null,null,null,null,null,null,null,null,null,null,null,null,null,null,"Hampa, frö","kg",3.7150719999999998E-2,1.0430500000000001E-2,9.3421000000000008E-3,598,0.93,7,null,"kraftfoder, spannmål etc."]
[null,null,null,null,null,null,null,null,null,null,null,null,null,null,null,null,null,null,null,null,null,null,null,null,null,null,null,null,null,null,null,null,"Hampfrökaka","kg",5.121792E-2,0,0,599,0.93,7,null,"kraftfoder, spannmål etc."]
[null,null,null,null,null,null,null,null,null,null,null,null,null,null,null,null,null,null,null,null,null,null,null,null,null,null,null,null,null,null,null,null,"Havre, 12 % prot","kg",1.6500000000000001E-2,3.3E-3,4.3E-3,600,0.87,7,null,"kraftfoder, spannmål etc."]
[null,null,null,null,null,null,null,null,null,null,null,null,null,null,null,null,null,null,null,null,null,null,null,null,null,null,null,null,null,null,null,null,"Havremjöl","kg",1.9151999999999999E-2,4.8599999999999997E-3,3.5999999999999999E-3,601,0.87,7,null,"kraftfoder, spannmål etc."]
[null,null,null,null,null,null,null,null,null,null,null,null,null,null,null,null,null,null,null,null,null,null,null,null,null,null,null,null,null,null,null,null,"Höstvete foder, 11 % prot","kg",1.5100000000000001E-2,3.0999999999999999E-3,4.3E-3,602,0.87,7,null,"kraftfoder, spannmål etc."]
[null,null,null,null,null,null,null,null,null,null,null,null,null,null,null,null,null,null,null,null,null,null,null,null,null,null,null,null,null,null,null,null,"Klövergräsensilage, ts","kg ts",2.7200000000000002E-2,2.0999999999999999E-3,2.5000000000000001E-2,603,1,7,null,"grovfoder"]
[null,null,null,null,null,null,null,null,null,null,null,null,null,null,null,null,null,null,null,null,null,null,null,null,null,null,null,null,null,null,null,null,"Klövergräshö, ts","kg ts",1.9199999999999998E-2,2.5999999999999999E-3,2.5000000000000001E-2,604,1,7,null,"grovfoder"]
[null,null,null,null,null,null,null,null,null,null,null,null,null,null,null,null,null,null,null,null,null,null,null,null,null,null,null,null,null,null,null,null,"Kokosexpeller","kg",3.3500000000000002E-2,5.1000000000000004E-3,3.0999999999999999E-3,605,0.92,7,null,"kraftfoder, spannmål etc."]
[null,null,null,null,null,null,null,null,null,null,null,null,null,null,null,null,null,null,null,null,null,null,null,null,null,null,null,null,null,null,null,null,"Kokosmjöl","kg",3.8300000000000001E-2,5.8999999999999999E-3,3.3E-3,606,0.92,7,null,"kraftfoder, spannmål etc."]
[null,null,null,null,null,null,null,null,null,null,null,null,null,null,null,null,null,null,null,null,null,null,null,null,null,null,null,null,null,null,null,null,"Korn, 11,9 % prot","kg",1.6400000000000001E-2,3.3999999999999998E-3,4.3E-3,607,0.87,7,null,"kraftfoder, spannmål etc."]
[null,null,null,null,null,null,null,null,null,null,null,null,null,null,null,null,null,null,null,null,null,null,null,null,null,null,null,null,null,null,null,null,"Kornkli","kg",1.4524799999999999E-2,7.1199999999999996E-3,0,608,0.87,7,null,"kraftfoder, spannmål etc."]
[null,null,null,null,null,null,null,null,null,null,null,null,null,null,null,null,null,null,null,null,null,null,null,null,null,null,null,null,null,null,null,null,"Majsgluten","kg",9.8900000000000002E-2,3.0000000000000001E-3,1.1000000000000001E-3,609,0.92,7,null,"kraftfoder, spannmål etc."]
[null,null,null,null,null,null,null,null,null,null,null,null,null,null,null,null,null,null,null,null,null,null,null,null,null,null,null,null,null,null,null,null,"Majsstärkelse","kg",7.0399999999999998E-4,1.408E-3,8.8000000000000003E-4,610,0.92,7,null,"kraftfoder, spannmål etc."]
[null,null,null,null,null,null,null,null,null,null,null,null,null,null,null,null,null,null,null,null,null,null,null,null,null,null,null,null,null,null,null,null,"rapskaka","kg",4.7399999999999998E-2,1.03E-2,4.7000000000000002E-3,611,0.9,7,null,"kraftfoder, spannmål etc."]
[null,null,null,null,null,null,null,null,null,null,null,null,null,null,null,null,null,null,null,null,null,null,null,null,null,null,null,null,null,null,null,null,"rapsmjöl","kg",5.4702399999999998E-2,1.0699999999999999E-2,5.4000000000000003E-3,612,0.9,7,null,"kraftfoder, spannmål etc."]
[null,null,null,null,null,null,null,null,null,null,null,null,null,null,null,null,null,null,null,null,null,null,null,null,null,null,null,null,null,null,null,null,"Åkerbönor","kg",4.5999999999999999E-2,4.0000000000000001E-3,0.01,613,0.76,7,null,"kraftfoder, spannmål etc."]
[null,null,null,null,null,null,null,null,null,null,null,null,null,null,null,null,null,null,null,null,null,null,null,null,null,null,null,null,null,null,null,null,"Ärter","kg",3.5000000000000003E-2,3.5999999999999999E-3,0.01,614,0.87,7,null,"kraftfoder, spannmål etc."]
[null,null,null,null,null,null,null,null,null,null,null,null,null,null,null,null,null,null,null,null,null,null,null,null,null,null,null,null,null,null,null,null,null,null,null,null,null,615,null,9,null,"kraftfoder, spannmål etc."]
[null,null,null,null,null,null,null,null,null,null,null,null,null,null,null,null,null,null,null,null,null,null,null,null,null,null,null,null,null,null,null,null,null,null,null,null,null,616,null,9,null,"kraftfoder, spannmål etc."]
[null,null,null,null,null,null,null,null,null,null,null,null,null,null,null,null,null,null,null,null,null,null,null,null,null,null,null,null,null,null,null,null,null,null,null,null,null,617,null,9,null,"kraftfoder, spannmål etc."]
[null,null,null,null,null,null,null,null,null,null,null,null,null,null,null,null,null,null,null,null,null,null,null,null,null,null,null,null,null,null,null,null,null,null,null,null,null,618,null,9,null,"kraftfoder, spannmål etc."]
[null,null,null,null,null,null,null,null,null,null,null,null,null,null,null,null,null,null,null,null,null,null,null,null,null,null,null,null,null,null,null,null,null,null,null,null,null,619,null,9,null,"kraftfoder, spannmål etc."]
[null,null,null,null,null,null,null,null,null,null,null,null,null,null,null,null,null,null,null,null,null,null,null,null,null,null,null,null,null,null,null,null,null,null,null,null,null,620,null,9,null,"kraftfoder, spannmål etc."]
[null,null,null,null,null,null,null,null,null,null,null,null,null,null,null,null,null,null,null,null,null,null,null,null,null,null,null,null,null,null,null,null,null,null,null,null,null,621,null,9,null,"kraftfoder, spannmål etc."]
[null,null,null,null,null,null,null,null,null,null,null,null,null,null,null,null,null,null,null,null,null,null,null,null,null,null,null,null,null,null,null,null,null,null,null,null,null,622,null,9,null,"kraftfoder, spannmål etc."]
[null,null,null,null,null,null,null,null,null,null,null,null,null,null,null,null,null,null,null,null,null,null,null,null,null,null,null,null,null,null,null,null,null,null,null,null,null,623,null,9,null,"kraftfoder, spannmål etc."]
[null,null,null,null,null,null,null,null,null,null,null,null,null,null,null,null,null,null,null,null,null,null,null,null,null,null,null,null,null,null,null,null,null,null,null,null,null,624,null,9,null,"kraftfoder, spannmål etc."]
[null,null,null,null,null,null,null,null,null,null,null,null,null,null,null,null,null,null,null,null,null,null,null,null,null,null,null,null,null,null,null,null,null,null,null,null,null,625,null,9,null,"kraftfoder, spannmål etc."]
[null,null,null,null,null,null,null,null,null,null,null,null,null,null,null,null,null,null,null,null,null,null,null,null,null,null,null,null,null,null,null,null,null,null,null,null,null,626,null,9,null,"kraftfoder, spannmål etc."]

{"sheet":"Teknisk administration","index":20,"n_rows":560,"n_cols":62,"rows_kept":560,"cut":false,"hidden":true,"merged":[]}
[{"$f":"MID(CELL(\"filnamn\",B1),FIND(\"]\",CELL(\"filnamn\",B1))+1,255)","v":"Teknisk administration"}]
["På den här fliken finns data som ser till att formler i verktyget fungerar"]
[null,null,null,null,null,null,null,null,null,null,"Inköpt","Välj"]
["Val av djurslag på fliken Bakgrund",null,null,null,null,null,"obligatoriskt","Obligatoriskt blad",null,null,"inköpt","eget"]
[" Alla",null,null,null,null,null,"frivilligt","Bladet är frivilligt att fylla i",null,null,null,"inköpt"]
["Gris",null,null,null,null,null,"inte relevant för dig","Bladet är inte relevant för dig"]
["Lamm"]
["Nöt",null,null,null,null,null,null,null,null,null,"växande",null,"Ifylld"]
[null,null,null,null,null,null,"Ifylld",null,null,null,"suggor",null,"Inte ifylld"]
[null,null,null,null,null,null,"Inte ifylld",null,null,null,null,null,"ej relevant"]
["För fliken Energi och bränsle, används för att räkna ut total använd energi av olika slag (el, bränsle, värme)",null,null,null,null,null,"ej relevant"]
["OBS! Kolumnerna får inte byta plats! Nya kolumner MÅSTE läggas in till höger om befintliga kolumner!"]
[null,"El","Drivmedel (diesel, bensin)","Bränslen för värme (eldningsolja, flis, halm etc.)",null,null,"Ifylld"]
[{"$f":"'4 Energi och bränsle'!A16","v":"El"},1,null,null,null,null,"Inte ifylld",null,null,null,"Enhet","Omräkningsfaktor till kWh"]
[{"$f":"'4 Energi och bränsle'!A17","v":"Diesel"},null,1,null,null,null,"ej relevant",null,null,"El","kWh",1]
[{"$f":"'4 Energi och bränsle'!A18","v":"Bensin"},null,1,null,null,null,null,null,null,"Diesel","liter",9.8000000000000007]
[{"$f":"'4 Energi och bränsle'!A19","v":"Fordonsgas"},null,1,null,null,null,null,null,null,"Bensin","liter",9.1]
[{"$f":"'4 Energi och bränsle'!A20","v":"Eldningsolja"},null,null,1,null,null,null,null,null,"Fordonsgas","m3",9.6999999999999993]
[{"$f":"'4 Energi och bränsle'!A21","v":"Flis"},null,null,1,null,null,"Ifylld",null,null,"Eldningsolja","liter",9.9499999999999993]
[{"$f":"'4 Energi och bränsle'!A22","v":"Pellets"},null,null,1,null,null,"Inte ifylld",null,null,"Flis","m3s",750]
[{"$f":"'4 Energi och bränsle'!A23","v":"Ved"},null,null,1,null,null,"ej relevant",null,null,"Pellets","ton",4900]
[{"$f":"'4 Energi och bränsle'!A24","v":"Övriga bränslen"},null,null,1,null,null,null,null,null,"Ved","m3tr",1240]
[{"$f":"'4 Energi och bränsle'!A25","v":"Inhyrda tjänster, dieselåtgången är känd*"},null,1,null,null,null,null,null,null,"Övriga bränslen","kWh",1]
[{"$f":"'4 Energi och bränsle'!A26","v":"Inhyrda tjänster, saknar uppgift om dieselåtgång*"},null,1,null,null,null,null,null,null,"Inhyrda tjänster, dieselåtgången är känd*","liter diesel",9.8000000000000007]
[{"$f":"'4 Energi och bränsle'!A27","v":"Summa: Inköpt mängd energi"},null,null,null,null,null,null,null,null,"Inhyrda tjänster, saknar uppgift om dieselåtgång*","liter diesel",9.8000000000000007]
[{"$f":"'4 Energi och bränsle'!A28","v":0},null,null,null,null,null,null,null,null,"Summa: Inköpt mängd energi","kWh"]
[{"$f":"'4 Energi och bränsle'!A29","v":0}]
[{"$f":"'4 Energi och bränsle'!A30","v":0}]
[{"$f":"'4 Energi och bränsle'!A31","v":"Egen produktion för egen användning, justera för eventuell överlagring"}]
[{"$f":"'4 Energi och bränsle'!A32","v":"El"},1,null,null,null,null,null,null,null,"Egen produktion för egen användning, justera för eventuell överlagring"]
[{"$f":"'4 Energi och bränsle'!A33","v":"Biogas"},null,null,1,null,null,null,null,null,"El","kWh",1]
[{"$f":"'4 Energi och bränsle'!A34","v":"Flis"},null,null,1,null,null,null,null,null,"Biogas","m3",5.8]
[{"$f":"'4 Energi och bränsle'!A35","v":"Pellets"},null,null,1,null,null,null,null,null,"Flis","m3s",750]
[{"$f":"'4 Energi och bränsle'!A36","v":"Ved"},null,null,1,null,null,null,null,null,"Pellets","ton",4900]
[{"$f":"'4 Energi och bränsle'!A37","v":"Halm"},null,null,1,null,null,null,null,null,"Ved","m3tr",1240]
[{"$f":"'4 Energi och bränsle'!A38","v":"Övrigt"},null,null,1,null,null,null,null,null,"Halm","ton",4000]
[null,null,null,null,null,null,null,null,null,"Övrigt","kWh",1]
["OBS! Kolumnerna får inte byta plats! Nya kolumner MÅSTE läggas in till höger om befintliga kolumner!"]
[null,null,"kWh/enhet","g CO2e/kWh","ref klimatavtryck",null,"Referenser energivärden: VERA/Energikartläggning, samt Energimyndigheten. 2016. Värmevärden från Energimyndighetens datalager (DW) http://www.energimyndigheten.se/statistik/branslen/varmevarden-och-emissionsfaktorer1/atistik%2Fbranslen%2Fvarmevarden-och-emissionsfaktorer%2Fvarmevarden_2017.xlsx&usg=AOvVaw0n9_3f0avI9LQFqMF_hFRo "]
["El","inköpt",1,125,"Naturvårdsverket. 2020. Klimatklivet - vägledning om beräkning av utsläppsminskning 2020-11-11"]
["Diesel","inköpt",9.8000000000000007,278,"dito"]
["Bensin","inköpt",9.1,325,"dito"]
["Fordonsgas","inköpt",9.6999999999999993,59,"dito"]
["Eldningsolja","inköpt",9.9499999999999993,288,"dito"]
["Flis","inköpt",750,9.4,"dito"]
["Pellets","inköpt",4900,19,"dito"]
["Ved","inköpt",1240,9.4,"dito"]
["Övriga bränslen","inköpt",1,9.4,"dito, antar Övriga fasta bränslen"]
["Inhyrda tjänster, dieselåtgången är känd*","inköpt",9.8000000000000007,278,"dito, förutsätter att det är diesel"]
["Inhyrda tjänster, saknar uppgift om dieselåtgång*","inköpt",9.8000000000000007,278,"dito, förutsätter att det är diesel"]
["El","egen",1,10,"Antar att det i förkommande fall är förnybar el med lågt CF. Uppskattning!"]
["Biogas","egen",5.8,46,"Naturvårdsverket. 2020. Klimatklivet - vägledning om beräkning av utsläppsminskning 2020-11-11"]
["Flis","egen",750,9.4,"Naturvårdsverket. 2020. Klimatklivet - vägledning om beräkning av utsläppsminskning 2020-11-11"]
["Pellets","egen",4900,19,"Naturvårdsverket. 2020. Klimatklivet - vägledning om beräkning av utsläppsminskning 2020-11-11"]
["Ved","egen",1240,9.4,"Naturvårdsverket. 2020. Klimatklivet - vägledning om beräkning av utsläppsminskning 2020-11-11"]
["Halm","egen",4000,9.4,"Naturvårdsverket. 2020. Klimatklivet - vägledning om beräkning av utsläppsminskning 2020-11-11"]
["Övrigt","egen",1,9.4,"Naturvårdsverket. 2020. Klimatklivet - vägledning om beräkning av utsläppsminskning 2020-11-11"]
[]
[]
[]
[]
[]
["Bladet  Energi och bränslet. Används för att beräkna dieselåtgång för inhyrda tjänster,"]
["OBS! Kolumnerna får inte byta plats! Nya kolumner MÅSTE läggas in till höger om befintliga kolumner!"]
[null,"Liter","Enhet","Enhet2","Förklaring",null,"Referens",null,"kommentar",null,null,1.3596216169999999,"hk/kW"]
["---Traktor/lastmaskin, blandat arbete---","!!","!!","Obs! välj annan!","Obs! Välj annat alternativ ur listan. Detta är bara en rubrik"]
[{"$f":"\"Traktor \" &L67 &\" kW (\"&M67&\" hk)\"","v":"Traktor 40 kW (54 hk)"},6,"liter/timme","timmar","Gäller blandat arbete, ej jordbearbetning. Om det är lätt arbete, välj en storlek mindre på traktorn! Om det är tungt arbete (jordbearbetning), välj en storlek större på traktorn!",null,"VERA",null,"blandat arbete, ej jordbearbetning (0,15 l/kW*tim). Välj storleken mindre om lätt arbete (då blir det 0,12 l/kW*tim)!. Välj storleken större om tungt arbete (jordbearbetning) (då blir det motsvarande 0,18 l/kW*tim)",null,null,40,{"$f":"ROUND(L67*$L$65,0)","v":54}]
["Traktor 60 kW (82 hk)",9,"liter/timme","timmar","Gäller blandat arbete, ej jordbearbetning. Om det är lätt arbete, välj en storlek mindre på traktorn! Om det är tungt arbete (jordbearbetning), välj en storlek större på traktorn!",null,"VERA",null,"blandat arbete, ej jordbearbetning (0,15 l/kW*tim). Välj storleken mindre om lätt arbete (då blir det 0,12 l/kW*tim)!. Välj storleken större om tungt arbete (jordbearbetning) (då blir det motsvarande 0,18 l/kW*tim)",null,null,60,82]
["Traktor 80 kW (109 hk)",12,"liter/timme","timmar","Gäller blandat arbete, ej jordbearbetning. Om det är lätt arbete, välj en storlek mindre på traktorn! Om det är tungt arbete (jordbearbetning), välj en storlek större på traktorn!",null,"VERA",null,"blandat arbete, ej jordbearbetning (0,15 l/kW*tim). Välj storleken mindre om lätt arbete (då blir det 0,12 l/kW*tim)!. Välj storleken större om tungt arbete (jordbearbetning) (då blir det motsvarande 0,18 l/kW*tim)",null,null,80,109]
["Traktor 100 kW (136 hk)",15,"liter/timme","timmar","Gäller blandat arbete, ej jordbearbetning. Om det är lätt arbete, välj en storlek mindre på traktorn! Om det är tungt arbete (jordbearbetning), välj en storlek större på traktorn!",null,"VERA",null,"blandat arbete, ej jordbearbetning (0,15 l/kW*tim). Välj storleken mindre om lätt arbete (då blir det 0,12 l/kW*tim)!. Välj storleken större om tungt arbete (jordbearbetning) (då blir det motsvarande 0,18 l/kW*tim)",null,null,100,136]
["Traktor 120 kW (163 hk)",18,"liter/timme","timmar","Gäller blandat arbete, ej jordbearbetning. Om det är lätt arbete, välj en storlek mindre på traktorn! Om det är tungt arbete (jordbearbetning), välj en storlek större på traktorn!",null,"VERA",null,"blandat arbete, ej jordbearbetning (0,15 l/kW*tim). Välj storleken mindre om lätt arbete (då blir det 0,12 l/kW*tim)!. Välj storleken större om tungt arbete (jordbearbetning) (då blir det motsvarande 0,18 l/kW*tim)",null,null,120,163]
["Traktor 140 kW (190 hk)",21,"liter/timme","timmar","Gäller blandat arbete, ej jordbearbetning. Om det är lätt arbete, välj en storlek mindre på traktorn! Om det är tungt arbete (jordbearbetning), välj en storlek större på traktorn!",null,"VERA",null,"blandat arbete, ej jordbearbetning (0,15 l/kW*tim). Välj storleken mindre om lätt arbete (då blir det 0,12 l/kW*tim)!. Välj storleken större om tungt arbete (jordbearbetning) (då blir det motsvarande 0,18 l/kW*tim)",null,null,140,190]
["Traktor 160 kW (218 hk)",24,"liter/timme","timmar","Gäller blandat arbete, ej jordbearbetning. Om det är lätt arbete, välj en storlek mindre på traktorn! Om det är tungt arbete (jordbearbetning), välj en storlek större på traktorn!",null,"VERA",null,"blandat arbete, ej jordbearbetning (0,15 l/kW*tim). Välj storleken mindre om lätt arbete (då blir det 0,12 l/kW*tim)!. Välj storleken större om tungt arbete (jordbearbetning) (då blir det motsvarande 0,18 l/kW*tim)",null,null,160,218]
["Traktor 180 kW (245 hk)",27,"liter/timme","timmar","Gäller blandat arbete, ej jordbearbetning. Om det är lätt arbete, välj en storlek mindre på traktorn! Om det är tungt arbete (jordbearbetning), välj en storlek större på traktorn!",null,"VERA",null,"blandat arbete, ej jordbearbetning (0,15 l/kW*tim). Välj storleken mindre om lätt arbete (då blir det 0,12 l/kW*tim)!. Välj storleken större om tungt arbete (jordbearbetning) (då blir det motsvarande 0,18 l/kW*tim)",null,null,180,245]
["---Jordbearbetning---","!!","!!","Obs! välj annan!","Obs! Välj annat alternativ ur listan. Detta är bara en rubrik"]
["stubbearbetning, två överfarter",12,"liter/hektar","hektar","",null,"Cederberg eko"]
["plöjning lätt jord",15,"liter/hektar","hektar","",null,"VERA"]
["plöjning mellanlera",22,"liter/hektar","hektar","",null,"VERA"]
["plöjning mycket tung jord",40,"liter/hektar","hektar","",null,"VERA"]
["harvning, två överfarter",6,"liter/hektar","hektar","",null,"Cederberg eko"]
["---Sådd---","!!","!!","Obs! välj annan!","Obs! Välj annat alternativ ur listan. Detta är bara en rubrik"]
["sådd kombi",7,"liter/hektar","hektar",null,null,"VERA",null,"medel för flera"]
["sådd",5,"liter/hektar","hektar",null,null,"VERA"]
["vältning, en överfart",2,"liter/hektar","hektar"]
["---Spridning gödsel----","!!","!!","Obs! välj annan!","Obs! Välj annat alternativ ur listan. Detta är bara en rubrik"]
["flytgödsel",14,"liter/hektar","hektar",null,null,"VERA"]
["djupströ",{"$f":"0.36*20","v":7.1999999999999993},"liter/hektar","hektar",null,null,"Baky et al. 2010. Kartläggning av jordbrukets energianvändning. JTI uppdragsrapport"]
["mineralgödsel",1.5,"liter/hektar","hektar",null,null,"VERA"]
["---Skörd vall---","!!","!!","Obs! välj annan!","Obs! Välj annat alternativ ur listan. Detta är bara en rubrik"]
["slåtterkross",6,"liter/hektar","hektar",null,null,"VERA"]
["rundbalspress+plastning",16.5,"liter/timme","timmar",null,null,"VERA"]
["exakthack",12,"liter/hektar","hektar",null,null,"VERA"]
["fälthack",4,"liter/hektar","hektar",null,null,"VERA"]
["---Skörd----","!!","!!","Obs! välj annan!","Obs! Välj annat alternativ ur listan. Detta är bara en rubrik"]
["tröskning",20,"liter/hektar","hektar","",null,"VERA"]
["pressning halm ",7,"liter/hektar","hektar","",null,"VERA"]
["---Övrigt---","!!","!!","Obs! välj annan!","Obs! Välj annat alternativ ur listan. Detta är bara en rubrik"]
["sprutning",1.5,"liter/hektar","hektar","",null,"VERA"]
["bevattning, traktordriven",8,"liter/hektar","hektar","",null,"VERA"]
[]
[]
[]
[]
[]
[]
[]
[]
[]
[]
[]
[]
[]
[]
["Bladet Bete. Används för att beräkna energibehov vid bete"]
[null,"laktation","Energibehov laktation","Energiinnehåll mjölk",null,null,"Tillägg laktation, netto",null,null,null,null,null,"kalv i dikoproduktion","tillväxt (g/dag)",null,null,"Ungtjur","Kviga"]
[null,null,"MJ/kg mjölk","MJ/kg mjölk","kg mjölk per dag","MJ/dygn","MJ/dygn",null,null,null,null,null,"köttras lätt, tjur",1300]
[null,"kor",5,2.8,6,null,{"$f":"(C117-D117)*E117","v":13.200000000000001},null,null,null,null,null,"köttras lätt, kviga",1100]
[null,"tackor",null,null,null,19,{"$f":"F118*(1-D117/C117)","v":8.3600000000000012},null,null,null,null,null,"köttras lätt, kviga&tjur",{"$f":"AVERAGE(N116:N117)","v":1200}]
[null,"ref","Spörndly, 2003","Spörndly, 2003","eget!","Spörndly, 2003. 2-3 lamm",null,null,null,null,null,null,"köttras tung, tjur",1500]
[null,null,null,null,null,null,null,null,null,null,null,null,"köttras tung, kviga",1200]
[null,"Underhållsbehov, konstanter",null,null,null,null,null,null,null,null,null,null,"köttras tung, kviga&tjur",{"$f":"AVERAGE(N119:N120)","v":1350}]
[null,"kor",0.50700000000000001]
[null,"tackor",0.39500000000000002]
[null,"ungnöt",0.47499999999999998,6.28,1.8800000000000001E-2,0.3,0.435]
[]
[null,"Tillägg för bete",null,null,null,null,null,null,null,null,null,null,"ko","kg slaktvikt"]
[null,"nöt",0.17,"tillägg på underhållsbehovet (IPCC, 2019, Guidelines Vol 4, Table 10.5)",null,null,null,null,null,null,null,null,"lätt ras",360]
[null,"får",0.1,"tillägg utöver normen",null,null,null,null,null,null,null,null,"tung ras",420]
[]
[]
[null,"OBS! Kolumnerna får inte byta plats! Nya kolumner MÅSTE läggas in till höger om befintliga kolumner!",null,null,null,null,null,null,null,null,null,null,null,null,"Ungtjur","Kviga/stut"]
[null,"Väder",null,null,null,null,null,null,null,null,null,null,"övriga nöt","kg slaktvikt","tillväxt g/d","tillväxt g/d"]
[null,"--- välj ur lista! ---",null,null,null,null,null,null,null,null,null,null,"lätt ras",310,1400,900]
[null,"Bra",0,null,null,null,null,null,null,null,null,null,"tung ras",340,1700,900]
[null,"Mestadels bra",7.0000000000000007E-2,null,null,null,null,null,null,null,null,null,"mjölkras",320,1200,900]
[null,"Periodvis kallt/blåsigt/regnigt",0.14000000000000001]
[null,"Kallt/blåsigt/regnigt hela perioden",0.2]
[null,null,null,null,null,null,null,"Näringsbehov =a*vikt (kg) +b*tillväxt (g)"]
[null,null,null,null,null,null,null,"a",0.20699999999999999]
[null,null,null,null,null,null,null,"b",3.0800000000000001E-2]
[null,"Tackor",null,null,null,"Tillägg, netto"]
[null,null,null,null,"MJ/dygn ","MJ/dygn ",null,"Näringsbehov Höstlamm","Lamm daglig tillväxt gram"]
[null,"Kolumn1","Kolumn2","Kolumn3","Kolumn4","Kolumn5",null,"Lammets vikt,kg",null,100,200,300,400,500]
[null,"--- välj ur lista! ---",null,null,null,{"$f":"E144*(1-$D$117/$C$117)","v":0},null,15,null,6.5,9.3000000000000007,12,14.8,17.7]
[null,"inget tillägg",null,null,null,{"$f":"E145*(1-$D$117/$C$117)","v":0},null,20,null,7.4,10.3,13.1,16,18.899999999999999]
[null,"Tillägg dräktighet, 6-2 v","2 foster"," ",4,{"$f":"E146","v":4},null,25,null,8.3000000000000007,11.3,14.2,17.2,20.2]
[null,"Tillägg dräktighet, 0-2 v f"," "," ",8,{"$f":"E147","v":8},null,30,null,9.1999999999999993,12.3,15.3,18.399999999999999,21.5]
[null,"Tillägg digivning, 1-2 lamm, intensiv"," ","1-2 lamm, intensiv",18,{"$f":"E148*(1-$D$117/$C$117)","v":7.9200000000000008},null,35,null,10.1,13.3,16.399999999999999,19.600000000000001,22.8]
[null,"Tillägg digivning, 3-4 lamm, intensiv"," ","3-4 lamm, intensiv",26,{"$f":"E149*(1-$D$117/$C$117)","v":11.440000000000001},null,40,null,11,14.3,17.5,20.8,24.1]
[null,"Tillägg digivning, 1 lamm, höstlamm"," ","1 lamm, höstlamm",12,{"$f":"E150*(1-$D$117/$C$117)","v":5.2800000000000011},null,45,null,11.9,15.3,18.600000000000001,22,25.4]
[null,"Tillägg digivning, 2 lamm, höstlamm"," ","2 lamm, höstlamm",17,{"$f":"E151*(1-$D$117/$C$117)","v":7.4800000000000013},null,50,null,12.8,16.3,19.7,23.2,26.7]
[null,"Tillägg digivning, 3-4 lamm, höstlamm"," ","3-4 lamm, höstlamm",22,{"$f":"E152*(1-$D$117/$C$117)","v":9.6800000000000015},null,55,null,13.7,17.3,20.8,24.4,28]
[]
[]
[]
[]
[]
[]
[]
[]
[]
["Från Kött"]
[]
[]
[null,"OBS! Kolumnerna får inte byta plats! Nya kolumner MÅSTE läggas in till höger om befintliga kolumner!"]
["Nöt",null,null,null,null,null,null,null,null,"Lamm - sålt",null,null,null,null,null,null,"Lamm - köpt"]
["Typer av levererat kött","enhet","slaktutbyte (%)","benämning",null,null,null,null,null,"Typer av levererat kött","enhet","slaktutbyte (%)","benämning",null,null,null,"Typer av levererat kött","enhet","slaktutbyte (%)","benämning"]
[null,null,null,null,null,null,null,null,null,"Sålda lamm till slakt, slaktvikt","kg slaktvikt",1,"lamm",null,null,null,"Inköpta vuxna får","kg levande vikt",0.42,"tackor"]
["inköpta får (lamm, baggar etc.)","kg levande vikt",-0.42,"tackor",null,null,null,null,null,"Sålda lamm till slakt, levandevikt","kg levande vikt",0.42,"lamm",null,null,null,"Inköpta lamm","kg levande vikt",0.42,"lamm"]
["inköpta nöt (kalvar, avelsdjur etc.)","kg levande vikt",-0.55000000000000004,"nöt",null,null,null,null,null,"Sålda lamm till liv ","kg levande vikt",0.42,"lamm",null,null,null,"Vinterlamm","kg levande vikt",0.42,"lamm"]
["sålda lamm etc. till liv","kg levande vikt",0.42,"lamm",null,null,null,null,null,"Sålda vuxna djur till liv","kg levande vikt",0.42,"tackor"]
["sålda lamm till slakt","kg slaktvikt",1,"lamm",null,null,null,null,null,"Sålda vuxna djur till slakt, slaktvikt","kg slaktvikt",1,"tackor"]
["sålda nöt till liv","kg levande vikt",0.55000000000000004,"nöt",null,null,null,null,null,"Sålda vuxna djur till slakt, levandevikt","kg levandevikt",0.42,"tackor"]
["sålda nöt till slakt","kg slaktvikt",1,"nöt",null,null,null,null,null,"Lamm som slutgöds nästa period (t ex vinterlamm)","kg levandevikt",0.42,"lamm"]
["sålda tackor till slakt","kg slaktvikt",1,"tackor"]
[]
[]
[null,null,null,null,null,null,null,null,null,"Nöt - sålt",null,null,null,null,null,null,"Nöt - köpt"]
[null,null,null,null,null,null,null,null,null,"Typer av levererat kött","enhet","slaktutbyte (%)","benämning",null,null,null,"Typer av levererat kött","enhet","slaktutbyte (%)","benämning"]
[null,null,null,null,null,null,null,null,null,"Sålda nöt till liv","kg levande vikt",0.52,"nöt",null,null,null,"inköpta nöt (kalvar, avelsdjur etc.)","kg levande vikt",0.52,"nöt"]
[null,null,null,null,null,null,null,null,null,"Sålda nöt till slakt","kg slaktvikt",1,"nöt",null,null,null,"ungnöt som fanns i besättningen föregående period","kg levande vikt",0.52,"nöt"]
[null,null,null,null,null,null,null,null,null,"Ungnöt som slutgöds nästa period","kg levande vikt",0.52,"nöt"]
[]
[]
[null,null,null,null,null,null,null,null,null,"Nöt - sålt"]
[null,null,null,null,null,null,null,null,null,"Typer av levererat kött","enhet","slaktutbyte (%)","benämning",null,null,null,"Nöt - köpt"]
[null,null,null,null,null,null,null,null,null,"Till liv (generell)","kg levande vikt",0.52,"nöt",null,null,null,"Typer av levererat kött","enhet","slaktutbyte (%)","benämning"]
[null,null,null,null,null,null,null,null,null,"Till slakt, slaktvikt","kg slaktvikt",1,"nöt",null,null,null,"inköpta vuxna djur","kg levande vikt",0.52,"nöt"]
[null,null,null,null,null,null,null,null,null,"Till slakt, levandevikt (generell)","kg levande vikt",0.52,"nöt",null,null,null,"inköpta kalvar","kg levande vikt",0.52,"nöt"]
[null,null,null,null,null,null,null,null,null,"köttras tjur lätt","kg levande vikt",0.53,"nöt",null,null,null,"inköpta tjurar","kg levande vikt",0.52,"nöt"]
[null,null,null,null,null,null,null,null,null,"köttras tjur tung","kg levande vikt",0.55000000000000004,"nöt",null,null,null,"inköpta kvigor","kg levande vikt",0.52,"nöt"]
[null,null,null,null,null,null,null,null,null,"mjölkras tjur","kg levande vikt",0.52,"nöt",null,null,null,"inköpta stutar","kg levande vikt",0.52,"nöt"]
[null,null,null,null,null,null,null,null,null,"köttras stut lätt","kg levande vikt",0.52,"nöt"]
[null,null,null,null,null,null,null,null,null,"köttras stut tung","kg levande vikt",0.54,"nöt"]
[null,null,null,null,null,null,null,null,null,"mjölkras stut","kg levande vikt",0.51,"nöt"]
[null,null,null,null,null,null,null,null,null,"köttras kviga tung","kg levande vikt",0.52,"nöt",null,null,null,"Inköpta vuxna får"]
[null,null,null,null,null,null,null,null,null,"köttras kviga lätt","kg levande vikt",0.51,"nöt",null,null,null,"Inköpta lamm",null,null,null,"Lamm",null,0.42]
[null,null,null,null,null,null,null,null,null,"mjölkras kviga","kg levande vikt",0.5,"nöt",null,null,null,"Sålda lamm till slakt",null,null,null,"Höstlamm",null,null,0.38,0.4,0.42]
[null,null,null,null,null,null,null,null,null,null,null,null,null,null,null,null,"Sålda lamm till liv ",null,null,null,"Vårlamm",null,null,0.4,0.43,0.46]
[null,null,null,null,null,null,null,null,null,null,null,null,null,null,null,null,"Sålda vuxna djur till liv",null,null,null,"Tacka lantras",null,null,0.38,0.4,0.43]
[null,null,null,null,null,null,null,null,null,null,null,null,null,null,null,null,"Sålda vuxna djur till slakt",null,null,null,"Tacka köttras",null,null,0.4,0.43,0.46]
[null,null,null,null,null,null,null,null,null,"Nöt","Låg","Medel","Hög"]
[null,null,null,null,null,null,null,null,null,"köttras tjur lätt",0.51,0.53,0.55000000000000004]
[null,null,null,null,null,null,null,null,null,"köttras tjur tung",0.52,0.55000000000000004,0.57999999999999996]
[null,null,null,null,null,null,null,null,null,"mjölkras tjur",0.5,0.52,0.53]
[null,null,null,null,null,null,null,null,null,"köttras stut lätt",0.5,0.52,0.54]
[null,null,null,null,null,null,null,null,null,"köttras stut tung",0.51,0.54,0.56000000000000005]
[null,"OBS! Kolumnerna får inte byta plats! Nya kolumner MÅSTE läggas in till höger om befintliga kolumner!",null,null,null,null,null,null,null,"mjölkras stut",0.49,0.51,0.53]
["Gris",null,"faktor",null,null,null,null,null,null,"köttras kviga tung",0.5,0.52,0.54]
["Typer av levererat kött","enhet","slaktutbytesfaktor","benämning",null,null,null,null,null,"köttras kviga lätt",0.49,0.51,0.53]
["inköpta gyltor","kg levande vikt",-1.34,"suggor",null,null,null,null,null,"mjölkras kviga",0.48,0.5,0.52]
["inköpta smågrisar ","kg levande vikt",-1.34,"slaktgris"]
["levererad mängd kött gris","kg slaktvikt",1,"slaktgris"]
["sålda slaktgrisar","kg slaktvikt",1,"slaktgris"]
["sålda smågrisar, tillväxtgrisar","kg levande vikt",1.34,"smågris"]
["sålda suggor till slakt","kg slaktvikt",1,"suggor"]
[]
[]
[]
[]
[]
[]
[]
[]
[]
[]
[]
[]
[]
[]
[]
[]
[]
[]
[]
[]
["Växtnäringsutnyttjande"]
["Ja, uppgift från växtnäringsbalans"]
["Ja, beräknats manuellt"]
["Nej! Ange värden manuellt nedan!"]
[]
[]
["Markanvändning och foder"]
[]
[]
[]
[]
[]
[null,null,null,null,null,null,null,null,null,null,"OM h = lagringshöjd"]
[null,null,null,null,null,null,null,null,null,null,-0.1295,9.0089000000000006,97.338999999999999]
[null,null,null,null,null,null,null,null,null,null,-0.14729999999999999,10.17,103.23]
[null,null,null,null,null,null,null,null,null,null,{"$f":"K250","v":-0.1295},{"$f":"L250","v":9.0089000000000006},97.338999999999999]
[]
[null,null,null,null,null,null,null,null,null,null,"OM h = höjd efter sjunkning"]
[null,null,null,null,null,null,null,null,null,null,-0.14349999999999999,9.4543999999999997,98.286000000000001]
[null,null,null,null,"kg ts/m3 = a*h^2+b*h+c",null,null,null,null,null,-0.16350000000000001,10.679,104.3]
[null,null,null,null,null,null,null,null,null,null,{"$f":"K255","v":-0.14349999999999999},{"$f":"L255","v":9.4543999999999997},98.286000000000001]
[]
[null,"Tornsilo"]
[null,null,"kg ts/m3"]
[null,"Tornsilo höjd meter",8,10,12,14,16,18,20,22,"a","b","c"]
[null,"lagringshöjd efter sjunkning",7.5,9.4,11.3,13.2,15.1,17,18.899999999999999,20.8,null,null,null,null,null,0.23,-0.14349999999999999,9.4543999999999997,98.286000000000001]
[null,"under 23% ts",158,171,185,195,205,214,223,230,-0.14349999999999999,9.4543999999999997,98.286000000000001,null,null,0.4,-0.16350000000000001,10.679,104.3]
[null,"26-40 % ts",175,190,205,217,228,238,248,256,-0.16350000000000001,10.679,104.3]
[null,"över 40%",158,171,185,195,205,214,223,230,-0.14349999999999999,9.4543999999999997,98.286000000000001]
[]
[]
[]
[null,null,null,null,null,null,null,"normal","bra ","sämre"]
[null,"OBS! Kolumnerna får inte byta plats! Nya kolumner MÅSTE läggas in till höger om befintliga kolumner!",null,null,null,null,0.2,118.10962583280001,128.16150888240003,87.953976684000011]
[null,"Rundbalar","lutning","intercept","ref: Grovfoderverktyget,Grovfoderinventering mängd?",null,0.4,168.3690410808,178.42092413040001,138.21339193200001,null,"Rundbalar"]
[null,"Bra pressning, hög densitet",251.3,77.900000000000006,null,null,0.45,180.9338948928,190.98577794240001,150.778245744,null,"ts - halt %","kg ts/m3"]
[null,"Normalt densitet",251.3,67.849999999999994,null,null,0.5,193.49874870479999,203.5506317544,163.34309955600003,null,20,"80-120"]
[null,"Lägre densitet, dåligt formade balar",251.3,37.695,null,null,0.6,218.62845632880001,228.68033937839999,188.47280718000002,null,30,"110-150"]
[null,null,null,null,null,null,null,null,null,null,null,40,"150-190"]
[null,null,null,null,null,null,null,null,null,null,null,50,"190-210"]
[null,null,null,null,null,null,null,null,null,null,null,60,"210-290"]
[null,"OBS! Kolumnerna får inte byta plats! Nya kolumner MÅSTE läggas in till höger om befintliga kolumner!",null,null,null,null,null,"Bra pressat","normalt","lägre"]
[null,"Fyrkantsbalar, ensilage","lutning","intercept","ref: Grovfoderverktyget,Grovfoderinventering mängd?",null,0.4,235.10323199999999,216.57292799999999,184.14489599999999]
[null,"Bra pressning, hög densitet",347.44,96.126000000000005,null,null,0.45,252.47539199999997,233.94508799999997,201.517056]
[null,"Normalt densitet",347.44,77.596000000000004,null,null,0.5,269.84755199999995,251.31724799999998,218.889216]
[null,"Lägre densitet, dåligt formade balar",347.44,45.167999999999999,null,null,0.55000000000000004,287.21971200000002,268.68940800000001,236.26137600000001]
[]
[null,"OBS! Kolumnerna får inte byta plats! Nya kolumner MÅSTE läggas in till höger om befintliga kolumner!"]
[null,"Hö","Ungefärliga värden i kg hö/m3",null,"ref: Grovfoderverktyget,Grovfoderinventering mängd?"]
[null,"Lastvagn, injektor",67]
[null,"Lastarvagn, hiss",72]
[null,"Lastarvagn, teleskopförd.",76]
[null,"Löspress, hiss",70]
[null,"Hårdpress, elevator",97]
[null,"Fyrkantig storbal",155]
[]
[]
[]
[]
[]
[]
[]
[]
[null,"OBS! Kolumnerna får inte byta plats! Nya kolumner MÅSTE läggas in till höger om befintliga kolumner!"]
[null,null,"MJ/kg ts ensilage",null,null,"Spörndly, 2003."]
[null,{"$f":"D302&\" (\" &C302& \" MJ/kg ts)\"","v":"Mycket hög (11,7 MJ/kg ts)"},11.7,"Mycket hög"]
[null,{"$f":"D303&\" (\" &C303& \" MJ/kg ts)\"","v":"Hög (10,9 MJ/kg ts)"},10.9,"Hög"]
[null,"Normal (10,2 MJ/kg ts)",10.199999999999999,"Normal"]
[null,"Låg  (9,5 MJ/kg ts)",9.5,"Låg "]
[null,"Mycket låg (9 MJ/kg ts)",9,"Mycket låg"]
[]
[null,"OBS! Kolumnerna får inte byta plats! Nya kolumner MÅSTE läggas in till höger om befintliga kolumner!"]
[null,null,"MJ/kg ts hö"]
[null,{"$f":"D310&\" (\" &C310& \" MJ/kg ts)\"","v":"Hög (9,8 MJ/kg ts)"},9.8000000000000007,"Hög"]
[null,{"$f":"D311&\" (\" &C311& \" MJ/kg ts)\"","v":"Normal (9,1 MJ/kg ts)"},9.1,"Normal"]
[null,{"$f":"D312&\" (\" &C312& \" MJ/kg ts)\"","v":"Låg (8,4 MJ/kg ts)"},8.4,"Låg"]
[]
[]
[]
[]
[]
[]
[null,1,2,3,4,5,6,7,8]
[null,"OBS! Kolumnerna får inte byta plats! Nya kolumner MÅSTE läggas in till höger om befintliga kolumner!"]
[null,null,null,null,"Nöt och lamm","Växande grisar","Suggor","reffar: Lista från VERA version 1.1.66.0. % ts och nöt från Spörndly 2003. Gris från EvaPig"]
[null,null,null,"ts %","MJ OM/kg ts","MJ NE/kg","MJ NE/kg","enhet"]
[null,"Blandsäd havre (70)/ärt (30)",{"$f":"H323 &\" (\"&D323*100 &\" % ts)\"","v":"kg (87 % ts)"},0.87,{"$f":"0.7*11.7+0.3*13.8","v":12.329999999999998},{"$f":"0.7*7.93+0.3*9.69","v":8.4579999999999984},{"$f":"0.7*8.29+0.3*9.96","v":8.7909999999999986},{"$f":"IF(D323=1,\"kg ts\",\"kg\")","v":"kg"},"spannmål"]
[null,"Blandsäd åkerböna (30)/vårvete (70)",{"$f":"H324 &\" (\"&D324*100 &\" % ts)\"","v":"kg (87 % ts)"},0.87,{"$f":"0.3*12.9+0.7*14.1","v":13.739999999999998},{"$f":"7.98*0.3+0.7*10.5","v":9.7439999999999998},{"$f":"10.63*0.3+0.7*8.14","v":8.8870000000000005},"kg","spannmål"]
[null,"Havre, 12 % prot",{"$f":"H325 &\" (\"&D325*100 &\" % ts)\"","v":"kg (87 % ts)"},0.87,11.7,7.93,8.2899999999999991,{"$f":"IF(D325=1,\"kg ts\",\"kg\")","v":"kg"},"spannmål"]
[null,"Höstkorn, 11,7 % prot","kg (87 % ts)",0.87,13.2,9.5299999999999994,9.73,"kg","spannmål"]
[null,"Höstvete foder, 11 % prot","kg (87 % ts)",0.87,14.1,10.5,10.63,"kg","spannmål"]
[null,"Korn, 11,9 % prot","kg (87 % ts)",0.87,13.2,9.5299999999999994,9.73,"kg","spannmål"]
[null,"Linfrö","kg (93 % ts)",0.93,20.100000000000001,15,15,"kg","oljeväxter"]
[null,"Lupin, frö","kg (87 % ts)",0.87,13.6,9.09,9.68,"kg","trindsäd"]
[null,"Majs, kärna","kg (87 % ts)",0.87,14.6,11.09,11.41,"kg","spannmål"]
[null,"Potatis","kg (23 % ts)",0.23,13.1,{"$f":"0.23/0.89*10.65","v":2.7522471910112363},{"$f":"0.23/0.89*10.74","v":2.7755056179775281},"kg","rotfrukter"]
[null,"Raps, frö","kg (93 % ts)",0.93,22.1,16.63,17.03,"kg","oljeväxter"]
[null,"Rybs, frö","kg (93 % ts)",0.93,22.1,16.63,17.03,"kg","oljeväxter"]
[null,"Råg, 10 % prot","kg (87 % ts)",0.87,13.9,9.86,10.07,"kg","spannmål"]
[null,"Rågvete, 12,5 % prot","kg (87 % ts)",0.87,14,10.34,10.46,"kg","spannmål"]
[null,"Åkerbönor","kg (76 % ts)",0.76,12.9,{"$f":"D337/0.86*9.04","v":7.988837209302325},{"$f":"D337/0.86*9.21","v":8.1390697674418622},"kg","trindsäd"]
[null,"Ärter","kg (87 % ts)",0.87,13.8,9.69,9.9600000000000009,"kg","trindsäd"]
[]
[null,"Foderbetor",{"$f":"H340 &\" (\"&D340*100 &\" % ts)\"","v":"kg (12 % ts)"},0.12,12.5,null,null,{"$f":"IF(D340=1,\"kg ts\",\"kg\")","v":"kg"},"rotfrukter"]
[null,"Fodersockerbetor","kg (16 % ts)",0.16,12.7,null,null,"kg","rotfrukter"]
[]
[]
[null,null,null,"Nöt","Växande grisar","Suggor",null,null,null,null,"Spannmål"]
["OBS! Kolumnerna får inte byta plats! Nya kolumner MÅSTE läggas in till höger om befintliga kolumner!",null,"ts %","MJ OM/kg ts","MJ NE/kg","MJ NE/kg",null,null,null,null,"Trindsäd"]
[null,"Halm, baljväxter",0.9,7.3,0.97,1.49,null,null,null,null,"Oljeväxter"]
[null,"Halm, gräs",0.89,6.9,0.97,1.49,null,null,null,null,"Rotfrukter"]
[null,"Halm, stråsäd",0.85,6.6,0.97,1.49]
[]
[]
[null,"Halm","kg/m3",null,"Agriwise",null,null,null,null,null,"Grovfoder"]
[null,"Opressat i lada",50,null,null,null,null,null,null,null,"Kraftfoder, spannmål etc."]
[null,"Småbalar, löspressat",60]
[null,"Småbalar, hårdpressat",110]
[null,"Stora balar, rullar",110,null,null,null,null,null,null,null,"växande"]
[null,"Stora balar, fyrkantiga",175,null,null,null,null,null,null,null,"suggor"]
[]
[]
[]
[]
[]
["OBS! Kolumnerna får inte byta plats! Nya kolumner MÅSTE läggas in till höger om befintliga kolumner!"]
[null,"kategori","kolumn nr"]
[]
[null,"Nöt",4]
[null,"Slaktgrisar",5]
[null,"Suggor",6]
[null,"Lamm",4]
[null,null,null,null,null,null,null,null,null,null,null,null,null,null,null,null,null,null,null,null,null,null,null,null,null,null,null,null,null,null,null,null,null,null,null,null,null,null,null,null,null,null,null,null,"Nöt","Växande grisar","Suggor"]
[null,null,null,null,null,null,null,null,null,null,null,null,null,null,null,null,null,null,null,null,null,null,null,null,null,null,null,null,null,null,null,null,null,null,null,null,null,null,null,null,null,null,null,"ts %","MJ OM/kg ts","MJ NE/kg","MJ NE/kg"]
[null,null,null,null,null,null,null,null,null,null,null,null,null,null,null,null,null,null,null,null,null,null,null,null,null,null,null,null,null,null,null,null,null,null,null,null,null,null,null,null,null,null,"Halm, stråsäd",0.85,6.6,0.97,1.49]
[null,null,null,null,null,null,null,null,null,null,null,null,null,null,null,null,null,null,null,null,null,null,null,null,null,null,null,null,null,null,null,null,null,null,null,null,null,null,null,null,null,null,"Halm, baljväxter",0.9,7.3,0.97,1.49]
[null,null,null,null,null,null,null,null,null,null,null,null,null,null,null,null,null,null,null,null,null,null,null,null,null,null,null,null,null,null,null,null,null,null,null,null,null,null,null,null,null,null,"Halm, gräs",0.89,6.9,0.97,1.49]
[]
["Eget foder"]
[null,null,null,null,null,null,null,null,null,null,null,null,null,"ref: Hushållningssällskapet Kristianstad. 2004. Lathund vid inventering av vallfoder och halm i storbal 2004."]
[null,"Plansilo",null,null,"Plansilo",null,null,"Torn",null,null,"Fyrkantsbalar_hö",null,null,"Fyrkantsbalar_hö",null,null,"Rundbalar",null,null,"Rundbalar",null,null,null,null,"Fyrkantsbalar",null,null,"Fyrkantsbalar",null,null,null,null,"Hö",null,null,"Hö",null,null,null,"Direktutfodrad_grönmassa",null,"Direktutfodrad_grönmassa, kg ts/m3",null,"Halm",null,null,"Halm",null,null,null,"Halm_gräs",null,null,"Halm_gräs",null,null,null,"Halm_baljväxter",null,null,"Halm_baljväxter"]
[null,"_MJ","MJ",null,"teknik","kg ts/m3",null,"_MJ","MJ",null,"_MJ","MJ",null,"teknik","kg/m3",null,"_MJ","MJ",null,"teknik","lutning","intercept",null,null,"_MJ","MJ",null,"teknik","lutning","intercept",null,null,"_MJ","MJ",null,"teknik","Ungefärliga värden i kg hö/m3",null,null,"_MJ","MJ",175,null,"_MJ","MJ","teknik","teknik","kg/m3",null,null,"_MJ","MJ",null,"teknik","kg/m3",null,null,"_MJ","MJ",null,"teknik","kg/m3"]
[null,{"$f":"B302","v":"Mycket hög (11,7 MJ/kg ts)"},11.7,null,"Mkt välpackat, hög ts",250,null,{"$f":"B302","v":"Mycket hög (11,7 MJ/kg ts)"},11.7,null,{"$f":"B310","v":"Hög (9,8 MJ/kg ts)"},9.8000000000000007,null,"Lägre densitet",165,null,{"$f":"B302","v":"Mycket hög (11,7 MJ/kg ts)"},11.7,null,"Bra pressning, hög densitet",251.3,77.900000000000006,null,null,{"$f":"B302","v":"Mycket hög (11,7 MJ/kg ts)"},11.7,null,"Bra pressning, hög densitet",347.44,96.126000000000005,null,null,{"$f":"B310","v":"Hög (9,8 MJ/kg ts)"},9.8000000000000007,null,"Lastvagn, injektor",67,null,null,{"$f":"B302","v":"Mycket hög (11,7 MJ/kg ts)"},11.7,null,null,"Strö",0,null,"Opressat i lada",50,null,null,"Strö",0,null,"Opressat i lada",50,null,null,"Strö",0,null,"Opressat i lada",50]
[null,"Hög (10,9 MJ/kg ts)",10.9,null,"Välpackat, hög ts",220,null,"Hög (10,9 MJ/kg ts)",10.9,null,"Normal (9,1 MJ/kg ts)",9.1,null,"Normal densitet",190,null,"Hög (10,9 MJ/kg ts)",10.9,null,"Normalt densitet",251.3,67.849999999999994,null,null,"Hög (10,9 MJ/kg ts)",10.9,null,"Normalt densitet",347.44,77.596000000000004,null,null,"Normal (9,1 MJ/kg ts)",9.1,null,"Lastarvagn, hiss",72,null,null,"Hög (10,9 MJ/kg ts)",10.9,null,null,"Foder suggor",1.49,null,"Småbalar, löspressat",60,null,null,"Foder nöt eller får",6.6,null,"Småbalar, löspressat",60,null,null,"Foder nöt eller får",6.6,null,"Småbalar, löspressat",60]
[null,"Normal (10,2 MJ/kg ts)",10.199999999999999,null,"Medel, normal/hög ts",200,null,"Normal (10,2 MJ/kg ts)",10.199999999999999,null,"Låg (8,4 MJ/kg ts)",8.4,null,"Högre densitet",215,null,"Normal (10,2 MJ/kg ts)",10.199999999999999,null,"Lägre densitet, dåligt formade balar",251.3,37.695,null,null,"Normal (10,2 MJ/kg ts)",10.199999999999999,null,"Lägre densitet, dåligt formade balar",347.44,45.167999999999999,null,null,"Låg (8,4 MJ/kg ts)",8.4,null,"Lastarvagn, teleskopförd.",76,null,null,"Normal (10,2 MJ/kg ts)",10.199999999999999,null,null,"Foder växande grisar",0.97,null,"Småbalar, hårdpressat",110,null,null,"Foder suggor",1.49,null,"Småbalar, hårdpressat",110,null,null,"Foder suggor",1.49,null,"Småbalar, hårdpressat",110]
[null,"Låg  (9,5 MJ/kg ts)",9.5,null,"Medel, Låg ts ",180,null,"Låg  (9,5 MJ/kg ts)",9.5,null,null,null,null,null,null,null,"Låg  (9,5 MJ/kg ts)",9.5,null,null,null,null,null,null,"Låg  (9,5 MJ/kg ts)",9.5,null,null,null,null,null,null,null,null,null,"Löspress, hiss",70,null,null,"Låg  (9,5 MJ/kg ts)",9.5,null,null,"Foder nöt eller får",6.6,null,"Stora balar, rullar",110,null,null,"Foder växande grisar",0.97,null,"Stora balar, rullar",110,null,null,"Foder växande grisar",0.97,null,"Stora balar, rullar",110]
[null,"Mycket låg (9 MJ/kg ts)",9,null,"Sämre packning, låg ts",170,null,"Mycket låg (9 MJ/kg ts)",9,null,null,null,null,null,null,null,"Mycket låg (9 MJ/kg ts)",9,null,null,null,null,null,null,"Mycket låg (9 MJ/kg ts)",9,null,null,null,null,null,null,null,null,null,"Hårdpress, elevator",97,null,null,"Mycket låg (9 MJ/kg ts)",9,null,null,"Annat",0,null,"Stora balar, fyrkantiga",175,null,null,"Annat",0,null,"Stora balar, fyrkantiga",175,null,null,"Annat",0,null,"Stora balar, fyrkantiga",175]
[null,null,null,null,null,null,null,null,null,null,null,null,null,null,null,null,null,null,null,null,null,null,null,null,null,null,null,null,null,null,null,null,null,null,null,"Fyrkantig storbal",155]
[]
[]
[]
[]
[null,"Orden i denna kolumn får INTE ändras!"]
[null,1,2,3,4,5,6,7,8,9,10,11,12,13,14,15,16]
[null,"system","ts %","ts","antal","teknik","volym","visa ts","rätblock","cylinder","förklaring","Plansilo","Torn","Storbalar (rund- och fyrkantsbalar)","Hö","Grönfoder","Halm till foder","Visa ts?"]
[null,"Halm",0.85,"frivillig ange % ts",0,1,0,0,1,0,"Höjd i lagret efter ev sjunkning. Lagrets längd och bredd",0,0,0,0,0,1]
[null,"Plansilo",0.32,{"$f":"\"Riktvärde \"&Tabell203[[#This Row],[ts %]]*100&\"% ts\"","v":"Riktvärde 32% ts"},0,1,0,1,1,0,"Höjd = lagrat foder. Silons längd resp bredd (innermått). ",1,0,0,0,0,0]
[null,"Torn",0.35,{"$f":"\"Riktvärde \"&Tabell203[[#This Row],[ts %]]*100&\"% ts\"","v":"Riktvärde 35% ts"},0,0,0,1,0,1,"Höjd = aktuell skörd, efter sjunkning. Bredd = silons diameter",0,1,0,0,0,0]
[null,"Rundbalar",0.5,{"$f":"\"Riktvärde \"&Tabell203[[#This Row],[ts %]]*100&\"% ts\"","v":"Riktvärde 50% ts"},1,1,0,1,0,1,"Riktvärden: Höjd 1,22 m, Bredd (=diameter) 1,42 m",0,0,1,0,0,0]
[null,"Fyrkantsbalar_ensilage",0.5,{"$f":"\"Riktvärde \"&Tabell203[[#This Row],[ts %]]*100&\"% ts\"","v":"Riktvärde 50% ts"},1,1,0,1,1,0,"Riktvärden: Höjd 0,7 m, bredd 1,2 m, längd 2,2 m",0,0,1,0,0,0]
[null,"Fyrkantsbalar_hö",0.84,"frivillig ange % ts",1,1,0,0,1,0,"Riktvärden: Höjd 0,7 m, bredd 1,2 m, längd 2,2 m",0,0,1,0,0,0]
[null,"Hö",0.84,"frivillig ange % ts",0,1,0,0,1,0,"Höjd i lagret efter ev sjunkning. Lagrets längd och bredd",0,0,0,1,0,0]
[]
[]
[]
[null,"Direktutfodrad_grönmassa",0.15,"frivillig ange % ts",1,0,1,0,0,0,"  ",0,0,0,0,1,0]
["Bete"]
[]
[null,null,null,null,"ref: Spörndly 2003. fodertabeller för idisslare 2003. Gård och djurhälsa. 2019. Betesvärderingstabell"]
["Energiinnehåll bete","rubrik","MJ/kg ts","Bete","typ av bete"]
[null,"--- välj ur lista! ---"]
[null,null,null,null,null,null,null,null,null,"Åkerbete, försommar","11-11,5"]
[null,{"$f":"IF(C409>0,D409&\" (\"&C409&\" MJ)\",\"\")","v":"Åker, försommar (11 MJ)"},11,"Åker, försommar","Åker",null,null,null,null,"Åkerbete, högsommar/sensommar","10,5-10,8"]
[null,{"$f":"IF(C410>0,D410&\" (\"&C410&\" MJ)\",\"\")","v":"Åker, försommar, förvuxet (10,1 MJ)"},10.1,"Åker, försommar, förvuxet","Åker",null,null,null,null,"Åkerbete, förvuxet","9,5-10"]
[null,"Åker, högsommar (10,5 MJ)",10.5,"Åker, högsommar","Åker",null,null,null,null,"Naturbete; ängskavle, ängsgröe, rödven, ängshavre","10,5-11,1"]
[null,"Återväxt efter vallskörd, högsommar (10,5 MJ)",10.5,"Återväxt efter vallskörd, högsommar","Återväxt",null,null,null,null,"Naturbete; tuvtåtel, fårsvingel",9.4]
[null,"Åker, sensommar (10,8 MJ)",10.8,"Åker, sensommar","Åker",null,null,null,null,"Naturbete, tuvtåtel efter axgång",6.1]
[null,"Åker, sensommar, förvuxet (9,5 MJ)",9.5,"Åker, sensommar, förvuxet","Åker"]
[null,"Återväxt efter vallskörd, sensommar (10,8 MJ)",10.8,"Återväxt efter vallskörd, sensommar","Återväxt"]
[null,"Återväxt efter vallskörd, sensommar, förvuxet (9,5 MJ)",9.5,"Återväxt efter vallskörd, sensommar, förvuxet","Återväxt"]
[null,"Naturbete, försommar (10,4 MJ)",10.4,"Naturbete, försommar","Naturbete"]
[null,"Naturbete, högsommar (9,5 MJ)",9.5,"Naturbete, högsommar","Naturbete"]
[null,"Naturbete, sensommar (9,3 MJ)",9.3000000000000007,"Naturbete, sensommar","Naturbete"]
[null,"Naturbete, näringsrikt (11,1 MJ)",11.1,"Naturbete, näringsrikt","Naturbete"]
[null,"Naturbete, förvuxet (7,7 MJ)",7.7,"Naturbete, förvuxet","Naturbete"]
[null,{"$f":"IF(C422>0,D422&\" (\"&C422&\" MJ)\",\"\")","v":""}]
[]
[]
[]
[]
["Bete",null,"Åker_MJ","Åker","MJ/kg ts",null,"Återväxt_MJ","Återväxt","MJ/kg ts",null,"Naturbete_MJ","Naturbete","MJ/kg ts",null,"välj_ur_lista"]
["välj_ur_lista",null,{"$f":"IF(E428>0,D428&\" (\"&E428&\" MJ)\",\"\")","v":"Medel (10 MJ)"},"Medel",10,null,{"$f":"IF(I428>0,H428&\" (\"&I428&\" MJ)\",\"\")","v":"Medel (10,5 MJ)"},"Medel",10.5,null,{"$f":"IF(M428>0,L428&\" (\"&M428&\" MJ)\",\"\")","v":"Näringsrikt (11,1 MJ)"},"Näringsrikt",11.1,null,"Välj först typ av bete längst till vänster!"]
["Åker_enbart_bete",null,"Försommar (11 MJ)","Försommar",11,null,{"$f":"IF(I429>0,H429&\" (\"&I429&\" MJ)\",\"\")","v":"Högsommar (10,5 MJ)"},"Högsommar",10.5,null,{"$f":"IF(M429>0,L429&\" (\"&M429&\" MJ)\",\"\")","v":"Förvuxet (7,7 MJ)"},"Förvuxet",7.7]
["Återväxt_efter_vallskörd",null,"Försommar, förvuxet (10,1 MJ)","Försommar, förvuxet",10.1,null,{"$f":"IF(I430>0,H430&\" (\"&I430&\" MJ)\",\"\")","v":"Sensommar (10,8 MJ)"},"Sensommar",10.8,null,{"$f":"IF(M430>0,L430&\" (\"&M430&\" MJ)\",\"\")","v":"Försommar (10,4 MJ)"},"Försommar",10.4]
["Naturbete",null,"Högsommar (10,5 MJ)","Högsommar",10.5,null,{"$f":"IF(I431>0,H431&\" (\"&I431&\" MJ)\",\"\")","v":"Sensommar, förvuxet (9,5 MJ)"},"Sensommar, förvuxet",9.5,null,{"$f":"IF(M431>0,L431&\" (\"&M431&\" MJ)\",\"\")","v":"Högsommar (9,5 MJ)"},"Högsommar",9.5]
[null,null,"Sensommar (10,8 MJ)","Sensommar",10.8,null,null,null,null,null,{"$f":"IF(M432>0,L432&\" (\"&M432&\" MJ)\",\"\")","v":"Sensommar (9,3 MJ)"},"Sensommar",9.3000000000000007]
[null,null,"Sensommar, förvuxet (9,5 MJ)","Sensommar, förvuxet",9.5]
[]
["Åker"]
["Återväxt"]
["Naturbete"]
[]
[]
[]
[]
[]
[]
[]
[]
[]
[]
[]
[]
[]
[]
[null,"Strömedel"]
[null,null,null,"Åtgång, hel djupströbädd, kg/djur & dag","Åtgång djupströbädd med skrapgång kg/djur och dag","glidströbädd med skrapgång, kg/djur och dag","fastgödsel, kg/djur och dag","flytgödsel, kg/djur och dag"]
[null,null,"kviga/stut, 12-24 mån",5.6,3.3,2.2999999999999998,0.9,0.4]
[null,null,"Ungtjur, 2-12 mån",3.7,2.2000000000000002,1.6,0.7,0.4]
[null,null,"Ungtjur 12-16 mån",5.2,3.1,2.2000000000000002,0.7,0.4]
[null,null,"Diko, stallperiod 6 mån",6.7,4,2.8,1.2,0.75]
[null,null,"suggor",4.4000000000000004,null,null,1.1000000000000001,0.9]
[null,null,"tacka, höstlammproduktion",0.5]
[null,null,"tacka, vårlammproduktion",1.5]
[]
[]
[]
[]
[]
[null,"Normtal balar:"]
[null,"rundbalar"]
[null,"diameter, m",1.42]
[null,"höjd, m",1.22]
[null,"ts, %",{"$f":"C394","v":0.35}]
[null,null,"Normalt densitet"]
[null,"kg ts/m3",{"$f":"IF(C470=0,0,VLOOKUP(C471,'Teknisk administration'!$B$272:$D$274,2,FALSE)*C470+VLOOKUP(C471,'Teknisk administration'!$B$272:$D$274,3,FALSE))","v":155.80500000000001}]
[null,"kg ts/bal"]
[]
[]
[null,"Fyrkantsbal"]
[null,"Balens längd, m",2.2000000000000002]
[null,"Balens höjd, m",0.7]
[null,"Balens bredd, m",1.2]
[null,"ts-halt, %",{"$f":"C395","v":0.5}]
[null,"Pressning","Normalt densitet"]
[null,"Densitet, kg ts/m3",{"$f":"IF(C480=0,0,VLOOKUP(C481,'Teknisk administration'!$B$280:$D$282,2,FALSE)*C480+VLOOKUP(C481,'Teknisk administration'!$B$280:$D$282,3,FALSE))","v":251.316}]
[null,"Mängd ts per bal, kg ts/bal"]
[null,null,{"$f":"PI()*(C468/2)^2*C469*C472","v":301.02862263810977}]
[null,null,{"$f":"C477*C478*C479*C482","v":464.43196799999998}]
[]
[]
[]
[]
[]
[]
[]
[]
[]
[]
[]
[]
["Om du vill ändra ordning på raderna är det bäst att KOPIERA och KLISTRA IN, INTE flytta rader, ta bort rader eller infoga rader! Då slipper man fixa till tabellerna som ska visas på Bakgrund…"]
["Ska flyttas till Tekn adm!"]
["Välj \"ja\" eller \"nej\" i den orange cellen"]
[]
["Alla djurslag","ja"]
["Fråga","ja","nej","tom","Kolumn1","ska orange cell visas?","Kolumn2","Har uppföljningssystem","Har mark","Skördar grödor","Köper foder","Säljre grödor","växtnäringbalans period1","växtnäringbalans period2","växtnäringbalans period3","vatten","energi","Nöt: hondjur","Nöt: inköp kalvar","Bete?","Smågrisa","Slaktgrisa","Klimat","vinterlamm","Intresserad av foderåtgång","Intresserad av foderförluster","Intresserad växtnäring","Visa bladet Halm & grovfoder","Kolumn9","Kolumn8","Kolumn7","Kolumn6","Kolumn5","Kolumn4","Kolumn3"]
["Vill du ta fram nyckeltal om foderåtgång?","Foderåtgången beräknas (alternativt fylls i om du har färdiga uppgifter) i del 2 Foder. Där kan du även ta fram mängd odlat foder","Då kan du hoppa över del 2 Foder. ","Ja = del 2 i verktyget (om foder) kommer att visas. Nej = del 2 i verktyget är inte relevant för dig",null,1,null,null,null,null,null,null,null,null,null,null,null,null,null,null,null,null,null,null,1]
["Vill du beräkna förlusterna i foderkedjan?","Förlusterna från inläggning till och med utfodring beräknas i del 2. ","Då kan du hoppa över förlustdelarna i del 2 Foder","Ja = del 2 i verktyget (om foder) kommer att visas. Nej = del 2 i verktyget är inte relevant för dig",null,1,null,null,null,null,null,null,null,null,null,null,null,null,null,null,null,null,null,null,null,1]
["Skördar du eget foder till djuren?","På bladet \"Odling foder\" kan du beräkna mängden skördat foder (kg ts och MJ)","då hoppar du över bladet \"Odling foder\"",{"$f":"$A$500","v":"Välj \"ja\" eller \"nej\" i den orange cellen"},null,1,null,null,1,1]
["Bärgar du halm?",{"$f":"\"På bladet \"&'2.1b Halm, odling grovfoder'!A1&\" kan du beräkna mängden bärgad halm. I verktyget beräknas dock inga nyckeltal för strömedel\"","v":"På bladet 2.1b Halm, odling grovfoder kan du beräkna mängden bärgad halm. I verktyget beräknas dock inga nyckeltal för strömedel"}," ",{"$f":"$A$500","v":"Välj \"ja\" eller \"nej\" i den orange cellen"},null,1,null,null,null,null,null,null,null,null,null,null,null,null,null,null,null,null,null,null,null,null,null,1]
["Skördar du ensilage, hö, hösilage eller grönfoder?",{"$f":"\"På bladet \"&'2.1b Halm, odling grovfoder'!A1&\" kan du beräkna mängden bärgad grovfoder. I verktyget beräknas dock inga särskilda nyckeltal för grovfoder. Använd verktyget för Nöt eller Lamm för mer detaljerade beräkningar om grovfoder\"","v":"På bladet 2.1b Halm, odling grovfoder kan du beräkna mängden bärgad grovfoder. I verktyget beräknas dock inga särskilda nyckeltal för grovfoder. Använd verktyget för Nöt eller Lamm för mer detaljerade beräkningar om grovfoder"}," ",{"$f":"$A$500","v":"Välj \"ja\" eller \"nej\" i den orange cellen"},null,1,null,null,null,null,null,null,null,null,null,null,null,null,null,null,null,null,null,null,null,null,null,1]
["Säljer du grödor som du har odlat?","Detta verktyg avser resurshushållningen i djurhållningen (inkl eget foder), så det beräknar inga nyckeltal för avsalugrödor. I vissa avsnitt slipper du därför att fylla i uppgifter om avsalugrödorna. ","I vissa delar i verktyget kan man fylla i uppgifter om avsalugrödor. Dessa avsnitt kommer att \"släckas\" för dig (=texten är ljusgrå) för att indikera att du inte behöver fylla i dem.",{"$f":"$A$500","v":"Välj \"ja\" eller \"nej\" i den orange cellen"},null,1,null,null,1,1,null,1]
["Vill du beräkna växtnäringsutnyttjandet?","I del 3 kan du beräkna växtnäringsutnyttjandet som kg inköpt N, P och K per kg producerat kött",null,"Ja = del 3 i verktyget (om växtnäringsutnyttjande) kommer att visas. Nej = del 3 är inte relevant för dig",null,1,null,null,null,null,null,null,null,null,null,null,null,null,null,null,null,null,null,null,null,null,1]
["Har du en aktuell växtnäringsbalans för perioden:"," "," ","T ex från Greppa Näringen. Användbart om du vill beräkna växtnäringsutnyttjande"]
[{"$f":"\"     - \"& IF(Bakgrund!$R$7=0,\"Period 1\",Bakgrund!$R$7)","v":"     - Period 1"},"Det förenklar beräkningen av växtnäringsutnyttjandet. Du kan även hämta inköpt foder därifrån"," ","Svara ja eller nej när du ska fylla i uppgifter för period 1",null,1,null,null,null,null,null,null,1]
[{"$f":"\"     - \"& IF(Bakgrund!$S$7=0,\"Period 2\",Bakgrund!$S$7)","v":"     - Period 2"},"Det förenklar beräkningen av växtnäringsutnyttjandet. Du kan även hämta inköpt foder därifrån"," ","Svara ja eller nej när du ska fylla i uppgifter för period 2",null,1,null,null,null,null,null,null,null,1]
[{"$f":"\"     - \"& IF(Bakgrund!$T$7=0,\"Period 3\",Bakgrund!$T$7)","v":"     - Period 3"},"Det förenklar beräkningen av växtnäringsutnyttjandet. Du kan även hämta inköpt foder därifrån"," ","Svara ja eller nej när du ska fylla i uppgifter för period 3",null,1,null,null,null,null,null,null,null,null,1]
["Är du intresserad av vattenfrågor ?","Du kan göra en kartläggning av din vattenförbrukning och kvalitet"," ",{"$f":"$A$500","v":"Välj \"ja\" eller \"nej\" i den orange cellen"},null,1,null,null,null,null,null,null,null,null,null,1]
["Är du intresserad av energifrågor ?","I verktyget kan du sammanställa och beräkna nyckeltal för energiförbrukning"," ",{"$f":"$A$500","v":"Välj \"ja\" eller \"nej\" i den orange cellen"},null,1,null,null,null,null,null,null,null,null,null,null,1]
[null,null,null,{"$f":"$A$500","v":"Välj \"ja\" eller \"nej\" i den orange cellen"},null,1]
[null,null,null,{"$f":"$A$500","v":"Välj \"ja\" eller \"nej\" i den orange cellen"},null,1]
["System","ja","nej","tom","ingen fråga","ska orange cell visas?","Kolumn1","Har uppföljningssystem","Har mark","Skördar grödor","Köper foder","Säljre grödor","växtnäringbalans period1","växtnäringbalans period2","växtnäringbalans period3","vatten","energi","Nöt: hondjur","Nöt: inköp kalvar","Bete?","Smågrisa","Slaktgrisa","Klimat","vinterlamm","Intresserad av foderåtgång","Intresserad av foderförluster","Intresserad växtnäring","Kolumn8","Kolumn7","Kolumn6","Kolumn5","Kolumn4","Kolumn3","Kolumn2","Kolumn19"]
["Har du smågrisproduktion?","Då kan du beräkna nyckeltal för smågrisproduktion bland annat på bladen Hälsa & dödlighet samt Tillväxt & förökning","Då hoppar du över tabeller som rör smågrisproduktion på kommande blad. Dessa tabeller kommer ha ljusgrå text för att indikera att de inte är relevanta för dig.",{"$f":"$A$500","v":"Välj \"ja\" eller \"nej\" i den orange cellen"},null,1,null,null,null,null,null,null,null,null,null,null,null,null,null,null,1]
["Har du slaktgrisproduktion?","Då kan du beräkna nyckeltal för slaktgrisarna bland annat på bladen Hälsa & dödlighet samt Tillväxt & förökning","Då hoppar du över tabeller som rör slaktgrisproduktion på kommande blad. Dessa tabeller kommer ha ljusgrå text för att indikera att de inte är relevanta för dig.","Välj \"ja\" eller \"nej\" i den orange cellen",null,1,null,null,null,null,null,null,null,null,null,null,null,null,null,null,null,1]
["Har du ett uppföljningsprogram (t ex WinPig eller PigWin) där du kan hämta uppgifter om tillväxt","På efterföljande blad kan du då leta efter celler där du kan fylla i färdiga värden så slipper du mata in alla uppgifter på nytt"," ","Välj \"ja\" eller \"nej\" i den orange cellen",null,1,null,1]
["Går djuren utomhus?","I denna version av verktyget ingår inte utevistelse, kan komma i en uppdatering"," ","Välj \"ja\" eller \"nej\" i den orange cellen",null,1,null,null,1,null,null,null,null,null,null,null,null,null,null,1]
["Är du intresserad av klimatfrågor?","På bladet Klimat sammanställs en rad "," ","Välj \"ja\" eller \"nej\" i den orange cellen",null,1,null,null,null,null,null,null,null,null,null,null,null,null,null,null,null,null,1]
[null,null,null,"Välj \"ja\" eller \"nej\" i den orange cellen",null,1]
[null,null,null,"Välj \"ja\" eller \"nej\" i den orange cellen",null,1]
[]
[]
[]
[]
[]
["Kolumn1","Kolumn2","Kolumn3","Kolumn4","Kolumn5","Kolumn6","Kolumn7","Kolumn8","Kolumn9","Kolumn10","Kolumn11","Kolumn12","Kolumn13","Kolumn14","Kolumn15","Kolumn16","Kolumn17","Kolumn18","Kolumn19","Kolumn20","Kolumn21","Kolumn22","Kolumn23","Kolumn24","Kolumn25","Kolumn26","Kolumn27","Kolumn28","Kolumn29","Kolumn30","Kolumn31","Kolumn32","Kolumn33","Kolumn34","Kolumn35"]
[]
[]
[]
[]
[null,null,null,{"$f":"$A$500","v":"Välj \"ja\" eller \"nej\" i den orange cellen"},null,1]
[null,null,null,"Välj \"ja\" eller \"nej\" i den orange cellen",null,1]
[null,null,null,"Välj \"ja\" eller \"nej\" i den orange cellen",null,1]
[null,null,null,"Välj \"ja\" eller \"nej\" i den orange cellen",null,1]
[null,null,null,"Välj \"ja\" eller \"nej\" i den orange cellen",null,1]
[null,null,null,"Välj \"ja\" eller \"nej\" i den orange cellen",null,1]
[null,null,null,"Välj \"ja\" eller \"nej\" i den orange cellen",null,1]
[]
[]
[]
[]
[]
[]
[]
[]
[]
[null,"grovfoder, exkl halm","övriga grödor"]
["Spannmål till tröskning",null,1]
["Proteingrödor till tröskning",null,1]
["Vall (slåttervall+bete)",1]
["Övriga grödor"]
["Träda"]
["Total åkerareal"]
["Varav areal åker för egen foderproduktion"]

{"sheet":"diagramunderlag G","index":21,"n_rows":170,"n_cols":22,"rows_kept":170,"cut":false,"hidden":true,"merged":[]}
[]
[]
[]
[]
[]
[]
[]
[null,null,null,null,null,null,null,null,null,null,null,null,"Sålt kött","Potentiellt kött"]
[null,null,null,null,null,null,null,null,null,null,"Tillväxtgrisar",{"$f":"period_1","v":"Period 1"},{"$f":"'6 Resultat'!D51","v":0},{"$f":"'6 Resultat'!D44","v":0}]
[null,null,null,null,null,null,null,null,null,null,null,{"$f":"period_2","v":"Period 2"},{"$f":"'6 Resultat'!E51","v":0},{"$f":"'6 Resultat'!E44","v":0}]
[null,null,null,null,null,null,null,null,null,null,null,{"$f":"period_3","v":"Period 3"},{"$f":"'6 Resultat'!F51","v":0},{"$f":"'6 Resultat'!F44","v":0}]
[null,null,null,null,null,null,null,null,null,null,"Suggor",{"$f":"period_1","v":"Period 1"},{"$f":"'6 Resultat'!Q37","v":0},{"$f":"'6 Resultat'!D45","v":0}]
[null,null,null,null,null,null,null,null,null,null,null,{"$f":"period_2","v":"Period 2"},{"$f":"'6 Resultat'!R37","v":0},{"$f":"'6 Resultat'!E45","v":0}]
[null,null,null,null,null,null,null,null,null,null,null,{"$f":"period_3","v":"Period 3"},{"$f":"'6 Resultat'!S37","v":0},{"$f":"'6 Resultat'!F45","v":0}]
[]
[]
[]
[]
[null,null,null,null,null,null,null,null,"alt 1","tillväxt diande grisar",{"$f":"IF('1.2 Tillväxt & förökning'!D15=0,0,1)*'1 Intro djuren'!C27+'1 Intro djuren'!C27*'1.2 Tillväxt & förökning'!D18*'1.2 Tillväxt & förökning'!D15/1000","v":0},{"$f":"IF('1.2 Tillväxt & förökning'!E15=0,0,1)*'1 Intro djuren'!D27+'1 Intro djuren'!D27*'1.2 Tillväxt & förökning'!E18*'1.2 Tillväxt & förökning'!E15/1000","v":0},{"$f":"IF('1.2 Tillväxt & förökning'!F15=0,0,1)*'1 Intro djuren'!E27+'1 Intro djuren'!E27*'1.2 Tillväxt & förökning'!F18*'1.2 Tillväxt & förökning'!F15/1000","v":0}]
[null,null,null,null,null,null,null,null,null,"tillväxt avvanda grisar",{"$f":"+'1 Intro djuren'!C27*('1.2 Tillväxt & förökning'!D19-'1.2 Tillväxt & förökning'!D18)*'1.2 Tillväxt & förökning'!D16/1000","v":0},{"$f":"+'1 Intro djuren'!D27*('1.2 Tillväxt & förökning'!E19-'1.2 Tillväxt & förökning'!E18)*'1.2 Tillväxt & förökning'!E16/1000","v":0},{"$f":"+'1 Intro djuren'!E27*('1.2 Tillväxt & förökning'!F19-'1.2 Tillväxt & förökning'!F18)*'1.2 Tillväxt & förökning'!F16/1000","v":0}]
[]
[null,null,null,null,null,null,null,null,"alt 2","tillväxt diande grisar",{"$f":"'1 Intro djuren'!C27*'1.2 Tillväxt & förökning'!D23+'1 Intro djuren'!C27*'1.2 Tillväxt & förökning'!D24*'1.2 Tillväxt & förökning'!D30/1000","v":0},{"$f":"'1 Intro djuren'!D27*'1.2 Tillväxt & förökning'!E23+'1 Intro djuren'!D27*'1.2 Tillväxt & förökning'!E24*'1.2 Tillväxt & förökning'!E30/1000","v":0},{"$f":"'1 Intro djuren'!E27*'1.2 Tillväxt & förökning'!F23+'1 Intro djuren'!E27*'1.2 Tillväxt & förökning'!F24*'1.2 Tillväxt & förökning'!F30/1000","v":0}]
[null,null,null,null,null,null,null,null,null,"tillväxt avvanda grisar",{"$f":"+'1 Intro djuren'!C27*'1.2 Tillväxt & förökning'!D26*'1.2 Tillväxt & förökning'!D31/1000","v":0},{"$f":"+'1 Intro djuren'!D27*'1.2 Tillväxt & förökning'!E26*'1.2 Tillväxt & förökning'!E31/1000","v":0},{"$f":"+'1 Intro djuren'!E27*'1.2 Tillväxt & förökning'!F26*'1.2 Tillväxt & förökning'!F31/1000","v":0}]
[]
[null,null,null,null,null,null,null,null,"använt värde","tillväxt diande grisar",{"$f":"IF(K19>0,K19,K22)","v":0},{"$f":"IF(L19>0,L19,L22)","v":0},0]
[null,null,null,null,null,null,null,null,null,"tillväxt avvanda grisar",{"$f":"IF(K20>0,K20,K23)","v":0},0,0]
[]
[]
[]
[]
[]
[null,null,null,null,null,null,null,null,null,null,null,null,null,"Mål",{"$f":"Bakgrund!R7","v":"Period 1"},{"$f":"Bakgrund!S7","v":"Period 2"},{"$f":"Bakgrund!T7","v":"Period 3"},null,"Mål",{"$f":"'6 Resultat'!D80","v":"Period 1"},{"$f":"'6 Resultat'!E80","v":"Period 2"},{"$f":"'6 Resultat'!F80","v":"Period 3"}]
[null,null,null,null,null,null,null,null,null,null,null,null,{"$f":"\"Suggor i besättningen (SIP). Mål \"&ROUND(S33,0)&\" st\"","v":{"$error":"#DIV/0!"}},{"$f":"IF(ISNUMBER($S33),S33/$S33)","v":false},false,false,false,null,{"$f":"IF(ISNUMBER('6 Resultat'!C81),'6 Resultat'!C81,AVERAGEIF('6 Resultat'!D81:F81,\">0\"))","v":{"$error":"#DIV/0!"}},{"$f":"'6 Resultat'!D81","v":0},{"$f":"'6 Resultat'!E81","v":0},{"$f":"'6 Resultat'!F81","v":0}]
[null,null,null,null,null,null,null,null,null,null,null,null,{"$f":"\"Producerade smågrisar under perioden. Mål \"&ROUND(S34,-1)&\" st.\"","v":{"$error":"#DIV/0!"}},false,false,false,false,null,{"$f":"IF(ISNUMBER('6 Resultat'!C82),'6 Resultat'!C82,AVERAGEIF('6 Resultat'!D82:F82,\">0\"))","v":{"$error":"#DIV/0!"}},{"$f":"'6 Resultat'!D82","v":0},{"$f":"'6 Resultat'!E82","v":0},{"$f":"'6 Resultat'!F82","v":0}]
[null,null,null,null,null,null,null,null,null,null,null,null,{"$f":"'6 Resultat'!A83","v":"Producerade grisar per sugga under perioden"},false,false,false,false,null,{"$f":"IF(ISNUMBER('6 Resultat'!C83),'6 Resultat'!C83,AVERAGEIF('6 Resultat'!D83:F83,\">0\"))","v":{"$error":"#DIV/0!"}},{"$f":"'6 Resultat'!D83","v":0},{"$f":"'6 Resultat'!E83","v":0},{"$f":"'6 Resultat'!F83","v":0}]
[null,null,null,null,null,null,null,null,null,null,null,null,{"$f":"'6 Resultat'!A84","v":"Periodens längd"},false,false,false,false,null,{"$f":"IF(ISNUMBER('6 Resultat'!C84),'6 Resultat'!C84,AVERAGEIF('6 Resultat'!D84:F84,\">0\"))","v":{"$error":"#DIV/0!"}},{"$f":"'6 Resultat'!D84","v":0},{"$f":"'6 Resultat'!E84","v":0},{"$f":"'6 Resultat'!F84","v":0}]
[null,null,null,null,null,null,null,null,null,null,null,null,{"$f":"'6 Resultat'!A85","v":"Producerade grisar per årssugga i WinPig"},false,false,false,false,null,{"$f":"IF(ISNUMBER('6 Resultat'!C85),'6 Resultat'!C85,AVERAGEIF('6 Resultat'!D85:F85,\">0\"))","v":{"$error":"#DIV/0!"}},{"$f":"'6 Resultat'!D85","v":0},{"$f":"'6 Resultat'!E85","v":0},{"$f":"'6 Resultat'!F85","v":0}]
[null,null,null,null,null,null,null,null,null,null,null,null,{"$f":"\"Smågrisar per årssugga. Mål \"&ROUND(S38,1)&\" st.\"","v":{"$error":"#DIV/0!"}},false,false,false,false,null,{"$f":"IF(ISNUMBER('6 Resultat'!C86),'6 Resultat'!C86,AVERAGEIF('6 Resultat'!D86:F86,\">0\"))","v":{"$error":"#DIV/0!"}},{"$f":"'6 Resultat'!D86","v":0},{"$f":"'6 Resultat'!E86","v":0},{"$f":"'6 Resultat'!F86","v":0}]
[null,null,null,null,"Mål",null,null,null,"Resultat","Mål"]
[null,null,null,{"$f":"\"Mål \"&E40","v":"Mål 0"},{"$f":"IF(SUM('6 Resultat'!C110:F110)=0,0,IF(ISNUMBER('6 Resultat'!C110),'6 Resultat'!C110,ROUND(AVERAGEIF('6 Resultat'!D110:F110,\">0\"),4-LEN(INT(AVERAGEIF('6 Resultat'!D110:F110,\">0\")*100)))))","v":0},null,"Digivande",{"$f":"D40","v":"Mål 0"},null,{"$f":"E40","v":0}]
[null,null,null,{"$f":"\"Mål \"&E41","v":"Mål 0"},{"$f":"IF(SUM('6 Resultat'!C111:F111)=0,0,IF(ISNUMBER('6 Resultat'!C111),'6 Resultat'!C111,ROUND(AVERAGEIF('6 Resultat'!D111:F111,\">0\"),4-LEN(INT(AVERAGEIF('6 Resultat'!D111:F111,\">0\")*100)))))","v":0},null,null,{"$f":"period_1","v":"Period 1"},{"$f":"'6 Resultat'!D110","v":0}]
[null,null,null,{"$f":"\"Mål \"&E42","v":"Mål 0"},{"$f":"IF(SUM('6 Resultat'!C112:F112)=0,0,IF(ISNUMBER('6 Resultat'!C112),'6 Resultat'!C112,ROUND(AVERAGEIF('6 Resultat'!D112:F112,\">0\"),4-LEN(INT(AVERAGEIF('6 Resultat'!D112:F112,\">0\")*100)))))","v":0},null,null,{"$f":"period_2","v":"Period 2"},{"$f":"'6 Resultat'!E110","v":0}]
[null,null,null,{"$f":"\"Mål \"&E43","v":"Mål 0"},{"$f":"IF(SUM('6 Resultat'!C113:F113)=0,0,IF(ISNUMBER('6 Resultat'!C113),'6 Resultat'!C113,ROUND(AVERAGEIF('6 Resultat'!D113:F113,\">0\"),4-LEN(INT(AVERAGEIF('6 Resultat'!D113:F113,\">0\")*100)))))","v":0},null,null,{"$f":"period_3","v":"Period 3"},{"$f":"'6 Resultat'!F110","v":0}]
[null,null,null,{"$f":"\"Mål \"&E44","v":"Mål 0"},{"$f":"IF(SUM('6 Resultat'!C114:F114)=0,0,IF(ISNUMBER('6 Resultat'!C114),'6 Resultat'!C114,ROUND(AVERAGEIF('6 Resultat'!D114:F114,\">0\"),4-LEN(INT(AVERAGEIF('6 Resultat'!D114:F114,\">0\")*100)))))","v":0},null,"Avvanda",{"$f":"D41","v":"Mål 0"},null,{"$f":"E41","v":0}]
[null,null,null,null,null,null,null,{"$f":"period_1","v":"Period 1"},{"$f":"'6 Resultat'!D111","v":0}]
[null,null,null,null,null,null,null,{"$f":"period_2","v":"Period 2"},{"$f":"'6 Resultat'!E111","v":0}]
[null,null,null,null,null,null,null,{"$f":"period_3","v":"Period 3"},{"$f":"'6 Resultat'!F111","v":0}]
[null,null,null,null,null,null,"Slaktsvin",{"$f":"D42","v":"Mål 0"},null,{"$f":"E42","v":0}]
[null,null,null,null,null,null,null,{"$f":"period_1","v":"Period 1"},{"$f":"'6 Resultat'!D112","v":0}]
[null,null,null,null,null,null,null,{"$f":"period_2","v":"Period 2"},{"$f":"'6 Resultat'!E112","v":0}]
[null,null,null,null,null,null,null,{"$f":"period_3","v":"Period 3"},{"$f":"'6 Resultat'!F112","v":0}]
[null,null,null,null,null,null,"Per godkänd stallplats",{"$f":"D43","v":"Mål 0"},null,{"$f":"E43","v":0}]
[null,null,null,null,null,null,null,{"$f":"period_1","v":"Period 1"},{"$f":"'6 Resultat'!D113","v":0}]
[null,null,null,null,null,null,null,{"$f":"period_2","v":"Period 2"},{"$f":"'6 Resultat'!E113","v":0}]
[null,null,null,null,null,null,null,{"$f":"period_3","v":"Period 3"},{"$f":"'6 Resultat'!F113","v":0}]
[null,null,null,null,null,null,"Per stallplats, önskad beläggning",{"$f":"D44","v":"Mål 0"},null,{"$f":"E44","v":0}]
[null,null,null,null,null,null,null,{"$f":"period_1","v":"Period 1"},{"$f":"'6 Resultat'!D114","v":0}]
[null,null,null,null,null,null,null,{"$f":"period_2","v":"Period 2"},{"$f":"'6 Resultat'!E114","v":0}]
[null,null,null,null,null,null,null,{"$f":"period_3","v":"Period 3"},{"$f":"'6 Resultat'!F114","v":0}]
[]
[]
[]
[]
[]
[]
[]
[null,null,"ts"]
[null,null,null,{"$f":"Bakgrund!R$7","v":"Period 1"},{"$f":"Bakgrund!S$7","v":"Period 2"},{"$f":"Bakgrund!T$7","v":"Period 3"}]
[null,null,"Lagring",{"$f":"'6 Resultat'!D231","v":0},{"$f":"'6 Resultat'!E231","v":0},{"$f":"'6 Resultat'!F231","v":0}]
[null,null,"Kasserat foder",{"$f":"'6 Resultat'!D236","v":0},{"$f":"'6 Resultat'!E236","v":0},{"$f":"'6 Resultat'!F236","v":0}]
[null,null,"Spill vid utfodring",{"$f":"'6 Resultat'!D238","v":0},{"$f":"'6 Resultat'!E238","v":0},{"$f":"'6 Resultat'!F238","v":0}]
[]
[]
[]
[]
[null,null,"MJ"]
[null,null,null,{"$f":"Bakgrund!R$7","v":"Period 1"},{"$f":"Bakgrund!S$7","v":"Period 2"},{"$f":"Bakgrund!T$7","v":"Period 3"}]
[null,null,"Lagring",{"$f":"'6 Resultat'!D232","v":0},{"$f":"'6 Resultat'!E232","v":0},{"$f":"'6 Resultat'!F232","v":0}]
[null,null,"Kasserat foder",{"$f":"'6 Resultat'!D237","v":0},{"$f":"'6 Resultat'!E237","v":0},{"$f":"'6 Resultat'!F237","v":0}]
[null,null,"Spill vid utfodring",{"$f":"'6 Resultat'!D239","v":0},{"$f":"'6 Resultat'!E239","v":0},{"$f":"'6 Resultat'!F239","v":0}]
[]
[]
[]
[]
[null,null,"Totalt, jämfört med utfodrat",{"$f":"Bakgrund!R$7","v":"Period 1"},{"$f":"Bakgrund!S$7","v":"Period 2"},{"$f":"Bakgrund!T$7","v":"Period 3"}]
[null,null,"% av ts utfodrat",{"$f":"'6 Resultat'!D247","v":0},{"$f":"'6 Resultat'!E247","v":0},{"$f":"'6 Resultat'!F247","v":0}]
[null,null,"% av MJ utfodrat",{"$f":"'6 Resultat'!D248","v":0},{"$f":"'6 Resultat'!E248","v":0},{"$f":"'6 Resultat'!F248","v":0}]
[]
[]
[]
[]
[]
[]
[]
[null,null,null,{"$f":"'6 Resultat'!C379","v":"Eget mål"},{"$f":"'6 Resultat'!D379","v":"Period 1"},{"$f":"'6 Resultat'!E379","v":"Period 2"},{"$f":"'6 Resultat'!F379","v":"Period 3"}]
[null,null,"Total vattenförbrukning, liter",{"$f":"'6 Resultat'!C380","v":0},{"$f":"'6 Resultat'!D380","v":0},{"$f":"'6 Resultat'!E380","v":0},{"$f":"'6 Resultat'!F380","v":0}]
[null,null,"Vattenförbrukning per djur, liter/djur",{"$f":"'6 Resultat'!C381","v":0},{"$f":"'6 Resultat'!D381","v":0},{"$f":"'6 Resultat'!E381","v":0},{"$f":"'6 Resultat'!F381","v":0}]
[null,null,null,{"$f":"'6 Resultat'!C379","v":"Eget mål"},{"$f":"'6 Resultat'!D379","v":"Period 1"},{"$f":"'6 Resultat'!E379","v":"Period 2"},{"$f":"'6 Resultat'!F379","v":"Period 3"}]
[null,null,"Dricksvatten",{"$f":"'6 Resultat'!C383","v":0},{"$f":"'6 Resultat'!D383","v":0},{"$f":"'6 Resultat'!E383","v":0},{"$f":"'6 Resultat'!F383","v":0}]
[null,null,"Tvätt + övrigt",{"$f":"'6 Resultat'!C384","v":0},{"$f":"'6 Resultat'!D384","v":0},{"$f":"'6 Resultat'!E384","v":0},{"$f":"'6 Resultat'!F384","v":0}]
[null,null,"Ej specificerat",{"$f":"IF(SUM(D99:D100)=0,'6 Resultat'!C382,0)","v":0},{"$f":"IF(SUM(E99:E100)=0,'6 Resultat'!D382,0)","v":0},{"$f":"IF(SUM(F99:F100)=0,'6 Resultat'!E382,0)","v":0},{"$f":"IF(SUM(G99:G100)=0,'6 Resultat'!F382,0)","v":0}]
[]
[]
[]
[]
[]
[]
[]
[]
[]
[]
[]
[]
[]
[]
[]
[]
[]
[]
[]
[]
[]
[]
[]
[]
[]
[]
[]
[]
[]
[]
[]
[]
[]
[]
[]
[]
[]
[]
[]
[]
[]
[]
[null,null,null,null,null,null,null,null,null,"kg kväve","kg fosfor","kg kalium"]
[null,null,null,null,null,null,null,{"$f":"period_1","v":"Period 1"},"Växtnärings-\ninsats",{"$f":"'6 Resultat'!D293","v":0},{"$f":"'6 Resultat'!E293","v":0},{"$f":"'6 Resultat'!F293","v":0},null,"kg växtnäring"]
[null,null,null,null,null,null,null,null,"Växtnäring \ni köttet",{"$f":"'6 Resultat'!D294","v":0},{"$f":"'6 Resultat'!E294","v":0},{"$f":"'6 Resultat'!F294","v":0},null,"kg växtnäring"]
[null,null,null,null,null,null,null,{"$f":"period_2","v":"Period 2"},"Växtnärings-\ninsats",{"$f":"'6 Resultat'!D298","v":0},{"$f":"'6 Resultat'!E298","v":0},{"$f":"'6 Resultat'!F298","v":0},null,"kg växtnäring"]
[null,null,null,null,null,null,null,null,"Växtnäring \ni köttet",{"$f":"'6 Resultat'!D299","v":0},{"$f":"'6 Resultat'!E299","v":0},{"$f":"'6 Resultat'!F299","v":0},null,"kg växtnäring"]
[null,null,null,null,null,null,null,{"$f":"period_3","v":"Period 3"},"Växtnärings-\ninsats",{"$f":"'6 Resultat'!D303","v":0},{"$f":"'6 Resultat'!E303","v":0},{"$f":"'6 Resultat'!F303","v":0},null,"kg växtnäring"]
[null,null,null,null,null,null,null,null,"Växtnäring \ni köttet",{"$f":"'6 Resultat'!D304","v":0},{"$f":"'6 Resultat'!E304","v":0},{"$f":"'6 Resultat'!F304","v":0},null,"kg växtnäring"]
[]
[null,null,null,null,null,null,null,null,null,"g införd kväve/kg kött","g införd fosfor/kg kött","g införd kalium/kg kött","% införd kväve av N i kött","% införd fosfor av P i kött","% införd kalium av K i kött"]
[null,null,null,null,null,null,null,{"$f":"period_1","v":"Period 1"},"Insats per \nkg kött",{"$f":"'6 Resultat'!D295","v":0},{"$f":"'6 Resultat'!E295","v":0},{"$f":"'6 Resultat'!F295","v":0}]
[null,null,null,null,null,null,null,null,"Insats / växt-\nnäring i köttet",null,null,null,{"$f":"'6 Resultat'!D296","v":0},{"$f":"'6 Resultat'!E296","v":0},{"$f":"'6 Resultat'!F296","v":0}]
[null,null,null,null,null,null,null,{"$f":"period_2","v":"Period 2"},"Insats per \nkg kött",{"$f":"'6 Resultat'!D300","v":0},{"$f":"'6 Resultat'!E300","v":0},{"$f":"'6 Resultat'!F300","v":0}]
[null,null,null,null,null,null,null,null,"Insats / växt-\nnäring i köttet",null,null,null,{"$f":"'6 Resultat'!D301","v":0},{"$f":"'6 Resultat'!E301","v":0},{"$f":"'6 Resultat'!F301","v":0}]
[null,null,null,null,null,null,null,{"$f":"period_3","v":"Period 3"},"Insats per \nkg kött",{"$f":"'6 Resultat'!D305","v":0},{"$f":"'6 Resultat'!E305","v":0},{"$f":"'6 Resultat'!F305","v":0}]
[null,null,null,null,null,null,null,null,"Insats / växt-\nnäring i köttet",null,null,null,{"$f":"'6 Resultat'!D306","v":0},{"$f":"'6 Resultat'!E306","v":0},{"$f":"'6 Resultat'!F306","v":0}]
[]
[]
[]
[]
[]
[]
[]
[]
[null,null,null,null,null,null,null,null,null,{"$f":"period_1","v":"Period 1"},{"$f":"period_2","v":"Period 2"},{"$f":"period_3","v":"Period 3"}]
[null,null,null,null,null,null,null,null,"El",{"$f":"'6 Resultat'!D351","v":0},{"$f":"'6 Resultat'!E351","v":0},{"$f":"'6 Resultat'!F351","v":0}]
[null,null,null,null,null,null,null,null,"Drivmedel",{"$f":"'6 Resultat'!D352","v":0},{"$f":"'6 Resultat'!E352","v":0},{"$f":"'6 Resultat'!F352","v":0}]
[null,null,null,null,null,null,null,null,"Bränsle för värme",{"$f":"'6 Resultat'!D353","v":0},{"$f":"'6 Resultat'!E353","v":0},{"$f":"'6 Resultat'!F353","v":0}]